{"text_format":"3","workbook":"xlsx","n_sheets":4,"sheets":["PARÂMETROS","pH e Vb","BANCO DE DADOS COMPLETA","CONCEITOS"],"not_rendered":{"charts":3,"macros":1,"defined_names":6,"comments":2},"read":"whole","date_system":"1900"}

{"sheet":"PARÂMETROS","index":0,"n_rows":41,"n_cols":17,"rows_kept":41,"merged":[[2,2,2,3],[2,5,2,7],[2,9,2,11],[2,13,2,14],[3,13,3,14],[6,2,6,3],[7,2,7,3],[12,2,12,3],[13,2,13,3],[14,16347,14,16349]]}
[]
[null,null,"Obs: as células brancas podem ser editadas, as cinzas não."]
[null,null,"LIMITES DA TITULAÇÃO",null,null,"TITULADO (ÁCIDO)",{"$nulls":3},"TITULANTE (BÁSICO)",{"$nulls":3},"VOL. DE EQUIV. (mL)",null,null,"Kw="]
[null,null,"pH (mín.)","pH (máx.)",{"$nulls":9},{"$f":"DGET('pH e Vb'!AV7:AW148,1,'pH e Vb'!AX8:AX9)","v":{"$error":"#NUM!"}},null,null,{"$f":"10^(-14)","v":1E-14}]
[null,null,1,12,null,"K1a=","K2a=","K3a=",null,"K1b=","K2b=","K3b="]
[{"$nulls":5},{"$f":"'BANCO DE DADOS COMPLETA'!P8","v":{"v":7.1121351365332815E-3,"d":"7.11E-03"}},{"$f":"'BANCO DE DADOS COMPLETA'!Q8","v":{"v":6.324118513762185E-8,"d":"6.32E-08"}},{"$f":"'BANCO DE DADOS COMPLETA'!R8","v":{"v":4.466835921509619e-13,"d":"4.47E-13"}},null,{"$f":"'BANCO DE DADOS COMPLETA'!P10","v":{"v":1E-13,"d":"1.00E-13"}},{"$f":"'BANCO DE DADOS COMPLETA'!Q10","v":{"v":0,"d":"0.00E+00"}},{"$f":"'BANCO DE DADOS COMPLETA'!R10","v":{"v":0,"d":"0.00E+00"}}]
[null,null,"INCREMENTO DE pH"]
[null,null,0.2]
[]
[null,null,"Ca(mol.L-1)=","Va(mL)="]
[null,null,0.2,50]
[]
[null,null,"Cb(mol.L-1)="]
[null,null,0.5]
{"$rows_empty":26}
[null,null,"Rafael de Carvalho Maia - UnB - Rafaelmaia@gmx.com"]

{"sheet":"pH e Vb","index":1,"n_rows":148,"n_cols":50,"rows_kept":148,"merged":[[1,42,1,43],[5,5,5,6],[5,7,5,9],[5,11,5,12],[5,13,5,15],[5,34,5,41],[5,42,5,43],[5,44,5,45]]}
[]
[{"$nulls":42},"Achando Vb"]
[null,null,"[H+]","[OH-]","AA1","AA1","AA2","AA1","AA2","AA3","AB1","AB1","AB2","AB1","AB2","AB3","FI","FI","FI","FI","FI","FI","FI","FI","FI","Vb","Vb","Vb","Vb","Vb","Vb","Vb","Vb","Vb","E()","N()","RET NOX1","RET PRIM1","RET NOX1","RET PRIM1","MULT PRIM","Vb","pH","Vb"]
[null,null,{"$f":"10^(-AQ4)","v":{"v":1.9952623149688802E-10,"d":"2.00E-10"}},{"$f":"PARÂMETROS!$Q$4/C4","v":{"v":5.0118723362727211E-5,"d":"5.01E-05"}},{"$f":"PARÂMETROS!$F$6/($C4+PARÂMETROS!$F$6)","v":{"v":0.9999999719456644,"d":"1.00E+00"}},{"$f":"$C4*PARÂMETROS!$F$6/($C4^2+$C4*PARÂMETROS!$F$6+PARÂMETROS!$F$6*PARÂMETROS!$G$6)","v":{"v":3.1450818752389855E-3,"d":"3.15E-03"}},{"$f":"PARÂMETROS!$F$6*PARÂMETROS!$G$6/($C4^2+$C4*PARÂMETROS!$F$6+PARÂMETROS!$F$6*PARÂMETROS!$G$6)","v":{"v":0.9968549180365278,"d":"9.97E-01"}},{"$f":"(PARÂMETROS!$F$6*$C4^2)/($C4^3+PARÂMETROS!$F$6*$C4^2+PARÂMETROS!$F$6*PARÂMETROS!$G$6*$C4+PARÂMETROS!$F$6*PARÂMETROS!$G$6*PARÂMETROS!$H$6)","v":{"v":3.1380786872385134E-3,"d":"3.14E-03"}},{"$f":"(PARÂMETROS!$F$6*PARÂMETROS!$G$6*$C4)/($C4^3+PARÂMETROS!$F$6*$C4^2+PARÂMETROS!$F$6*PARÂMETROS!$G$6*$C4+PARÂMETROS!$F$6*PARÂMETROS!$G$6*PARÂMETROS!$H$6)","v":{"v":0.9946352103541406,"d":"9.95E-01"}},{"$f":"(PARÂMETROS!$F$6*PARÂMETROS!$G$6*PARÂMETROS!$H$6)/($C4^3+PARÂMETROS!$F$6*$C4^2+PARÂMETROS!$F$6*PARÂMETROS!$G$6*$C4+PARÂMETROS!$F$6*PARÂMETROS!$G$6*PARÂMETROS!$H$6)","v":{"v":0.002226710870584175,"d":"2.23E-03"}},{"$f":"$C4/($C4+PARÂMETROS!$J$6)","v":{"v":0.9994990638291864,"d":"9.99E-01"}},{"$f":"$C4*PARÂMETROS!$J$6/($C4^2+$C4*PARÂMETROS!$J$6+PARÂMETROS!$J$6*PARÂMETROS!$K$6)","v":{"v":5.0093617081359819E-4,"d":"5.01E-04"}},{"$f":"$C4^2/($C4^2+$C4*PARÂMETROS!$J$6+PARÂMETROS!$J$6*PARÂMETROS!$K$6)","v":{"v":0.9994990638291864,"d":"9.99E-01"}},{"$f":"(PARÂMETROS!$K$6*PARÂMETROS!$J$6*$C4)/($C4^3+PARÂMETROS!$J$6*$C4^2+PARÂMETROS!$J$6*PARÂMETROS!$K$6*$C4+PARÂMETROS!$J$6*PARÂMETROS!$K$6*PARÂMETROS!$L$6)","v":{"v":0,"d":"0.00E+00"}},{"$f":"(PARÂMETROS!$J$6*$C4^2)/($C4^3+PARÂMETROS!$J$6*$C4^2+PARÂMETROS!$J$6*PARÂMETROS!$K$6*$C4+PARÂMETROS!$J$6*PARÂMETROS!$K$6*PARÂMETROS!$L$6)","v":{"v":5.0093617081359829E-4,"d":"5.01E-04"}},{"$f":"($C4^3)/($C4^3+PARÂMETROS!$J$6*$C4^2+PARÂMETROS!$J$6*PARÂMETROS!$K$6*$C4+PARÂMETROS!$J$6*PARÂMETROS!$K$6*PARÂMETROS!$L$6)","v":{"v":0.9994990638291864,"d":"9.99E-01"}},{"$f":"IF(PARÂMETROS!$J$6<PARÂMETROS!$F$6,(E4-(C4-D4)/PARÂMETROS!$C$11)/(K4+(C4-D4)/PARÂMETROS!$C$14),(K4+(C4-D4)/PARÂMETROS!$C$14)/(E4-(C4-D4)/PARÂMETROS!$C$11))","v":{"v":1.0008522501332893,"d":"1.00E+00"}},{"$f":"IF(PARÂMETROS!$J$6<PARÂMETROS!$F$6,(E4-(C4-D4)/PARÂMETROS!$C$11)/(L4+2*M4+(C4-D4)/PARÂMETROS!$C$14),(L4+2*M4+(C4-D4)/PARÂMETROS!$C$14)/(E4-(C4-D4)/PARÂMETROS!$C$11))","v":{"v":0.5002756584462827,"d":"5.00E-01"}},{"$f":"IF(PARÂMETROS!$J$6<PARÂMETROS!$F$6, (E4-(C4-D4)/PARÂMETROS!$C$11)/(N4+2*O4+3*P4+(C4-D4)/PARÂMETROS!$C$14),(N4+2*O4+3*P4+(C4-D4)/PARÂMETROS!$C$14)/ (E4-(C4-D4)/PARÂMETROS!$C$11))","v":{"v":0.3334836820077574,"d":"3.33E-01"}},{"$f":"IF(PARÂMETROS!$J$6<PARÂMETROS!$F$6,(F4+2*G4-(C4-D4)/PARÂMETROS!$C$11)/(K4+(C4-D4)/PARÂMETROS!$C$14),(K4+(C4-D4)/PARÂMETROS!$C$14)/(F4+2*G4-(C4-D4)/PARÂMETROS!$C$11))","v":{"v":1.9983068391214756,"d":"2.00E+00"}},{"$f":"IF(PARÂMETROS!$J$6<PARÂMETROS!$F$6,(F4+2*G4-(C4-D4)/PARÂMETROS!$C$11)/(L4+2*M4+(C4-D4)/PARÂMETROS!$C$14),(L4+2*M4+(C4-D4)/PARÂMETROS!$C$14)/(F4+2*G4-(C4-D4)/PARÂMETROS!$C$11))","v":{"v":0.9988529971192751,"d":"9.99E-01"}},{"$f":"IF(PARÂMETROS!$J$6<PARÂMETROS!$F$6,(F4+2*G4-(C4-D4)/PARÂMETROS!$C$11)/(N4+2*O4+3*P4+(C4-D4)/PARÂMETROS!$C$14),(N4+2*O4+3*P4+(C4-D4)/PARÂMETROS!$C$14)/(F4+2*G4-(C4-D4)/PARÂMETROS!$C$11))","v":{"v":0.6658352642987657,"d":"6.66E-01"}},{"$f":"IF(PARÂMETROS!$J$6<PARÂMETROS!$F$6,(H4+2*I4+3*J4-(C4-D4)/PARÂMETROS!$C$11)/(K4+(C4-D4)/PARÂMETROS!$C$14),(K4+(C4-D4)/PARÂMETROS!$C$14)/(H4+2*I4+3*J4-(C4-D4)/PARÂMETROS!$C$11))","v":{"v":2.000541896837294,"d":"2.00E+00"}},{"$f":"IF(PARÂMETROS!$J$6<PARÂMETROS!$F$6,(H4+2*I4+3*J4-(C4-D4)/PARÂMETROS!$C$11)/(L4+2*M4+(C4-D4)/PARÂMETROS!$C$14),(L4+2*M4+(C4-D4)/PARÂMETROS!$C$14)/(H4+2*I4+3*J4-(C4-D4)/PARÂMETROS!$C$11))","v":{"v":0.9999701899619724,"d":"1.00E+00"}},{"$f":"IF(PARÂMETROS!$J$6<PARÂMETROS!$F$6,(H4+2*I4+3*J4-(C4-D4)/PARÂMETROS!$C$11)/(N4+2*O4+3*P4+(C4-D4)/PARÂMETROS!$C$14),(N4+2*O4+3*P4+(C4-D4)/PARÂMETROS!$C$14)/(H4+2*I4+3*J4-(C4-D4)/PARÂMETROS!$C$11))","v":{"v":0.666579984887116,"d":"6.67E-01"}},{"$f":"Q4*PARÂMETROS!$C$11*PARÂMETROS!$D$11/PARÂMETROS!$C$14","v":{"v":20.017045002665785,"d":"20.02"}},{"$f":"R4*PARÂMETROS!$C$11*PARÂMETROS!$D$11/PARÂMETROS!$C$14","v":{"v":10.005513168925656,"d":"10.01"}},{"$f":"S4*PARÂMETROS!$C$11*PARÂMETROS!$D$11/PARÂMETROS!$C$14","v":{"v":6.669673640155148,"d":"6.67"}},{"$f":"T4*PARÂMETROS!$C$11*PARÂMETROS!$D$11/PARÂMETROS!$C$14","v":{"v":39.966136782429516,"d":"39.97"}},{"$f":"U4*PARÂMETROS!$C$11*PARÂMETROS!$D$11/PARÂMETROS!$C$14","v":{"v":19.9770599423855,"d":"19.98"}},{"$f":"V4*PARÂMETROS!$C$11*PARÂMETROS!$D$11/PARÂMETROS!$C$14","v":{"v":13.316705285975313,"d":"13.32"}},{"$f":"W4*PARÂMETROS!$C$11*PARÂMETROS!$D$11/PARÂMETROS!$C$14","v":{"v":40.01083793674588,"d":"40.01"}},{"$f":"X4*PARÂMETROS!$C$11*PARÂMETROS!$D$11/PARÂMETROS!$C$14","v":{"v":19.99940379923945,"d":"20.00"}},{"$f":"Y4*PARÂMETROS!$C$11*PARÂMETROS!$D$11/PARÂMETROS!$C$14","v":{"v":13.331599697742321,"d":"13.33"}},{"$f":"AND(AQ4+PARÂMETROS!$C$8>=PARÂMETROS!$C$5,AQ4+PARÂMETROS!$C$8<=PARÂMETROS!$D$5)","v":true},{"$f":"N(AI4)","v":1},{"$f":"VLOOKUP('BANCO DE DADOS COMPLETA'!$N$8,'BANCO DE DADOS COMPLETA'!$A$7:$L$249,3)*-1","v":3},{"$f":"IF(AK4=1,3,IF(AK4=2,5,IF(AK4=3,7,3)))","v":7},{"$f":"VLOOKUP('BANCO DE DADOS COMPLETA'!$N$10,'BANCO DE DADOS COMPLETA'!$A$7:$L$249,3)*-1","v":1},{"$f":"IF(AM4=1,11,IF(AM4=2,13,IF(AM4=3,17,11)))","v":11},{"$f":"AN4*AL4","v":77},{"$f":"IF(AO4=33,Z4,IF(AO4=39,AA4,IF(AO4=51,AB4,IF(AO4=55,AC4,IF(AO4=65,AD4,IF(AO4=85,AE4,IF(AO4=77,AF4,IF(AO4=91,AG4,IF(AO4=119,AH4)))))))))","v":{"v":40.01083793674588,"d":"40.01"}},{"v":9.7,"d":"9.70"},{"$f":"IF(AP4>=-1,IF(AJ4=1,AP4,\"LIMITE\"),\"LIMITE\")","v":{"v":40.01083793674588,"d":"40.01"}}]
[]
[null,"Pontos da Curva",null,null,"MONPROT","DIPROT",null,"TRIPROT",null,null,"MONBASE","DIBASE",null,"TRIBASE",null,null,"MPMB","MPDB","MPTB","DPMB","DPDB","DPTB","TPMB","TPDB","TPTB","MPMB","MPDB","MPTB","DPMB","DPDB","DPTB","TPMB","TPDB","TPTB","Engines da obtenção do Volume da Base",{"$nulls":7},"Pontos da Curva",null,"Derivadas"]
[null,"pH","[H+]","[OH-]","AA1","AA1","AA2","AA1","AA2","AA3","AB1","AB1","AB2","AB1","AB2","AB3","FI","FI","FI","FI","FI","FI","FI","FI","FI","Vb","Vb","Vb","Vb","Vb","Vb","Vb","Vb","Vb","E()","N()","RET NOX1","RET PRIM1","RET NOX1","RET PRIM1","MULT PRIM","Vb","Vb","pH","Deriv 1","Deriv 2","MAX","VOL DE EQUIV.","Cond VolEquiv","=BDEXTRAIR"]
[null,{"v":1.4643438483406934,"d":"1.46"},{"$f":"10^(-B8)","v":{"v":0.03432860469600147,"d":"3.43E-02"}},{"$f":"PARÂMETROS!$Q$4/C8","v":{"v":2.913022561958302e-13,"d":"2.91E-13"}},{"$f":"PARÂMETROS!$F$6/($C8+PARÂMETROS!$F$6)","v":{"v":0.1716218186565677,"d":"1.72E-01"}},{"$f":"$C8*PARÂMETROS!$F$6/($C8^2+$C8*PARÂMETROS!$F$6+PARÂMETROS!$F$6*PARÂMETROS!$G$6)","v":{"v":0.1716217643954531,"d":"1.72E-01"}},{"$f":"PARÂMETROS!$F$6*PARÂMETROS!$G$6/($C8^2+$C8*PARÂMETROS!$F$6+PARÂMETROS!$F$6*PARÂMETROS!$G$6)","v":{"v":3.161667615649514E-7,"d":"3.16E-07"}},{"$f":"(PARÂMETROS!$F$6*$C8^2)/($C8^3+PARÂMETROS!$F$6*$C8^2+PARÂMETROS!$F$6*PARÂMETROS!$G$6*$C8+PARÂMETROS!$F$6*PARÂMETROS!$G$6*PARÂMETROS!$H$6)","v":{"v":0.1716217643954531,"d":"1.72E-01"}},{"$f":"(PARÂMETROS!$F$6*PARÂMETROS!$G$6*$C8)/($C8^3+PARÂMETROS!$F$6*$C8^2+PARÂMETROS!$F$6*PARÂMETROS!$G$6*$C8+PARÂMETROS!$F$6*PARÂMETROS!$G$6*PARÂMETROS!$H$6)","v":{"v":3.161667615649514E-7,"d":"3.16E-07"}},{"$f":"(PARÂMETROS!$F$6*PARÂMETROS!$G$6*PARÂMETROS!$H$6)/($C8^3+PARÂMETROS!$F$6*$C8^2+PARÂMETROS!$F$6*PARÂMETROS!$G$6*$C8+PARÂMETROS!$F$6*PARÂMETROS!$G$6*PARÂMETROS!$H$6)","v":{"v":4.113959947548319e-18,"d":"4.11E-18"}},{"$f":"$C8/($C8+PARÂMETROS!$J$6)","v":{"v":0.9999999999970869,"d":"1.00E+00"}},{"$f":"$C8*PARÂMETROS!$J$6/($C8^2+$C8*PARÂMETROS!$J$6+PARÂMETROS!$J$6*PARÂMETROS!$K$6)","v":{"v":2.9130225619498166E-12,"d":"2.91E-12"}},{"$f":"$C8^2/($C8^2+$C8*PARÂMETROS!$J$6+PARÂMETROS!$J$6*PARÂMETROS!$K$6)","v":{"v":0.999999999997087,"d":"1.00E+00"}},{"$f":"(PARÂMETROS!$K$6*PARÂMETROS!$J$6*$C8)/($C8^3+PARÂMETROS!$J$6*$C8^2+PARÂMETROS!$J$6*PARÂMETROS!$K$6*$C8+PARÂMETROS!$J$6*PARÂMETROS!$K$6*PARÂMETROS!$L$6)","v":{"v":0,"d":"0.00E+00"}},{"$f":"(PARÂMETROS!$J$6*$C8^2)/($C8^3+PARÂMETROS!$J$6*$C8^2+PARÂMETROS!$J$6*PARÂMETROS!$K$6*$C8+PARÂMETROS!$J$6*PARÂMETROS!$K$6*PARÂMETROS!$L$6)","v":{"v":2.913022561949816e-12,"d":"2.91E-12"}},{"$f":"($C8^3)/($C8^3+PARÂMETROS!$J$6*$C8^2+PARÂMETROS!$J$6*PARÂMETROS!$K$6*$C8+PARÂMETROS!$J$6*PARÂMETROS!$K$6*PARÂMETROS!$L$6)","v":{"v":0.999999999997087,"d":"1.00E+00"}},{"$f":"IF(PARÂMETROS!$J$6<PARÂMETROS!$F$6,(E8-(C8-D8)/PARÂMETROS!$C$11)/(K8+(C8-D8)/PARÂMETROS!$C$14),(K8+(C8-D8)/PARÂMETROS!$C$14)/(E8-(C8-D8)/PARÂMETROS!$C$11))","v":{"v":-1.9842491864419881E-5,"d":"-1.98E-05"}},{"$f":"IF(PARÂMETROS!$J$6<PARÂMETROS!$F$6,(E8-(C8-D8)/PARÂMETROS!$C$11)/(L8+2*M8+(C8-D8)/PARÂMETROS!$C$14),(L8+2*M8+(C8-D8)/PARÂMETROS!$C$14)/(E8-(C8-D8)/PARÂMETROS!$C$11))","v":{"v":-1.0250524778541355E-5,"d":"-1.03E-05"}},{"$f":"IF(PARÂMETROS!$J$6<PARÂMETROS!$F$6, (E8-(C8-D8)/PARÂMETROS!$C$11)/(N8+2*O8+3*P8+(C8-D8)/PARÂMETROS!$C$14),(N8+2*O8+3*P8+(C8-D8)/PARÂMETROS!$C$14)/ (E8-(C8-D8)/PARÂMETROS!$C$11))","v":{"v":-6.910130567294807E-6,"d":"-6.91E-06"}},{"$f":"IF(PARÂMETROS!$J$6<PARÂMETROS!$F$6,(F8+2*G8-(C8-D8)/PARÂMETROS!$C$11)/(K8+(C8-D8)/PARÂMETROS!$C$14),(K8+(C8-D8)/PARÂMETROS!$C$14)/(F8+2*G8-(C8-D8)/PARÂMETROS!$C$11))","v":{"v":-1.930155843558401E-5,"d":"-1.93E-05"}},{"$f":"IF(PARÂMETROS!$J$6<PARÂMETROS!$F$6,(F8+2*G8-(C8-D8)/PARÂMETROS!$C$11)/(L8+2*M8+(C8-D8)/PARÂMETROS!$C$14),(L8+2*M8+(C8-D8)/PARÂMETROS!$C$14)/(F8+2*G8-(C8-D8)/PARÂMETROS!$C$11))","v":{"v":-9.97108147304775e-06,"d":"-9.97E-06"}},{"$f":"IF(PARÂMETROS!$J$6<PARÂMETROS!$F$6,(F8+2*G8-(C8-D8)/PARÂMETROS!$C$11)/(N8+2*O8+3*P8+(C8-D8)/PARÂMETROS!$C$14),(N8+2*O8+3*P8+(C8-D8)/PARÂMETROS!$C$14)/(F8+2*G8-(C8-D8)/PARÂMETROS!$C$11))","v":{"v":-6.7217509702658214E-6,"d":"-6.72E-06"}},{"$f":"IF(PARÂMETROS!$J$6<PARÂMETROS!$F$6,(H8+2*I8+3*J8-(C8-D8)/PARÂMETROS!$C$11)/(K8+(C8-D8)/PARÂMETROS!$C$14),(K8+(C8-D8)/PARÂMETROS!$C$14)/(H8+2*I8+3*J8-(C8-D8)/PARÂMETROS!$C$11))","v":{"v":-1.930155843558401E-5,"d":"-1.93E-05"}},{"$f":"IF(PARÂMETROS!$J$6<PARÂMETROS!$F$6,(H8+2*I8+3*J8-(C8-D8)/PARÂMETROS!$C$11)/(L8+2*M8+(C8-D8)/PARÂMETROS!$C$14),(L8+2*M8+(C8-D8)/PARÂMETROS!$C$14)/(H8+2*I8+3*J8-(C8-D8)/PARÂMETROS!$C$11))","v":{"v":-9.97108147304775e-06,"d":"-9.97E-06"}},{"$f":"IF(PARÂMETROS!$J$6<PARÂMETROS!$F$6,(H8+2*I8+3*J8-(C8-D8)/PARÂMETROS!$C$11)/(N8+2*O8+3*P8+(C8-D8)/PARÂMETROS!$C$14),(N8+2*O8+3*P8+(C8-D8)/PARÂMETROS!$C$14)/(H8+2*I8+3*J8-(C8-D8)/PARÂMETROS!$C$11))","v":{"v":-6.7217509702658214E-6,"d":"-6.72E-06"}},{"$f":"Q8*PARÂMETROS!$C$11*PARÂMETROS!$D$11/PARÂMETROS!$C$14","v":{"v":-3.9684983728839759E-4,"d":"-0.00"}},{"$f":"R8*PARÂMETROS!$C$11*PARÂMETROS!$D$11/PARÂMETROS!$C$14","v":{"v":-2.0501049557082712E-4,"d":"-0.00"}},{"$f":"S8*PARÂMETROS!$C$11*PARÂMETROS!$D$11/PARÂMETROS!$C$14","v":{"v":-1.3820261134589614E-4,"d":"-0.00"}},{"$f":"T8*PARÂMETROS!$C$11*PARÂMETROS!$D$11/PARÂMETROS!$C$14","v":{"v":-3.8603116871168021E-4,"d":"-0.00"}},{"$f":"U8*PARÂMETROS!$C$11*PARÂMETROS!$D$11/PARÂMETROS!$C$14","v":{"v":-0.000199421629460955,"d":"-0.00"}},{"$f":"V8*PARÂMETROS!$C$11*PARÂMETROS!$D$11/PARÂMETROS!$C$14","v":{"v":-1.3443501940531643E-4,"d":"-0.00"}},{"$f":"W8*PARÂMETROS!$C$11*PARÂMETROS!$D$11/PARÂMETROS!$C$14","v":{"v":-3.8603116871168021E-4,"d":"-0.00"}},{"$f":"X8*PARÂMETROS!$C$11*PARÂMETROS!$D$11/PARÂMETROS!$C$14","v":{"v":-0.000199421629460955,"d":"-0.00"}},{"$f":"Y8*PARÂMETROS!$C$11*PARÂMETROS!$D$11/PARÂMETROS!$C$14","v":{"v":-1.3443501940531643E-4,"d":"-0.00"}},{"$f":"AND(B8+PARÂMETROS!$C$8>=PARÂMETROS!$C$5,B8+PARÂMETROS!$C$8<=PARÂMETROS!$D$5)","v":true},{"$f":"N(AI8)","v":1},{"$f":"VLOOKUP('BANCO DE DADOS COMPLETA'!$N$8,'BANCO DE DADOS COMPLETA'!$A$7:$L$249,3)*-1","v":3},{"$f":"IF(AK8=1,3,IF(AK8=2,5,IF(AK8=3,7,3)))","v":7},{"$f":"VLOOKUP('BANCO DE DADOS COMPLETA'!$N$10,'BANCO DE DADOS COMPLETA'!$A$7:$L$249,3)*-1","v":1},{"$f":"IF(AM8=1,11,IF(AM8=2,13,IF(AM8=3,17,11)))","v":11},{"$f":"AN8*AL8","v":77},{"$f":"IF(AO8=33,Z8,IF(AO8=39,AA8,IF(AO8=51,AB8,IF(AO8=55,AC8,IF(AO8=65,AD8,IF(AO8=85,AE8,IF(AO8=77,AF8,IF(AO8=91,AG8,IF(AO8=119,AH8)))))))))","v":{"v":-3.8603116871168021E-4,"d":"-0.00"}},{"$f":"IF(AP8>=-0.1,IF(AJ8=1,AP8,\"LIMITE\"),\"LIMITE\")","v":{"v":-3.8603116871168021E-4,"d":"-0.00"}},{"$f":"IF(AJ8=1,B8,\"LIMITE\")","v":{"v":1.4643438483406934,"d":"1.46"}},"-","-","-","NADA","-","Cond VolEquiv"]
[null,{"$f":"B8+PARÂMETROS!$C$8","v":{"v":1.6643438483406934,"d":"1.66"}},{"$f":"10^(-B9)","v":{"v":0.021659885258699385,"d":"2.17E-02"}},{"$f":"PARÂMETROS!$Q$4/C9","v":{"v":4.616829627933344e-13,"d":"4.62E-13"}},{"$f":"PARÂMETROS!$F$6/($C9+PARÂMETROS!$F$6)","v":{"v":0.24718928454922529,"d":"2.47E-01"}},{"$f":"$C9*PARÂMETROS!$F$6/($C9^2+$C9*PARÂMETROS!$F$6+PARÂMETROS!$F$6*PARÂMETROS!$G$6)","v":{"v":0.24718910614595305,"d":"2.47E-01"}},{"$f":"PARÂMETROS!$F$6*PARÂMETROS!$G$6/($C9^2+$C9*PARÂMETROS!$F$6+PARÂMETROS!$F$6*PARÂMETROS!$G$6)","v":{"v":7.2172737016235544E-7,"d":"7.22E-07"}},{"$f":"(PARÂMETROS!$F$6*$C9^2)/($C9^3+PARÂMETROS!$F$6*$C9^2+PARÂMETROS!$F$6*PARÂMETROS!$G$6*$C9+PARÂMETROS!$F$6*PARÂMETROS!$G$6*PARÂMETROS!$H$6)","v":{"v":0.24718910614595305,"d":"2.47E-01"}},{"$f":"(PARÂMETROS!$F$6*PARÂMETROS!$G$6*$C9)/($C9^3+PARÂMETROS!$F$6*$C9^2+PARÂMETROS!$F$6*PARÂMETROS!$G$6*$C9+PARÂMETROS!$F$6*PARÂMETROS!$G$6*PARÂMETROS!$H$6)","v":{"v":7.2172737016235544E-7,"d":"7.22E-07"}},{"$f":"(PARÂMETROS!$F$6*PARÂMETROS!$G$6*PARÂMETROS!$H$6)/($C9^3+PARÂMETROS!$F$6*$C9^2+PARÂMETROS!$F$6*PARÂMETROS!$G$6*$C9+PARÂMETROS!$F$6*PARÂMETROS!$G$6*PARÂMETROS!$H$6)","v":{"v":1.48839096055833E-17,"d":"1.49E-17"}},{"$f":"$C9/($C9+PARÂMETROS!$J$6)","v":{"v":0.9999999999953831,"d":"1.00E+00"}},{"$f":"$C9*PARÂMETROS!$J$6/($C9^2+$C9*PARÂMETROS!$J$6+PARÂMETROS!$J$6*PARÂMETROS!$K$6)","v":{"v":4.616829627912029e-12,"d":"4.62E-12"}},{"$f":"$C9^2/($C9^2+$C9*PARÂMETROS!$J$6+PARÂMETROS!$J$6*PARÂMETROS!$K$6)","v":{"v":0.9999999999953832,"d":"1.00E+00"}},{"$f":"(PARÂMETROS!$K$6*PARÂMETROS!$J$6*$C9)/($C9^3+PARÂMETROS!$J$6*$C9^2+PARÂMETROS!$J$6*PARÂMETROS!$K$6*$C9+PARÂMETROS!$J$6*PARÂMETROS!$K$6*PARÂMETROS!$L$6)","v":{"v":0,"d":"0.00E+00"}},{"$f":"(PARÂMETROS!$J$6*$C9^2)/($C9^3+PARÂMETROS!$J$6*$C9^2+PARÂMETROS!$J$6*PARÂMETROS!$K$6*$C9+PARÂMETROS!$J$6*PARÂMETROS!$K$6*PARÂMETROS!$L$6)","v":{"v":4.616829627912028e-12,"d":"4.62E-12"}},{"$f":"($C9^3)/($C9^3+PARÂMETROS!$J$6*$C9^2+PARÂMETROS!$J$6*PARÂMETROS!$K$6*$C9+PARÂMETROS!$J$6*PARÂMETROS!$K$6*PARÂMETROS!$L$6)","v":{"v":0.9999999999953831,"d":"1.00E+00"}},{"$f":"IF(PARÂMETROS!$J$6<PARÂMETROS!$F$6,(E9-(C9-D9)/PARÂMETROS!$C$11)/(K9+(C9-D9)/PARÂMETROS!$C$14),(K9+(C9-D9)/PARÂMETROS!$C$14)/(E9-(C9-D9)/PARÂMETROS!$C$11))","v":{"v":0.13312300042957745,"d":"1.33E-01"}},{"$f":"IF(PARÂMETROS!$J$6<PARÂMETROS!$F$6,(E9-(C9-D9)/PARÂMETROS!$C$11)/(L9+2*M9+(C9-D9)/PARÂMETROS!$C$14),(L9+2*M9+(C9-D9)/PARÂMETROS!$C$14)/(E9-(C9-D9)/PARÂMETROS!$C$11))","v":{"v":0.0679726493436925,"d":"6.80E-02"}},{"$f":"IF(PARÂMETROS!$J$6<PARÂMETROS!$F$6, (E9-(C9-D9)/PARÂMETROS!$C$11)/(N9+2*O9+3*P9+(C9-D9)/PARÂMETROS!$C$14),(N9+2*O9+3*P9+(C9-D9)/PARÂMETROS!$C$14)/ (E9-(C9-D9)/PARÂMETROS!$C$11))","v":{"v":0.045637615739169204,"d":"4.56E-02"}},{"$f":"IF(PARÂMETROS!$J$6<PARÂMETROS!$F$6,(F9+2*G9-(C9-D9)/PARÂMETROS!$C$11)/(K9+(C9-D9)/PARÂMETROS!$C$14),(K9+(C9-D9)/PARÂMETROS!$C$14)/(F9+2*G9-(C9-D9)/PARÂMETROS!$C$11))","v":{"v":0.133124212954734,"d":"1.33E-01"}},{"$f":"IF(PARÂMETROS!$J$6<PARÂMETROS!$F$6,(F9+2*G9-(C9-D9)/PARÂMETROS!$C$11)/(L9+2*M9+(C9-D9)/PARÂMETROS!$C$14),(L9+2*M9+(C9-D9)/PARÂMETROS!$C$14)/(F9+2*G9-(C9-D9)/PARÂMETROS!$C$11))","v":{"v":0.06797326845945026,"d":"6.80E-02"}},{"$f":"IF(PARÂMETROS!$J$6<PARÂMETROS!$F$6,(F9+2*G9-(C9-D9)/PARÂMETROS!$C$11)/(N9+2*O9+3*P9+(C9-D9)/PARÂMETROS!$C$14),(N9+2*O9+3*P9+(C9-D9)/PARÂMETROS!$C$14)/(F9+2*G9-(C9-D9)/PARÂMETROS!$C$11))","v":{"v":0.04563803142058406,"d":"4.56E-02"}},{"$f":"IF(PARÂMETROS!$J$6<PARÂMETROS!$F$6,(H9+2*I9+3*J9-(C9-D9)/PARÂMETROS!$C$11)/(K9+(C9-D9)/PARÂMETROS!$C$14),(K9+(C9-D9)/PARÂMETROS!$C$14)/(H9+2*I9+3*J9-(C9-D9)/PARÂMETROS!$C$11))","v":{"v":0.13312421295473406,"d":"1.33E-01"}},{"$f":"IF(PARÂMETROS!$J$6<PARÂMETROS!$F$6,(H9+2*I9+3*J9-(C9-D9)/PARÂMETROS!$C$11)/(L9+2*M9+(C9-D9)/PARÂMETROS!$C$14),(L9+2*M9+(C9-D9)/PARÂMETROS!$C$14)/(H9+2*I9+3*J9-(C9-D9)/PARÂMETROS!$C$11))","v":{"v":0.06797326845945029,"d":"6.80E-02"}},{"$f":"IF(PARÂMETROS!$J$6<PARÂMETROS!$F$6,(H9+2*I9+3*J9-(C9-D9)/PARÂMETROS!$C$11)/(N9+2*O9+3*P9+(C9-D9)/PARÂMETROS!$C$14),(N9+2*O9+3*P9+(C9-D9)/PARÂMETROS!$C$14)/(H9+2*I9+3*J9-(C9-D9)/PARÂMETROS!$C$11))","v":{"v":0.045638031420584084,"d":"4.56E-02"}},{"$f":"Q9*PARÂMETROS!$C$11*PARÂMETROS!$D$11/PARÂMETROS!$C$14","v":{"v":2.662460008591549,"d":"2.66"}},{"$f":"R9*PARÂMETROS!$C$11*PARÂMETROS!$D$11/PARÂMETROS!$C$14","v":{"v":1.35945298687385,"d":"1.36"}},{"$f":"S9*PARÂMETROS!$C$11*PARÂMETROS!$D$11/PARÂMETROS!$C$14","v":{"v":0.912752314783384,"d":"0.91"}},{"$f":"T9*PARÂMETROS!$C$11*PARÂMETROS!$D$11/PARÂMETROS!$C$14","v":{"v":2.66248425909468,"d":"2.66"}},{"$f":"U9*PARÂMETROS!$C$11*PARÂMETROS!$D$11/PARÂMETROS!$C$14","v":{"v":1.3594653691890053,"d":"1.36"}},{"$f":"V9*PARÂMETROS!$C$11*PARÂMETROS!$D$11/PARÂMETROS!$C$14","v":{"v":0.9127606284116814,"d":"0.91"}},{"$f":"W9*PARÂMETROS!$C$11*PARÂMETROS!$D$11/PARÂMETROS!$C$14","v":{"v":2.6624842590946813,"d":"2.66"}},{"$f":"X9*PARÂMETROS!$C$11*PARÂMETROS!$D$11/PARÂMETROS!$C$14","v":{"v":1.3594653691890057,"d":"1.36"}},{"$f":"Y9*PARÂMETROS!$C$11*PARÂMETROS!$D$11/PARÂMETROS!$C$14","v":{"v":0.9127606284116817,"d":"0.91"}},{"$f":"AND(B9+PARÂMETROS!$C$8>=PARÂMETROS!$C$5,B9+PARÂMETROS!$C$8<=PARÂMETROS!$D$5)","v":true},1,{"$f":"VLOOKUP('BANCO DE DADOS COMPLETA'!$N$8,'BANCO DE DADOS COMPLETA'!$A$7:$L$249,3)*-1","v":3},7,{"$f":"VLOOKUP('BANCO DE DADOS COMPLETA'!$N$10,'BANCO DE DADOS COMPLETA'!$A$7:$L$249,3)*-1","v":1},11,77,{"v":2.6624842590946813,"d":"2.66"},{"$f":"IF(AP9>=0,IF(AJ9=1,AP9,\"LIMITE\"),\"LIMITE\")","v":{"v":2.6624842590946813,"d":"2.66"}},{"v":1.6643438483406934,"d":"1.664"},{"$f":"IF(AQ8=\"LIMITE\",\"LIMITE\",(AR9-AR8)/(AQ9-AQ8))","v":{"v":0.07510692530961292,"d":"0.08"}},"-",{"$f":"IF(AT8>0,IF(AT10<0,AQ9,\"NADA\"),\"NADA\")","v":{"v":2.6624842590946813,"d":"2.66"}},"NADA","-",1]
[null,{"$f":"B9+PARÂMETROS!$C$8","v":{"v":1.8643438483406933,"d":"1.86"}},{"v":0.013666463684574642,"d":"1.37E-02"},{"$f":"PARÂMETROS!$Q$4/C10","v":{"v":7.317181848064335e-13,"d":"7.32E-13"}},{"$f":"PARÂMETROS!$F$6/($C10+PARÂMETROS!$F$6)","v":{"v":0.3422817485319763,"d":"3.42E-01"}},{"$f":"$C10*PARÂMETROS!$F$6/($C10^2+$C10*PARÂMETROS!$F$6+PARÂMETROS!$F$6*PARÂMETROS!$G$6)","v":{"v":0.3422812063929839,"d":"3.42E-01"}},{"$f":"PARÂMETROS!$F$6*PARÂMETROS!$G$6/($C10^2+$C10*PARÂMETROS!$F$6+PARÂMETROS!$F$6*PARÂMETROS!$G$6)","v":{"v":1.5838968764874726E-6,"d":"1.58E-06"}},{"$f":"(PARÂMETROS!$F$6*$C10^2)/($C10^3+PARÂMETROS!$F$6*$C10^2+PARÂMETROS!$F$6*PARÂMETROS!$G$6*$C10+PARÂMETROS!$F$6*PARÂMETROS!$G$6*PARÂMETROS!$H$6)","v":{"v":0.3422812063929839,"d":"3.42E-01"}},{"$f":"(PARÂMETROS!$F$6*PARÂMETROS!$G$6*$C10)/($C10^3+PARÂMETROS!$F$6*$C10^2+PARÂMETROS!$F$6*PARÂMETROS!$G$6*$C10+PARÂMETROS!$F$6*PARÂMETROS!$G$6*PARÂMETROS!$H$6)","v":{"v":1.5838968764874726E-6,"d":"1.58E-06"}},{"$f":"(PARÂMETROS!$F$6*PARÂMETROS!$G$6*PARÂMETROS!$H$6)/($C10^3+PARÂMETROS!$F$6*$C10^2+PARÂMETROS!$F$6*PARÂMETROS!$G$6*$C10+PARÂMETROS!$F$6*PARÂMETROS!$G$6*PARÂMETROS!$H$6)","v":{"v":5.176911618948433e-17,"d":"5.18E-17"}},{"$f":"$C10/($C10+PARÂMETROS!$J$6)","v":{"v":0.9999999999926829,"d":"1.00E+00"}},{"$f":"$C10*PARÂMETROS!$J$6/($C10^2+$C10*PARÂMETROS!$J$6+PARÂMETROS!$J$6*PARÂMETROS!$K$6)","v":{"v":7.317181848010794e-12,"d":"7.32E-12"}},{"$f":"$C10^2/($C10^2+$C10*PARÂMETROS!$J$6+PARÂMETROS!$J$6*PARÂMETROS!$K$6)","v":{"v":0.9999999999926829,"d":"1.00E+00"}},{"$f":"(PARÂMETROS!$K$6*PARÂMETROS!$J$6*$C10)/($C10^3+PARÂMETROS!$J$6*$C10^2+PARÂMETROS!$J$6*PARÂMETROS!$K$6*$C10+PARÂMETROS!$J$6*PARÂMETROS!$K$6*PARÂMETROS!$L$6)","v":{"v":0,"d":"0.00E+00"}},{"$f":"(PARÂMETROS!$J$6*$C10^2)/($C10^3+PARÂMETROS!$J$6*$C10^2+PARÂMETROS!$J$6*PARÂMETROS!$K$6*$C10+PARÂMETROS!$J$6*PARÂMETROS!$K$6*PARÂMETROS!$L$6)","v":{"v":7.317181848010794e-12,"d":"7.32E-12"}},{"$f":"($C10^3)/($C10^3+PARÂMETROS!$J$6*$C10^2+PARÂMETROS!$J$6*PARÂMETROS!$K$6*$C10+PARÂMETROS!$J$6*PARÂMETROS!$K$6*PARÂMETROS!$L$6)","v":{"v":0.9999999999926829,"d":"1.00E+00"}},{"$f":"IF(PARÂMETROS!$J$6<PARÂMETROS!$F$6,(E10-(C10-D10)/PARÂMETROS!$C$11)/(K10+(C10-D10)/PARÂMETROS!$C$14),(K10+(C10-D10)/PARÂMETROS!$C$14)/(E10-(C10-D10)/PARÂMETROS!$C$11))","v":{"v":0.26666080957479665,"d":"2.67E-01"}},{"$f":"IF(PARÂMETROS!$J$6<PARÂMETROS!$F$6,(E10-(C10-D10)/PARÂMETROS!$C$11)/(L10+2*M10+(C10-D10)/PARÂMETROS!$C$14),(L10+2*M10+(C10-D10)/PARÂMETROS!$C$14)/(E10-(C10-D10)/PARÂMETROS!$C$11))","v":{"v":0.1351279932445283,"d":"1.35E-01"}},{"$f":"IF(PARÂMETROS!$J$6<PARÂMETROS!$F$6, (E10-(C10-D10)/PARÂMETROS!$C$11)/(N10+2*O10+3*P10+(C10-D10)/PARÂMETROS!$C$14),(N10+2*O10+3*P10+(C10-D10)/PARÂMETROS!$C$14)/ (E10-(C10-D10)/PARÂMETROS!$C$11))","v":{"v":0.0904920062266251,"d":"9.05E-02"}},{"$f":"IF(PARÂMETROS!$J$6<PARÂMETROS!$F$6,(F10+2*G10-(C10-D10)/PARÂMETROS!$C$11)/(K10+(C10-D10)/PARÂMETROS!$C$14),(K10+(C10-D10)/PARÂMETROS!$C$14)/(F10+2*G10-(C10-D10)/PARÂMETROS!$C$11))","v":{"v":0.2666633653721343,"d":"2.67E-01"}},{"$f":"IF(PARÂMETROS!$J$6<PARÂMETROS!$F$6,(F10+2*G10-(C10-D10)/PARÂMETROS!$C$11)/(L10+2*M10+(C10-D10)/PARÂMETROS!$C$14),(L10+2*M10+(C10-D10)/PARÂMETROS!$C$14)/(F10+2*G10-(C10-D10)/PARÂMETROS!$C$11))","v":{"v":0.13512928837209476,"d":"1.35E-01"}},{"$f":"IF(PARÂMETROS!$J$6<PARÂMETROS!$F$6,(F10+2*G10-(C10-D10)/PARÂMETROS!$C$11)/(N10+2*O10+3*P10+(C10-D10)/PARÂMETROS!$C$14),(N10+2*O10+3*P10+(C10-D10)/PARÂMETROS!$C$14)/(F10+2*G10-(C10-D10)/PARÂMETROS!$C$11))","v":{"v":0.09049287354278213,"d":"9.05E-02"}},{"$f":"IF(PARÂMETROS!$J$6<PARÂMETROS!$F$6,(H10+2*I10+3*J10-(C10-D10)/PARÂMETROS!$C$11)/(K10+(C10-D10)/PARÂMETROS!$C$14),(K10+(C10-D10)/PARÂMETROS!$C$14)/(H10+2*I10+3*J10-(C10-D10)/PARÂMETROS!$C$11))","v":{"v":0.2666633653721345,"d":"2.67E-01"}},{"$f":"IF(PARÂMETROS!$J$6<PARÂMETROS!$F$6,(H10+2*I10+3*J10-(C10-D10)/PARÂMETROS!$C$11)/(L10+2*M10+(C10-D10)/PARÂMETROS!$C$14),(L10+2*M10+(C10-D10)/PARÂMETROS!$C$14)/(H10+2*I10+3*J10-(C10-D10)/PARÂMETROS!$C$11))","v":{"v":0.13512928837209484,"d":"1.35E-01"}},{"$f":"IF(PARÂMETROS!$J$6<PARÂMETROS!$F$6,(H10+2*I10+3*J10-(C10-D10)/PARÂMETROS!$C$11)/(N10+2*O10+3*P10+(C10-D10)/PARÂMETROS!$C$14),(N10+2*O10+3*P10+(C10-D10)/PARÂMETROS!$C$14)/(H10+2*I10+3*J10-(C10-D10)/PARÂMETROS!$C$11))","v":{"v":0.09049287354278218,"d":"9.05E-02"}},{"$f":"Q10*PARÂMETROS!$C$11*PARÂMETROS!$D$11/PARÂMETROS!$C$14","v":{"v":5.333216191495933,"d":"5.33"}},{"$f":"R10*PARÂMETROS!$C$11*PARÂMETROS!$D$11/PARÂMETROS!$C$14","v":{"v":2.7025598648905658,"d":"2.70"}},{"$f":"S10*PARÂMETROS!$C$11*PARÂMETROS!$D$11/PARÂMETROS!$C$14","v":{"v":1.809840124532502,"d":"1.81"}},{"$f":"T10*PARÂMETROS!$C$11*PARÂMETROS!$D$11/PARÂMETROS!$C$14","v":{"v":5.333267307442687,"d":"5.33"}},{"$f":"U10*PARÂMETROS!$C$11*PARÂMETROS!$D$11/PARÂMETROS!$C$14","v":{"v":2.702585767441895,"d":"2.70"}},{"$f":"V10*PARÂMETROS!$C$11*PARÂMETROS!$D$11/PARÂMETROS!$C$14","v":{"v":1.8098574708556425,"d":"1.81"}},{"$f":"W10*PARÂMETROS!$C$11*PARÂMETROS!$D$11/PARÂMETROS!$C$14","v":{"v":5.33326730744269,"d":"5.33"}},{"$f":"X10*PARÂMETROS!$C$11*PARÂMETROS!$D$11/PARÂMETROS!$C$14","v":{"v":2.7025857674418967,"d":"2.70"}},{"$f":"Y10*PARÂMETROS!$C$11*PARÂMETROS!$D$11/PARÂMETROS!$C$14","v":{"v":1.8098574708556439,"d":"1.81"}},{"$f":"AND(B10+PARÂMETROS!$C$8>=PARÂMETROS!$C$5,B10+PARÂMETROS!$C$8<=PARÂMETROS!$D$5)","v":true},1,{"$f":"VLOOKUP('BANCO DE DADOS COMPLETA'!$N$8,'BANCO DE DADOS COMPLETA'!$A$7:$L$249,3)*-1","v":3},7,{"$f":"VLOOKUP('BANCO DE DADOS COMPLETA'!$N$10,'BANCO DE DADOS COMPLETA'!$A$7:$L$249,3)*-1","v":1},11,77,{"v":5.33326730744269,"d":"5.33"},{"$f":"IF(AP10>=0,IF(AJ10=1,AP10,\"LIMITE\"),\"LIMITE\")","v":{"v":5.33326730744269,"d":"5.33"}},{"v":1.8643438483406933,"d":"1.86"},{"$f":"IF(AQ9=\"LIMITE\",\"LIMITE\",(AR10-AR9)/(AQ10-AQ9))","v":{"v":0.07488440520232759,"d":"0.07"}},{"$f":"IF(AS9=\"LIMITE\",\"LIMITE\",(AS10-AS9)/(AQ9-AQ8))","v":{"v":-8.35640053888344E-5,"d":"-0.00"}},{"$f":"IF(AT9>0,IF(AT11<0,AQ10,\"NADA\"),\"NADA\")","v":{"v":5.33326730744269,"d":"5.33"}},{"$f":"IF(AU9=\"NADA\",\"NADA\",IF(AU10=\"NADA\",\"NADA\",AVERAGE(AU10,AU9)))","v":3.997875783268686},{"$f":"IF(AV10=\"NADA\",0,1)","v":1}]
[null,{"$f":"B10+PARÂMETROS!$C$8","v":{"v":2.0643438483406933,"d":"2.06"}},{"$f":"10^(-B11)","v":{"v":0.008622955634854214,"d":"8.62E-03"}},{"$f":"PARÂMETROS!$Q$4/C11","v":{"v":1.1596951698997193E-12,"d":"1.16E-12"}},{"$f":"PARÂMETROS!$F$6/($C11+PARÂMETROS!$F$6)","v":{"v":0.4519919992750156,"d":"4.52E-01"}},{"$f":"$C11*PARÂMETROS!$F$6/($C11^2+$C11*PARÂMETROS!$F$6+PARÂMETROS!$F$6*PARÂMETROS!$G$6)","v":{"v":0.4519905009573379,"d":"4.52E-01"}},{"$f":"PARÂMETROS!$F$6*PARÂMETROS!$G$6/($C11^2+$C11*PARÂMETROS!$F$6+PARÂMETROS!$F$6*PARÂMETROS!$G$6)","v":{"v":3.3149207953651635E-6,"d":"3.31E-06"}},{"$f":"(PARÂMETROS!$F$6*$C11^2)/($C11^3+PARÂMETROS!$F$6*$C11^2+PARÂMETROS!$F$6*PARÂMETROS!$G$6*$C11+PARÂMETROS!$F$6*PARÂMETROS!$G$6*PARÂMETROS!$H$6)","v":{"v":0.4519905009573378,"d":"4.52E-01"}},{"$f":"(PARÂMETROS!$F$6*PARÂMETROS!$G$6*$C11)/($C11^3+PARÂMETROS!$F$6*$C11^2+PARÂMETROS!$F$6*PARÂMETROS!$G$6*$C11+PARÂMETROS!$F$6*PARÂMETROS!$G$6*PARÂMETROS!$H$6)","v":{"v":3.3149207953651631E-6,"d":"3.31E-06"}},{"$f":"(PARÂMETROS!$F$6*PARÂMETROS!$G$6*PARÂMETROS!$H$6)/($C11^3+PARÂMETROS!$F$6*$C11^2+PARÂMETROS!$F$6*PARÂMETROS!$G$6*$C11+PARÂMETROS!$F$6*PARÂMETROS!$G$6*PARÂMETROS!$H$6)","v":{"v":1.7171846768925987E-16,"d":"1.72E-16"}},{"$f":"$C11/($C11+PARÂMETROS!$J$6)","v":{"v":0.999999999988403,"d":"1.00E+00"}},{"$f":"$C11*PARÂMETROS!$J$6/($C11^2+$C11*PARÂMETROS!$J$6+PARÂMETROS!$J$6*PARÂMETROS!$K$6)","v":{"v":1.1596951698862705E-11,"d":"1.16E-11"}},{"$f":"$C11^2/($C11^2+$C11*PARÂMETROS!$J$6+PARÂMETROS!$J$6*PARÂMETROS!$K$6)","v":{"v":0.999999999988403,"d":"1.00E+00"}},{"$f":"(PARÂMETROS!$K$6*PARÂMETROS!$J$6*$C11)/($C11^3+PARÂMETROS!$J$6*$C11^2+PARÂMETROS!$J$6*PARÂMETROS!$K$6*$C11+PARÂMETROS!$J$6*PARÂMETROS!$K$6*PARÂMETROS!$L$6)","v":{"v":0,"d":"0.00E+00"}},{"$f":"(PARÂMETROS!$J$6*$C11^2)/($C11^3+PARÂMETROS!$J$6*$C11^2+PARÂMETROS!$J$6*PARÂMETROS!$K$6*$C11+PARÂMETROS!$J$6*PARÂMETROS!$K$6*PARÂMETROS!$L$6)","v":{"v":1.1596951698862705E-11,"d":"1.16E-11"}},{"$f":"($C11^3)/($C11^3+PARÂMETROS!$J$6*$C11^2+PARÂMETROS!$J$6*PARÂMETROS!$K$6*$C11+PARÂMETROS!$J$6*PARÂMETROS!$K$6*PARÂMETROS!$L$6)","v":{"v":0.9999999999884029,"d":"1.00E+00"}},{"$f":"IF(PARÂMETROS!$J$6<PARÂMETROS!$F$6,(E11-(C11-D11)/PARÂMETROS!$C$11)/(K11+(C11-D11)/PARÂMETROS!$C$14),(K11+(C11-D11)/PARÂMETROS!$C$14)/(E11-(C11-D11)/PARÂMETROS!$C$11))","v":{"v":0.4019453079951762,"d":"4.02E-01"}},{"$f":"IF(PARÂMETROS!$J$6<PARÂMETROS!$F$6,(E11-(C11-D11)/PARÂMETROS!$C$11)/(L11+2*M11+(C11-D11)/PARÂMETROS!$C$14),(L11+2*M11+(C11-D11)/PARÂMETROS!$C$14)/(E11-(C11-D11)/PARÂMETROS!$C$11))","v":{"v":0.20269081663524377,"d":"2.03E-01"}},{"$f":"IF(PARÂMETROS!$J$6<PARÂMETROS!$F$6, (E11-(C11-D11)/PARÂMETROS!$C$11)/(N11+2*O11+3*P11+(C11-D11)/PARÂMETROS!$C$14),(N11+2*O11+3*P11+(C11-D11)/PARÂMETROS!$C$14)/ (E11-(C11-D11)/PARÂMETROS!$C$11))","v":{"v":0.13551338973771826,"d":"1.36E-01"}},{"$f":"IF(PARÂMETROS!$J$6<PARÂMETROS!$F$6,(F11+2*G11-(C11-D11)/PARÂMETROS!$C$11)/(K11+(C11-D11)/PARÂMETROS!$C$14),(K11+(C11-D11)/PARÂMETROS!$C$14)/(F11+2*G11-(C11-D11)/PARÂMETROS!$C$11))","v":{"v":0.4019503525216336,"d":"4.02E-01"}},{"$f":"IF(PARÂMETROS!$J$6<PARÂMETROS!$F$6,(F11+2*G11-(C11-D11)/PARÂMETROS!$C$11)/(L11+2*M11+(C11-D11)/PARÂMETROS!$C$14),(L11+2*M11+(C11-D11)/PARÂMETROS!$C$14)/(F11+2*G11-(C11-D11)/PARÂMETROS!$C$11))","v":{"v":0.20269336046189596,"d":"2.03E-01"}},{"$f":"IF(PARÂMETROS!$J$6<PARÂMETROS!$F$6,(F11+2*G11-(C11-D11)/PARÂMETROS!$C$11)/(N11+2*O11+3*P11+(C11-D11)/PARÂMETROS!$C$14),(N11+2*O11+3*P11+(C11-D11)/PARÂMETROS!$C$14)/(F11+2*G11-(C11-D11)/PARÂMETROS!$C$11))","v":{"v":0.1355150904688035,"d":"1.36E-01"}},{"$f":"IF(PARÂMETROS!$J$6<PARÂMETROS!$F$6,(H11+2*I11+3*J11-(C11-D11)/PARÂMETROS!$C$11)/(K11+(C11-D11)/PARÂMETROS!$C$14),(K11+(C11-D11)/PARÂMETROS!$C$14)/(H11+2*I11+3*J11-(C11-D11)/PARÂMETROS!$C$11))","v":{"v":0.40195035252163397,"d":"4.02E-01"}},{"$f":"IF(PARÂMETROS!$J$6<PARÂMETROS!$F$6,(H11+2*I11+3*J11-(C11-D11)/PARÂMETROS!$C$11)/(L11+2*M11+(C11-D11)/PARÂMETROS!$C$14),(L11+2*M11+(C11-D11)/PARÂMETROS!$C$14)/(H11+2*I11+3*J11-(C11-D11)/PARÂMETROS!$C$11))","v":{"v":0.20269336046189615,"d":"2.03E-01"}},{"$f":"IF(PARÂMETROS!$J$6<PARÂMETROS!$F$6,(H11+2*I11+3*J11-(C11-D11)/PARÂMETROS!$C$11)/(N11+2*O11+3*P11+(C11-D11)/PARÂMETROS!$C$14),(N11+2*O11+3*P11+(C11-D11)/PARÂMETROS!$C$14)/(H11+2*I11+3*J11-(C11-D11)/PARÂMETROS!$C$11))","v":{"v":0.1355150904688036,"d":"1.36E-01"}},{"$f":"Q11*PARÂMETROS!$C$11*PARÂMETROS!$D$11/PARÂMETROS!$C$14","v":{"v":8.038906159903526,"d":"8.04"}},{"$f":"R11*PARÂMETROS!$C$11*PARÂMETROS!$D$11/PARÂMETROS!$C$14","v":{"v":4.0538163327048755,"d":"4.05"}},{"$f":"S11*PARÂMETROS!$C$11*PARÂMETROS!$D$11/PARÂMETROS!$C$14","v":{"v":2.7102677947543654,"d":"2.71"}},{"$f":"T11*PARÂMETROS!$C$11*PARÂMETROS!$D$11/PARÂMETROS!$C$14","v":{"v":8.039007050432673,"d":"8.04"}},{"$f":"U11*PARÂMETROS!$C$11*PARÂMETROS!$D$11/PARÂMETROS!$C$14","v":{"v":4.053867209237919,"d":"4.05"}},{"$f":"V11*PARÂMETROS!$C$11*PARÂMETROS!$D$11/PARÂMETROS!$C$14","v":{"v":2.71030180937607,"d":"2.71"}},{"$f":"W11*PARÂMETROS!$C$11*PARÂMETROS!$D$11/PARÂMETROS!$C$14","v":{"v":8.03900705043268,"d":"8.04"}},{"$f":"X11*PARÂMETROS!$C$11*PARÂMETROS!$D$11/PARÂMETROS!$C$14","v":{"v":4.053867209237923,"d":"4.05"}},{"$f":"Y11*PARÂMETROS!$C$11*PARÂMETROS!$D$11/PARÂMETROS!$C$14","v":{"v":2.7103018093760722,"d":"2.71"}},{"$f":"AND(B11+PARÂMETROS!$C$8>=PARÂMETROS!$C$5,B11+PARÂMETROS!$C$8<=PARÂMETROS!$D$5)","v":true},{"$f":"N(AI11)","v":1},{"$f":"VLOOKUP('BANCO DE DADOS COMPLETA'!$N$8,'BANCO DE DADOS COMPLETA'!$A$7:$L$249,3)*-1","v":3},{"$f":"IF(AK11=1,3,IF(AK11=2,5,IF(AK11=3,7,3)))","v":7},{"$f":"VLOOKUP('BANCO DE DADOS COMPLETA'!$N$10,'BANCO DE DADOS COMPLETA'!$A$7:$L$249,3)*-1","v":1},{"$f":"IF(AM11=1,11,IF(AM11=2,13,IF(AM11=3,17,11)))","v":11},{"$f":"AN11*AL11","v":77},{"$f":"IF(AO11=33,Z11,IF(AO11=39,AA11,IF(AO11=51,AB11,IF(AO11=55,AC11,IF(AO11=65,AD11,IF(AO11=85,AE11,IF(AO11=77,AF11,IF(AO11=91,AG11,IF(AO11=119,AH11)))))))))","v":{"v":8.03900705043268,"d":"8.04"}},{"$f":"IF(AP11>=0,IF(AJ11=1,AP11,\"LIMITE\"),\"LIMITE\")","v":{"v":8.03900705043268,"d":"8.04"}},{"$f":"IF(AJ11=1,B11,\"LIMITE\")","v":{"v":2.0643438483406933,"d":"2.06"}},{"$f":"IF(AQ10=\"LIMITE\",\"LIMITE\",(AR11-AR10)/(AQ11-AQ10))","v":{"v":0.07391693917279311,"d":"0.07"}},{"$f":"IF(AS10=\"LIMITE\",\"LIMITE\",(AS11-AS10)/(AQ10-AQ9))","v":{"v":-3.622405908757323E-4,"d":"-0.00"}},{"$f":"IF(AT10>0,IF(AT12<0,AQ11,\"NADA\"),\"NADA\")","v":"NADA"},"NADA",0]
[null,{"$f":"B11+PARÂMETROS!$C$8","v":{"v":2.2643438483406935,"d":"2.26"}},{"$f":"10^(-B12)","v":{"v":5.4407171889381345E-3,"d":"5.44E-03"}},{"$f":"PARÂMETROS!$Q$4/C12","v":{"v":1.8379929801040994E-12,"d":"1.84E-12"}},{"$f":"PARÂMETROS!$F$6/($C12+PARÂMETROS!$F$6)","v":{"v":0.5665752254650369,"d":"5.67E-01"}},{"$f":"$C12*PARÂMETROS!$F$6/($C12^2+$C12*PARÂMETROS!$F$6+PARÂMETROS!$F$6*PARÂMETROS!$G$6)","v":{"v":0.5665714941995695,"d":"5.67E-01"}},{"$f":"PARÂMETROS!$F$6*PARÂMETROS!$G$6/($C12^2+$C12*PARÂMETROS!$F$6+PARÂMETROS!$F$6*PARÂMETROS!$G$6)","v":{"v":6.5856488242439033E-6,"d":"6.59E-06"}},{"$f":"(PARÂMETROS!$F$6*$C12^2)/($C12^3+PARÂMETROS!$F$6*$C12^2+PARÂMETROS!$F$6*PARÂMETROS!$G$6*$C12+PARÂMETROS!$F$6*PARÂMETROS!$G$6*PARÂMETROS!$H$6)","v":{"v":0.5665714941995692,"d":"5.67E-01"}},{"$f":"(PARÂMETROS!$F$6*PARÂMETROS!$G$6*$C12)/($C12^3+PARÂMETROS!$F$6*$C12^2+PARÂMETROS!$F$6*PARÂMETROS!$G$6*$C12+PARÂMETROS!$F$6*PARÂMETROS!$G$6*PARÂMETROS!$H$6)","v":{"v":6.5856488242439e-06,"d":"6.59E-06"}},{"$f":"(PARÂMETROS!$F$6*PARÂMETROS!$G$6*PARÂMETROS!$H$6)/($C12^3+PARÂMETROS!$F$6*$C12^2+PARÂMETROS!$F$6*PARÂMETROS!$G$6*$C12+PARÂMETROS!$F$6*PARÂMETROS!$G$6*PARÂMETROS!$H$6)","v":{"v":5.406826290179138e-16,"d":"5.41E-16"}},{"$f":"$C12/($C12+PARÂMETROS!$J$6)","v":{"v":0.9999999999816201,"d":"1.00E+00"}},{"$f":"$C12*PARÂMETROS!$J$6/($C12^2+$C12*PARÂMETROS!$J$6+PARÂMETROS!$J$6*PARÂMETROS!$K$6)","v":{"v":1.8379929800703172E-11,"d":"1.84E-11"}},{"$f":"$C12^2/($C12^2+$C12*PARÂMETROS!$J$6+PARÂMETROS!$J$6*PARÂMETROS!$K$6)","v":{"v":0.99999999998162,"d":"1.00E+00"}},{"$f":"(PARÂMETROS!$K$6*PARÂMETROS!$J$6*$C12)/($C12^3+PARÂMETROS!$J$6*$C12^2+PARÂMETROS!$J$6*PARÂMETROS!$K$6*$C12+PARÂMETROS!$J$6*PARÂMETROS!$K$6*PARÂMETROS!$L$6)","v":{"v":0,"d":"0.00E+00"}},{"$f":"(PARÂMETROS!$J$6*$C12^2)/($C12^3+PARÂMETROS!$J$6*$C12^2+PARÂMETROS!$J$6*PARÂMETROS!$K$6*$C12+PARÂMETROS!$J$6*PARÂMETROS!$K$6*PARÂMETROS!$L$6)","v":{"v":1.8379929800703172E-11,"d":"1.84E-11"}},{"$f":"($C12^3)/($C12^3+PARÂMETROS!$J$6*$C12^2+PARÂMETROS!$J$6*PARÂMETROS!$K$6*$C12+PARÂMETROS!$J$6*PARÂMETROS!$K$6*PARÂMETROS!$L$6)","v":{"v":0.99999999998162,"d":"1.00E+00"}},{"$f":"IF(PARÂMETROS!$J$6<PARÂMETROS!$F$6,(E12-(C12-D12)/PARÂMETROS!$C$11)/(K12+(C12-D12)/PARÂMETROS!$C$14),(K12+(C12-D12)/PARÂMETROS!$C$14)/(E12-(C12-D12)/PARÂMETROS!$C$11))","v":{"v":0.5335656796123162,"d":"5.34E-01"}},{"$f":"IF(PARÂMETROS!$J$6<PARÂMETROS!$F$6,(E12-(C12-D12)/PARÂMETROS!$C$11)/(L12+2*M12+(C12-D12)/PARÂMETROS!$C$14),(L12+2*M12+(C12-D12)/PARÂMETROS!$C$14)/(E12-(C12-D12)/PARÂMETROS!$C$11))","v":{"v":0.26822647537263794,"d":"2.68E-01"}},{"$f":"IF(PARÂMETROS!$J$6<PARÂMETROS!$F$6, (E12-(C12-D12)/PARÂMETROS!$C$11)/(N12+2*O12+3*P12+(C12-D12)/PARÂMETROS!$C$14),(N12+2*O12+3*P12+(C12-D12)/PARÂMETROS!$C$14)/ (E12-(C12-D12)/PARÂMETROS!$C$11))","v":{"v":0.1791407769748114,"d":"1.79E-01"}},{"$f":"IF(PARÂMETROS!$J$6<PARÂMETROS!$F$6,(F12+2*G12-(C12-D12)/PARÂMETROS!$C$11)/(K12+(C12-D12)/PARÂMETROS!$C$14),(K12+(C12-D12)/PARÂMETROS!$C$14)/(F12+2*G12-(C12-D12)/PARÂMETROS!$C$11))","v":{"v":0.5335750180291278,"d":"5.34E-01"}},{"$f":"IF(PARÂMETROS!$J$6<PARÂMETROS!$F$6,(F12+2*G12-(C12-D12)/PARÂMETROS!$C$11)/(L12+2*M12+(C12-D12)/PARÂMETROS!$C$14),(L12+2*M12+(C12-D12)/PARÂMETROS!$C$14)/(F12+2*G12-(C12-D12)/PARÂMETROS!$C$11))","v":{"v":0.2682311698474189,"d":"2.68E-01"}},{"$f":"IF(PARÂMETROS!$J$6<PARÂMETROS!$F$6,(F12+2*G12-(C12-D12)/PARÂMETROS!$C$11)/(N12+2*O12+3*P12+(C12-D12)/PARÂMETROS!$C$14),(N12+2*O12+3*P12+(C12-D12)/PARÂMETROS!$C$14)/(F12+2*G12-(C12-D12)/PARÂMETROS!$C$11))","v":{"v":0.17914391227999923,"d":"1.79E-01"}},{"$f":"IF(PARÂMETROS!$J$6<PARÂMETROS!$F$6,(H12+2*I12+3*J12-(C12-D12)/PARÂMETROS!$C$11)/(K12+(C12-D12)/PARÂMETROS!$C$14),(K12+(C12-D12)/PARÂMETROS!$C$14)/(H12+2*I12+3*J12-(C12-D12)/PARÂMETROS!$C$11))","v":{"v":0.533575018029129,"d":"5.34E-01"}},{"$f":"IF(PARÂMETROS!$J$6<PARÂMETROS!$F$6,(H12+2*I12+3*J12-(C12-D12)/PARÂMETROS!$C$11)/(L12+2*M12+(C12-D12)/PARÂMETROS!$C$14),(L12+2*M12+(C12-D12)/PARÂMETROS!$C$14)/(H12+2*I12+3*J12-(C12-D12)/PARÂMETROS!$C$11))","v":{"v":0.26823116984741957,"d":"2.68E-01"}},{"$f":"IF(PARÂMETROS!$J$6<PARÂMETROS!$F$6,(H12+2*I12+3*J12-(C12-D12)/PARÂMETROS!$C$11)/(N12+2*O12+3*P12+(C12-D12)/PARÂMETROS!$C$14),(N12+2*O12+3*P12+(C12-D12)/PARÂMETROS!$C$14)/(H12+2*I12+3*J12-(C12-D12)/PARÂMETROS!$C$11))","v":{"v":0.17914391227999968,"d":"1.79E-01"}},{"$f":"Q12*PARÂMETROS!$C$11*PARÂMETROS!$D$11/PARÂMETROS!$C$14","v":{"v":10.671313592246323,"d":"10.67"}},{"$f":"R12*PARÂMETROS!$C$11*PARÂMETROS!$D$11/PARÂMETROS!$C$14","v":{"v":5.364529507452759,"d":"5.36"}},{"$f":"S12*PARÂMETROS!$C$11*PARÂMETROS!$D$11/PARÂMETROS!$C$14","v":{"v":3.5828155394962278,"d":"3.58"}},{"$f":"T12*PARÂMETROS!$C$11*PARÂMETROS!$D$11/PARÂMETROS!$C$14","v":{"v":10.671500360582556,"d":"10.67"}},{"$f":"U12*PARÂMETROS!$C$11*PARÂMETROS!$D$11/PARÂMETROS!$C$14","v":{"v":5.364623396948379,"d":"5.36"}},{"$f":"V12*PARÂMETROS!$C$11*PARÂMETROS!$D$11/PARÂMETROS!$C$14","v":{"v":3.5828782455999844,"d":"3.58"}},{"$f":"W12*PARÂMETROS!$C$11*PARÂMETROS!$D$11/PARÂMETROS!$C$14","v":{"v":10.67150036058258,"d":"10.67"}},{"$f":"X12*PARÂMETROS!$C$11*PARÂMETROS!$D$11/PARÂMETROS!$C$14","v":{"v":5.364623396948391,"d":"5.36"}},{"$f":"Y12*PARÂMETROS!$C$11*PARÂMETROS!$D$11/PARÂMETROS!$C$14","v":{"v":3.5828782455999937,"d":"3.58"}},{"$f":"AND(B12+PARÂMETROS!$C$8>=PARÂMETROS!$C$5,B12+PARÂMETROS!$C$8<=PARÂMETROS!$D$5)","v":true},{"$f":"N(AI12)","v":1},{"$f":"VLOOKUP('BANCO DE DADOS COMPLETA'!$N$8,'BANCO DE DADOS COMPLETA'!$A$7:$L$249,3)*-1","v":3},{"$f":"IF(AK12=1,3,IF(AK12=2,5,IF(AK12=3,7,3)))","v":7},{"$f":"VLOOKUP('BANCO DE DADOS COMPLETA'!$N$10,'BANCO DE DADOS COMPLETA'!$A$7:$L$249,3)*-1","v":1},{"$f":"IF(AM12=1,11,IF(AM12=2,13,IF(AM12=3,17,11)))","v":11},{"$f":"AN12*AL12","v":77},{"$f":"IF(AO12=33,Z12,IF(AO12=39,AA12,IF(AO12=51,AB12,IF(AO12=55,AC12,IF(AO12=65,AD12,IF(AO12=85,AE12,IF(AO12=77,AF12,IF(AO12=91,AG12,IF(AO12=119,AH12)))))))))","v":{"v":10.67150036058258,"d":"10.67"}},{"$f":"IF(AP12>=0,IF(AJ12=1,AP12,\"LIMITE\"),\"LIMITE\")","v":{"v":10.67150036058258,"d":"10.67"}},{"$f":"IF(AJ12=1,B12,\"LIMITE\")","v":{"v":2.2643438483406935,"d":"2.26"}},{"$f":"IF(AQ11=\"LIMITE\",\"LIMITE\",(AR12-AR11)/(AQ12-AQ11))","v":{"v":0.07597360237493317,"d":"0.08"}},{"$f":"IF(AS11=\"LIMITE\",\"LIMITE\",(AS12-AS11)/(AQ11-AQ10))","v":{"v":7.6011124405754192E-4,"d":"0.00"}},"NADA","NADA",0]
[null,{"$f":"B12+PARÂMETROS!$C$8","v":{"v":2.4643438483406936,"d":"2.46"}},{"$f":"10^(-B13)","v":{"v":3.432860469600145E-3,"d":"3.43E-03"}},{"$f":"PARÂMETROS!$Q$4/C13","v":{"v":2.9130225619583036E-12,"d":"2.91E-12"}},{"$f":"PARÂMETROS!$F$6/($C13+PARÂMETROS!$F$6)","v":{"v":0.6744559601709607,"d":"6.74E-01"}},{"$f":"$C13*PARÂMETROS!$F$6/($C13^2+$C13*PARÂMETROS!$F$6+PARÂMETROS!$F$6*PARÂMETROS!$G$6)","v":{"v":0.674447580139559,"d":"6.74E-01"}},{"$f":"PARÂMETROS!$F$6*PARÂMETROS!$G$6/($C13^2+$C13*PARÂMETROS!$F$6+PARÂMETROS!$F$6*PARÂMETROS!$G$6)","v":{"v":1.2424875598335941E-5,"d":"1.24E-05"}},{"$f":"(PARÂMETROS!$F$6*$C13^2)/($C13^3+PARÂMETROS!$F$6*$C13^2+PARÂMETROS!$F$6*PARÂMETROS!$G$6*$C13+PARÂMETROS!$F$6*PARÂMETROS!$G$6*PARÂMETROS!$H$6)","v":{"v":0.6744475801395577,"d":"6.74E-01"}},{"$f":"(PARÂMETROS!$F$6*PARÂMETROS!$G$6*$C13)/($C13^3+PARÂMETROS!$F$6*$C13^2+PARÂMETROS!$F$6*PARÂMETROS!$G$6*$C13+PARÂMETROS!$F$6*PARÂMETROS!$G$6*PARÂMETROS!$H$6)","v":{"v":1.2424875598335919E-5,"d":"1.24E-05"}},{"$f":"(PARÂMETROS!$F$6*PARÂMETROS!$G$6*PARÂMETROS!$H$6)/($C13^3+PARÂMETROS!$F$6*$C13^2+PARÂMETROS!$F$6*PARÂMETROS!$G$6*$C13+PARÂMETROS!$F$6*PARÂMETROS!$G$6*PARÂMETROS!$H$6)","v":{"v":1.6167240449886318E-15,"d":"1.62E-15"}},{"$f":"$C13/($C13+PARÂMETROS!$J$6)","v":{"v":0.9999999999708699,"d":"1.00E+00"}},{"$f":"$C13*PARÂMETROS!$J$6/($C13^2+$C13*PARÂMETROS!$J$6+PARÂMETROS!$J$6*PARÂMETROS!$K$6)","v":{"v":2.913022561873447e-11,"d":"2.91E-11"}},{"$f":"$C13^2/($C13^2+$C13*PARÂMETROS!$J$6+PARÂMETROS!$J$6*PARÂMETROS!$K$6)","v":{"v":0.9999999999708699,"d":"1.00E+00"}},{"$f":"(PARÂMETROS!$K$6*PARÂMETROS!$J$6*$C13)/($C13^3+PARÂMETROS!$J$6*$C13^2+PARÂMETROS!$J$6*PARÂMETROS!$K$6*$C13+PARÂMETROS!$J$6*PARÂMETROS!$K$6*PARÂMETROS!$L$6)","v":{"v":0,"d":"0.00E+00"}},{"$f":"(PARÂMETROS!$J$6*$C13^2)/($C13^3+PARÂMETROS!$J$6*$C13^2+PARÂMETROS!$J$6*PARÂMETROS!$K$6*$C13+PARÂMETROS!$J$6*PARÂMETROS!$K$6*PARÂMETROS!$L$6)","v":{"v":2.913022561873447e-11,"d":"2.91E-11"}},{"$f":"($C13^3)/($C13^3+PARÂMETROS!$J$6*$C13^2+PARÂMETROS!$J$6*PARÂMETROS!$K$6*$C13+PARÂMETROS!$J$6*PARÂMETROS!$K$6*PARÂMETROS!$L$6)","v":{"v":0.9999999999708697,"d":"1.00E+00"}},{"$f":"IF(PARÂMETROS!$J$6<PARÂMETROS!$F$6,(E13-(C13-D13)/PARÂMETROS!$C$11)/(K13+(C13-D13)/PARÂMETROS!$C$14),(K13+(C13-D13)/PARÂMETROS!$C$14)/(E13-(C13-D13)/PARÂMETROS!$C$11))","v":{"v":0.6528096489840033,"d":"6.53E-01"}},{"$f":"IF(PARÂMETROS!$J$6<PARÂMETROS!$F$6,(E13-(C13-D13)/PARÂMETROS!$C$11)/(L13+2*M13+(C13-D13)/PARÂMETROS!$C$14),(L13+2*M13+(C13-D13)/PARÂMETROS!$C$14)/(E13-(C13-D13)/PARÂMETROS!$C$11))","v":{"v":0.32752149333706576,"d":"3.28E-01"}},{"$f":"IF(PARÂMETROS!$J$6<PARÂMETROS!$F$6, (E13-(C13-D13)/PARÂMETROS!$C$11)/(N13+2*O13+3*P13+(C13-D13)/PARÂMETROS!$C$14),(N13+2*O13+3*P13+(C13-D13)/PARÂMETROS!$C$14)/ (E13-(C13-D13)/PARÂMETROS!$C$11))","v":{"v":0.21859694407632546,"d":"2.19E-01"}},{"$f":"IF(PARÂMETROS!$J$6<PARÂMETROS!$F$6,(F13+2*G13-(C13-D13)/PARÂMETROS!$C$11)/(K13+(C13-D13)/PARÂMETROS!$C$14),(K13+(C13-D13)/PARÂMETROS!$C$14)/(F13+2*G13-(C13-D13)/PARÂMETROS!$C$11))","v":{"v":0.6528260063983566,"d":"6.53E-01"}},{"$f":"IF(PARÂMETROS!$J$6<PARÂMETROS!$F$6,(F13+2*G13-(C13-D13)/PARÂMETROS!$C$11)/(L13+2*M13+(C13-D13)/PARÂMETROS!$C$14),(L13+2*M13+(C13-D13)/PARÂMETROS!$C$14)/(F13+2*G13-(C13-D13)/PARÂMETROS!$C$11))","v":{"v":0.32752970002455034,"d":"3.28E-01"}},{"$f":"IF(PARÂMETROS!$J$6<PARÂMETROS!$F$6,(F13+2*G13-(C13-D13)/PARÂMETROS!$C$11)/(N13+2*O13+3*P13+(C13-D13)/PARÂMETROS!$C$14),(N13+2*O13+3*P13+(C13-D13)/PARÂMETROS!$C$14)/(F13+2*G13-(C13-D13)/PARÂMETROS!$C$11))","v":{"v":0.21860242144755637,"d":"2.19E-01"}},{"$f":"IF(PARÂMETROS!$J$6<PARÂMETROS!$F$6,(H13+2*I13+3*J13-(C13-D13)/PARÂMETROS!$C$11)/(K13+(C13-D13)/PARÂMETROS!$C$14),(K13+(C13-D13)/PARÂMETROS!$C$14)/(H13+2*I13+3*J13-(C13-D13)/PARÂMETROS!$C$11))","v":{"v":0.6528260063983602,"d":"6.53E-01"}},{"$f":"IF(PARÂMETROS!$J$6<PARÂMETROS!$F$6,(H13+2*I13+3*J13-(C13-D13)/PARÂMETROS!$C$11)/(L13+2*M13+(C13-D13)/PARÂMETROS!$C$14),(L13+2*M13+(C13-D13)/PARÂMETROS!$C$14)/(H13+2*I13+3*J13-(C13-D13)/PARÂMETROS!$C$11))","v":{"v":0.3275297000245522,"d":"3.28E-01"}},{"$f":"IF(PARÂMETROS!$J$6<PARÂMETROS!$F$6,(H13+2*I13+3*J13-(C13-D13)/PARÂMETROS!$C$11)/(N13+2*O13+3*P13+(C13-D13)/PARÂMETROS!$C$14),(N13+2*O13+3*P13+(C13-D13)/PARÂMETROS!$C$14)/(H13+2*I13+3*J13-(C13-D13)/PARÂMETROS!$C$11))","v":{"v":0.2186024214475576,"d":"2.19E-01"}},{"$f":"Q13*PARÂMETROS!$C$11*PARÂMETROS!$D$11/PARÂMETROS!$C$14","v":{"v":13.056192979680068,"d":"13.06"}},{"$f":"R13*PARÂMETROS!$C$11*PARÂMETROS!$D$11/PARÂMETROS!$C$14","v":{"v":6.550429866741315,"d":"6.55"}},{"$f":"S13*PARÂMETROS!$C$11*PARÂMETROS!$D$11/PARÂMETROS!$C$14","v":{"v":4.37193888152651,"d":"4.37"}},{"$f":"T13*PARÂMETROS!$C$11*PARÂMETROS!$D$11/PARÂMETROS!$C$14","v":{"v":13.056520127967133,"d":"13.06"}},{"$f":"U13*PARÂMETROS!$C$11*PARÂMETROS!$D$11/PARÂMETROS!$C$14","v":{"v":6.5505940004910075,"d":"6.55"}},{"$f":"V13*PARÂMETROS!$C$11*PARÂMETROS!$D$11/PARÂMETROS!$C$14","v":{"v":4.372048428951128,"d":"4.37"}},{"$f":"W13*PARÂMETROS!$C$11*PARÂMETROS!$D$11/PARÂMETROS!$C$14","v":{"v":13.056520127967206,"d":"13.06"}},{"$f":"X13*PARÂMETROS!$C$11*PARÂMETROS!$D$11/PARÂMETROS!$C$14","v":{"v":6.550594000491043,"d":"6.55"}},{"$f":"Y13*PARÂMETROS!$C$11*PARÂMETROS!$D$11/PARÂMETROS!$C$14","v":{"v":4.372048428951152,"d":"4.37"}},{"$f":"AND(B13+PARÂMETROS!$C$8>=PARÂMETROS!$C$5,B13+PARÂMETROS!$C$8<=PARÂMETROS!$D$5)","v":true},{"$f":"N(AI13)","v":1},{"$f":"VLOOKUP('BANCO DE DADOS COMPLETA'!$N$8,'BANCO DE DADOS COMPLETA'!$A$7:$L$249,3)*-1","v":3},{"$f":"IF(AK13=1,3,IF(AK13=2,5,IF(AK13=3,7,3)))","v":7},{"$f":"VLOOKUP('BANCO DE DADOS COMPLETA'!$N$10,'BANCO DE DADOS COMPLETA'!$A$7:$L$249,3)*-1","v":1},{"$f":"IF(AM13=1,11,IF(AM13=2,13,IF(AM13=3,17,11)))","v":11},{"$f":"AN13*AL13","v":77},{"$f":"IF(AO13=33,Z13,IF(AO13=39,AA13,IF(AO13=51,AB13,IF(AO13=55,AC13,IF(AO13=65,AD13,IF(AO13=85,AE13,IF(AO13=77,AF13,IF(AO13=91,AG13,IF(AO13=119,AH13)))))))))","v":{"v":13.056520127967206,"d":"13.06"}},{"$f":"IF(AP13>=0,IF(AJ13=1,AP13,\"LIMITE\"),\"LIMITE\")","v":{"v":13.056520127967206,"d":"13.06"}},{"$f":"IF(AJ13=1,B13,\"LIMITE\")","v":{"v":2.4643438483406936,"d":"2.46"}},{"$f":"IF(AQ12=\"LIMITE\",\"LIMITE\",(AR13-AR12)/(AQ13-AQ12))","v":{"v":0.08385674732554398,"d":"0.08"}},{"$f":"IF(AS12=\"LIMITE\",\"LIMITE\",(AS13-AS12)/(AQ12-AQ11))","v":{"v":2.9945545997083355E-3,"d":"0.00"}},"NADA","NADA",0]
[null,{"$f":"B13+PARÂMETROS!$C$8","v":{"v":2.664343848340694,"d":"2.66"}},{"v":2.165988525869935E-3,"d":"2.17E-03"},{"$f":"PARÂMETROS!$Q$4/C14","v":{"v":4.616829627933351e-12,"d":"4.62E-12"}},{"$f":"PARÂMETROS!$F$6/($C14+PARÂMETROS!$F$6)","v":{"v":0.7665488621749086,"d":"7.67E-01"}},{"$f":"$C14*PARÂMETROS!$F$6/($C14^2+$C14*PARÂMETROS!$F$6+PARÂMETROS!$F$6*PARÂMETROS!$G$6)","v":{"v":0.7665317062627035,"d":"7.67E-01"}},{"$f":"PARÂMETROS!$F$6*PARÂMETROS!$G$6/($C14^2+$C14*PARÂMETROS!$F$6+PARÂMETROS!$F$6*PARÂMETROS!$G$6)","v":{"v":2.238071576586355E-5,"d":"2.24E-05"}},{"$f":"(PARÂMETROS!$F$6*$C14^2)/($C14^3+PARÂMETROS!$F$6*$C14^2+PARÂMETROS!$F$6*PARÂMETROS!$G$6*$C14+PARÂMETROS!$F$6*PARÂMETROS!$G$6*PARÂMETROS!$H$6)","v":{"v":0.7665317062627001,"d":"7.67E-01"}},{"$f":"(PARÂMETROS!$F$6*PARÂMETROS!$G$6*$C14)/($C14^3+PARÂMETROS!$F$6*$C14^2+PARÂMETROS!$F$6*PARÂMETROS!$G$6*$C14+PARÂMETROS!$F$6*PARÂMETROS!$G$6*PARÂMETROS!$H$6)","v":{"v":2.2380715765863455E-5,"d":"2.24E-05"}},{"$f":"(PARÂMETROS!$F$6*PARÂMETROS!$G$6*PARÂMETROS!$H$6)/($C14^3+PARÂMETROS!$F$6*$C14^2+PARÂMETROS!$F$6*PARÂMETROS!$G$6*$C14+PARÂMETROS!$F$6*PARÂMETROS!$G$6*PARÂMETROS!$H$6)","v":{"v":4.615490060913586e-15,"d":"4.62E-15"}},{"$f":"$C14/($C14+PARÂMETROS!$J$6)","v":{"v":0.9999999999538317,"d":"1.00E+00"}},{"$f":"$C14*PARÂMETROS!$J$6/($C14^2+$C14*PARÂMETROS!$J$6+PARÂMETROS!$J$6*PARÂMETROS!$K$6)","v":{"v":4.6168296277202E-11,"d":"4.62E-11"}},{"$f":"$C14^2/($C14^2+$C14*PARÂMETROS!$J$6+PARÂMETROS!$J$6*PARÂMETROS!$K$6)","v":{"v":0.9999999999538317,"d":"1.00E+00"}},{"$f":"(PARÂMETROS!$K$6*PARÂMETROS!$J$6*$C14)/($C14^3+PARÂMETROS!$J$6*$C14^2+PARÂMETROS!$J$6*PARÂMETROS!$K$6*$C14+PARÂMETROS!$J$6*PARÂMETROS!$K$6*PARÂMETROS!$L$6)","v":{"v":0,"d":"0.00E+00"}},{"$f":"(PARÂMETROS!$J$6*$C14^2)/($C14^3+PARÂMETROS!$J$6*$C14^2+PARÂMETROS!$J$6*PARÂMETROS!$K$6*$C14+PARÂMETROS!$J$6*PARÂMETROS!$K$6*PARÂMETROS!$L$6)","v":{"v":4.6168296277202007E-11,"d":"4.62E-11"}},{"$f":"($C14^3)/($C14^3+PARÂMETROS!$J$6*$C14^2+PARÂMETROS!$J$6*PARÂMETROS!$K$6*$C14+PARÂMETROS!$J$6*PARÂMETROS!$K$6*PARÂMETROS!$L$6)","v":{"v":0.9999999999538317,"d":"1.00E+00"}},{"$f":"IF(PARÂMETROS!$J$6<PARÂMETROS!$F$6,(E14-(C14-D14)/PARÂMETROS!$C$11)/(K14+(C14-D14)/PARÂMETROS!$C$14),(K14+(C14-D14)/PARÂMETROS!$C$14)/(E14-(C14-D14)/PARÂMETROS!$C$11))","v":{"v":0.7524592832628674,"d":"7.52E-01"}},{"$f":"IF(PARÂMETROS!$J$6<PARÂMETROS!$F$6,(E14-(C14-D14)/PARÂMETROS!$C$11)/(L14+2*M14+(C14-D14)/PARÂMETROS!$C$14),(L14+2*M14+(C14-D14)/PARÂMETROS!$C$14)/(E14-(C14-D14)/PARÂMETROS!$C$11))","v":{"v":0.3770427894390789,"d":"3.77E-01"}},{"$f":"IF(PARÂMETROS!$J$6<PARÂMETROS!$F$6, (E14-(C14-D14)/PARÂMETROS!$C$11)/(N14+2*O14+3*P14+(C14-D14)/PARÂMETROS!$C$14),(N14+2*O14+3*P14+(C14-D14)/PARÂMETROS!$C$14)/ (E14-(C14-D14)/PARÂMETROS!$C$11))","v":{"v":0.25154308024381294,"d":"2.52E-01"}},{"$f":"IF(PARÂMETROS!$J$6<PARÂMETROS!$F$6,(F14+2*G14-(C14-D14)/PARÂMETROS!$C$11)/(K14+(C14-D14)/PARÂMETROS!$C$14),(K14+(C14-D14)/PARÂMETROS!$C$14)/(F14+2*G14-(C14-D14)/PARÂMETROS!$C$11))","v":{"v":0.7524867697115307,"d":"7.52E-01"}},{"$f":"IF(PARÂMETROS!$J$6<PARÂMETROS!$F$6,(F14+2*G14-(C14-D14)/PARÂMETROS!$C$11)/(L14+2*M14+(C14-D14)/PARÂMETROS!$C$14),(L14+2*M14+(C14-D14)/PARÂMETROS!$C$14)/(F14+2*G14-(C14-D14)/PARÂMETROS!$C$11))","v":{"v":0.37705656236673935,"d":"3.77E-01"}},{"$f":"IF(PARÂMETROS!$J$6<PARÂMETROS!$F$6,(F14+2*G14-(C14-D14)/PARÂMETROS!$C$11)/(N14+2*O14+3*P14+(C14-D14)/PARÂMETROS!$C$14),(N14+2*O14+3*P14+(C14-D14)/PARÂMETROS!$C$14)/(F14+2*G14-(C14-D14)/PARÂMETROS!$C$11))","v":{"v":0.25155226881536163,"d":"2.52E-01"}},{"$f":"IF(PARÂMETROS!$J$6<PARÂMETROS!$F$6,(H14+2*I14+3*J14-(C14-D14)/PARÂMETROS!$C$11)/(K14+(C14-D14)/PARÂMETROS!$C$14),(K14+(C14-D14)/PARÂMETROS!$C$14)/(H14+2*I14+3*J14-(C14-D14)/PARÂMETROS!$C$11))","v":{"v":0.752486769711541,"d":"7.52E-01"}},{"$f":"IF(PARÂMETROS!$J$6<PARÂMETROS!$F$6,(H14+2*I14+3*J14-(C14-D14)/PARÂMETROS!$C$11)/(L14+2*M14+(C14-D14)/PARÂMETROS!$C$14),(L14+2*M14+(C14-D14)/PARÂMETROS!$C$14)/(H14+2*I14+3*J14-(C14-D14)/PARÂMETROS!$C$11))","v":{"v":0.3770565623667445,"d":"3.77E-01"}},{"$f":"IF(PARÂMETROS!$J$6<PARÂMETROS!$F$6,(H14+2*I14+3*J14-(C14-D14)/PARÂMETROS!$C$11)/(N14+2*O14+3*P14+(C14-D14)/PARÂMETROS!$C$14),(N14+2*O14+3*P14+(C14-D14)/PARÂMETROS!$C$14)/(H14+2*I14+3*J14-(C14-D14)/PARÂMETROS!$C$11))","v":{"v":0.2515522688153651,"d":"2.52E-01"}},{"$f":"Q14*PARÂMETROS!$C$11*PARÂMETROS!$D$11/PARÂMETROS!$C$14","v":{"v":15.049185665257347,"d":"15.05"}},{"$f":"R14*PARÂMETROS!$C$11*PARÂMETROS!$D$11/PARÂMETROS!$C$14","v":{"v":7.540855788781578,"d":"7.54"}},{"$f":"S14*PARÂMETROS!$C$11*PARÂMETROS!$D$11/PARÂMETROS!$C$14","v":{"v":5.030861604876259,"d":"5.03"}},{"$f":"T14*PARÂMETROS!$C$11*PARÂMETROS!$D$11/PARÂMETROS!$C$14","v":{"v":15.049735394230614,"d":"15.05"}},{"$f":"U14*PARÂMETROS!$C$11*PARÂMETROS!$D$11/PARÂMETROS!$C$14","v":{"v":7.541131247334787,"d":"7.54"}},{"$f":"V14*PARÂMETROS!$C$11*PARÂMETROS!$D$11/PARÂMETROS!$C$14","v":{"v":5.031045376307233,"d":"5.03"}},{"$f":"W14*PARÂMETROS!$C$11*PARÂMETROS!$D$11/PARÂMETROS!$C$14","v":{"v":15.049735394230822,"d":"15.05"}},{"$f":"X14*PARÂMETROS!$C$11*PARÂMETROS!$D$11/PARÂMETROS!$C$14","v":{"v":7.541131247334891,"d":"7.54"}},{"$f":"Y14*PARÂMETROS!$C$11*PARÂMETROS!$D$11/PARÂMETROS!$C$14","v":{"v":5.0310453763073015,"d":"5.03"}},{"$f":"AND(B14+PARÂMETROS!$C$8>=PARÂMETROS!$C$5,B14+PARÂMETROS!$C$8<=PARÂMETROS!$D$5)","v":true},1,{"$f":"VLOOKUP('BANCO DE DADOS COMPLETA'!$N$8,'BANCO DE DADOS COMPLETA'!$A$7:$L$249,3)*-1","v":3},7,{"$f":"VLOOKUP('BANCO DE DADOS COMPLETA'!$N$10,'BANCO DE DADOS COMPLETA'!$A$7:$L$249,3)*-1","v":1},11,77,{"v":15.049735394230822,"d":"15.05"},{"v":15.049735394230822,"d":"15.05"},{"v":2.664343848340694,"d":"2.66"},{"v":0.10034039141939262,"d":"0.10"},{"v":0.006911323888910299,"d":"0.01"},"NADA","NADA",0]
[null,{"$f":"B14+PARÂMETROS!$C$8","v":{"v":2.864343848340694,"d":"2.86"}},{"v":1.3666463684574627E-3,"d":"1.37E-03"},{"$f":"PARÂMETROS!$Q$4/C15","v":{"v":7.317181848064343e-12,"d":"7.32E-12"}},{"$f":"PARÂMETROS!$F$6/($C15+PARÂMETROS!$F$6)","v":{"v":0.838815711001276,"d":"8.39E-01"}},{"$f":"$C15*PARÂMETROS!$F$6/($C15^2+$C15*PARÂMETROS!$F$6+PARÂMETROS!$F$6*PARÂMETROS!$G$6)","v":{"v":0.8387831528225029,"d":"8.39E-01"}},{"$f":"PARÂMETROS!$F$6*PARÂMETROS!$G$6/($C15^2+$C15*PARÂMETROS!$F$6+PARÂMETROS!$F$6*PARÂMETROS!$G$6)","v":{"v":3.8814459894141322E-5,"d":"3.88E-05"}},{"$f":"(PARÂMETROS!$F$6*$C15^2)/($C15^3+PARÂMETROS!$F$6*$C15^2+PARÂMETROS!$F$6*PARÂMETROS!$G$6*$C15+PARÂMETROS!$F$6*PARÂMETROS!$G$6*PARÂMETROS!$H$6)","v":{"v":0.8387831528224923,"d":"8.39E-01"}},{"$f":"(PARÂMETROS!$F$6*PARÂMETROS!$G$6*$C15)/($C15^3+PARÂMETROS!$F$6*$C15^2+PARÂMETROS!$F$6*PARÂMETROS!$G$6*$C15+PARÂMETROS!$F$6*PARÂMETROS!$G$6*PARÂMETROS!$H$6)","v":{"v":3.8814459894140834E-5,"d":"3.88E-05"}},{"$f":"(PARÂMETROS!$F$6*PARÂMETROS!$G$6*PARÂMETROS!$H$6)/($C15^3+PARÂMETROS!$F$6*$C15^2+PARÂMETROS!$F$6*PARÂMETROS!$G$6*$C15+PARÂMETROS!$F$6*PARÂMETROS!$G$6*PARÂMETROS!$H$6)","v":{"v":1.2686370646477824E-14,"d":"1.27E-14"}},{"$f":"$C15/($C15+PARÂMETROS!$J$6)","v":{"v":0.9999999999268281,"d":"1.00E+00"}},{"$f":"$C15*PARÂMETROS!$J$6/($C15^2+$C15*PARÂMETROS!$J$6+PARÂMETROS!$J$6*PARÂMETROS!$K$6)","v":{"v":7.317181847528931e-11,"d":"7.32E-11"}},{"$f":"$C15^2/($C15^2+$C15*PARÂMETROS!$J$6+PARÂMETROS!$J$6*PARÂMETROS!$K$6)","v":{"v":0.9999999999268281,"d":"1.00E+00"}},{"$f":"(PARÂMETROS!$K$6*PARÂMETROS!$J$6*$C15)/($C15^3+PARÂMETROS!$J$6*$C15^2+PARÂMETROS!$J$6*PARÂMETROS!$K$6*$C15+PARÂMETROS!$J$6*PARÂMETROS!$K$6*PARÂMETROS!$L$6)","v":{"v":0,"d":"0.00E+00"}},{"$f":"(PARÂMETROS!$J$6*$C15^2)/($C15^3+PARÂMETROS!$J$6*$C15^2+PARÂMETROS!$J$6*PARÂMETROS!$K$6*$C15+PARÂMETROS!$J$6*PARÂMETROS!$K$6*PARÂMETROS!$L$6)","v":{"v":7.317181847528931e-11,"d":"7.32E-11"}},{"$f":"($C15^3)/($C15^3+PARÂMETROS!$J$6*$C15^2+PARÂMETROS!$J$6*PARÂMETROS!$K$6*$C15+PARÂMETROS!$J$6*PARÂMETROS!$K$6*PARÂMETROS!$L$6)","v":{"v":0.9999999999268281,"d":"1.00E+00"}},{"$f":"IF(PARÂMETROS!$J$6<PARÂMETROS!$F$6,(E15-(C15-D15)/PARÂMETROS!$C$11)/(K15+(C15-D15)/PARÂMETROS!$C$14),(K15+(C15-D15)/PARÂMETROS!$C$14)/(E15-(C15-D15)/PARÂMETROS!$C$11))","v":{"v":0.8297146263066328,"d":"8.30E-01"}},{"$f":"IF(PARÂMETROS!$J$6<PARÂMETROS!$F$6,(E15-(C15-D15)/PARÂMETROS!$C$11)/(L15+2*M15+(C15-D15)/PARÂMETROS!$C$14),(L15+2*M15+(C15-D15)/PARÂMETROS!$C$14)/(E15-(C15-D15)/PARÂMETROS!$C$11))","v":{"v":0.4154235025948326,"d":"4.15E-01"}},{"$f":"IF(PARÂMETROS!$J$6<PARÂMETROS!$F$6, (E15-(C15-D15)/PARÂMETROS!$C$11)/(N15+2*O15+3*P15+(C15-D15)/PARÂMETROS!$C$14),(N15+2*O15+3*P15+(C15-D15)/PARÂMETROS!$C$14)/ (E15-(C15-D15)/PARÂMETROS!$C$11))","v":{"v":0.27707505066544647,"d":"2.77E-01"}},{"$f":"IF(PARÂMETROS!$J$6<PARÂMETROS!$F$6,(F15+2*G15-(C15-D15)/PARÂMETROS!$C$11)/(K15+(C15-D15)/PARÂMETROS!$C$14),(K15+(C15-D15)/PARÂMETROS!$C$14)/(F15+2*G15-(C15-D15)/PARÂMETROS!$C$11))","v":{"v":0.8297595741919235,"d":"8.30E-01"}},{"$f":"IF(PARÂMETROS!$J$6<PARÂMETROS!$F$6,(F15+2*G15-(C15-D15)/PARÂMETROS!$C$11)/(L15+2*M15+(C15-D15)/PARÂMETROS!$C$14),(L15+2*M15+(C15-D15)/PARÂMETROS!$C$14)/(F15+2*G15-(C15-D15)/PARÂMETROS!$C$11))","v":{"v":0.41544600720949126,"d":"4.15E-01"}},{"$f":"IF(PARÂMETROS!$J$6<PARÂMETROS!$F$6,(F15+2*G15-(C15-D15)/PARÂMETROS!$C$11)/(N15+2*O15+3*P15+(C15-D15)/PARÂMETROS!$C$14),(N15+2*O15+3*P15+(C15-D15)/PARÂMETROS!$C$14)/(F15+2*G15-(C15-D15)/PARÂMETROS!$C$11))","v":{"v":0.27709006057029734,"d":"2.77E-01"}},{"$f":"IF(PARÂMETROS!$J$6<PARÂMETROS!$F$6,(H15+2*I15+3*J15-(C15-D15)/PARÂMETROS!$C$11)/(K15+(C15-D15)/PARÂMETROS!$C$14),(K15+(C15-D15)/PARÂMETROS!$C$14)/(H15+2*I15+3*J15-(C15-D15)/PARÂMETROS!$C$11))","v":{"v":0.8297595741919509,"d":"8.30E-01"}},{"$f":"IF(PARÂMETROS!$J$6<PARÂMETROS!$F$6,(H15+2*I15+3*J15-(C15-D15)/PARÂMETROS!$C$11)/(L15+2*M15+(C15-D15)/PARÂMETROS!$C$14),(L15+2*M15+(C15-D15)/PARÂMETROS!$C$14)/(H15+2*I15+3*J15-(C15-D15)/PARÂMETROS!$C$11))","v":{"v":0.415446007209505,"d":"4.15E-01"}},{"$f":"IF(PARÂMETROS!$J$6<PARÂMETROS!$F$6,(H15+2*I15+3*J15-(C15-D15)/PARÂMETROS!$C$11)/(N15+2*O15+3*P15+(C15-D15)/PARÂMETROS!$C$14),(N15+2*O15+3*P15+(C15-D15)/PARÂMETROS!$C$14)/(H15+2*I15+3*J15-(C15-D15)/PARÂMETROS!$C$11))","v":{"v":0.27709006057030644,"d":"2.77E-01"}},{"$f":"Q15*PARÂMETROS!$C$11*PARÂMETROS!$D$11/PARÂMETROS!$C$14","v":{"v":16.59429252613266,"d":"16.59"}},{"$f":"R15*PARÂMETROS!$C$11*PARÂMETROS!$D$11/PARÂMETROS!$C$14","v":{"v":8.308470051896654,"d":"8.31"}},{"$f":"S15*PARÂMETROS!$C$11*PARÂMETROS!$D$11/PARÂMETROS!$C$14","v":{"v":5.541501013308929,"d":"5.54"}},{"$f":"T15*PARÂMETROS!$C$11*PARÂMETROS!$D$11/PARÂMETROS!$C$14","v":{"v":16.59519148383847,"d":"16.60"}},{"$f":"U15*PARÂMETROS!$C$11*PARÂMETROS!$D$11/PARÂMETROS!$C$14","v":{"v":8.308920144189825,"d":"8.31"}},{"$f":"V15*PARÂMETROS!$C$11*PARÂMETROS!$D$11/PARÂMETROS!$C$14","v":{"v":5.541801211405947,"d":"5.54"}},{"$f":"W15*PARÂMETROS!$C$11*PARÂMETROS!$D$11/PARÂMETROS!$C$14","v":{"v":16.59519148383902,"d":"16.60"}},{"$f":"X15*PARÂMETROS!$C$11*PARÂMETROS!$D$11/PARÂMETROS!$C$14","v":{"v":8.3089201441901,"d":"8.31"}},{"$f":"Y15*PARÂMETROS!$C$11*PARÂMETROS!$D$11/PARÂMETROS!$C$14","v":{"v":5.5418012114061295,"d":"5.54"}},{"$f":"AND(B15+PARÂMETROS!$C$8>=PARÂMETROS!$C$5,B15+PARÂMETROS!$C$8<=PARÂMETROS!$D$5)","v":true},1,{"$f":"VLOOKUP('BANCO DE DADOS COMPLETA'!$N$8,'BANCO DE DADOS COMPLETA'!$A$7:$L$249,3)*-1","v":3},7,{"$f":"VLOOKUP('BANCO DE DADOS COMPLETA'!$N$10,'BANCO DE DADOS COMPLETA'!$A$7:$L$249,3)*-1","v":1},11,77,{"v":16.59519148383902,"d":"16.60"},{"v":16.59519148383902,"d":"16.60"},{"v":2.864343848340694,"d":"2.86"},{"v":0.12941163540317988,"d":"0.13"},{"v":0.014585100001909369,"d":"0.01"},"NADA","NADA",{"$f":"IF(AV15=\"NADA\",0,1)","v":0}]
[null,{"$f":"B15+PARÂMETROS!$C$8","v":{"v":3.064343848340694,"d":"3.06"}},{"v":8.6229556348541979E-4,"d":"8.62E-04"},{"$f":"PARÂMETROS!$Q$4/C16","v":{"v":1.1596951698997215E-11,"d":"1.16E-11"}},{"$f":"PARÂMETROS!$F$6/($C16+PARÂMETROS!$F$6)","v":{"v":0.8918674453483685,"d":"8.92E-01"}},{"$f":"$C16*PARÂMETROS!$F$6/($C16^2+$C16*PARÂMETROS!$F$6+PARÂMETROS!$F$6*PARÂMETROS!$G$6)","v":{"v":0.8918091121128746,"d":"8.92E-01"}},{"$f":"PARÂMETROS!$F$6*PARÂMETROS!$G$6/($C16^2+$C16*PARÂMETROS!$F$6+PARÂMETROS!$F$6*PARÂMETROS!$G$6)","v":{"v":6.5405723460505887E-5,"d":"6.54E-05"}},{"$f":"(PARÂMETROS!$F$6*$C16^2)/($C16^3+PARÂMETROS!$F$6*$C16^2+PARÂMETROS!$F$6*PARÂMETROS!$G$6*$C16+PARÂMETROS!$F$6*PARÂMETROS!$G$6*PARÂMETROS!$H$6)","v":{"v":0.8918091121128445,"d":"8.92E-01"}},{"$f":"(PARÂMETROS!$F$6*PARÂMETROS!$G$6*$C16)/($C16^3+PARÂMETROS!$F$6*$C16^2+PARÂMETROS!$F$6*PARÂMETROS!$G$6*$C16+PARÂMETROS!$F$6*PARÂMETROS!$G$6*PARÂMETROS!$H$6)","v":{"v":6.5405723460503678E-5,"d":"6.54E-05"}},{"$f":"(PARÂMETROS!$F$6*PARÂMETROS!$G$6*PARÂMETROS!$H$6)/($C16^3+PARÂMETROS!$F$6*$C16^2+PARÂMETROS!$F$6*PARÂMETROS!$G$6*$C16+PARÂMETROS!$F$6*PARÂMETROS!$G$6*PARÂMETROS!$H$6)","v":{"v":3.388126384934627e-14,"d":"3.39E-14"}},{"$f":"$C16/($C16+PARÂMETROS!$J$6)","v":{"v":0.9999999998840305,"d":"1.00E+00"}},{"$f":"$C16*PARÂMETROS!$J$6/($C16^2+$C16*PARÂMETROS!$J$6+PARÂMETROS!$J$6*PARÂMETROS!$K$6)","v":{"v":1.1596951697652322E-10,"d":"1.16E-10"}},{"$f":"$C16^2/($C16^2+$C16*PARÂMETROS!$J$6+PARÂMETROS!$J$6*PARÂMETROS!$K$6)","v":{"v":0.9999999998840305,"d":"1.00E+00"}},{"$f":"(PARÂMETROS!$K$6*PARÂMETROS!$J$6*$C16)/($C16^3+PARÂMETROS!$J$6*$C16^2+PARÂMETROS!$J$6*PARÂMETROS!$K$6*$C16+PARÂMETROS!$J$6*PARÂMETROS!$K$6*PARÂMETROS!$L$6)","v":{"v":0,"d":"0.00E+00"}},{"$f":"(PARÂMETROS!$J$6*$C16^2)/($C16^3+PARÂMETROS!$J$6*$C16^2+PARÂMETROS!$J$6*PARÂMETROS!$K$6*$C16+PARÂMETROS!$J$6*PARÂMETROS!$K$6*PARÂMETROS!$L$6)","v":{"v":1.1596951697652323E-10,"d":"1.16E-10"}},{"$f":"($C16^3)/($C16^3+PARÂMETROS!$J$6*$C16^2+PARÂMETROS!$J$6*PARÂMETROS!$K$6*$C16+PARÂMETROS!$J$6*PARÂMETROS!$K$6*PARÂMETROS!$L$6)","v":{"v":0.9999999998840304,"d":"1.00E+00"}},{"$f":"IF(PARÂMETROS!$J$6<PARÂMETROS!$F$6,(E16-(C16-D16)/PARÂMETROS!$C$11)/(K16+(C16-D16)/PARÂMETROS!$C$14),(K16+(C16-D16)/PARÂMETROS!$C$14)/(E16-(C16-D16)/PARÂMETROS!$C$11))","v":{"v":0.8860279318027935,"d":"8.86E-01"}},{"$f":"IF(PARÂMETROS!$J$6<PARÂMETROS!$F$6,(E16-(C16-D16)/PARÂMETROS!$C$11)/(L16+2*M16+(C16-D16)/PARÂMETROS!$C$14),(L16+2*M16+(C16-D16)/PARÂMETROS!$C$14)/(E16-(C16-D16)/PARÂMETROS!$C$11))","v":{"v":0.4433956457271361,"d":"4.43E-01"}},{"$f":"IF(PARÂMETROS!$J$6<PARÂMETROS!$F$6, (E16-(C16-D16)/PARÂMETROS!$C$11)/(N16+2*O16+3*P16+(C16-D16)/PARÂMETROS!$C$14),(N16+2*O16+3*P16+(C16-D16)/PARÂMETROS!$C$14)/ (E16-(C16-D16)/PARÂMETROS!$C$11))","v":{"v":0.2956820123517226,"d":"2.96E-01"}},{"$f":"IF(PARÂMETROS!$J$6<PARÂMETROS!$F$6,(F16+2*G16-(C16-D16)/PARÂMETROS!$C$11)/(K16+(C16-D16)/PARÂMETROS!$C$14),(K16+(C16-D16)/PARÂMETROS!$C$14)/(F16+2*G16-(C16-D16)/PARÂMETROS!$C$11))","v":{"v":0.886100285234145,"d":"8.86E-01"}},{"$f":"IF(PARÂMETROS!$J$6<PARÂMETROS!$F$6,(F16+2*G16-(C16-D16)/PARÂMETROS!$C$11)/(L16+2*M16+(C16-D16)/PARÂMETROS!$C$14),(L16+2*M16+(C16-D16)/PARÂMETROS!$C$14)/(F16+2*G16-(C16-D16)/PARÂMETROS!$C$11))","v":{"v":0.4434318536109546,"d":"4.43E-01"}},{"$f":"IF(PARÂMETROS!$J$6<PARÂMETROS!$F$6,(F16+2*G16-(C16-D16)/PARÂMETROS!$C$11)/(N16+2*O16+3*P16+(C16-D16)/PARÂMETROS!$C$14),(N16+2*O16+3*P16+(C16-D16)/PARÂMETROS!$C$14)/(F16+2*G16-(C16-D16)/PARÂMETROS!$C$11))","v":{"v":0.29570615787514765,"d":"2.96E-01"}},{"$f":"IF(PARÂMETROS!$J$6<PARÂMETROS!$F$6,(H16+2*I16+3*J16-(C16-D16)/PARÂMETROS!$C$11)/(K16+(C16-D16)/PARÂMETROS!$C$14),(K16+(C16-D16)/PARÂMETROS!$C$14)/(H16+2*I16+3*J16-(C16-D16)/PARÂMETROS!$C$11))","v":{"v":0.8861002852342164,"d":"8.86E-01"}},{"$f":"IF(PARÂMETROS!$J$6<PARÂMETROS!$F$6,(H16+2*I16+3*J16-(C16-D16)/PARÂMETROS!$C$11)/(L16+2*M16+(C16-D16)/PARÂMETROS!$C$14),(L16+2*M16+(C16-D16)/PARÂMETROS!$C$14)/(H16+2*I16+3*J16-(C16-D16)/PARÂMETROS!$C$11))","v":{"v":0.4434318536109903,"d":"4.43E-01"}},{"$f":"IF(PARÂMETROS!$J$6<PARÂMETROS!$F$6,(H16+2*I16+3*J16-(C16-D16)/PARÂMETROS!$C$11)/(N16+2*O16+3*P16+(C16-D16)/PARÂMETROS!$C$14),(N16+2*O16+3*P16+(C16-D16)/PARÂMETROS!$C$14)/(H16+2*I16+3*J16-(C16-D16)/PARÂMETROS!$C$11))","v":{"v":0.29570615787517146,"d":"2.96E-01"}},{"$f":"Q16*PARÂMETROS!$C$11*PARÂMETROS!$D$11/PARÂMETROS!$C$14","v":{"v":17.720558636055873,"d":"17.72"}},{"$f":"R16*PARÂMETROS!$C$11*PARÂMETROS!$D$11/PARÂMETROS!$C$14","v":{"v":8.867912914542723,"d":"8.87"}},{"$f":"S16*PARÂMETROS!$C$11*PARÂMETROS!$D$11/PARÂMETROS!$C$14","v":{"v":5.913640247034452,"d":"5.91"}},{"$f":"T16*PARÂMETROS!$C$11*PARÂMETROS!$D$11/PARÂMETROS!$C$14","v":{"v":17.7220057046829,"d":"17.72"}},{"$f":"U16*PARÂMETROS!$C$11*PARÂMETROS!$D$11/PARÂMETROS!$C$14","v":{"v":8.868637072219093,"d":"8.87"}},{"$f":"V16*PARÂMETROS!$C$11*PARÂMETROS!$D$11/PARÂMETROS!$C$14","v":{"v":5.914123157502953,"d":"5.91"}},{"$f":"W16*PARÂMETROS!$C$11*PARÂMETROS!$D$11/PARÂMETROS!$C$14","v":{"v":17.722005704684328,"d":"17.72"}},{"$f":"X16*PARÂMETROS!$C$11*PARÂMETROS!$D$11/PARÂMETROS!$C$14","v":{"v":8.868637072219807,"d":"8.87"}},{"$f":"Y16*PARÂMETROS!$C$11*PARÂMETROS!$D$11/PARÂMETROS!$C$14","v":{"v":5.914123157503429,"d":"5.91"}},{"$f":"AND(B16+PARÂMETROS!$C$8>=PARÂMETROS!$C$5,B16+PARÂMETROS!$C$8<=PARÂMETROS!$D$5)","v":true},1,{"$f":"VLOOKUP('BANCO DE DADOS COMPLETA'!$N$8,'BANCO DE DADOS COMPLETA'!$A$7:$L$249,3)*-1","v":3},7,{"$f":"VLOOKUP('BANCO DE DADOS COMPLETA'!$N$10,'BANCO DE DADOS COMPLETA'!$A$7:$L$249,3)*-1","v":1},11,77,{"v":17.722005704684328,"d":"17.72"},{"v":17.722005704684328,"d":"17.72"},{"v":3.064343848340694,"d":"3.06"},{"v":0.17749154767497094,"d":"0.18"},{"v":0.031110500385669464,"d":"0.03"},"NADA","NADA",0]
[null,{"$f":"B16+PARÂMETROS!$C$8","v":{"v":3.2643438483406944,"d":"3.26"}},{"v":5.4407171889381191E-4,"d":"5.44E-04"},{"$f":"PARÂMETROS!$Q$4/C17","v":{"v":1.8379929801041046E-11,"d":"1.84E-11"}},{"$f":"PARÂMETROS!$F$6/($C17+PARÂMETROS!$F$6)","v":{"v":0.9289371709558569,"d":"9.29E-01"}},{"$f":"$C17*PARÂMETROS!$F$6/($C17^2+$C17*PARÂMETROS!$F$6+PARÂMETROS!$F$6*PARÂMETROS!$G$6)","v":{"v":0.9288368781827485,"d":"9.29E-01"}},{"$f":"PARÂMETROS!$F$6*PARÂMETROS!$G$6/($C17^2+$C17*PARÂMETROS!$F$6+PARÂMETROS!$F$6*PARÂMETROS!$G$6)","v":{"v":1.0796507691161672E-4,"d":"1.08E-04"}},{"$f":"(PARÂMETROS!$F$6*$C17^2)/($C17^3+PARÂMETROS!$F$6*$C17^2+PARÂMETROS!$F$6*PARÂMETROS!$G$6*$C17+PARÂMETROS!$F$6*PARÂMETROS!$G$6*PARÂMETROS!$H$6)","v":{"v":0.9288368781826662,"d":"9.29E-01"}},{"$f":"(PARÂMETROS!$F$6*PARÂMETROS!$G$6*$C17)/($C17^3+PARÂMETROS!$F$6*$C17^2+PARÂMETROS!$F$6*PARÂMETROS!$G$6*$C17+PARÂMETROS!$F$6*PARÂMETROS!$G$6*PARÂMETROS!$H$6)","v":{"v":1.0796507691160717E-4,"d":"1.08E-04"}},{"$f":"(PARÂMETROS!$F$6*PARÂMETROS!$G$6*PARÂMETROS!$H$6)/($C17^3+PARÂMETROS!$F$6*$C17^2+PARÂMETROS!$F$6*PARÂMETROS!$G$6*$C17+PARÂMETROS!$F$6*PARÂMETROS!$G$6*PARÂMETROS!$H$6)","v":{"v":8.863946922251994e-14,"d":"8.86E-14"}},{"$f":"$C17/($C17+PARÂMETROS!$J$6)","v":{"v":0.9999999998162007,"d":"1.00E+00"}},{"$f":"$C17*PARÂMETROS!$J$6/($C17^2+$C17*PARÂMETROS!$J$6+PARÂMETROS!$J$6*PARÂMETROS!$K$6)","v":{"v":1.837992979766283e-10,"d":"1.84E-10"}},{"$f":"$C17^2/($C17^2+$C17*PARÂMETROS!$J$6+PARÂMETROS!$J$6*PARÂMETROS!$K$6)","v":{"v":0.9999999998162008,"d":"1.00E+00"}},{"$f":"(PARÂMETROS!$K$6*PARÂMETROS!$J$6*$C17)/($C17^3+PARÂMETROS!$J$6*$C17^2+PARÂMETROS!$J$6*PARÂMETROS!$K$6*$C17+PARÂMETROS!$J$6*PARÂMETROS!$K$6*PARÂMETROS!$L$6)","v":{"v":0,"d":"0.00E+00"}},{"$f":"(PARÂMETROS!$J$6*$C17^2)/($C17^3+PARÂMETROS!$J$6*$C17^2+PARÂMETROS!$J$6*PARÂMETROS!$K$6*$C17+PARÂMETROS!$J$6*PARÂMETROS!$K$6*PARÂMETROS!$L$6)","v":{"v":1.8379929797662827E-10,"d":"1.84E-10"}},{"$f":"($C17^3)/($C17^3+PARÂMETROS!$J$6*$C17^2+PARÂMETROS!$J$6*PARÂMETROS!$K$6*$C17+PARÂMETROS!$J$6*PARÂMETROS!$K$6*PARÂMETROS!$L$6)","v":{"v":0.9999999998162007,"d":"1.00E+00"}},{"$f":"IF(PARÂMETROS!$J$6<PARÂMETROS!$F$6,(E17-(C17-D17)/PARÂMETROS!$C$11)/(K17+(C17-D17)/PARÂMETROS!$C$14),(K17+(C17-D17)/PARÂMETROS!$C$14)/(E17-(C17-D17)/PARÂMETROS!$C$11))","v":{"v":0.9252100514113326,"d":"9.25E-01"}},{"$f":"IF(PARÂMETROS!$J$6<PARÂMETROS!$F$6,(E17-(C17-D17)/PARÂMETROS!$C$11)/(L17+2*M17+(C17-D17)/PARÂMETROS!$C$14),(L17+2*M17+(C17-D17)/PARÂMETROS!$C$14)/(E17-(C17-D17)/PARÂMETROS!$C$11))","v":{"v":0.4628565791030934,"d":"4.63E-01"}},{"$f":"IF(PARÂMETROS!$J$6<PARÂMETROS!$F$6, (E17-(C17-D17)/PARÂMETROS!$C$11)/(N17+2*O17+3*P17+(C17-D17)/PARÂMETROS!$C$14),(N17+2*O17+3*P17+(C17-D17)/PARÂMETROS!$C$14)/ (E17-(C17-D17)/PARÂMETROS!$C$11))","v":{"v":0.3086269940276942,"d":"3.09E-01"}},{"$f":"IF(PARÂMETROS!$J$6<PARÂMETROS!$F$6,(F17+2*G17-(C17-D17)/PARÂMETROS!$C$11)/(K17+(C17-D17)/PARÂMETROS!$C$14),(K17+(C17-D17)/PARÂMETROS!$C$14)/(F17+2*G17-(C17-D17)/PARÂMETROS!$C$11))","v":{"v":0.9253255630987882,"d":"9.25E-01"}},{"$f":"IF(PARÂMETROS!$J$6<PARÂMETROS!$F$6,(F17+2*G17-(C17-D17)/PARÂMETROS!$C$11)/(L17+2*M17+(C17-D17)/PARÂMETROS!$C$14),(L17+2*M17+(C17-D17)/PARÂMETROS!$C$14)/(F17+2*G17-(C17-D17)/PARÂMETROS!$C$11))","v":{"v":0.46291436635304883,"d":"4.63E-01"}},{"$f":"IF(PARÂMETROS!$J$6<PARÂMETROS!$F$6,(F17+2*G17-(C17-D17)/PARÂMETROS!$C$11)/(N17+2*O17+3*P17+(C17-D17)/PARÂMETROS!$C$14),(N17+2*O17+3*P17+(C17-D17)/PARÂMETROS!$C$14)/(F17+2*G17-(C17-D17)/PARÂMETROS!$C$11))","v":{"v":0.30866552584522056,"d":"3.09E-01"}},{"$f":"IF(PARÂMETROS!$J$6<PARÂMETROS!$F$6,(H17+2*I17+3*J17-(C17-D17)/PARÂMETROS!$C$11)/(K17+(C17-D17)/PARÂMETROS!$C$14),(K17+(C17-D17)/PARÂMETROS!$C$14)/(H17+2*I17+3*J17-(C17-D17)/PARÂMETROS!$C$11))","v":{"v":0.9253255630989716,"d":"9.25E-01"}},{"$f":"IF(PARÂMETROS!$J$6<PARÂMETROS!$F$6,(H17+2*I17+3*J17-(C17-D17)/PARÂMETROS!$C$11)/(L17+2*M17+(C17-D17)/PARÂMETROS!$C$14),(L17+2*M17+(C17-D17)/PARÂMETROS!$C$14)/(H17+2*I17+3*J17-(C17-D17)/PARÂMETROS!$C$11))","v":{"v":0.4629143663531406,"d":"4.63E-01"}},{"$f":"IF(PARÂMETROS!$J$6<PARÂMETROS!$F$6,(H17+2*I17+3*J17-(C17-D17)/PARÂMETROS!$C$11)/(N17+2*O17+3*P17+(C17-D17)/PARÂMETROS!$C$14),(N17+2*O17+3*P17+(C17-D17)/PARÂMETROS!$C$14)/(H17+2*I17+3*J17-(C17-D17)/PARÂMETROS!$C$11))","v":{"v":0.30866552584528173,"d":"3.09E-01"}},{"$f":"Q17*PARÂMETROS!$C$11*PARÂMETROS!$D$11/PARÂMETROS!$C$14","v":{"v":18.504201028226653,"d":"18.50"}},{"$f":"R17*PARÂMETROS!$C$11*PARÂMETROS!$D$11/PARÂMETROS!$C$14","v":{"v":9.257131582061868,"d":"9.26"}},{"$f":"S17*PARÂMETROS!$C$11*PARÂMETROS!$D$11/PARÂMETROS!$C$14","v":{"v":6.1725398805538845,"d":"6.17"}},{"$f":"T17*PARÂMETROS!$C$11*PARÂMETROS!$D$11/PARÂMETROS!$C$14","v":{"v":18.506511261975767,"d":"18.51"}},{"$f":"U17*PARÂMETROS!$C$11*PARÂMETROS!$D$11/PARÂMETROS!$C$14","v":{"v":9.258287327060977,"d":"9.26"}},{"$f":"V17*PARÂMETROS!$C$11*PARÂMETROS!$D$11/PARÂMETROS!$C$14","v":{"v":6.173310516904412,"d":"6.17"}},{"$f":"W17*PARÂMETROS!$C$11*PARÂMETROS!$D$11/PARÂMETROS!$C$14","v":{"v":18.506511261979433,"d":"18.51"}},{"$f":"X17*PARÂMETROS!$C$11*PARÂMETROS!$D$11/PARÂMETROS!$C$14","v":{"v":9.258287327062813,"d":"9.26"}},{"$f":"Y17*PARÂMETROS!$C$11*PARÂMETROS!$D$11/PARÂMETROS!$C$14","v":{"v":6.173310516905635,"d":"6.17"}},{"$f":"AND(B17+PARÂMETROS!$C$8>=PARÂMETROS!$C$5,B17+PARÂMETROS!$C$8<=PARÂMETROS!$D$5)","v":true},1,{"$f":"VLOOKUP('BANCO DE DADOS COMPLETA'!$N$8,'BANCO DE DADOS COMPLETA'!$A$7:$L$249,3)*-1","v":3},7,{"$f":"VLOOKUP('BANCO DE DADOS COMPLETA'!$N$10,'BANCO DE DADOS COMPLETA'!$A$7:$L$249,3)*-1","v":1},11,77,{"v":18.506511261979433,"d":"18.51"},{"v":18.506511261979433,"d":"18.51"},{"v":3.2643438483406944,"d":"3.26"},{"v":0.25493764593533236,"d":"0.25"},{"v":0.06873013920809705,"d":"0.07"},"NADA","NADA",0]
[null,{"$f":"B17+PARÂMETROS!$C$8","v":{"v":3.4643438483406945,"d":"3.46"}},{"v":3.4328604696001378E-4,"d":"3.43E-04"},{"$f":"PARÂMETROS!$Q$4/C18","v":{"v":2.9130225619583095E-11,"d":"2.91E-11"}},{"$f":"PARÂMETROS!$F$6/($C18+PARÂMETROS!$F$6)","v":{"v":0.953954841918245,"d":"9.54E-01"}},{"$f":"$C18*PARÂMETROS!$F$6/($C18^2+$C18*PARÂMETROS!$F$6+PARÂMETROS!$F$6*PARÂMETROS!$G$6)","v":{"v":0.9537872229491545,"d":"9.54E-01"}},{"$f":"PARÂMETROS!$F$6*PARÂMETROS!$G$6/($C18^2+$C18*PARÂMETROS!$F$6+PARÂMETROS!$F$6*PARÂMETROS!$G$6)","v":{"v":1.7570954276347752E-4,"d":"1.76E-04"}},{"$f":"(PARÂMETROS!$F$6*$C18^2)/($C18^3+PARÂMETROS!$F$6*$C18^2+PARÂMETROS!$F$6*PARÂMETROS!$G$6*$C18+PARÂMETROS!$F$6*PARÂMETROS!$G$6*PARÂMETROS!$H$6)","v":{"v":0.9537872229489365,"d":"9.54E-01"}},{"$f":"(PARÂMETROS!$F$6*PARÂMETROS!$G$6*$C18)/($C18^3+PARÂMETROS!$F$6*$C18^2+PARÂMETROS!$F$6*PARÂMETROS!$G$6*$C18+PARÂMETROS!$F$6*PARÂMETROS!$G$6*PARÂMETROS!$H$6)","v":{"v":1.7570954276343732E-4,"d":"1.76E-04"}},{"$f":"(PARÂMETROS!$F$6*PARÂMETROS!$G$6*PARÂMETROS!$H$6)/($C18^3+PARÂMETROS!$F$6*$C18^2+PARÂMETROS!$F$6*PARÂMETROS!$G$6*$C18+PARÂMETROS!$F$6*PARÂMETROS!$G$6*PARÂMETROS!$H$6)","v":{"v":2.2863314845394057E-13,"d":"2.29E-13"}},{"$f":"$C18/($C18+PARÂMETROS!$J$6)","v":{"v":0.9999999997086978,"d":"1.00E+00"}},{"$f":"$C18*PARÂMETROS!$J$6/($C18^2+$C18*PARÂMETROS!$J$6+PARÂMETROS!$J$6*PARÂMETROS!$K$6)","v":{"v":2.91302256110974e-10,"d":"2.91E-10"}},{"$f":"$C18^2/($C18^2+$C18*PARÂMETROS!$J$6+PARÂMETROS!$J$6*PARÂMETROS!$K$6)","v":{"v":0.9999999997086978,"d":"1.00E+00"}},{"$f":"(PARÂMETROS!$K$6*PARÂMETROS!$J$6*$C18)/($C18^3+PARÂMETROS!$J$6*$C18^2+PARÂMETROS!$J$6*PARÂMETROS!$K$6*$C18+PARÂMETROS!$J$6*PARÂMETROS!$K$6*PARÂMETROS!$L$6)","v":{"v":0,"d":"0.00E+00"}},{"$f":"(PARÂMETROS!$J$6*$C18^2)/($C18^3+PARÂMETROS!$J$6*$C18^2+PARÂMETROS!$J$6*PARÂMETROS!$K$6*$C18+PARÂMETROS!$J$6*PARÂMETROS!$K$6*PARÂMETROS!$L$6)","v":{"v":2.91302256110974e-10,"d":"2.91E-10"}},{"$f":"($C18^3)/($C18^3+PARÂMETROS!$J$6*$C18^2+PARÂMETROS!$J$6*PARÂMETROS!$K$6*$C18+PARÂMETROS!$J$6*PARÂMETROS!$K$6*PARÂMETROS!$L$6)","v":{"v":0.9999999997086977,"d":"1.00E+00"}},{"$f":"IF(PARÂMETROS!$J$6<PARÂMETROS!$F$6,(E18-(C18-D18)/PARÂMETROS!$C$11)/(K18+(C18-D18)/PARÂMETROS!$C$14),(K18+(C18-D18)/PARÂMETROS!$C$14)/(E18-(C18-D18)/PARÂMETROS!$C$11))","v":{"v":0.951585080400541,"d":"9.52E-01"}},{"$f":"IF(PARÂMETROS!$J$6<PARÂMETROS!$F$6,(E18-(C18-D18)/PARÂMETROS!$C$11)/(L18+2*M18+(C18-D18)/PARÂMETROS!$C$14),(L18+2*M18+(C18-D18)/PARÂMETROS!$C$14)/(E18-(C18-D18)/PARÂMETROS!$C$11))","v":{"v":0.4759558170067883,"d":"4.76E-01"}},{"$f":"IF(PARÂMETROS!$J$6<PARÂMETROS!$F$6, (E18-(C18-D18)/PARÂMETROS!$C$11)/(N18+2*O18+3*P18+(C18-D18)/PARÂMETROS!$C$14),(N18+2*O18+3*P18+(C18-D18)/PARÂMETROS!$C$14)/ (E18-(C18-D18)/PARÂMETROS!$C$11))","v":{"v":0.3173401783430988,"d":"3.17E-01"}},{"$f":"IF(PARÂMETROS!$J$6<PARÂMETROS!$F$6,(F18+2*G18-(C18-D18)/PARÂMETROS!$C$11)/(K18+(C18-D18)/PARÂMETROS!$C$14),(K18+(C18-D18)/PARÂMETROS!$C$14)/(F18+2*G18-(C18-D18)/PARÂMETROS!$C$11))","v":{"v":0.9517687544115914,"d":"9.52E-01"}},{"$f":"IF(PARÂMETROS!$J$6<PARÂMETROS!$F$6,(F18+2*G18-(C18-D18)/PARÂMETROS!$C$11)/(L18+2*M18+(C18-D18)/PARÂMETROS!$C$14),(L18+2*M18+(C18-D18)/PARÂMETROS!$C$14)/(F18+2*G18-(C18-D18)/PARÂMETROS!$C$11))","v":{"v":0.47604768552784116,"d":"4.76E-01"}},{"$f":"IF(PARÂMETROS!$J$6<PARÂMETROS!$F$6,(F18+2*G18-(C18-D18)/PARÂMETROS!$C$11)/(N18+2*O18+3*P18+(C18-D18)/PARÂMETROS!$C$14),(N18+2*O18+3*P18+(C18-D18)/PARÂMETROS!$C$14)/(F18+2*G18-(C18-D18)/PARÂMETROS!$C$11))","v":{"v":0.31740143103045615,"d":"3.17E-01"}},{"$f":"IF(PARÂMETROS!$J$6<PARÂMETROS!$F$6,(H18+2*I18+3*J18-(C18-D18)/PARÂMETROS!$C$11)/(K18+(C18-D18)/PARÂMETROS!$C$14),(K18+(C18-D18)/PARÂMETROS!$C$14)/(H18+2*I18+3*J18-(C18-D18)/PARÂMETROS!$C$11))","v":{"v":0.9517687544120588,"d":"9.52E-01"}},{"$f":"IF(PARÂMETROS!$J$6<PARÂMETROS!$F$6,(H18+2*I18+3*J18-(C18-D18)/PARÂMETROS!$C$11)/(L18+2*M18+(C18-D18)/PARÂMETROS!$C$14),(L18+2*M18+(C18-D18)/PARÂMETROS!$C$14)/(H18+2*I18+3*J18-(C18-D18)/PARÂMETROS!$C$11))","v":{"v":0.47604768552807497,"d":"4.76E-01"}},{"$f":"IF(PARÂMETROS!$J$6<PARÂMETROS!$F$6,(H18+2*I18+3*J18-(C18-D18)/PARÂMETROS!$C$11)/(N18+2*O18+3*P18+(C18-D18)/PARÂMETROS!$C$14),(N18+2*O18+3*P18+(C18-D18)/PARÂMETROS!$C$14)/(H18+2*I18+3*J18-(C18-D18)/PARÂMETROS!$C$11))","v":{"v":0.317401431030612,"d":"3.17E-01"}},{"$f":"Q18*PARÂMETROS!$C$11*PARÂMETROS!$D$11/PARÂMETROS!$C$14","v":{"v":19.03170160801082,"d":"19.03"}},{"$f":"R18*PARÂMETROS!$C$11*PARÂMETROS!$D$11/PARÂMETROS!$C$14","v":{"v":9.519116340135767,"d":"9.52"}},{"$f":"S18*PARÂMETROS!$C$11*PARÂMETROS!$D$11/PARÂMETROS!$C$14","v":{"v":6.346803566861976,"d":"6.35"}},{"$f":"T18*PARÂMETROS!$C$11*PARÂMETROS!$D$11/PARÂMETROS!$C$14","v":{"v":19.035375088231827,"d":"19.04"}},{"$f":"U18*PARÂMETROS!$C$11*PARÂMETROS!$D$11/PARÂMETROS!$C$14","v":{"v":9.520953710556823,"d":"9.52"}},{"$f":"V18*PARÂMETROS!$C$11*PARÂMETROS!$D$11/PARÂMETROS!$C$14","v":{"v":6.348028620609123,"d":"6.35"}},{"$f":"W18*PARÂMETROS!$C$11*PARÂMETROS!$D$11/PARÂMETROS!$C$14","v":{"v":19.035375088241178,"d":"19.04"}},{"$f":"X18*PARÂMETROS!$C$11*PARÂMETROS!$D$11/PARÂMETROS!$C$14","v":{"v":9.5209537105615,"d":"9.52"}},{"$f":"Y18*PARÂMETROS!$C$11*PARÂMETROS!$D$11/PARÂMETROS!$C$14","v":{"v":6.348028620612241,"d":"6.35"}},{"$f":"AND(B18+PARÂMETROS!$C$8>=PARÂMETROS!$C$5,B18+PARÂMETROS!$C$8<=PARÂMETROS!$D$5)","v":true},1,{"$f":"VLOOKUP('BANCO DE DADOS COMPLETA'!$N$8,'BANCO DE DADOS COMPLETA'!$A$7:$L$249,3)*-1","v":3},7,{"$f":"VLOOKUP('BANCO DE DADOS COMPLETA'!$N$10,'BANCO DE DADOS COMPLETA'!$A$7:$L$249,3)*-1","v":1},11,77,{"v":19.035375088241178,"d":"19.04"},{"v":19.035375088241178,"d":"19.04"},{"v":3.4643438483406945,"d":"3.46"},{"v":0.37816918092828006,"d":"0.38"},{"v":0.15708178718049798,"d":"0.16"},"NADA","NADA",0]
[null,{"$f":"B18+PARÂMETROS!$C$8","v":{"v":3.6643438483406947,"d":"3.66"}},{"v":2.1659885258699306E-4,"d":"2.17E-04"},{"$f":"PARÂMETROS!$Q$4/C19","v":{"v":4.6168296279333606E-11,"d":"4.62E-11"}},{"$f":"PARÂMETROS!$F$6/($C19+PARÂMETROS!$F$6)","v":{"v":0.9704452565874896,"d":"9.70E-01"}},{"$f":"$C19*PARÂMETROS!$F$6/($C19^2+$C19*PARÂMETROS!$F$6+PARÂMETROS!$F$6*PARÂMETROS!$G$6)","v":{"v":0.9701703640855877,"d":"9.70E-01"}},{"$f":"PARÂMETROS!$F$6*PARÂMETROS!$G$6/($C19^2+$C19*PARÂMETROS!$F$6+PARÂMETROS!$F$6*PARÂMETROS!$G$6)","v":{"v":2.8326430577709833E-4,"d":"2.83E-04"}},{"$f":"(PARÂMETROS!$F$6*$C19^2)/($C19^3+PARÂMETROS!$F$6*$C19^2+PARÂMETROS!$F$6*PARÂMETROS!$G$6*$C19+PARÂMETROS!$F$6*PARÂMETROS!$G$6*PARÂMETROS!$H$6)","v":{"v":0.970170364085021,"d":"9.70E-01"}},{"$f":"(PARÂMETROS!$F$6*PARÂMETROS!$G$6*$C19)/($C19^3+PARÂMETROS!$F$6*$C19^2+PARÂMETROS!$F$6*PARÂMETROS!$G$6*$C19+PARÂMETROS!$F$6*PARÂMETROS!$G$6*PARÂMETROS!$H$6)","v":{"v":2.8326430577693288E-4,"d":"2.83E-04"}},{"$f":"(PARÂMETROS!$F$6*PARÂMETROS!$G$6*PARÂMETROS!$H$6)/($C19^3+PARÂMETROS!$F$6*$C19^2+PARÂMETROS!$F$6*PARÂMETROS!$G$6*$C19+PARÂMETROS!$F$6*PARÂMETROS!$G$6*PARÂMETROS!$H$6)","v":{"v":5.841652258142528e-13,"d":"5.84E-13"}},{"$f":"$C19/($C19+PARÂMETROS!$J$6)","v":{"v":0.999999999538317,"d":"1.00E+00"}},{"$f":"$C19*PARÂMETROS!$J$6/($C19^2+$C19*PARÂMETROS!$J$6+PARÂMETROS!$J$6*PARÂMETROS!$K$6)","v":{"v":4.6168296258018494E-10,"d":"4.62E-10"}},{"$f":"$C19^2/($C19^2+$C19*PARÂMETROS!$J$6+PARÂMETROS!$J$6*PARÂMETROS!$K$6)","v":{"v":0.9999999995383171,"d":"1.00E+00"}},{"$f":"(PARÂMETROS!$K$6*PARÂMETROS!$J$6*$C19)/($C19^3+PARÂMETROS!$J$6*$C19^2+PARÂMETROS!$J$6*PARÂMETROS!$K$6*$C19+PARÂMETROS!$J$6*PARÂMETROS!$K$6*PARÂMETROS!$L$6)","v":{"v":0,"d":"0.00E+00"}},{"$f":"(PARÂMETROS!$J$6*$C19^2)/($C19^3+PARÂMETROS!$J$6*$C19^2+PARÂMETROS!$J$6*PARÂMETROS!$K$6*$C19+PARÂMETROS!$J$6*PARÂMETROS!$K$6*PARÂMETROS!$L$6)","v":{"v":4.6168296258018484E-10,"d":"4.62E-10"}},{"$f":"($C19^3)/($C19^3+PARÂMETROS!$J$6*$C19^2+PARÂMETROS!$J$6*PARÂMETROS!$K$6*$C19+PARÂMETROS!$J$6*PARÂMETROS!$K$6*PARÂMETROS!$L$6)","v":{"v":0.999999999538317,"d":"1.00E+00"}},{"$f":"IF(PARÂMETROS!$J$6<PARÂMETROS!$F$6,(E19-(C19-D19)/PARÂMETROS!$C$11)/(K19+(C19-D19)/PARÂMETROS!$C$14),(K19+(C19-D19)/PARÂMETROS!$C$14)/(E19-(C19-D19)/PARÂMETROS!$C$11))","v":{"v":0.9689425194163526,"d":"9.69E-01"}},{"$f":"IF(PARÂMETROS!$J$6<PARÂMETROS!$F$6,(E19-(C19-D19)/PARÂMETROS!$C$11)/(L19+2*M19+(C19-D19)/PARÂMETROS!$C$14),(L19+2*M19+(C19-D19)/PARÂMETROS!$C$14)/(E19-(C19-D19)/PARÂMETROS!$C$11))","v":{"v":0.4845761727689176,"d":"4.85E-01"}},{"$f":"IF(PARÂMETROS!$J$6<PARÂMETROS!$F$6, (E19-(C19-D19)/PARÂMETROS!$C$11)/(N19+2*O19+3*P19+(C19-D19)/PARÂMETROS!$C$14),(N19+2*O19+3*P19+(C19-D19)/PARÂMETROS!$C$14)/ (E19-(C19-D19)/PARÂMETROS!$C$11))","v":{"v":0.3230741025915139,"d":"3.23E-01"}},{"$f":"IF(PARÂMETROS!$J$6<PARÂMETROS!$F$6,(F19+2*G19-(C19-D19)/PARÂMETROS!$C$11)/(K19+(C19-D19)/PARÂMETROS!$C$14),(K19+(C19-D19)/PARÂMETROS!$C$14)/(F19+2*G19-(C19-D19)/PARÂMETROS!$C$11))","v":{"v":0.9692340292447776,"d":"9.69E-01"}},{"$f":"IF(PARÂMETROS!$J$6<PARÂMETROS!$F$6,(F19+2*G19-(C19-D19)/PARÂMETROS!$C$11)/(L19+2*M19+(C19-D19)/PARÂMETROS!$C$14),(L19+2*M19+(C19-D19)/PARÂMETROS!$C$14)/(F19+2*G19-(C19-D19)/PARÂMETROS!$C$11))","v":{"v":0.48472195924660033,"d":"4.85E-01"}},{"$f":"IF(PARÂMETROS!$J$6<PARÂMETROS!$F$6,(F19+2*G19-(C19-D19)/PARÂMETROS!$C$11)/(N19+2*O19+3*P19+(C19-D19)/PARÂMETROS!$C$14),(N19+2*O19+3*P19+(C19-D19)/PARÂMETROS!$C$14)/(F19+2*G19-(C19-D19)/PARÂMETROS!$C$11))","v":{"v":0.3231713005927656,"d":"3.23E-01"}},{"$f":"IF(PARÂMETROS!$J$6<PARÂMETROS!$F$6,(H19+2*I19+3*J19-(C19-D19)/PARÂMETROS!$C$11)/(K19+(C19-D19)/PARÂMETROS!$C$14),(K19+(C19-D19)/PARÂMETROS!$C$14)/(H19+2*I19+3*J19-(C19-D19)/PARÂMETROS!$C$11))","v":{"v":0.9692340292459626,"d":"9.69E-01"}},{"$f":"IF(PARÂMETROS!$J$6<PARÂMETROS!$F$6,(H19+2*I19+3*J19-(C19-D19)/PARÂMETROS!$C$11)/(L19+2*M19+(C19-D19)/PARÂMETROS!$C$14),(L19+2*M19+(C19-D19)/PARÂMETROS!$C$14)/(H19+2*I19+3*J19-(C19-D19)/PARÂMETROS!$C$11))","v":{"v":0.4847219592471929,"d":"4.85E-01"}},{"$f":"IF(PARÂMETROS!$J$6<PARÂMETROS!$F$6,(H19+2*I19+3*J19-(C19-D19)/PARÂMETROS!$C$11)/(N19+2*O19+3*P19+(C19-D19)/PARÂMETROS!$C$14),(N19+2*O19+3*P19+(C19-D19)/PARÂMETROS!$C$14)/(H19+2*I19+3*J19-(C19-D19)/PARÂMETROS!$C$11))","v":{"v":0.3231713005931607,"d":"3.23E-01"}},{"$f":"Q19*PARÂMETROS!$C$11*PARÂMETROS!$D$11/PARÂMETROS!$C$14","v":{"v":19.378850388327052,"d":"19.38"}},{"$f":"R19*PARÂMETROS!$C$11*PARÂMETROS!$D$11/PARÂMETROS!$C$14","v":{"v":9.691523455378354,"d":"9.69"}},{"$f":"S19*PARÂMETROS!$C$11*PARÂMETROS!$D$11/PARÂMETROS!$C$14","v":{"v":6.461482051830279,"d":"6.46"}},{"$f":"T19*PARÂMETROS!$C$11*PARÂMETROS!$D$11/PARÂMETROS!$C$14","v":{"v":19.384680584895552,"d":"19.38"}},{"$f":"U19*PARÂMETROS!$C$11*PARÂMETROS!$D$11/PARÂMETROS!$C$14","v":{"v":9.694439184932008,"d":"9.69"}},{"$f":"V19*PARÂMETROS!$C$11*PARÂMETROS!$D$11/PARÂMETROS!$C$14","v":{"v":6.463426011855312,"d":"6.46"}},{"$f":"W19*PARÂMETROS!$C$11*PARÂMETROS!$D$11/PARÂMETROS!$C$14","v":{"v":19.384680584919252,"d":"19.38"}},{"$f":"X19*PARÂMETROS!$C$11*PARÂMETROS!$D$11/PARÂMETROS!$C$14","v":{"v":9.69443918494386,"d":"9.69"}},{"$f":"Y19*PARÂMETROS!$C$11*PARÂMETROS!$D$11/PARÂMETROS!$C$14","v":{"v":6.4634260118632145,"d":"6.46"}},{"$f":"AND(B19+PARÂMETROS!$C$8>=PARÂMETROS!$C$5,B19+PARÂMETROS!$C$8<=PARÂMETROS!$D$5)","v":true},1,{"$f":"VLOOKUP('BANCO DE DADOS COMPLETA'!$N$8,'BANCO DE DADOS COMPLETA'!$A$7:$L$249,3)*-1","v":3},7,{"$f":"VLOOKUP('BANCO DE DADOS COMPLETA'!$N$10,'BANCO DE DADOS COMPLETA'!$A$7:$L$249,3)*-1","v":1},11,77,{"v":19.384680584919252,"d":"19.38"},{"v":19.384680584919252,"d":"19.38"},{"v":3.6643438483406947,"d":"3.66"},{"v":0.5725647088351538,"d":"0.57"},{"v":0.36757198782331485,"d":"0.37"},"NADA","NADA",0]
[null,{"$f":"B19+PARÂMETROS!$C$8","v":{"v":3.864343848340695,"d":"3.86"}},{"v":1.36664636845746E-4,"d":"1.37E-04"},{"$f":"PARÂMETROS!$Q$4/C20","v":{"v":7.317181848064358e-11,"d":"7.32E-11"}},{"$f":"PARÂMETROS!$F$6/($C20+PARÂMETROS!$F$6)","v":{"v":0.9811465841079454,"d":"9.81E-01"}},{"$f":"$C20*PARÂMETROS!$F$6/($C20^2+$C20*PARÂMETROS!$F$6+PARÂMETROS!$F$6*PARÂMETROS!$G$6)","v":{"v":0.9807013232632993,"d":"9.81E-01"}},{"$f":"PARÂMETROS!$F$6*PARÂMETROS!$G$6/($C20^2+$C20*PARÂMETROS!$F$6+PARÂMETROS!$F$6*PARÂMETROS!$G$6)","v":{"v":4.5381684231311504E-4,"d":"4.54E-04"}},{"$f":"(PARÂMETROS!$F$6*$C20^2)/($C20^3+PARÂMETROS!$F$6*$C20^2+PARÂMETROS!$F$6*PARÂMETROS!$G$6*$C20+PARÂMETROS!$F$6*PARÂMETROS!$G$6*PARÂMETROS!$H$6)","v":{"v":0.9807013232618447,"d":"9.81E-01"}},{"$f":"(PARÂMETROS!$F$6*PARÂMETROS!$G$6*$C20)/($C20^3+PARÂMETROS!$F$6*$C20^2+PARÂMETROS!$F$6*PARÂMETROS!$G$6*$C20+PARÂMETROS!$F$6*PARÂMETROS!$G$6*PARÂMETROS!$H$6)","v":{"v":4.5381684231244181E-4,"d":"4.54E-04"}},{"$f":"(PARÂMETROS!$F$6*PARÂMETROS!$G$6*PARÂMETROS!$H$6)/($C20^3+PARÂMETROS!$F$6*$C20^2+PARÂMETROS!$F$6*PARÂMETROS!$G$6*$C20+PARÂMETROS!$F$6*PARÂMETROS!$G$6*PARÂMETROS!$H$6)","v":{"v":1.4832844983265915E-12,"d":"1.48E-12"}},{"$f":"$C20/($C20+PARÂMETROS!$J$6)","v":{"v":0.9999999992682818,"d":"1.00E+00"}},{"$f":"$C20*PARÂMETROS!$J$6/($C20^2+$C20*PARÂMETROS!$J$6+PARÂMETROS!$J$6*PARÂMETROS!$K$6)","v":{"v":7.317181842710242e-10,"d":"7.32E-10"}},{"$f":"$C20^2/($C20^2+$C20*PARÂMETROS!$J$6+PARÂMETROS!$J$6*PARÂMETROS!$K$6)","v":{"v":0.9999999992682819,"d":"1.00E+00"}},{"$f":"(PARÂMETROS!$K$6*PARÂMETROS!$J$6*$C20)/($C20^3+PARÂMETROS!$J$6*$C20^2+PARÂMETROS!$J$6*PARÂMETROS!$K$6*$C20+PARÂMETROS!$J$6*PARÂMETROS!$K$6*PARÂMETROS!$L$6)","v":{"v":0,"d":"0.00E+00"}},{"$f":"(PARÂMETROS!$J$6*$C20^2)/($C20^3+PARÂMETROS!$J$6*$C20^2+PARÂMETROS!$J$6*PARÂMETROS!$K$6*$C20+PARÂMETROS!$J$6*PARÂMETROS!$K$6*PARÂMETROS!$L$6)","v":{"v":7.317181842710244e-10,"d":"7.32E-10"}},{"$f":"($C20^3)/($C20^3+PARÂMETROS!$J$6*$C20^2+PARÂMETROS!$J$6*PARÂMETROS!$K$6*$C20+PARÂMETROS!$J$6*PARÂMETROS!$K$6*PARÂMETROS!$L$6)","v":{"v":0.9999999992682819,"d":"1.00E+00"}},{"$f":"IF(PARÂMETROS!$J$6<PARÂMETROS!$F$6,(E20-(C20-D20)/PARÂMETROS!$C$11)/(K20+(C20-D20)/PARÂMETROS!$C$14),(K20+(C20-D20)/PARÂMETROS!$C$14)/(E20-(C20-D20)/PARÂMETROS!$C$11))","v":{"v":0.9801953460682313,"d":"9.80E-01"}},{"$f":"IF(PARÂMETROS!$J$6<PARÂMETROS!$F$6,(E20-(C20-D20)/PARÂMETROS!$C$11)/(L20+2*M20+(C20-D20)/PARÂMETROS!$C$14),(L20+2*M20+(C20-D20)/PARÂMETROS!$C$14)/(E20-(C20-D20)/PARÂMETROS!$C$11))","v":{"v":0.4901646426870978,"d":"4.90E-01"}},{"$f":"IF(PARÂMETROS!$J$6<PARÂMETROS!$F$6, (E20-(C20-D20)/PARÂMETROS!$C$11)/(N20+2*O20+3*P20+(C20-D20)/PARÂMETROS!$C$14),(N20+2*O20+3*P20+(C20-D20)/PARÂMETROS!$C$14)/ (E20-(C20-D20)/PARÂMETROS!$C$11))","v":{"v":0.3267913133147338,"d":"3.27E-01"}},{"$f":"IF(PARÂMETROS!$J$6<PARÂMETROS!$F$6,(F20+2*G20-(C20-D20)/PARÂMETROS!$C$11)/(K20+(C20-D20)/PARÂMETROS!$C$14),(K20+(C20-D20)/PARÂMETROS!$C$14)/(F20+2*G20-(C20-D20)/PARÂMETROS!$C$11))","v":{"v":0.9806575925631186,"d":"9.81E-01"}},{"$f":"IF(PARÂMETROS!$J$6<PARÂMETROS!$F$6,(F20+2*G20-(C20-D20)/PARÂMETROS!$C$11)/(L20+2*M20+(C20-D20)/PARÂMETROS!$C$14),(L20+2*M20+(C20-D20)/PARÂMETROS!$C$14)/(F20+2*G20-(C20-D20)/PARÂMETROS!$C$11))","v":{"v":0.49039579751649853,"d":"4.90E-01"}},{"$f":"IF(PARÂMETROS!$J$6<PARÂMETROS!$F$6,(F20+2*G20-(C20-D20)/PARÂMETROS!$C$11)/(N20+2*O20+3*P20+(C20-D20)/PARÂMETROS!$C$14),(N20+2*O20+3*P20+(C20-D20)/PARÂMETROS!$C$14)/(F20+2*G20-(C20-D20)/PARÂMETROS!$C$11))","v":{"v":0.3269454235538257,"d":"3.27E-01"}},{"$f":"IF(PARÂMETROS!$J$6<PARÂMETROS!$F$6,(H20+2*I20+3*J20-(C20-D20)/PARÂMETROS!$C$11)/(K20+(C20-D20)/PARÂMETROS!$C$14),(K20+(C20-D20)/PARÂMETROS!$C$14)/(H20+2*I20+3*J20-(C20-D20)/PARÂMETROS!$C$11))","v":{"v":0.9806575925661117,"d":"9.81E-01"}},{"$f":"IF(PARÂMETROS!$J$6<PARÂMETROS!$F$6,(H20+2*I20+3*J20-(C20-D20)/PARÂMETROS!$C$11)/(L20+2*M20+(C20-D20)/PARÂMETROS!$C$14),(L20+2*M20+(C20-D20)/PARÂMETROS!$C$14)/(H20+2*I20+3*J20-(C20-D20)/PARÂMETROS!$C$11))","v":{"v":0.4903957975179953,"d":"4.90E-01"}},{"$f":"IF(PARÂMETROS!$J$6<PARÂMETROS!$F$6,(H20+2*I20+3*J20-(C20-D20)/PARÂMETROS!$C$11)/(N20+2*O20+3*P20+(C20-D20)/PARÂMETROS!$C$14),(N20+2*O20+3*P20+(C20-D20)/PARÂMETROS!$C$14)/(H20+2*I20+3*J20-(C20-D20)/PARÂMETROS!$C$11))","v":{"v":0.32694542355482364,"d":"3.27E-01"}},{"$f":"Q20*PARÂMETROS!$C$11*PARÂMETROS!$D$11/PARÂMETROS!$C$14","v":{"v":19.60390692136463,"d":"19.60"}},{"$f":"R20*PARÂMETROS!$C$11*PARÂMETROS!$D$11/PARÂMETROS!$C$14","v":{"v":9.803292853741958,"d":"9.80"}},{"$f":"S20*PARÂMETROS!$C$11*PARÂMETROS!$D$11/PARÂMETROS!$C$14","v":{"v":6.535826266294677,"d":"6.54"}},{"$f":"T20*PARÂMETROS!$C$11*PARÂMETROS!$D$11/PARÂMETROS!$C$14","v":{"v":19.613151851262373,"d":"19.61"}},{"$f":"U20*PARÂMETROS!$C$11*PARÂMETROS!$D$11/PARÂMETROS!$C$14","v":{"v":9.80791595032997,"d":"9.81"}},{"$f":"V20*PARÂMETROS!$C$11*PARÂMETROS!$D$11/PARÂMETROS!$C$14","v":{"v":6.538908471076514,"d":"6.54"}},{"$f":"W20*PARÂMETROS!$C$11*PARÂMETROS!$D$11/PARÂMETROS!$C$14","v":{"v":19.613151851322236,"d":"19.61"}},{"$f":"X20*PARÂMETROS!$C$11*PARÂMETROS!$D$11/PARÂMETROS!$C$14","v":{"v":9.807915950359906,"d":"9.81"}},{"$f":"Y20*PARÂMETROS!$C$11*PARÂMETROS!$D$11/PARÂMETROS!$C$14","v":{"v":6.538908471096473,"d":"6.54"}},{"$f":"AND(B20+PARÂMETROS!$C$8>=PARÂMETROS!$C$5,B20+PARÂMETROS!$C$8<=PARÂMETROS!$D$5)","v":true},1,{"$f":"VLOOKUP('BANCO DE DADOS COMPLETA'!$N$8,'BANCO DE DADOS COMPLETA'!$A$7:$L$249,3)*-1","v":3},7,{"$f":"VLOOKUP('BANCO DE DADOS COMPLETA'!$N$10,'BANCO DE DADOS COMPLETA'!$A$7:$L$249,3)*-1","v":1},11,77,{"$f":"IF(AO20=33,Z20,IF(AO20=39,AA20,IF(AO20=51,AB20,IF(AO20=55,AC20,IF(AO20=65,AD20,IF(AO20=85,AE20,IF(AO20=77,AF20,IF(AO20=91,AG20,IF(AO20=119,AH20)))))))))","v":{"v":19.613151851322236,"d":"19.61"}},{"v":19.613151851322236,"d":"19.61"},{"v":3.864343848340695,"d":"3.86"},{"v":0.8753836013988499,"d":"0.88"},{"v":0.866917055252581,"d":"0.87"},"NADA","NADA",0]
[null,{"$f":"B20+PARÂMETROS!$C$8","v":{"v":4.064343848340695,"d":"4.06"}},{"v":8.6229556348541879E-5,"d":"8.62E-05"},{"$f":"PARÂMETROS!$Q$4/C21","v":{"v":1.1596951698997228E-10,"d":"1.16E-10"}},{"$f":"PARÂMETROS!$F$6/($C21+PARÂMETROS!$F$6)","v":{"v":0.9880209519762438,"d":"9.88E-01"}},{"$f":"$C21*PARÂMETROS!$F$6/($C21^2+$C21*PARÂMETROS!$F$6+PARÂMETROS!$F$6*PARÂMETROS!$G$6)","v":{"v":0.9873055311595256,"d":"9.87E-01"}},{"$f":"PARÂMETROS!$F$6*PARÂMETROS!$G$6/($C21^2+$C21*PARÂMETROS!$F$6+PARÂMETROS!$F$6*PARÂMETROS!$G$6)","v":{"v":7.2409478289648473E-4,"d":"7.24E-04"}},{"$f":"(PARÂMETROS!$F$6*$C21^2)/($C21^3+PARÂMETROS!$F$6*$C21^2+PARÂMETROS!$F$6*PARÂMETROS!$G$6*$C21+PARÂMETROS!$F$6*PARÂMETROS!$G$6*PARÂMETROS!$H$6)","v":{"v":0.9873055311558222,"d":"9.87E-01"}},{"$f":"(PARÂMETROS!$F$6*PARÂMETROS!$G$6*$C21)/($C21^3+PARÂMETROS!$F$6*$C21^2+PARÂMETROS!$F$6*PARÂMETROS!$G$6*$C21+PARÂMETROS!$F$6*PARÂMETROS!$G$6*PARÂMETROS!$H$6)","v":{"v":7.2409478289376869E-4,"d":"7.24E-04"}},{"$f":"(PARÂMETROS!$F$6*PARÂMETROS!$G$6*PARÂMETROS!$H$6)/($C21^3+PARÂMETROS!$F$6*$C21^2+PARÂMETROS!$F$6*PARÂMETROS!$G$6*$C21+PARÂMETROS!$F$6*PARÂMETROS!$G$6*PARÂMETROS!$H$6)","v":{"v":3.750932654383636e-12,"d":"3.75E-12"}},{"$f":"$C21/($C21+PARÂMETROS!$J$6)","v":{"v":0.9999999988403048,"d":"1.00E+00"}},{"$f":"$C21*PARÂMETROS!$J$6/($C21^2+$C21*PARÂMETROS!$J$6+PARÂMETROS!$J$6*PARÂMETROS!$K$6)","v":{"v":1.1596951685548299E-9,"d":"1.16E-09"}},{"$f":"$C21^2/($C21^2+$C21*PARÂMETROS!$J$6+PARÂMETROS!$J$6*PARÂMETROS!$K$6)","v":{"v":0.9999999988403048,"d":"1.00E+00"}},{"$f":"(PARÂMETROS!$K$6*PARÂMETROS!$J$6*$C21)/($C21^3+PARÂMETROS!$J$6*$C21^2+PARÂMETROS!$J$6*PARÂMETROS!$K$6*$C21+PARÂMETROS!$J$6*PARÂMETROS!$K$6*PARÂMETROS!$L$6)","v":{"v":0,"d":"0.00E+00"}},{"$f":"(PARÂMETROS!$J$6*$C21^2)/($C21^3+PARÂMETROS!$J$6*$C21^2+PARÂMETROS!$J$6*PARÂMETROS!$K$6*$C21+PARÂMETROS!$J$6*PARÂMETROS!$K$6*PARÂMETROS!$L$6)","v":{"v":1.1596951685548299E-9,"d":"1.16E-09"}},{"$f":"($C21^3)/($C21^3+PARÂMETROS!$J$6*$C21^2+PARÂMETROS!$J$6*PARÂMETROS!$K$6*$C21+PARÂMETROS!$J$6*PARÂMETROS!$K$6*PARÂMETROS!$L$6)","v":{"v":0.9999999988403048,"d":"1.00E+00"}},{"$f":"IF(PARÂMETROS!$J$6<PARÂMETROS!$F$6,(E21-(C21-D21)/PARÂMETROS!$C$11)/(K21+(C21-D21)/PARÂMETROS!$C$14),(K21+(C21-D21)/PARÂMETROS!$C$14)/(E21-(C21-D21)/PARÂMETROS!$C$11))","v":{"v":0.9874195166547735,"d":"9.87E-01"}},{"$f":"IF(PARÂMETROS!$J$6<PARÂMETROS!$F$6,(E21-(C21-D21)/PARÂMETROS!$C$11)/(L21+2*M21+(C21-D21)/PARÂMETROS!$C$14),(L21+2*M21+(C21-D21)/PARÂMETROS!$C$14)/(E21-(C21-D21)/PARÂMETROS!$C$11))","v":{"v":0.49375232668665947,"d":"4.94E-01"}},{"$f":"IF(PARÂMETROS!$J$6<PARÂMETROS!$F$6, (E21-(C21-D21)/PARÂMETROS!$C$11)/(N21+2*O21+3*P21+(C21-D21)/PARÂMETROS!$C$14),(N21+2*O21+3*P21+(C21-D21)/PARÂMETROS!$C$14)/ (E21-(C21-D21)/PARÂMETROS!$C$11))","v":{"v":0.3291776785140292,"d":"3.29E-01"}},{"$f":"IF(PARÂMETROS!$J$6<PARÂMETROS!$F$6,(F21+2*G21-(C21-D21)/PARÂMETROS!$C$11)/(K21+(C21-D21)/PARÂMETROS!$C$14),(K21+(C21-D21)/PARÂMETROS!$C$14)/(F21+2*G21-(C21-D21)/PARÂMETROS!$C$11))","v":{"v":0.9881521590540097,"d":"9.88E-01"}},{"$f":"IF(PARÂMETROS!$J$6<PARÂMETROS!$F$6,(F21+2*G21-(C21-D21)/PARÂMETROS!$C$11)/(L21+2*M21+(C21-D21)/PARÂMETROS!$C$14),(L21+2*M21+(C21-D21)/PARÂMETROS!$C$14)/(F21+2*G21-(C21-D21)/PARÂMETROS!$C$11))","v":{"v":0.4941186794710136,"d":"4.94E-01"}},{"$f":"IF(PARÂMETROS!$J$6<PARÂMETROS!$F$6,(F21+2*G21-(C21-D21)/PARÂMETROS!$C$11)/(N21+2*O21+3*P21+(C21-D21)/PARÂMETROS!$C$14),(N21+2*O21+3*P21+(C21-D21)/PARÂMETROS!$C$14)/(F21+2*G21-(C21-D21)/PARÂMETROS!$C$11))","v":{"v":0.3294219207232358,"d":"3.29E-01"}},{"$f":"IF(PARÂMETROS!$J$6<PARÂMETROS!$F$6,(H21+2*I21+3*J21-(C21-D21)/PARÂMETROS!$C$11)/(K21+(C21-D21)/PARÂMETROS!$C$14),(K21+(C21-D21)/PARÂMETROS!$C$14)/(H21+2*I21+3*J21-(C21-D21)/PARÂMETROS!$C$11))","v":{"v":0.9881521590615523,"d":"9.88E-01"}},{"$f":"IF(PARÂMETROS!$J$6<PARÂMETROS!$F$6,(H21+2*I21+3*J21-(C21-D21)/PARÂMETROS!$C$11)/(L21+2*M21+(C21-D21)/PARÂMETROS!$C$14),(L21+2*M21+(C21-D21)/PARÂMETROS!$C$14)/(H21+2*I21+3*J21-(C21-D21)/PARÂMETROS!$C$11))","v":{"v":0.49411867947478527,"d":"4.94E-01"}},{"$f":"IF(PARÂMETROS!$J$6<PARÂMETROS!$F$6,(H21+2*I21+3*J21-(C21-D21)/PARÂMETROS!$C$11)/(N21+2*O21+3*P21+(C21-D21)/PARÂMETROS!$C$14),(N21+2*O21+3*P21+(C21-D21)/PARÂMETROS!$C$14)/(H21+2*I21+3*J21-(C21-D21)/PARÂMETROS!$C$11))","v":{"v":0.3294219207257503,"d":"3.29E-01"}},{"$f":"Q21*PARÂMETROS!$C$11*PARÂMETROS!$D$11/PARÂMETROS!$C$14","v":{"v":19.748390333095468,"d":"19.75"}},{"$f":"R21*PARÂMETROS!$C$11*PARÂMETROS!$D$11/PARÂMETROS!$C$14","v":{"v":9.87504653373319,"d":"9.88"}},{"$f":"S21*PARÂMETROS!$C$11*PARÂMETROS!$D$11/PARÂMETROS!$C$14","v":{"v":6.583553570280584,"d":"6.58"}},{"$f":"T21*PARÂMETROS!$C$11*PARÂMETROS!$D$11/PARÂMETROS!$C$14","v":{"v":19.763043181080196,"d":"19.76"}},{"$f":"U21*PARÂMETROS!$C$11*PARÂMETROS!$D$11/PARÂMETROS!$C$14","v":{"v":9.882373589420274,"d":"9.88"}},{"$f":"V21*PARÂMETROS!$C$11*PARÂMETROS!$D$11/PARÂMETROS!$C$14","v":{"v":6.588438414464716,"d":"6.59"}},{"$f":"W21*PARÂMETROS!$C$11*PARÂMETROS!$D$11/PARÂMETROS!$C$14","v":{"v":19.763043181231048,"d":"19.76"}},{"$f":"X21*PARÂMETROS!$C$11*PARÂMETROS!$D$11/PARÂMETROS!$C$14","v":{"v":9.882373589495707,"d":"9.88"}},{"$f":"Y21*PARÂMETROS!$C$11*PARÂMETROS!$D$11/PARÂMETROS!$C$14","v":{"v":6.588438414515006,"d":"6.59"}},{"$f":"AND(B21+PARÂMETROS!$C$8>=PARÂMETROS!$C$5,B21+PARÂMETROS!$C$8<=PARÂMETROS!$D$5)","v":true},1,{"$f":"VLOOKUP('BANCO DE DADOS COMPLETA'!$N$8,'BANCO DE DADOS COMPLETA'!$A$7:$L$249,3)*-1","v":3},7,{"$f":"VLOOKUP('BANCO DE DADOS COMPLETA'!$N$10,'BANCO DE DADOS COMPLETA'!$A$7:$L$249,3)*-1","v":1},11,77,{"v":19.763043181231048,"d":"19.76"},{"v":19.763043181231048,"d":"19.76"},{"v":4.064343848340695,"d":"4.06"},{"v":1.3342999900105792,"d":"1.33"},{"v":2.008639405019447,"d":"2.01"},"NADA","NADA",0]
[null,{"$f":"B21+PARÂMETROS!$C$8","v":{"v":4.264343848340695,"d":"4.26"}},{"v":5.4407171889381176E-5,"d":"5.44E-05"},{"$f":"PARÂMETROS!$Q$4/C22","v":{"v":1.837992980104105E-10,"d":"1.84E-10"}},{"$f":"PARÂMETROS!$F$6/($C22+PARÂMETROS!$F$6)","v":{"v":0.9924081698610168,"d":"9.92E-01"}},{"$f":"$C22*PARÂMETROS!$F$6/($C22^2+$C22*PARÂMETROS!$F$6+PARÂMETROS!$F$6*PARÂMETROS!$G$6)","v":{"v":0.9912647023726981,"d":"9.91E-01"}},{"$f":"PARÂMETROS!$F$6*PARÂMETROS!$G$6/($C22^2+$C22*PARÂMETROS!$F$6+PARÂMETROS!$F$6*PARÂMETROS!$G$6)","v":{"v":1.1522149081852314E-3,"d":"1.15E-03"}},{"$f":"(PARÂMETROS!$F$6*$C22^2)/($C22^3+PARÂMETROS!$F$6*$C22^2+PARÂMETROS!$F$6*PARÂMETROS!$G$6*$C22+PARÂMETROS!$F$6*PARÂMETROS!$G$6*PARÂMETROS!$H$6)","v":{"v":0.9912647023633212,"d":"9.91E-01"}},{"$f":"(PARÂMETROS!$F$6*PARÂMETROS!$G$6*$C22)/($C22^3+PARÂMETROS!$F$6*$C22^2+PARÂMETROS!$F$6*PARÂMETROS!$G$6*$C22+PARÂMETROS!$F$6*PARÂMETROS!$G$6*PARÂMETROS!$H$6)","v":{"v":1.1522149081743317E-3,"d":"1.15E-03"}},{"$f":"(PARÂMETROS!$F$6*PARÂMETROS!$G$6*PARÂMETROS!$H$6)/($C22^3+PARÂMETROS!$F$6*$C22^2+PARÂMETROS!$F$6*PARÂMETROS!$G$6*$C22+PARÂMETROS!$F$6*PARÂMETROS!$G$6*PARÂMETROS!$H$6)","v":{"v":9.459699452116755E-12,"d":"9.46E-12"}},{"$f":"$C22/($C22+PARÂMETROS!$J$6)","v":{"v":0.999999998162007,"d":"1.00E+00"}},{"$f":"$C22*PARÂMETROS!$J$6/($C22^2+$C22*PARÂMETROS!$J$6+PARÂMETROS!$J$6*PARÂMETROS!$K$6)","v":{"v":1.8379929767258868E-9,"d":"1.84E-09"}},{"$f":"$C22^2/($C22^2+$C22*PARÂMETROS!$J$6+PARÂMETROS!$J$6*PARÂMETROS!$K$6)","v":{"v":0.999999998162007,"d":"1.00E+00"}},{"$f":"(PARÂMETROS!$K$6*PARÂMETROS!$J$6*$C22)/($C22^3+PARÂMETROS!$J$6*$C22^2+PARÂMETROS!$J$6*PARÂMETROS!$K$6*$C22+PARÂMETROS!$J$6*PARÂMETROS!$K$6*PARÂMETROS!$L$6)","v":{"v":0,"d":"0.00E+00"}},{"$f":"(PARÂMETROS!$J$6*$C22^2)/($C22^3+PARÂMETROS!$J$6*$C22^2+PARÂMETROS!$J$6*PARÂMETROS!$K$6*$C22+PARÂMETROS!$J$6*PARÂMETROS!$K$6*PARÂMETROS!$L$6)","v":{"v":1.8379929767258868E-9,"d":"1.84E-09"}},{"$f":"($C22^3)/($C22^3+PARÂMETROS!$J$6*$C22^2+PARÂMETROS!$J$6*PARÂMETROS!$K$6*$C22+PARÂMETROS!$J$6*PARÂMETROS!$K$6*PARÂMETROS!$L$6)","v":{"v":0.999999998162007,"d":"1.00E+00"}},{"$f":"IF(PARÂMETROS!$J$6<PARÂMETROS!$F$6,(E22-(C22-D22)/PARÂMETROS!$C$11)/(K22+(C22-D22)/PARÂMETROS!$C$14),(K22+(C22-D22)/PARÂMETROS!$C$14)/(E22-(C22-D22)/PARÂMETROS!$C$11))","v":{"v":0.9920281902120475,"d":"9.92E-01"}},{"$f":"IF(PARÂMETROS!$J$6<PARÂMETROS!$F$6,(E22-(C22-D22)/PARÂMETROS!$C$11)/(L22+2*M22+(C22-D22)/PARÂMETROS!$C$14),(L22+2*M22+(C22-D22)/PARÂMETROS!$C$14)/(E22-(C22-D22)/PARÂMETROS!$C$11))","v":{"v":0.4960410798150216,"d":"4.96E-01"}},{"$f":"IF(PARÂMETROS!$J$6<PARÂMETROS!$F$6, (E22-(C22-D22)/PARÂMETROS!$C$11)/(N22+2*O22+3*P22+(C22-D22)/PARÂMETROS!$C$14),(N22+2*O22+3*P22+(C22-D22)/PARÂMETROS!$C$14)/ (E22-(C22-D22)/PARÂMETROS!$C$11))","v":{"v":0.33070005024700017,"d":"3.31E-01"}},{"$f":"IF(PARÂMETROS!$J$6<PARÂMETROS!$F$6,(F22+2*G22-(C22-D22)/PARÂMETROS!$C$11)/(K22+(C22-D22)/PARÂMETROS!$C$14),(K22+(C22-D22)/PARÂMETROS!$C$14)/(F22+2*G22-(C22-D22)/PARÂMETROS!$C$11))","v":{"v":0.9931890262270505,"d":"9.93E-01"}},{"$f":"IF(PARÂMETROS!$J$6<PARÂMETROS!$F$6,(F22+2*G22-(C22-D22)/PARÂMETROS!$C$11)/(L22+2*M22+(C22-D22)/PARÂMETROS!$C$14),(L22+2*M22+(C22-D22)/PARÂMETROS!$C$14)/(F22+2*G22-(C22-D22)/PARÂMETROS!$C$11))","v":{"v":0.49662152939906734,"d":"4.97E-01"}},{"$f":"IF(PARÂMETROS!$J$6<PARÂMETROS!$F$6,(F22+2*G22-(C22-D22)/PARÂMETROS!$C$11)/(N22+2*O22+3*P22+(C22-D22)/PARÂMETROS!$C$14),(N22+2*O22+3*P22+(C22-D22)/PARÂMETROS!$C$14)/(F22+2*G22-(C22-D22)/PARÂMETROS!$C$11))","v":{"v":0.3310870236538828,"d":"3.31E-01"}},{"$f":"IF(PARÂMETROS!$J$6<PARÂMETROS!$F$6,(H22+2*I22+3*J22-(C22-D22)/PARÂMETROS!$C$11)/(K22+(C22-D22)/PARÂMETROS!$C$14),(K22+(C22-D22)/PARÂMETROS!$C$14)/(H22+2*I22+3*J22-(C22-D22)/PARÂMETROS!$C$11))","v":{"v":0.9931890262460288,"d":"9.93E-01"}},{"$f":"IF(PARÂMETROS!$J$6<PARÂMETROS!$F$6,(H22+2*I22+3*J22-(C22-D22)/PARÂMETROS!$C$11)/(L22+2*M22+(C22-D22)/PARÂMETROS!$C$14),(L22+2*M22+(C22-D22)/PARÂMETROS!$C$14)/(H22+2*I22+3*J22-(C22-D22)/PARÂMETROS!$C$11))","v":{"v":0.496621529408557,"d":"4.97E-01"}},{"$f":"IF(PARÂMETROS!$J$6<PARÂMETROS!$F$6,(H22+2*I22+3*J22-(C22-D22)/PARÂMETROS!$C$11)/(N22+2*O22+3*P22+(C22-D22)/PARÂMETROS!$C$14),(N22+2*O22+3*P22+(C22-D22)/PARÂMETROS!$C$14)/(H22+2*I22+3*J22-(C22-D22)/PARÂMETROS!$C$11))","v":{"v":0.3310870236602094,"d":"3.31E-01"}},{"$f":"Q22*PARÂMETROS!$C$11*PARÂMETROS!$D$11/PARÂMETROS!$C$14","v":{"v":19.84056380424095,"d":"19.84"}},{"$f":"R22*PARÂMETROS!$C$11*PARÂMETROS!$D$11/PARÂMETROS!$C$14","v":{"v":9.920821596300433,"d":"9.92"}},{"$f":"S22*PARÂMETROS!$C$11*PARÂMETROS!$D$11/PARÂMETROS!$C$14","v":{"v":6.614001004940004,"d":"6.61"}},{"$f":"T22*PARÂMETROS!$C$11*PARÂMETROS!$D$11/PARÂMETROS!$C$14","v":{"v":19.86378052454101,"d":"19.86"}},{"$f":"U22*PARÂMETROS!$C$11*PARÂMETROS!$D$11/PARÂMETROS!$C$14","v":{"v":9.932430587981347,"d":"9.93"}},{"$f":"V22*PARÂMETROS!$C$11*PARÂMETROS!$D$11/PARÂMETROS!$C$14","v":{"v":6.621740473077657,"d":"6.62"}},{"$f":"W22*PARÂMETROS!$C$11*PARÂMETROS!$D$11/PARÂMETROS!$C$14","v":{"v":19.86378052492058,"d":"19.86"}},{"$f":"X22*PARÂMETROS!$C$11*PARÂMETROS!$D$11/PARÂMETROS!$C$14","v":{"v":9.932430588171142,"d":"9.93"}},{"$f":"Y22*PARÂMETROS!$C$11*PARÂMETROS!$D$11/PARÂMETROS!$C$14","v":{"v":6.62174047320419,"d":"6.62"}},{"$f":"AND(B22+PARÂMETROS!$C$8>=PARÂMETROS!$C$5,B22+PARÂMETROS!$C$8<=PARÂMETROS!$D$5)","v":true},1,{"$f":"VLOOKUP('BANCO DE DADOS COMPLETA'!$N$8,'BANCO DE DADOS COMPLETA'!$A$7:$L$249,3)*-1","v":3},7,{"$f":"VLOOKUP('BANCO DE DADOS COMPLETA'!$N$10,'BANCO DE DADOS COMPLETA'!$A$7:$L$249,3)*-1","v":1},11,77,{"v":19.86378052492058,"d":"19.86"},{"v":19.86378052492058,"d":"19.86"},{"v":4.264343848340695,"d":"4.26"},{"v":1.985361065469364,"d":"1.99"},{"v":4.3435539324046735,"d":"4.34"},"NADA","NADA",0]
[null,{"$f":"B22+PARÂMETROS!$C$8","v":{"v":4.464343848340695,"d":"4.46"}},{"v":3.4328604696001314E-5,"d":"3.43E-05"},{"$f":"PARÂMETROS!$Q$4/C23","v":{"v":2.913022561958315e-10,"d":"2.91E-10"}},{"$f":"PARÂMETROS!$F$6/($C23+PARÂMETROS!$F$6)","v":{"v":0.9951964207838971,"d":"9.95E-01"}},{"$f":"$C23*PARÂMETROS!$F$6/($C23^2+$C23*PARÂMETROS!$F$6+PARÂMETROS!$F$6*PARÂMETROS!$G$6)","v":{"v":0.9933751858963646,"d":"9.93E-01"}},{"$f":"PARÂMETROS!$F$6*PARÂMETROS!$G$6/($C23^2+$C23*PARÂMETROS!$F$6+PARÂMETROS!$F$6*PARÂMETROS!$G$6)","v":{"v":1.8300255602788662E-3,"d":"1.83E-03"}},{"$f":"(PARÂMETROS!$F$6*$C23^2)/($C23^3+PARÂMETROS!$F$6*$C23^2+PARÂMETROS!$F$6*PARÂMETROS!$G$6*$C23+PARÂMETROS!$F$6*PARÂMETROS!$G$6*PARÂMETROS!$H$6)","v":{"v":0.99337518587271,"d":"9.93E-01"}},{"$f":"(PARÂMETROS!$F$6*PARÂMETROS!$G$6*$C23)/($C23^3+PARÂMETROS!$F$6*$C23^2+PARÂMETROS!$F$6*PARÂMETROS!$G$6*$C23+PARÂMETROS!$F$6*PARÂMETROS!$G$6*PARÂMETROS!$H$6)","v":{"v":1.8300255602352892E-3,"d":"1.83E-03"}},{"$f":"(PARÂMETROS!$F$6*PARÂMETROS!$G$6*PARÂMETROS!$H$6)/($C23^3+PARÂMETROS!$F$6*$C23^2+PARÂMETROS!$F$6*PARÂMETROS!$G$6*$C23+PARÂMETROS!$F$6*PARÂMETROS!$G$6*PARÂMETROS!$H$6)","v":{"v":2.381228128008341e-11,"d":"2.38E-11"}},{"$f":"$C23/($C23+PARÂMETROS!$J$6)","v":{"v":0.9999999970869775,"d":"1.00E+00"}},{"$f":"$C23*PARÂMETROS!$J$6/($C23^2+$C23*PARÂMETROS!$J$6+PARÂMETROS!$J$6*PARÂMETROS!$K$6)","v":{"v":2.913022553472615E-9,"d":"2.91E-09"}},{"$f":"$C23^2/($C23^2+$C23*PARÂMETROS!$J$6+PARÂMETROS!$J$6*PARÂMETROS!$K$6)","v":{"v":0.9999999970869774,"d":"1.00E+00"}},{"$f":"(PARÂMETROS!$K$6*PARÂMETROS!$J$6*$C23)/($C23^3+PARÂMETROS!$J$6*$C23^2+PARÂMETROS!$J$6*PARÂMETROS!$K$6*$C23+PARÂMETROS!$J$6*PARÂMETROS!$K$6*PARÂMETROS!$L$6)","v":{"v":0,"d":"0.00E+00"}},{"$f":"(PARÂMETROS!$J$6*$C23^2)/($C23^3+PARÂMETROS!$J$6*$C23^2+PARÂMETROS!$J$6*PARÂMETROS!$K$6*$C23+PARÂMETROS!$J$6*PARÂMETROS!$K$6*PARÂMETROS!$L$6)","v":{"v":2.9130225534726146E-9,"d":"2.91E-09"}},{"$f":"($C23^3)/($C23^3+PARÂMETROS!$J$6*$C23^2+PARÂMETROS!$J$6*PARÂMETROS!$K$6*$C23+PARÂMETROS!$J$6*PARÂMETROS!$K$6*PARÂMETROS!$L$6)","v":{"v":0.9999999970869774,"d":"1.00E+00"}},{"$f":"IF(PARÂMETROS!$J$6<PARÂMETROS!$F$6,(E23-(C23-D23)/PARÂMETROS!$C$11)/(K23+(C23-D23)/PARÂMETROS!$C$14),(K23+(C23-D23)/PARÂMETROS!$C$14)/(E23-(C23-D23)/PARÂMETROS!$C$11))","v":{"v":0.9949564717601075,"d":"9.95E-01"}},{"$f":"IF(PARÂMETROS!$J$6<PARÂMETROS!$F$6,(E23-(C23-D23)/PARÂMETROS!$C$11)/(L23+2*M23+(C23-D23)/PARÂMETROS!$C$14),(L23+2*M23+(C23-D23)/PARÂMETROS!$C$14)/(E23-(C23-D23)/PARÂMETROS!$C$11))","v":{"v":0.4974953121580841,"d":"4.97E-01"}},{"$f":"IF(PARÂMETROS!$J$6<PARÂMETROS!$F$6, (E23-(C23-D23)/PARÂMETROS!$C$11)/(N23+2*O23+3*P23+(C23-D23)/PARÂMETROS!$C$14),(N23+2*O23+3*P23+(C23-D23)/PARÂMETROS!$C$14)/ (E23-(C23-D23)/PARÂMETROS!$C$11))","v":{"v":0.3316673363408514,"d":"3.32E-01"}},{"$f":"IF(PARÂMETROS!$J$6<PARÂMETROS!$F$6,(F23+2*G23-(C23-D23)/PARÂMETROS!$C$11)/(K23+(C23-D23)/PARÂMETROS!$C$14),(K23+(C23-D23)/PARÂMETROS!$C$14)/(F23+2*G23-(C23-D23)/PARÂMETROS!$C$11))","v":{"v":0.9967951617602359,"d":"9.97E-01"}},{"$f":"IF(PARÂMETROS!$J$6<PARÂMETROS!$F$6,(F23+2*G23-(C23-D23)/PARÂMETROS!$C$11)/(L23+2*M23+(C23-D23)/PARÂMETROS!$C$14),(L23+2*M23+(C23-D23)/PARÂMETROS!$C$14)/(F23+2*G23-(C23-D23)/PARÂMETROS!$C$11))","v":{"v":0.49841468871528927,"d":"4.98E-01"}},{"$f":"IF(PARÂMETROS!$J$6<PARÂMETROS!$F$6,(F23+2*G23-(C23-D23)/PARÂMETROS!$C$11)/(N23+2*O23+3*P23+(C23-D23)/PARÂMETROS!$C$14),(N23+2*O23+3*P23+(C23-D23)/PARÂMETROS!$C$14)/(F23+2*G23-(C23-D23)/PARÂMETROS!$C$11))","v":{"v":0.3322802610586738,"d":"3.32E-01"}},{"$f":"IF(PARÂMETROS!$J$6<PARÂMETROS!$F$6,(H23+2*I23+3*J23-(C23-D23)/PARÂMETROS!$C$11)/(K23+(C23-D23)/PARÂMETROS!$C$14),(K23+(C23-D23)/PARÂMETROS!$C$14)/(H23+2*I23+3*J23-(C23-D23)/PARÂMETROS!$C$11))","v":{"v":0.9967951618079276,"d":"9.97E-01"}},{"$f":"IF(PARÂMETROS!$J$6<PARÂMETROS!$F$6,(H23+2*I23+3*J23-(C23-D23)/PARÂMETROS!$C$11)/(L23+2*M23+(C23-D23)/PARÂMETROS!$C$14),(L23+2*M23+(C23-D23)/PARÂMETROS!$C$14)/(H23+2*I23+3*J23-(C23-D23)/PARÂMETROS!$C$11))","v":{"v":0.498414688739136,"d":"4.98E-01"}},{"$f":"IF(PARÂMETROS!$J$6<PARÂMETROS!$F$6,(H23+2*I23+3*J23-(C23-D23)/PARÂMETROS!$C$11)/(N23+2*O23+3*P23+(C23-D23)/PARÂMETROS!$C$14),(N23+2*O23+3*P23+(C23-D23)/PARÂMETROS!$C$14)/(H23+2*I23+3*J23-(C23-D23)/PARÂMETROS!$C$11))","v":{"v":0.33228026107457176,"d":"3.32E-01"}},{"$f":"Q23*PARÂMETROS!$C$11*PARÂMETROS!$D$11/PARÂMETROS!$C$14","v":{"v":19.899129435202152,"d":"19.90"}},{"$f":"R23*PARÂMETROS!$C$11*PARÂMETROS!$D$11/PARÂMETROS!$C$14","v":{"v":9.949906243161683,"d":"9.95"}},{"$f":"S23*PARÂMETROS!$C$11*PARÂMETROS!$D$11/PARÂMETROS!$C$14","v":{"v":6.633346726817028,"d":"6.63"}},{"$f":"T23*PARÂMETROS!$C$11*PARÂMETROS!$D$11/PARÂMETROS!$C$14","v":{"v":19.93590323520472,"d":"19.94"}},{"$f":"U23*PARÂMETROS!$C$11*PARÂMETROS!$D$11/PARÂMETROS!$C$14","v":{"v":9.968293774305787,"d":"9.97"}},{"$f":"V23*PARÂMETROS!$C$11*PARÂMETROS!$D$11/PARÂMETROS!$C$14","v":{"v":6.645605221173477,"d":"6.65"}},{"$f":"W23*PARÂMETROS!$C$11*PARÂMETROS!$D$11/PARÂMETROS!$C$14","v":{"v":19.935903236158552,"d":"19.94"}},{"$f":"X23*PARÂMETROS!$C$11*PARÂMETROS!$D$11/PARÂMETROS!$C$14","v":{"v":9.968293774782722,"d":"9.97"}},{"$f":"Y23*PARÂMETROS!$C$11*PARÂMETROS!$D$11/PARÂMETROS!$C$14","v":{"v":6.645605221491435,"d":"6.65"}},{"$f":"AND(B23+PARÂMETROS!$C$8>=PARÂMETROS!$C$5,B23+PARÂMETROS!$C$8<=PARÂMETROS!$D$5)","v":true},1,{"$f":"VLOOKUP('BANCO DE DADOS COMPLETA'!$N$8,'BANCO DE DADOS COMPLETA'!$A$7:$L$249,3)*-1","v":3},7,{"$f":"VLOOKUP('BANCO DE DADOS COMPLETA'!$N$10,'BANCO DE DADOS COMPLETA'!$A$7:$L$249,3)*-1","v":1},11,77,{"v":19.935903236158552,"d":"19.94"},{"v":19.935903236158552,"d":"19.94"},{"v":4.464343848340695,"d":"4.46"},{"v":2.7730516028451424,"d":"2.77"},{"v":7.819250622722549,"d":"7.82"},"NADA","NADA",0]
[null,{"$f":"B23+PARÂMETROS!$C$8","v":{"v":4.664343848340695,"d":"4.66"}},{"v":2.1659885258699283E-5,"d":"2.17E-05"},{"$f":"PARÂMETROS!$Q$4/C24","v":{"v":4.6168296279333656E-10,"d":"4.62E-10"}},{"$f":"PARÂMETROS!$F$6/($C24+PARÂMETROS!$F$6)","v":{"v":0.9969637640004326,"d":"9.97E-01"}},{"$f":"$C24*PARÂMETROS!$F$6/($C24^2+$C24*PARÂMETROS!$F$6+PARÂMETROS!$F$6*PARÂMETROS!$G$6)","v":{"v":0.9940701522730935,"d":"9.94E-01"}},{"$f":"PARÂMETROS!$F$6*PARÂMETROS!$G$6/($C24^2+$C24*PARÂMETROS!$F$6+PARÂMETROS!$F$6*PARÂMETROS!$G$6)","v":{"v":2.9024241720965556E-3,"d":"2.90E-03"}},{"$f":"(PARÂMETROS!$F$6*$C24^2)/($C24^3+PARÂMETROS!$F$6*$C24^2+PARÂMETROS!$F$6*PARÂMETROS!$G$6*$C24+PARÂMETROS!$F$6*PARÂMETROS!$G$6*PARÂMETROS!$H$6)","v":{"v":0.9940701522135927,"d":"9.94E-01"}},{"$f":"(PARÂMETROS!$F$6*PARÂMETROS!$G$6*$C24)/($C24^3+PARÂMETROS!$F$6*$C24^2+PARÂMETROS!$F$6*PARÂMETROS!$G$6*$C24+PARÂMETROS!$F$6*PARÂMETROS!$G$6*PARÂMETROS!$H$6)","v":{"v":0.002902424171922829,"d":"2.90E-03"}},{"$f":"(PARÂMETROS!$F$6*PARÂMETROS!$G$6*PARÂMETROS!$H$6)/($C24^3+PARÂMETROS!$F$6*$C24^2+PARÂMETROS!$F$6*PARÂMETROS!$G$6*$C24+PARÂMETROS!$F$6*PARÂMETROS!$G$6*PARÂMETROS!$H$6)","v":{"v":5.985559201148444e-11,"d":"5.99E-11"}},{"$f":"$C24/($C24+PARÂMETROS!$J$6)","v":{"v":0.9999999953831703,"d":"1.00E+00"}},{"$f":"$C24*PARÂMETROS!$J$6/($C24^2+$C24*PARÂMETROS!$J$6+PARÂMETROS!$J$6*PARÂMETROS!$K$6)","v":{"v":4.61682960661825e-09,"d":"4.62E-09"}},{"$f":"$C24^2/($C24^2+$C24*PARÂMETROS!$J$6+PARÂMETROS!$J$6*PARÂMETROS!$K$6)","v":{"v":0.9999999953831703,"d":"1.00E+00"}},{"$f":"(PARÂMETROS!$K$6*PARÂMETROS!$J$6*$C24)/($C24^3+PARÂMETROS!$J$6*$C24^2+PARÂMETROS!$J$6*PARÂMETROS!$K$6*$C24+PARÂMETROS!$J$6*PARÂMETROS!$K$6*PARÂMETROS!$L$6)","v":{"v":0,"d":"0.00E+00"}},{"$f":"(PARÂMETROS!$J$6*$C24^2)/($C24^3+PARÂMETROS!$J$6*$C24^2+PARÂMETROS!$J$6*PARÂMETROS!$K$6*$C24+PARÂMETROS!$J$6*PARÂMETROS!$K$6*PARÂMETROS!$L$6)","v":{"v":4.61682960661825e-09,"d":"4.62E-09"}},{"$f":"($C24^3)/($C24^3+PARÂMETROS!$J$6*$C24^2+PARÂMETROS!$J$6*PARÂMETROS!$K$6*$C24+PARÂMETROS!$J$6*PARÂMETROS!$K$6*PARÂMETROS!$L$6)","v":{"v":0.9999999953831704,"d":"1.00E+00"}},{"$f":"IF(PARÂMETROS!$J$6<PARÂMETROS!$F$6,(E24-(C24-D24)/PARÂMETROS!$C$11)/(K24+(C24-D24)/PARÂMETROS!$C$14),(K24+(C24-D24)/PARÂMETROS!$C$14)/(E24-(C24-D24)/PARÂMETROS!$C$11))","v":{"v":0.9968122907254059,"d":"9.97E-01"}},{"$f":"IF(PARÂMETROS!$J$6<PARÂMETROS!$F$6,(E24-(C24-D24)/PARÂMETROS!$C$11)/(L24+2*M24+(C24-D24)/PARÂMETROS!$C$14),(L24+2*M24+(C24-D24)/PARÂMETROS!$C$14)/(E24-(C24-D24)/PARÂMETROS!$C$11))","v":{"v":0.4984169391682273,"d":"4.98E-01"}},{"$f":"IF(PARÂMETROS!$J$6<PARÂMETROS!$F$6, (E24-(C24-D24)/PARÂMETROS!$C$11)/(N24+2*O24+3*P24+(C24-D24)/PARÂMETROS!$C$14),(N24+2*O24+3*P24+(C24-D24)/PARÂMETROS!$C$14)/ (E24-(C24-D24)/PARÂMETROS!$C$11))","v":{"v":0.33228035813819673,"d":"3.32E-01"}},{"$f":"IF(PARÂMETROS!$J$6<PARÂMETROS!$F$6,(F24+2*G24-(C24-D24)/PARÂMETROS!$C$11)/(K24+(C24-D24)/PARÂMETROS!$C$14),(K24+(C24-D24)/PARÂMETROS!$C$14)/(F24+2*G24-(C24-D24)/PARÂMETROS!$C$11))","v":{"v":0.9997234012497482,"d":"1.00E+00"}},{"$f":"IF(PARÂMETROS!$J$6<PARÂMETROS!$F$6,(F24+2*G24-(C24-D24)/PARÂMETROS!$C$11)/(L24+2*M24+(C24-D24)/PARÂMETROS!$C$14),(L24+2*M24+(C24-D24)/PARÂMETROS!$C$14)/(F24+2*G24-(C24-D24)/PARÂMETROS!$C$11))","v":{"v":0.4998725259528437,"d":"5.00E-01"}},{"$f":"IF(PARÂMETROS!$J$6<PARÂMETROS!$F$6,(F24+2*G24-(C24-D24)/PARÂMETROS!$C$11)/(N24+2*O24+3*P24+(C24-D24)/PARÂMETROS!$C$14),(N24+2*O24+3*P24+(C24-D24)/PARÂMETROS!$C$14)/(F24+2*G24-(C24-D24)/PARÂMETROS!$C$11))","v":{"v":0.33325075633313106,"d":"3.33E-01"}},{"$f":"IF(PARÂMETROS!$J$6<PARÂMETROS!$F$6,(H24+2*I24+3*J24-(C24-D24)/PARÂMETROS!$C$11)/(K24+(C24-D24)/PARÂMETROS!$C$14),(K24+(C24-D24)/PARÂMETROS!$C$14)/(H24+2*I24+3*J24-(C24-D24)/PARÂMETROS!$C$11))","v":{"v":0.9997234013694616,"d":"1.00E+00"}},{"$f":"IF(PARÂMETROS!$J$6<PARÂMETROS!$F$6,(H24+2*I24+3*J24-(C24-D24)/PARÂMETROS!$C$11)/(L24+2*M24+(C24-D24)/PARÂMETROS!$C$14),(L24+2*M24+(C24-D24)/PARÂMETROS!$C$14)/(H24+2*I24+3*J24-(C24-D24)/PARÂMETROS!$C$11))","v":{"v":0.4998725260127017,"d":"5.00E-01"}},{"$f":"IF(PARÂMETROS!$J$6<PARÂMETROS!$F$6,(H24+2*I24+3*J24-(C24-D24)/PARÂMETROS!$C$11)/(N24+2*O24+3*P24+(C24-D24)/PARÂMETROS!$C$14),(N24+2*O24+3*P24+(C24-D24)/PARÂMETROS!$C$14)/(H24+2*I24+3*J24-(C24-D24)/PARÂMETROS!$C$11))","v":{"v":0.3332507563730367,"d":"3.33E-01"}},{"$f":"Q24*PARÂMETROS!$C$11*PARÂMETROS!$D$11/PARÂMETROS!$C$14","v":{"v":19.93624581450812,"d":"19.94"}},{"$f":"R24*PARÂMETROS!$C$11*PARÂMETROS!$D$11/PARÂMETROS!$C$14","v":{"v":9.968338783364548,"d":"9.97"}},{"$f":"S24*PARÂMETROS!$C$11*PARÂMETROS!$D$11/PARÂMETROS!$C$14","v":{"v":6.645607162763935,"d":"6.65"}},{"$f":"T24*PARÂMETROS!$C$11*PARÂMETROS!$D$11/PARÂMETROS!$C$14","v":{"v":19.994468024994966,"d":"19.99"}},{"$f":"U24*PARÂMETROS!$C$11*PARÂMETROS!$D$11/PARÂMETROS!$C$14","v":{"v":9.997450519056875,"d":"10.00"}},{"$f":"V24*PARÂMETROS!$C$11*PARÂMETROS!$D$11/PARÂMETROS!$C$14","v":{"v":6.665015126662621,"d":"6.67"}},{"$f":"W24*PARÂMETROS!$C$11*PARÂMETROS!$D$11/PARÂMETROS!$C$14","v":{"v":19.994468027389235,"d":"19.99"}},{"$f":"X24*PARÂMETROS!$C$11*PARÂMETROS!$D$11/PARÂMETROS!$C$14","v":{"v":9.997450520254034,"d":"10.00"}},{"$f":"Y24*PARÂMETROS!$C$11*PARÂMETROS!$D$11/PARÂMETROS!$C$14","v":{"v":6.665015127460734,"d":"6.67"}},{"$f":"AND(B24+PARÂMETROS!$C$8>=PARÂMETROS!$C$5,B24+PARÂMETROS!$C$8<=PARÂMETROS!$D$5)","v":true},1,{"$f":"VLOOKUP('BANCO DE DADOS COMPLETA'!$N$8,'BANCO DE DADOS COMPLETA'!$A$7:$L$249,3)*-1","v":3},7,{"$f":"VLOOKUP('BANCO DE DADOS COMPLETA'!$N$10,'BANCO DE DADOS COMPLETA'!$A$7:$L$249,3)*-1","v":1},11,77,{"v":19.994468027389235,"d":"19.99"},{"v":19.994468027389235,"d":"19.99"},{"v":4.664343848340695,"d":"4.66"},{"v":3.415021138079567,"d":"3.42"},{"v":8.901073243297855,"d":"8.90"},{"$f":"IF(AT23>0,IF(AT25<0,AQ24,\"NADA\"),\"NADA\")","v":"NADA"},"NADA",0]
[null,{"$f":"B24+PARÂMETROS!$C$8","v":{"v":4.864343848340695,"d":"4.86"}},{"v":1.3666463684574583E-5,"d":"1.37E-05"},{"$f":"PARÂMETROS!$Q$4/C25","v":{"v":7.317181848064366e-10,"d":"7.32E-10"}},{"$f":"PARÂMETROS!$F$6/($C25+PARÂMETROS!$F$6)","v":{"v":0.998082115605891,"d":"9.98E-01"}},{"$f":"$C25*PARÂMETROS!$F$6/($C25^2+$C25*PARÂMETROS!$F$6+PARÂMETROS!$F$6*PARÂMETROS!$G$6)","v":{"v":0.9934935686318839,"d":"9.93E-01"}},{"$f":"PARÂMETROS!$F$6*PARÂMETROS!$G$6/($C25^2+$C25*PARÂMETROS!$F$6+PARÂMETROS!$F$6*PARÂMETROS!$G$6)","v":{"v":0.004597364187035586,"d":"4.60E-03"}},{"$f":"(PARÂMETROS!$F$6*$C25^2)/($C25^3+PARÂMETROS!$F$6*$C25^2+PARÂMETROS!$F$6*PARÂMETROS!$G$6*$C25+PARÂMETROS!$F$6*PARÂMETROS!$G$6*PARÂMETROS!$H$6)","v":{"v":0.9934935684825982,"d":"9.93E-01"}},{"$f":"(PARÂMETROS!$F$6*PARÂMETROS!$G$6*$C25)/($C25^3+PARÂMETROS!$F$6*$C25^2+PARÂMETROS!$F$6*PARÂMETROS!$G$6*$C25+PARÂMETROS!$F$6*PARÂMETROS!$G$6*PARÂMETROS!$H$6)","v":{"v":0.004597364186344771,"d":"4.60E-03"}},{"$f":"(PARÂMETROS!$F$6*PARÂMETROS!$G$6*PARÂMETROS!$H$6)/($C25^3+PARÂMETROS!$F$6*$C25^2+PARÂMETROS!$F$6*PARÂMETROS!$G$6*$C25+PARÂMETROS!$F$6*PARÂMETROS!$G$6*PARÂMETROS!$H$6)","v":{"v":1.5026324267780695E-10,"d":"1.50E-10"}},{"$f":"$C25/($C25+PARÂMETROS!$J$6)","v":{"v":0.9999999926828183,"d":"1.00E+00"}},{"$f":"$C25*PARÂMETROS!$J$6/($C25^2+$C25*PARÂMETROS!$J$6+PARÂMETROS!$J$6*PARÂMETROS!$K$6)","v":{"v":7.3171817945232168E-9,"d":"7.32E-09"}},{"$f":"$C25^2/($C25^2+$C25*PARÂMETROS!$J$6+PARÂMETROS!$J$6*PARÂMETROS!$K$6)","v":{"v":0.9999999926828181,"d":"1.00E+00"}},{"$f":"(PARÂMETROS!$K$6*PARÂMETROS!$J$6*$C25)/($C25^3+PARÂMETROS!$J$6*$C25^2+PARÂMETROS!$J$6*PARÂMETROS!$K$6*$C25+PARÂMETROS!$J$6*PARÂMETROS!$K$6*PARÂMETROS!$L$6)","v":{"v":0,"d":"0.00E+00"}},{"$f":"(PARÂMETROS!$J$6*$C25^2)/($C25^3+PARÂMETROS!$J$6*$C25^2+PARÂMETROS!$J$6*PARÂMETROS!$K$6*$C25+PARÂMETROS!$J$6*PARÂMETROS!$K$6*PARÂMETROS!$L$6)","v":{"v":7.3171817945232168E-9,"d":"7.32E-09"}},{"$f":"($C25^3)/($C25^3+PARÂMETROS!$J$6*$C25^2+PARÂMETROS!$J$6*PARÂMETROS!$K$6*$C25+PARÂMETROS!$J$6*PARÂMETROS!$K$6*PARÂMETROS!$L$6)","v":{"v":0.9999999926828181,"d":"1.00E+00"}},{"$f":"IF(PARÂMETROS!$J$6<PARÂMETROS!$F$6,(E25-(C25-D25)/PARÂMETROS!$C$11)/(K25+(C25-D25)/PARÂMETROS!$C$14),(K25+(C25-D25)/PARÂMETROS!$C$14)/(E25-(C25-D25)/PARÂMETROS!$C$11))","v":{"v":0.9979865178159907,"d":"9.98E-01"}},{"$f":"IF(PARÂMETROS!$J$6<PARÂMETROS!$F$6,(E25-(C25-D25)/PARÂMETROS!$C$11)/(L25+2*M25+(C25-D25)/PARÂMETROS!$C$14),(L25+2*M25+(C25-D25)/PARÂMETROS!$C$14)/(E25-(C25-D25)/PARÂMETROS!$C$11))","v":{"v":0.4990000760973755,"d":"4.99E-01"}},{"$f":"IF(PARÂMETROS!$J$6<PARÂMETROS!$F$6, (E25-(C25-D25)/PARÂMETROS!$C$11)/(N25+2*O25+3*P25+(C25-D25)/PARÂMETROS!$C$14),(N25+2*O25+3*P25+(C25-D25)/PARÂMETROS!$C$14)/ (E25-(C25-D25)/PARÂMETROS!$C$11))","v":{"v":0.3326682323568196,"d":"3.33E-01"}},{"$f":"IF(PARÂMETROS!$J$6<PARÂMETROS!$F$6,(F25+2*G25-(C25-D25)/PARÂMETROS!$C$11)/(K25+(C25-D25)/PARÂMETROS!$C$14),(K25+(C25-D25)/PARÂMETROS!$C$14)/(F25+2*G25-(C25-D25)/PARÂMETROS!$C$11))","v":{"v":1.0025925733595171,"d":"1.00E+00"}},{"$f":"IF(PARÂMETROS!$J$6<PARÂMETROS!$F$6,(F25+2*G25-(C25-D25)/PARÂMETROS!$C$11)/(L25+2*M25+(C25-D25)/PARÂMETROS!$C$14),(L25+2*M25+(C25-D25)/PARÂMETROS!$C$14)/(F25+2*G25-(C25-D25)/PARÂMETROS!$C$11))","v":{"v":0.5013031353328432,"d":"5.01E-01"}},{"$f":"IF(PARÂMETROS!$J$6<PARÂMETROS!$F$6,(F25+2*G25-(C25-D25)/PARÂMETROS!$C$11)/(N25+2*O25+3*P25+(C25-D25)/PARÂMETROS!$C$14),(N25+2*O25+3*P25+(C25-D25)/PARÂMETROS!$C$14)/(F25+2*G25-(C25-D25)/PARÂMETROS!$C$11))","v":{"v":0.3342036121725264,"d":"3.34E-01"}},{"$f":"IF(PARÂMETROS!$J$6<PARÂMETROS!$F$6,(H25+2*I25+3*J25-(C25-D25)/PARÂMETROS!$C$11)/(K25+(C25-D25)/PARÂMETROS!$C$14),(K25+(C25-D25)/PARÂMETROS!$C$14)/(H25+2*I25+3*J25-(C25-D25)/PARÂMETROS!$C$11))","v":{"v":1.0025925736596313,"d":"1.00E+00"}},{"$f":"IF(PARÂMETROS!$J$6<PARÂMETROS!$F$6,(H25+2*I25+3*J25-(C25-D25)/PARÂMETROS!$C$11)/(L25+2*M25+(C25-D25)/PARÂMETROS!$C$14),(L25+2*M25+(C25-D25)/PARÂMETROS!$C$14)/(H25+2*I25+3*J25-(C25-D25)/PARÂMETROS!$C$11))","v":{"v":0.5013031354829024,"d":"5.01E-01"}},{"$f":"IF(PARÂMETROS!$J$6<PARÂMETROS!$F$6,(H25+2*I25+3*J25-(C25-D25)/PARÂMETROS!$C$11)/(N25+2*O25+3*P25+(C25-D25)/PARÂMETROS!$C$14),(N25+2*O25+3*P25+(C25-D25)/PARÂMETROS!$C$14)/(H25+2*I25+3*J25-(C25-D25)/PARÂMETROS!$C$11))","v":{"v":0.3342036122725663,"d":"3.34E-01"}},{"$f":"Q25*PARÂMETROS!$C$11*PARÂMETROS!$D$11/PARÂMETROS!$C$14","v":{"v":19.959730356319817,"d":"19.96"}},{"$f":"R25*PARÂMETROS!$C$11*PARÂMETROS!$D$11/PARÂMETROS!$C$14","v":{"v":9.98000152194751,"d":"9.98"}},{"$f":"S25*PARÂMETROS!$C$11*PARÂMETROS!$D$11/PARÂMETROS!$C$14","v":{"v":6.653364647136392,"d":"6.65"}},{"$f":"T25*PARÂMETROS!$C$11*PARÂMETROS!$D$11/PARÂMETROS!$C$14","v":{"v":20.051851467190343,"d":"20.05"}},{"$f":"U25*PARÂMETROS!$C$11*PARÂMETROS!$D$11/PARÂMETROS!$C$14","v":{"v":10.026062706656864,"d":"10.03"}},{"$f":"V25*PARÂMETROS!$C$11*PARÂMETROS!$D$11/PARÂMETROS!$C$14","v":{"v":6.684072243450529,"d":"6.68"}},{"$f":"W25*PARÂMETROS!$C$11*PARÂMETROS!$D$11/PARÂMETROS!$C$14","v":{"v":20.051851473192627,"d":"20.05"}},{"$f":"X25*PARÂMETROS!$C$11*PARÂMETROS!$D$11/PARÂMETROS!$C$14","v":{"v":10.02606270965805,"d":"10.03"}},{"$f":"Y25*PARÂMETROS!$C$11*PARÂMETROS!$D$11/PARÂMETROS!$C$14","v":{"v":6.684072245451326,"d":"6.68"}},{"$f":"AND(B25+PARÂMETROS!$C$8>=PARÂMETROS!$C$5,B25+PARÂMETROS!$C$8<=PARÂMETROS!$D$5)","v":true},1,{"$f":"VLOOKUP('BANCO DE DADOS COMPLETA'!$N$8,'BANCO DE DADOS COMPLETA'!$A$7:$L$249,3)*-1","v":3},7,{"$f":"VLOOKUP('BANCO DE DADOS COMPLETA'!$N$10,'BANCO DE DADOS COMPLETA'!$A$7:$L$249,3)*-1","v":1},11,77,{"v":20.051851473192627,"d":"20.05"},{"v":20.051851473192627,"d":"20.05"},{"v":4.864343848340695,"d":"4.86"},{"v":3.485325727653974,"d":"3.49"},{"v":1.2004582975030362,"d":"1.20"},{"$f":"IF(AT24>0,IF(AT26<0,AQ25,\"NADA\"),\"NADA\")","v":{"v":20.051851473192627,"d":"20.05"}},{"$f":"IF(AU24=\"NADA\",\"NADA\",IF(AU25=\"NADA\",\"NADA\",AVERAGE(AU25,AU24)))","v":"NADA"},0]
[null,{"$f":"B25+PARÂMETROS!$C$8","v":{"v":5.0643438483406955,"d":"5.06"}},{"v":8.6229556348541625E-6,"d":"8.62E-06"},{"$f":"PARÂMETROS!$Q$4/C26","v":{"v":1.1596951698997263E-9,"d":"1.16E-09"}},{"$f":"PARÂMETROS!$F$6/($C26+PARÂMETROS!$F$6)","v":{"v":0.9987890396607718,"d":"9.99E-01"}},{"$f":"$C26*PARÂMETROS!$F$6/($C26^2+$C26*PARÂMETROS!$F$6+PARÂMETROS!$F$6*PARÂMETROS!$G$6)","v":{"v":0.9915259450894766,"d":"9.92E-01"}},{"$f":"PARÂMETROS!$F$6*PARÂMETROS!$G$6/($C26^2+$C26*PARÂMETROS!$F$6+PARÂMETROS!$F$6*PARÂMETROS!$G$6)","v":{"v":0.007271900554457577,"d":"7.27E-03"}},{"$f":"(PARÂMETROS!$F$6*$C26^2)/($C26^3+PARÂMETROS!$F$6*$C26^2+PARÂMETROS!$F$6*PARÂMETROS!$G$6*$C26+PARÂMETROS!$F$6*PARÂMETROS!$G$6*PARÂMETROS!$H$6)","v":{"v":0.9915259447159719,"d":"9.92E-01"}},{"$f":"(PARÂMETROS!$F$6*PARÂMETROS!$G$6*$C26)/($C26^3+PARÂMETROS!$F$6*$C26^2+PARÂMETROS!$F$6*PARÂMETROS!$G$6*$C26+PARÂMETROS!$F$6*PARÂMETROS!$G$6*PARÂMETROS!$H$6)","v":{"v":7.271900551718273E-3,"d":"7.27E-03"}},{"$f":"(PARÂMETROS!$F$6*PARÂMETROS!$G$6*PARÂMETROS!$H$6)/($C26^3+PARÂMETROS!$F$6*$C26^2+PARÂMETROS!$F$6*PARÂMETROS!$G$6*$C26+PARÂMETROS!$F$6*PARÂMETROS!$G$6*PARÂMETROS!$H$6)","v":{"v":3.7669666849225494E-10,"d":"3.77E-10"}},{"$f":"$C26/($C26+PARÂMETROS!$J$6)","v":{"v":0.9999999884030485,"d":"1.00E+00"}},{"$f":"$C26*PARÂMETROS!$J$6/($C26^2+$C26*PARÂMETROS!$J$6+PARÂMETROS!$J$6*PARÂMETROS!$K$6)","v":{"v":1.1596951564507975E-8,"d":"1.16E-08"}},{"$f":"$C26^2/($C26^2+$C26*PARÂMETROS!$J$6+PARÂMETROS!$J$6*PARÂMETROS!$K$6)","v":{"v":0.9999999884030484,"d":"1.00E+00"}},{"$f":"(PARÂMETROS!$K$6*PARÂMETROS!$J$6*$C26)/($C26^3+PARÂMETROS!$J$6*$C26^2+PARÂMETROS!$J$6*PARÂMETROS!$K$6*$C26+PARÂMETROS!$J$6*PARÂMETROS!$K$6*PARÂMETROS!$L$6)","v":{"v":0,"d":"0.00E+00"}},{"$f":"(PARÂMETROS!$J$6*$C26^2)/($C26^3+PARÂMETROS!$J$6*$C26^2+PARÂMETROS!$J$6*PARÂMETROS!$K$6*$C26+PARÂMETROS!$J$6*PARÂMETROS!$K$6*PARÂMETROS!$L$6)","v":{"v":1.1596951564507975E-8,"d":"1.16E-08"}},{"$f":"($C26^3)/($C26^3+PARÂMETROS!$J$6*$C26^2+PARÂMETROS!$J$6*PARÂMETROS!$K$6*$C26+PARÂMETROS!$J$6*PARÂMETROS!$K$6*PARÂMETROS!$L$6)","v":{"v":0.9999999884030485,"d":"1.00E+00"}},{"$f":"IF(PARÂMETROS!$J$6<PARÂMETROS!$F$6,(E26-(C26-D26)/PARÂMETROS!$C$11)/(K26+(C26-D26)/PARÂMETROS!$C$14),(K26+(C26-D26)/PARÂMETROS!$C$14)/(E26-(C26-D26)/PARÂMETROS!$C$11))","v":{"v":0.9987287205928258,"d":"9.99E-01"}},{"$f":"IF(PARÂMETROS!$J$6<PARÂMETROS!$F$6,(E26-(C26-D26)/PARÂMETROS!$C$11)/(L26+2*M26+(C26-D26)/PARÂMETROS!$C$14),(L26+2*M26+(C26-D26)/PARÂMETROS!$C$14)/(E26-(C26-D26)/PARÂMETROS!$C$11))","v":{"v":0.4993686627814046,"d":"4.99E-01"}},{"$f":"IF(PARÂMETROS!$J$6<PARÂMETROS!$F$6, (E26-(C26-D26)/PARÂMETROS!$C$11)/(N26+2*O26+3*P26+(C26-D26)/PARÂMETROS!$C$14),(N26+2*O26+3*P26+(C26-D26)/PARÂMETROS!$C$14)/ (E26-(C26-D26)/PARÂMETROS!$C$11))","v":{"v":0.3329133979730294,"d":"3.33E-01"}},{"$f":"IF(PARÂMETROS!$J$6<PARÂMETROS!$F$6,(F26+2*G26-(C26-D26)/PARÂMETROS!$C$11)/(K26+(C26-D26)/PARÂMETROS!$C$14),(K26+(C26-D26)/PARÂMETROS!$C$14)/(F26+2*G26-(C26-D26)/PARÂMETROS!$C$11))","v":{"v":1.0060093016715095,"d":"1.01E+00"}},{"$f":"IF(PARÂMETROS!$J$6<PARÂMETROS!$F$6,(F26+2*G26-(C26-D26)/PARÂMETROS!$C$11)/(L26+2*M26+(C26-D26)/PARÂMETROS!$C$14),(L26+2*M26+(C26-D26)/PARÂMETROS!$C$14)/(F26+2*G26-(C26-D26)/PARÂMETROS!$C$11))","v":{"v":0.5030089846852103,"d":"5.03E-01"}},{"$f":"IF(PARÂMETROS!$J$6<PARÂMETROS!$F$6,(F26+2*G26-(C26-D26)/PARÂMETROS!$C$11)/(N26+2*O26+3*P26+(C26-D26)/PARÂMETROS!$C$14),(N26+2*O26+3*P26+(C26-D26)/PARÂMETROS!$C$14)/(F26+2*G26-(C26-D26)/PARÂMETROS!$C$11))","v":{"v":0.335340286212194,"d":"3.35E-01"}},{"$f":"IF(PARÂMETROS!$J$6<PARÂMETROS!$F$6,(H26+2*I26+3*J26-(C26-D26)/PARÂMETROS!$C$11)/(K26+(C26-D26)/PARÂMETROS!$C$14),(K26+(C26-D26)/PARÂMETROS!$C$14)/(H26+2*I26+3*J26-(C26-D26)/PARÂMETROS!$C$11))","v":{"v":1.0060093024226033,"d":"1.01E+00"}},{"$f":"IF(PARÂMETROS!$J$6<PARÂMETROS!$F$6,(H26+2*I26+3*J26-(C26-D26)/PARÂMETROS!$C$11)/(L26+2*M26+(C26-D26)/PARÂMETROS!$C$14),(L26+2*M26+(C26-D26)/PARÂMETROS!$C$14)/(H26+2*I26+3*J26-(C26-D26)/PARÂMETROS!$C$11))","v":{"v":0.5030089850607604,"d":"5.03E-01"}},{"$f":"IF(PARÂMETROS!$J$6<PARÂMETROS!$F$6,(H26+2*I26+3*J26-(C26-D26)/PARÂMETROS!$C$11)/(N26+2*O26+3*P26+(C26-D26)/PARÂMETROS!$C$14),(N26+2*O26+3*P26+(C26-D26)/PARÂMETROS!$C$14)/(H26+2*I26+3*J26-(C26-D26)/PARÂMETROS!$C$11))","v":{"v":0.33534028646256153,"d":"3.35E-01"}},{"$f":"Q26*PARÂMETROS!$C$11*PARÂMETROS!$D$11/PARÂMETROS!$C$14","v":{"v":19.974574411856516,"d":"19.97"}},{"$f":"R26*PARÂMETROS!$C$11*PARÂMETROS!$D$11/PARÂMETROS!$C$14","v":{"v":9.987373255628093,"d":"9.99"}},{"$f":"S26*PARÂMETROS!$C$11*PARÂMETROS!$D$11/PARÂMETROS!$C$14","v":{"v":6.658267959460589,"d":"6.66"}},{"$f":"T26*PARÂMETROS!$C$11*PARÂMETROS!$D$11/PARÂMETROS!$C$14","v":{"v":20.12018603343019,"d":"20.12"}},{"$f":"U26*PARÂMETROS!$C$11*PARÂMETROS!$D$11/PARÂMETROS!$C$14","v":{"v":10.060179693704207,"d":"10.06"}},{"$f":"V26*PARÂMETROS!$C$11*PARÂMETROS!$D$11/PARÂMETROS!$C$14","v":{"v":6.70680572424388,"d":"6.71"}},{"$f":"W26*PARÂMETROS!$C$11*PARÂMETROS!$D$11/PARÂMETROS!$C$14","v":{"v":20.12018604845207,"d":"20.12"}},{"$f":"X26*PARÂMETROS!$C$11*PARÂMETROS!$D$11/PARÂMETROS!$C$14","v":{"v":10.060179701215208,"d":"10.06"}},{"$f":"Y26*PARÂMETROS!$C$11*PARÂMETROS!$D$11/PARÂMETROS!$C$14","v":{"v":6.706805729251231,"d":"6.71"}},{"$f":"AND(B26+PARÂMETROS!$C$8>=PARÂMETROS!$C$5,B26+PARÂMETROS!$C$8<=PARÂMETROS!$D$5)","v":true},1,{"$f":"VLOOKUP('BANCO DE DADOS COMPLETA'!$N$8,'BANCO DE DADOS COMPLETA'!$A$7:$L$249,3)*-1","v":3},7,{"$f":"VLOOKUP('BANCO DE DADOS COMPLETA'!$N$10,'BANCO DE DADOS COMPLETA'!$A$7:$L$249,3)*-1","v":1},11,77,{"v":20.12018604845207,"d":"20.12"},{"v":20.12018604845207,"d":"20.12"},{"v":5.0643438483406955,"d":"5.06"},{"v":2.9267760755177243,"d":"2.93"},{"v":-9.733637363813234,"d":"-9.73"},{"$f":"IF(AT25>0,IF(AT27<0,AQ26,\"NADA\"),\"NADA\")","v":{"v":20.12018604845207,"d":"20.12"}},20.08601876082235,1]
[null,{"$f":"B26+PARÂMETROS!$C$8","v":{"v":5.264343848340696,"d":"5.26"}},{"v":5.4407171889381029E-6,"d":"5.44E-06"},{"$f":"PARÂMETROS!$Q$4/C27","v":{"v":1.83799298010411E-9,"d":"1.84E-09"}},{"$f":"PARÂMETROS!$F$6/($C27+PARÂMETROS!$F$6)","v":{"v":0.9992355940701225,"d":"9.99E-01"}},{"$f":"$C27*PARÂMETROS!$F$6/($C27^2+$C27*PARÂMETROS!$F$6+PARÂMETROS!$F$6*PARÂMETROS!$G$6)","v":{"v":0.9877629250315837,"d":"9.88E-01"}},{"$f":"PARÂMETROS!$F$6*PARÂMETROS!$G$6/($C27^2+$C27*PARÂMETROS!$F$6+PARÂMETROS!$F$6*PARÂMETROS!$G$6)","v":{"v":0.011481445523580576,"d":"1.15E-02"}},{"$f":"(PARÂMETROS!$F$6*$C27^2)/($C27^3+PARÂMETROS!$F$6*$C27^2+PARÂMETROS!$F$6*PARÂMETROS!$G$6*$C27+PARÂMETROS!$F$6*PARÂMETROS!$G$6*PARÂMETROS!$H$6)","v":{"v":0.9877629241004906,"d":"9.88E-01"}},{"$f":"(PARÂMETROS!$F$6*PARÂMETROS!$G$6*$C27)/($C27^3+PARÂMETROS!$F$6*$C27^2+PARÂMETROS!$F$6*PARÂMETROS!$G$6*$C27+PARÂMETROS!$F$6*PARÂMETROS!$G$6*PARÂMETROS!$H$6)","v":{"v":0.011481445512757843,"d":"1.15E-02"}},{"$f":"(PARÂMETROS!$F$6*PARÂMETROS!$G$6*PARÂMETROS!$H$6)/($C27^3+PARÂMETROS!$F$6*$C27^2+PARÂMETROS!$F$6*PARÂMETROS!$G$6*$C27+PARÂMETROS!$F$6*PARÂMETROS!$G$6*PARÂMETROS!$H$6)","v":{"v":9.426281768792306E-10,"d":"9.43E-10"}},{"$f":"$C27/($C27+PARÂMETROS!$J$6)","v":{"v":0.9999999816200705,"d":"1.00E+00"}},{"$f":"$C27*PARÂMETROS!$J$6/($C27^2+$C27*PARÂMETROS!$J$6+PARÂMETROS!$J$6*PARÂMETROS!$K$6)","v":{"v":1.8379929463219287E-8,"d":"1.84E-08"}},{"$f":"$C27^2/($C27^2+$C27*PARÂMETROS!$J$6+PARÂMETROS!$J$6*PARÂMETROS!$K$6)","v":{"v":0.9999999816200704,"d":"1.00E+00"}},{"$f":"(PARÂMETROS!$K$6*PARÂMETROS!$J$6*$C27)/($C27^3+PARÂMETROS!$J$6*$C27^2+PARÂMETROS!$J$6*PARÂMETROS!$K$6*$C27+PARÂMETROS!$J$6*PARÂMETROS!$K$6*PARÂMETROS!$L$6)","v":{"v":0,"d":"0.00E+00"}},{"$f":"(PARÂMETROS!$J$6*$C27^2)/($C27^3+PARÂMETROS!$J$6*$C27^2+PARÂMETROS!$J$6*PARÂMETROS!$K$6*$C27+PARÂMETROS!$J$6*PARÂMETROS!$K$6*PARÂMETROS!$L$6)","v":{"v":1.837992946321929E-8,"d":"1.84E-08"}},{"$f":"($C27^3)/($C27^3+PARÂMETROS!$J$6*$C27^2+PARÂMETROS!$J$6*PARÂMETROS!$K$6*$C27+PARÂMETROS!$J$6*PARÂMETROS!$K$6*PARÂMETROS!$L$6)","v":{"v":0.9999999816200705,"d":"1.00E+00"}},{"$f":"IF(PARÂMETROS!$J$6<PARÂMETROS!$F$6,(E27-(C27-D27)/PARÂMETROS!$C$11)/(K27+(C27-D27)/PARÂMETROS!$C$14),(K27+(C27-D27)/PARÂMETROS!$C$14)/(E27-(C27-D27)/PARÂMETROS!$C$11))","v":{"v":0.9991975490097993,"d":"9.99E-01"}},{"$f":"IF(PARÂMETROS!$J$6<PARÂMETROS!$F$6,(E27-(C27-D27)/PARÂMETROS!$C$11)/(L27+2*M27+(C27-D27)/PARÂMETROS!$C$14),(L27+2*M27+(C27-D27)/PARÂMETROS!$C$14)/(E27-(C27-D27)/PARÂMETROS!$C$11))","v":{"v":0.49960148715625674,"d":"5.00E-01"}},{"$f":"IF(PARÂMETROS!$J$6<PARÂMETROS!$F$6, (E27-(C27-D27)/PARÂMETROS!$C$11)/(N27+2*O27+3*P27+(C27-D27)/PARÂMETROS!$C$14),(N27+2*O27+3*P27+(C27-D27)/PARÂMETROS!$C$14)/ (E27-(C27-D27)/PARÂMETROS!$C$11))","v":{"v":0.3330682609199479,"d":"3.33E-01"}},{"$f":"IF(PARÂMETROS!$J$6<PARÂMETROS!$F$6,(F27+2*G27-(C27-D27)/PARÂMETROS!$C$11)/(K27+(C27-D27)/PARÂMETROS!$C$14),(K27+(C27-D27)/PARÂMETROS!$C$14)/(F27+2*G27-(C27-D27)/PARÂMETROS!$C$11))","v":{"v":1.0106876462431074,"d":"1.01E+00"}},{"$f":"IF(PARÂMETROS!$J$6<PARÂMETROS!$F$6,(F27+2*G27-(C27-D27)/PARÂMETROS!$C$11)/(L27+2*M27+(C27-D27)/PARÂMETROS!$C$14),(L27+2*M27+(C27-D27)/PARÂMETROS!$C$14)/(F27+2*G27-(C27-D27)/PARÂMETROS!$C$11))","v":{"v":0.5053465669665699,"d":"5.05E-01"}},{"$f":"IF(PARÂMETROS!$J$6<PARÂMETROS!$F$6,(F27+2*G27-(C27-D27)/PARÂMETROS!$C$11)/(N27+2*O27+3*P27+(C27-D27)/PARÂMETROS!$C$14),(N27+2*O27+3*P27+(C27-D27)/PARÂMETROS!$C$14)/(F27+2*G27-(C27-D27)/PARÂMETROS!$C$11))","v":{"v":0.3368983210587978,"d":"3.37E-01"}},{"$f":"IF(PARÂMETROS!$J$6<PARÂMETROS!$F$6,(H27+2*I27+3*J27-(C27-D27)/PARÂMETROS!$C$11)/(K27+(C27-D27)/PARÂMETROS!$C$14),(K27+(C27-D27)/PARÂMETROS!$C$14)/(H27+2*I27+3*J27-(C27-D27)/PARÂMETROS!$C$11))","v":{"v":1.010687648118233,"d":"1.01E+00"}},{"$f":"IF(PARÂMETROS!$J$6<PARÂMETROS!$F$6,(H27+2*I27+3*J27-(C27-D27)/PARÂMETROS!$C$11)/(L27+2*M27+(C27-D27)/PARÂMETROS!$C$14),(L27+2*M27+(C27-D27)/PARÂMETROS!$C$14)/(H27+2*I27+3*J27-(C27-D27)/PARÂMETROS!$C$11))","v":{"v":0.5053465679041379,"d":"5.05E-01"}},{"$f":"IF(PARÂMETROS!$J$6<PARÂMETROS!$F$6,(H27+2*I27+3*J27-(C27-D27)/PARÂMETROS!$C$11)/(N27+2*O27+3*P27+(C27-D27)/PARÂMETROS!$C$14),(N27+2*O27+3*P27+(C27-D27)/PARÂMETROS!$C$14)/(H27+2*I27+3*J27-(C27-D27)/PARÂMETROS!$C$11))","v":{"v":0.33689832168384426,"d":"3.37E-01"}},{"$f":"Q27*PARÂMETROS!$C$11*PARÂMETROS!$D$11/PARÂMETROS!$C$14","v":{"v":19.983950980195985,"d":"19.98"}},{"$f":"R27*PARÂMETROS!$C$11*PARÂMETROS!$D$11/PARÂMETROS!$C$14","v":{"v":9.992029743125135,"d":"9.99"}},{"$f":"S27*PARÂMETROS!$C$11*PARÂMETROS!$D$11/PARÂMETROS!$C$14","v":{"v":6.6613652183989585,"d":"6.66"}},{"$f":"T27*PARÂMETROS!$C$11*PARÂMETROS!$D$11/PARÂMETROS!$C$14","v":{"v":20.21375292486215,"d":"20.21"}},{"$f":"U27*PARÂMETROS!$C$11*PARÂMETROS!$D$11/PARÂMETROS!$C$14","v":{"v":10.106931339331398,"d":"10.11"}},{"$f":"V27*PARÂMETROS!$C$11*PARÂMETROS!$D$11/PARÂMETROS!$C$14","v":{"v":6.7379664211759565,"d":"6.74"}},{"$f":"W27*PARÂMETROS!$C$11*PARÂMETROS!$D$11/PARÂMETROS!$C$14","v":{"v":20.213752962364662,"d":"20.21"}},{"$f":"X27*PARÂMETROS!$C$11*PARÂMETROS!$D$11/PARÂMETROS!$C$14","v":{"v":10.10693135808276,"d":"10.11"}},{"$f":"Y27*PARÂMETROS!$C$11*PARÂMETROS!$D$11/PARÂMETROS!$C$14","v":{"v":6.737966433676886,"d":"6.74"}},{"$f":"AND(B27+PARÂMETROS!$C$8>=PARÂMETROS!$C$5,B27+PARÂMETROS!$C$8<=PARÂMETROS!$D$5)","v":true},1,{"$f":"VLOOKUP('BANCO DE DADOS COMPLETA'!$N$8,'BANCO DE DADOS COMPLETA'!$A$7:$L$249,3)*-1","v":3},7,{"$f":"VLOOKUP('BANCO DE DADOS COMPLETA'!$N$10,'BANCO DE DADOS COMPLETA'!$A$7:$L$249,3)*-1","v":1},11,77,{"v":20.213752962364662,"d":"20.21"},{"v":20.213752962364662,"d":"20.21"},{"v":5.264343848340696,"d":"5.26"},{"v":2.1375077111855356,"d":"2.14"},{"v":-11.550058829452274,"d":"-11.55"},"NADA","NADA",0]
[null,{"$f":"B27+PARÂMETROS!$C$8","v":{"v":5.464343848340696,"d":"5.46"}},{"v":3.4328604696001273E-6,"d":"3.43E-06"},{"$f":"PARÂMETROS!$Q$4/C28","v":{"v":2.9130225619583188E-9,"d":"2.91E-09"}},{"$f":"PARÂMETROS!$F$6/($C28+PARÂMETROS!$F$6)","v":{"v":0.9995175563678056,"d":"1.00E+00"}},{"$f":"$C28*PARÂMETROS!$F$6/($C28^2+$C28*PARÂMETROS!$F$6+PARÂMETROS!$F$6*PARÂMETROS!$G$6)","v":{"v":0.9814457904817914,"d":"9.81E-01"}},{"$f":"PARÂMETROS!$F$6*PARÂMETROS!$G$6/($C28^2+$C28*PARÂMETROS!$F$6+PARÂMETROS!$F$6*PARÂMETROS!$G$6)","v":{"v":0.01808048870265574,"d":"1.81E-02"}},{"$f":"(PARÂMETROS!$F$6*$C28^2)/($C28^3+PARÂMETROS!$F$6*$C28^2+PARÂMETROS!$F$6*PARÂMETROS!$G$6*$C28+PARÂMETROS!$F$6*PARÂMETROS!$G$6*PARÂMETROS!$H$6)","v":{"v":0.9814457881728106,"d":"9.81E-01"}},{"$f":"(PARÂMETROS!$F$6*PARÂMETROS!$G$6*$C28)/($C28^3+PARÂMETROS!$F$6*$C28^2+PARÂMETROS!$F$6*PARÂMETROS!$G$6*$C28+PARÂMETROS!$F$6*PARÂMETROS!$G$6*PARÂMETROS!$H$6)","v":{"v":0.018080488660119007,"d":"1.81E-02"}},{"$f":"(PARÂMETROS!$F$6*PARÂMETROS!$G$6*PARÂMETROS!$H$6)/($C28^3+PARÂMETROS!$F$6*$C28^2+PARÂMETROS!$F$6*PARÂMETROS!$G$6*$C28+PARÂMETROS!$F$6*PARÂMETROS!$G$6*PARÂMETROS!$H$6)","v":{"v":2.3526320670666359E-9,"d":"2.35E-09"}},{"$f":"$C28/($C28+PARÂMETROS!$J$6)","v":{"v":0.9999999708697752,"d":"1.00E+00"}},{"$f":"$C28*PARÂMETROS!$J$6/($C28^2+$C28*PARÂMETROS!$J$6+PARÂMETROS!$J$6*PARÂMETROS!$K$6)","v":{"v":2.9130224771013168E-8,"d":"2.91E-08"}},{"$f":"$C28^2/($C28^2+$C28*PARÂMETROS!$J$6+PARÂMETROS!$J$6*PARÂMETROS!$K$6)","v":{"v":0.9999999708697752,"d":"1.00E+00"}},{"$f":"(PARÂMETROS!$K$6*PARÂMETROS!$J$6*$C28)/($C28^3+PARÂMETROS!$J$6*$C28^2+PARÂMETROS!$J$6*PARÂMETROS!$K$6*$C28+PARÂMETROS!$J$6*PARÂMETROS!$K$6*PARÂMETROS!$L$6)","v":{"v":0,"d":"0.00E+00"}},{"$f":"(PARÂMETROS!$J$6*$C28^2)/($C28^3+PARÂMETROS!$J$6*$C28^2+PARÂMETROS!$J$6*PARÂMETROS!$K$6*$C28+PARÂMETROS!$J$6*PARÂMETROS!$K$6*PARÂMETROS!$L$6)","v":{"v":2.9130224771013165E-8,"d":"2.91E-08"}},{"$f":"($C28^3)/($C28^3+PARÂMETROS!$J$6*$C28^2+PARÂMETROS!$J$6*PARÂMETROS!$K$6*$C28+PARÂMETROS!$J$6*PARÂMETROS!$K$6*PARÂMETROS!$L$6)","v":{"v":0.9999999708697752,"d":"1.00E+00"}},{"$f":"IF(PARÂMETROS!$J$6<PARÂMETROS!$F$6,(E28-(C28-D28)/PARÂMETROS!$C$11)/(K28+(C28-D28)/PARÂMETROS!$C$14),(K28+(C28-D28)/PARÂMETROS!$C$14)/(E28-(C28-D28)/PARÂMETROS!$C$11))","v":{"v":0.9994935793251416,"d":"9.99E-01"}},{"$f":"IF(PARÂMETROS!$J$6<PARÂMETROS!$F$6,(E28-(C28-D28)/PARÂMETROS!$C$11)/(L28+2*M28+(C28-D28)/PARÂMETROS!$C$14),(L28+2*M28+(C28-D28)/PARÂMETROS!$C$14)/(E28-(C28-D28)/PARÂMETROS!$C$11))","v":{"v":0.4997484964830986,"d":"5.00E-01"}},{"$f":"IF(PARÂMETROS!$J$6<PARÂMETROS!$F$6, (E28-(C28-D28)/PARÂMETROS!$C$11)/(N28+2*O28+3*P28+(C28-D28)/PARÂMETROS!$C$14),(N28+2*O28+3*P28+(C28-D28)/PARÂMETROS!$C$14)/ (E28-(C28-D28)/PARÂMETROS!$C$11))","v":{"v":0.33316604361724356,"d":"3.33E-01"}},{"$f":"IF(PARÂMETROS!$J$6<PARÂMETROS!$F$6,(F28+2*G28-(C28-D28)/PARÂMETROS!$C$11)/(K28+(C28-D28)/PARÂMETROS!$C$14),(K28+(C28-D28)/PARÂMETROS!$C$14)/(F28+2*G28-(C28-D28)/PARÂMETROS!$C$11))","v":{"v":1.017582667282136,"d":"1.02E+00"}},{"$f":"IF(PARÂMETROS!$J$6<PARÂMETROS!$F$6,(F28+2*G28-(C28-D28)/PARÂMETROS!$C$11)/(L28+2*M28+(C28-D28)/PARÂMETROS!$C$14),(L28+2*M28+(C28-D28)/PARÂMETROS!$C$14)/(F28+2*G28-(C28-D28)/PARÂMETROS!$C$11))","v":{"v":0.508793071352066,"d":"5.09E-01"}},{"$f":"IF(PARÂMETROS!$J$6<PARÂMETROS!$F$6,(F28+2*G28-(C28-D28)/PARÂMETROS!$C$11)/(N28+2*O28+3*P28+(C28-D28)/PARÂMETROS!$C$14),(N28+2*O28+3*P28+(C28-D28)/PARÂMETROS!$C$14)/(F28+2*G28-(C28-D28)/PARÂMETROS!$C$11))","v":{"v":0.33919576706113536,"d":"3.39E-01"}},{"$f":"IF(PARÂMETROS!$J$6<PARÂMETROS!$F$6,(H28+2*I28+3*J28-(C28-D28)/PARÂMETROS!$C$11)/(K28+(C28-D28)/PARÂMETROS!$C$14),(K28+(C28-D28)/PARÂMETROS!$C$14)/(H28+2*I28+3*J28-(C28-D28)/PARÂMETROS!$C$11))","v":{"v":1.017582671945946,"d":"1.02E+00"}},{"$f":"IF(PARÂMETROS!$J$6<PARÂMETROS!$F$6,(H28+2*I28+3*J28-(C28-D28)/PARÂMETROS!$C$11)/(L28+2*M28+(C28-D28)/PARÂMETROS!$C$14),(L28+2*M28+(C28-D28)/PARÂMETROS!$C$14)/(H28+2*I28+3*J28-(C28-D28)/PARÂMETROS!$C$11))","v":{"v":0.508793073683979,"d":"5.09E-01"}},{"$f":"IF(PARÂMETROS!$J$6<PARÂMETROS!$F$6,(H28+2*I28+3*J28-(C28-D28)/PARÂMETROS!$C$11)/(N28+2*O28+3*P28+(C28-D28)/PARÂMETROS!$C$14),(N28+2*O28+3*P28+(C28-D28)/PARÂMETROS!$C$14)/(H28+2*I28+3*J28-(C28-D28)/PARÂMETROS!$C$11))","v":{"v":0.3391957686157458,"d":"3.39E-01"}},{"$f":"Q28*PARÂMETROS!$C$11*PARÂMETROS!$D$11/PARÂMETROS!$C$14","v":{"v":19.989871586502833,"d":"19.99"}},{"$f":"R28*PARÂMETROS!$C$11*PARÂMETROS!$D$11/PARÂMETROS!$C$14","v":{"v":9.994969929661973,"d":"9.99"}},{"$f":"S28*PARÂMETROS!$C$11*PARÂMETROS!$D$11/PARÂMETROS!$C$14","v":{"v":6.663320872344872,"d":"6.66"}},{"$f":"T28*PARÂMETROS!$C$11*PARÂMETROS!$D$11/PARÂMETROS!$C$14","v":{"v":20.35165334564272,"d":"20.35"}},{"$f":"U28*PARÂMETROS!$C$11*PARÂMETROS!$D$11/PARÂMETROS!$C$14","v":{"v":10.17586142704132,"d":"10.18"}},{"$f":"V28*PARÂMETROS!$C$11*PARÂMETROS!$D$11/PARÂMETROS!$C$14","v":{"v":6.783915341222707,"d":"6.78"}},{"$f":"W28*PARÂMETROS!$C$11*PARÂMETROS!$D$11/PARÂMETROS!$C$14","v":{"v":20.35165343891892,"d":"20.35"}},{"$f":"X28*PARÂMETROS!$C$11*PARÂMETROS!$D$11/PARÂMETROS!$C$14","v":{"v":10.17586147367958,"d":"10.18"}},{"$f":"Y28*PARÂMETROS!$C$11*PARÂMETROS!$D$11/PARÂMETROS!$C$14","v":{"v":6.783915372314916,"d":"6.78"}},{"$f":"AND(B28+PARÂMETROS!$C$8>=PARÂMETROS!$C$5,B28+PARÂMETROS!$C$8<=PARÂMETROS!$D$5)","v":true},1,{"$f":"VLOOKUP('BANCO DE DADOS COMPLETA'!$N$8,'BANCO DE DADOS COMPLETA'!$A$7:$L$249,3)*-1","v":3},7,{"$f":"VLOOKUP('BANCO DE DADOS COMPLETA'!$N$10,'BANCO DE DADOS COMPLETA'!$A$7:$L$249,3)*-1","v":1},11,77,{"v":20.35165343891892,"d":"20.35"},{"v":20.35165343891892,"d":"20.35"},{"v":5.464343848340696,"d":"5.46"},{"v":1.4503213114082991,"d":"1.45"},{"v":-7.34433114272834,"d":"-7.34"},"NADA","NADA",0]
[null,{"$f":"B28+PARÂMETROS!$C$8","v":{"v":5.664343848340696,"d":"5.66"}},{"v":2.1659885258699222E-6,"d":"2.17E-06"},{"$f":"PARÂMETROS!$Q$4/C29","v":{"v":4.6168296279333784E-9,"d":"4.62E-09"}},{"$f":"PARÂMETROS!$F$6/($C29+PARÂMETROS!$F$6)","v":{"v":0.9996955444410076,"d":"1.00E+00"}},{"$f":"$C29*PARÂMETROS!$F$6/($C29^2+$C29*PARÂMETROS!$F$6+PARÂMETROS!$F$6*PARÂMETROS!$G$6)","v":{"v":0.9713434960536863,"d":"9.71E-01"}},{"$f":"PARÂMETROS!$F$6*PARÂMETROS!$G$6/($C29^2+$C29*PARÂMETROS!$F$6+PARÂMETROS!$F$6*PARÂMETROS!$G$6)","v":{"v":0.02836068295490367,"d":"2.84E-02"}},{"$f":"(PARÂMETROS!$F$6*$C29^2)/($C29^3+PARÂMETROS!$F$6*$C29^2+PARÂMETROS!$F$6*PARÂMETROS!$G$6*$C29+PARÂMETROS!$F$6*PARÂMETROS!$G$6*PARÂMETROS!$H$6)","v":{"v":0.9713434903725742,"d":"9.71E-01"}},{"$f":"(PARÂMETROS!$F$6*PARÂMETROS!$G$6*$C29)/($C29^3+PARÂMETROS!$F$6*$C29^2+PARÂMETROS!$F$6*PARÂMETROS!$G$6*$C29+PARÂMETROS!$F$6*PARÂMETROS!$G$6*PARÂMETROS!$H$6)","v":{"v":0.0283606827890301,"d":"2.84E-02"}},{"$f":"(PARÂMETROS!$F$6*PARÂMETROS!$G$6*PARÂMETROS!$H$6)/($C29^3+PARÂMETROS!$F$6*$C29^2+PARÂMETROS!$F$6*PARÂMETROS!$G$6*$C29+PARÂMETROS!$F$6*PARÂMETROS!$G$6*PARÂMETROS!$H$6)","v":{"v":5.8487159616738962E-9,"d":"5.85E-09"}},{"$f":"$C29/($C29+PARÂMETROS!$J$6)","v":{"v":0.9999999538317059,"d":"1.00E+00"}},{"$f":"$C29*PARÂMETROS!$J$6/($C29^2+$C29*PARÂMETROS!$J$6+PARÂMETROS!$J$6*PARÂMETROS!$K$6)","v":{"v":4.6168294147822305E-8,"d":"4.62E-08"}},{"$f":"$C29^2/($C29^2+$C29*PARÂMETROS!$J$6+PARÂMETROS!$J$6*PARÂMETROS!$K$6)","v":{"v":0.9999999538317058,"d":"1.00E+00"}},{"$f":"(PARÂMETROS!$K$6*PARÂMETROS!$J$6*$C29)/($C29^3+PARÂMETROS!$J$6*$C29^2+PARÂMETROS!$J$6*PARÂMETROS!$K$6*$C29+PARÂMETROS!$J$6*PARÂMETROS!$K$6*PARÂMETROS!$L$6)","v":{"v":0,"d":"0.00E+00"}},{"$f":"(PARÂMETROS!$J$6*$C29^2)/($C29^3+PARÂMETROS!$J$6*$C29^2+PARÂMETROS!$J$6*PARÂMETROS!$K$6*$C29+PARÂMETROS!$J$6*PARÂMETROS!$K$6*PARÂMETROS!$L$6)","v":{"v":4.6168294147822305E-8,"d":"4.62E-08"}},{"$f":"($C29^3)/($C29^3+PARÂMETROS!$J$6*$C29^2+PARÂMETROS!$J$6*PARÂMETROS!$K$6*$C29+PARÂMETROS!$J$6*PARÂMETROS!$K$6*PARÂMETROS!$L$6)","v":{"v":0.9999999538317059,"d":"1.00E+00"}},{"$f":"IF(PARÂMETROS!$J$6<PARÂMETROS!$F$6,(E29-(C29-D29)/PARÂMETROS!$C$11)/(K29+(C29-D29)/PARÂMETROS!$C$14),(K29+(C29-D29)/PARÂMETROS!$C$14)/(E29-(C29-D29)/PARÂMETROS!$C$11))","v":{"v":0.9996804623739546,"d":"1.00E+00"}},{"$f":"IF(PARÂMETROS!$J$6<PARÂMETROS!$F$6,(E29-(C29-D29)/PARÂMETROS!$C$11)/(L29+2*M29+(C29-D29)/PARÂMETROS!$C$14),(L29+2*M29+(C29-D29)/PARÂMETROS!$C$14)/(E29-(C29-D29)/PARÂMETROS!$C$11))","v":{"v":0.49984129998683496,"d":"5.00E-01"}},{"$f":"IF(PARÂMETROS!$J$6<PARÂMETROS!$F$6, (E29-(C29-D29)/PARÂMETROS!$C$11)/(N29+2*O29+3*P29+(C29-D29)/PARÂMETROS!$C$14),(N29+2*O29+3*P29+(C29-D29)/PARÂMETROS!$C$14)/ (E29-(C29-D29)/PARÂMETROS!$C$11))","v":{"v":0.33322777083631316,"d":"3.33E-01"}},{"$f":"IF(PARÂMETROS!$J$6<PARÂMETROS!$F$6,(F29+2*G29-(C29-D29)/PARÂMETROS!$C$11)/(K29+(C29-D29)/PARÂMETROS!$C$14),(K29+(C29-D29)/PARÂMETROS!$C$14)/(F29+2*G29-(C29-D29)/PARÂMETROS!$C$11))","v":{"v":1.0280496585734424,"d":"1.03E+00"}},{"$f":"IF(PARÂMETROS!$J$6<PARÂMETROS!$F$6,(F29+2*G29-(C29-D29)/PARÂMETROS!$C$11)/(L29+2*M29+(C29-D29)/PARÂMETROS!$C$14),(L29+2*M29+(C29-D29)/PARÂMETROS!$C$14)/(F29+2*G29-(C29-D29)/PARÂMETROS!$C$11))","v":{"v":0.5140259284172636,"d":"5.14E-01"}},{"$f":"IF(PARÂMETROS!$J$6<PARÂMETROS!$F$6,(F29+2*G29-(C29-D29)/PARÂMETROS!$C$11)/(N29+2*O29+3*P29+(C29-D29)/PARÂMETROS!$C$14),(N29+2*O29+3*P29+(C29-D29)/PARÂMETROS!$C$14)/(F29+2*G29-(C29-D29)/PARÂMETROS!$C$11))","v":{"v":0.3426841965301036,"d":"3.43E-01"}},{"$f":"IF(PARÂMETROS!$J$6<PARÂMETROS!$F$6,(H29+2*I29+3*J29-(C29-D29)/PARÂMETROS!$C$11)/(K29+(C29-D29)/PARÂMETROS!$C$14),(K29+(C29-D29)/PARÂMETROS!$C$14)/(H29+2*I29+3*J29-(C29-D29)/PARÂMETROS!$C$11))","v":{"v":1.028049670106682,"d":"1.03E+00"}},{"$f":"IF(PARÂMETROS!$J$6<PARÂMETROS!$F$6,(H29+2*I29+3*J29-(C29-D29)/PARÂMETROS!$C$11)/(L29+2*M29+(C29-D29)/PARÂMETROS!$C$14),(L29+2*M29+(C29-D29)/PARÂMETROS!$C$14)/(H29+2*I29+3*J29-(C29-D29)/PARÂMETROS!$C$11))","v":{"v":0.5140259341838956,"d":"5.14E-01"}},{"$f":"IF(PARÂMETROS!$J$6<PARÂMETROS!$F$6,(H29+2*I29+3*J29-(C29-D29)/PARÂMETROS!$C$11)/(N29+2*O29+3*P29+(C29-D29)/PARÂMETROS!$C$14),(N29+2*O29+3*P29+(C29-D29)/PARÂMETROS!$C$14)/(H29+2*I29+3*J29-(C29-D29)/PARÂMETROS!$C$11))","v":{"v":0.34268420037452774,"d":"3.43E-01"}},{"$f":"Q29*PARÂMETROS!$C$11*PARÂMETROS!$D$11/PARÂMETROS!$C$14","v":{"v":19.993609247479093,"d":"19.99"}},{"$f":"R29*PARÂMETROS!$C$11*PARÂMETROS!$D$11/PARÂMETROS!$C$14","v":{"v":9.9968259997367,"d":"10.00"}},{"$f":"S29*PARÂMETROS!$C$11*PARÂMETROS!$D$11/PARÂMETROS!$C$14","v":{"v":6.664555416726263,"d":"6.66"}},{"$f":"T29*PARÂMETROS!$C$11*PARÂMETROS!$D$11/PARÂMETROS!$C$14","v":{"v":20.56099317146885,"d":"20.56"}},{"$f":"U29*PARÂMETROS!$C$11*PARÂMETROS!$D$11/PARÂMETROS!$C$14","v":{"v":10.280518568345272,"d":"10.28"}},{"$f":"V29*PARÂMETROS!$C$11*PARÂMETROS!$D$11/PARÂMETROS!$C$14","v":{"v":6.853683930602072,"d":"6.85"}},{"$f":"W29*PARÂMETROS!$C$11*PARÂMETROS!$D$11/PARÂMETROS!$C$14","v":{"v":20.56099340213364,"d":"20.56"}},{"$f":"X29*PARÂMETROS!$C$11*PARÂMETROS!$D$11/PARÂMETROS!$C$14","v":{"v":10.280518683677913,"d":"10.28"}},{"$f":"Y29*PARÂMETROS!$C$11*PARÂMETROS!$D$11/PARÂMETROS!$C$14","v":{"v":6.853684007490555,"d":"6.85"}},{"$f":"AND(B29+PARÂMETROS!$C$8>=PARÂMETROS!$C$5,B29+PARÂMETROS!$C$8<=PARÂMETROS!$D$5)","v":true},1,{"$f":"VLOOKUP('BANCO DE DADOS COMPLETA'!$N$8,'BANCO DE DADOS COMPLETA'!$A$7:$L$249,3)*-1","v":3},7,{"$f":"VLOOKUP('BANCO DE DADOS COMPLETA'!$N$10,'BANCO DE DADOS COMPLETA'!$A$7:$L$249,3)*-1","v":1},11,77,{"v":20.56099340213364,"d":"20.56"},{"v":20.56099340213364,"d":"20.56"},{"v":5.664343848340696,"d":"5.66"},{"v":0.9553837543902681,"d":"0.96"},{"v":-3.5890924337980494,"d":"-3.59"},"NADA","NADA",0]
[null,{"$f":"B29+PARÂMETROS!$C$8","v":{"v":5.864343848340696,"d":"5.86"}},{"v":1.3666463684574546E-6,"d":"1.37E-06"},{"$f":"PARÂMETROS!$Q$4/C30","v":{"v":7.3171818480643861E-9,"d":"7.32E-09"}},{"$f":"PARÂMETROS!$F$6/($C30+PARÂMETROS!$F$6)","v":{"v":0.9998078799429359,"d":"1.00E+00"}},{"$f":"$C30*PARÂMETROS!$F$6/($C30^2+$C30*PARÂMETROS!$F$6+PARÂMETROS!$F$6*PARÂMETROS!$G$6)","v":{"v":0.9555964140289784,"d":"9.56E-01"}},{"$f":"PARÂMETROS!$F$6*PARÂMETROS!$G$6/($C30^2+$C30*PARÂMETROS!$F$6+PARÂMETROS!$F$6*PARÂMETROS!$G$6)","v":{"v":0.04421996145547547,"d":"4.42E-02"}},{"$f":"(PARÂMETROS!$F$6*$C30^2)/($C30^3+PARÂMETROS!$F$6*$C30^2+PARÂMETROS!$F$6*PARÂMETROS!$G$6*$C30+PARÂMETROS!$F$6*PARÂMETROS!$G$6*PARÂMETROS!$H$6)","v":{"v":0.95559640021761,"d":"9.56E-01"}},{"$f":"(PARÂMETROS!$F$6*PARÂMETROS!$G$6*$C30)/($C30^3+PARÂMETROS!$F$6*$C30^2+PARÂMETROS!$F$6*PARÂMETROS!$G$6*$C30+PARÂMETROS!$F$6*PARÂMETROS!$G$6*PARÂMETROS!$H$6)","v":{"v":0.04421996081635819,"d":"4.42E-02"}},{"$f":"(PARÂMETROS!$F$6*PARÂMETROS!$G$6*PARÂMETROS!$H$6)/($C30^3+PARÂMETROS!$F$6*$C30^2+PARÂMETROS!$F$6*PARÂMETROS!$G$6*$C30+PARÂMETROS!$F$6*PARÂMETROS!$G$6*PARÂMETROS!$H$6)","v":{"v":1.4453139742741412E-8,"d":"1.45E-08"}},{"$f":"$C30/($C30+PARÂMETROS!$J$6)","v":{"v":0.999999926828187,"d":"1.00E+00"}},{"$f":"$C30*PARÂMETROS!$J$6/($C30^2+$C30*PARÂMETROS!$J$6+PARÂMETROS!$J$6*PARÂMETROS!$K$6)","v":{"v":7.3171813126529237E-8,"d":"7.32E-08"}},{"$f":"$C30^2/($C30^2+$C30*PARÂMETROS!$J$6+PARÂMETROS!$J$6*PARÂMETROS!$K$6)","v":{"v":0.9999999268281868,"d":"1.00E+00"}},{"$f":"(PARÂMETROS!$K$6*PARÂMETROS!$J$6*$C30)/($C30^3+PARÂMETROS!$J$6*$C30^2+PARÂMETROS!$J$6*PARÂMETROS!$K$6*$C30+PARÂMETROS!$J$6*PARÂMETROS!$K$6*PARÂMETROS!$L$6)","v":{"v":0,"d":"0.00E+00"}},{"$f":"(PARÂMETROS!$J$6*$C30^2)/($C30^3+PARÂMETROS!$J$6*$C30^2+PARÂMETROS!$J$6*PARÂMETROS!$K$6*$C30+PARÂMETROS!$J$6*PARÂMETROS!$K$6*PARÂMETROS!$L$6)","v":{"v":7.3171813126529237E-8,"d":"7.32E-08"}},{"$f":"($C30^3)/($C30^3+PARÂMETROS!$J$6*$C30^2+PARÂMETROS!$J$6*PARÂMETROS!$K$6*$C30+PARÂMETROS!$J$6*PARÂMETROS!$K$6*PARÂMETROS!$L$6)","v":{"v":0.9999999268281868,"d":"1.00E+00"}},{"$f":"IF(PARÂMETROS!$J$6<PARÂMETROS!$F$6,(E30-(C30-D30)/PARÂMETROS!$C$11)/(K30+(C30-D30)/PARÂMETROS!$C$14),(K30+(C30-D30)/PARÂMETROS!$C$14)/(E30-(C30-D30)/PARÂMETROS!$C$11))","v":{"v":0.9997984383436712,"d":"1.00E+00"}},{"$f":"IF(PARÂMETROS!$J$6<PARÂMETROS!$F$6,(E30-(C30-D30)/PARÂMETROS!$C$11)/(L30+2*M30+(C30-D30)/PARÂMETROS!$C$14),(L30+2*M30+(C30-D30)/PARÂMETROS!$C$14)/(E30-(C30-D30)/PARÂMETROS!$C$11))","v":{"v":0.4998998804092939,"d":"5.00E-01"}},{"$f":"IF(PARÂMETROS!$J$6<PARÂMETROS!$F$6, (E30-(C30-D30)/PARÂMETROS!$C$11)/(N30+2*O30+3*P30+(C30-D30)/PARÂMETROS!$C$14),(N30+2*O30+3*P30+(C30-D30)/PARÂMETROS!$C$14)/ (E30-(C30-D30)/PARÂMETROS!$C$11))","v":{"v":0.33326673388144584,"d":"3.33E-01"}},{"$f":"IF(PARÂMETROS!$J$6<PARÂMETROS!$F$6,(F30+2*G30-(C30-D30)/PARÂMETROS!$C$11)/(K30+(C30-D30)/PARÂMETROS!$C$14),(K30+(C30-D30)/PARÂMETROS!$C$14)/(F30+2*G30-(C30-D30)/PARÂMETROS!$C$11))","v":{"v":1.044026778335186,"d":"1.04E+00"}},{"$f":"IF(PARÂMETROS!$J$6<PARÂMETROS!$F$6,(F30+2*G30-(C30-D30)/PARÂMETROS!$C$11)/(L30+2*M30+(C30-D30)/PARÂMETROS!$C$14),(L30+2*M30+(C30-D30)/PARÂMETROS!$C$14)/(F30+2*G30-(C30-D30)/PARÂMETROS!$C$11))","v":{"v":0.5220140796563824,"d":"5.22E-01"}},{"$f":"IF(PARÂMETROS!$J$6<PARÂMETROS!$F$6,(F30+2*G30-(C30-D30)/PARÂMETROS!$C$11)/(N30+2*O30+3*P30+(C30-D30)/PARÂMETROS!$C$14),(N30+2*O30+3*P30+(C30-D30)/PARÂMETROS!$C$14)/(F30+2*G30-(C30-D30)/PARÂMETROS!$C$11))","v":{"v":0.34800953987981204,"d":"3.48E-01"}},{"$f":"IF(PARÂMETROS!$J$6<PARÂMETROS!$F$6,(H30+2*I30+3*J30-(C30-D30)/PARÂMETROS!$C$11)/(K30+(C30-D30)/PARÂMETROS!$C$14),(K30+(C30-D30)/PARÂMETROS!$C$14)/(H30+2*I30+3*J30-(C30-D30)/PARÂMETROS!$C$11))","v":{"v":1.0440268066049272,"d":"1.04E+00"}},{"$f":"IF(PARÂMETROS!$J$6<PARÂMETROS!$F$6,(H30+2*I30+3*J30-(C30-D30)/PARÂMETROS!$C$11)/(L30+2*M30+(C30-D30)/PARÂMETROS!$C$14),(L30+2*M30+(C30-D30)/PARÂMETROS!$C$14)/(H30+2*I30+3*J30-(C30-D30)/PARÂMETROS!$C$11))","v":{"v":0.5220140937912716,"d":"5.22E-01"}},{"$f":"IF(PARÂMETROS!$J$6<PARÂMETROS!$F$6,(H30+2*I30+3*J30-(C30-D30)/PARÂMETROS!$C$11)/(N30+2*O30+3*P30+(C30-D30)/PARÂMETROS!$C$14),(N30+2*O30+3*P30+(C30-D30)/PARÂMETROS!$C$14)/(H30+2*I30+3*J30-(C30-D30)/PARÂMETROS!$C$11))","v":{"v":0.34800954930307576,"d":"3.48E-01"}},{"$f":"Q30*PARÂMETROS!$C$11*PARÂMETROS!$D$11/PARÂMETROS!$C$14","v":{"v":19.995968766873425,"d":"20.00"}},{"$f":"R30*PARÂMETROS!$C$11*PARÂMETROS!$D$11/PARÂMETROS!$C$14","v":{"v":9.997997608185878,"d":"10.00"}},{"$f":"S30*PARÂMETROS!$C$11*PARÂMETROS!$D$11/PARÂMETROS!$C$14","v":{"v":6.665334677628917,"d":"6.67"}},{"$f":"T30*PARÂMETROS!$C$11*PARÂMETROS!$D$11/PARÂMETROS!$C$14","v":{"v":20.88053556670372,"d":"20.88"}},{"$f":"U30*PARÂMETROS!$C$11*PARÂMETROS!$D$11/PARÂMETROS!$C$14","v":{"v":10.440281593127649,"d":"10.44"}},{"$f":"V30*PARÂMETROS!$C$11*PARÂMETROS!$D$11/PARÂMETROS!$C$14","v":{"v":6.960190797596241,"d":"6.96"}},{"$f":"W30*PARÂMETROS!$C$11*PARÂMETROS!$D$11/PARÂMETROS!$C$14","v":{"v":20.880536132098545,"d":"20.88"}},{"$f":"X30*PARÂMETROS!$C$11*PARÂMETROS!$D$11/PARÂMETROS!$C$14","v":{"v":10.440281875825432,"d":"10.44"}},{"$f":"Y30*PARÂMETROS!$C$11*PARÂMETROS!$D$11/PARÂMETROS!$C$14","v":{"v":6.960190986061515,"d":"6.96"}},{"$f":"AND(B30+PARÂMETROS!$C$8>=PARÂMETROS!$C$5,B30+PARÂMETROS!$C$8<=PARÂMETROS!$D$5)","v":true},1,{"$f":"VLOOKUP('BANCO DE DADOS COMPLETA'!$N$8,'BANCO DE DADOS COMPLETA'!$A$7:$L$249,3)*-1","v":3},7,{"$f":"VLOOKUP('BANCO DE DADOS COMPLETA'!$N$10,'BANCO DE DADOS COMPLETA'!$A$7:$L$249,3)*-1","v":1},11,77,{"v":20.880536132098545,"d":"20.88"},{"v":20.880536132098545,"d":"20.88"},{"v":5.864343848340696,"d":"5.86"},{"v":0.6258943835835855,"d":"0.63"},{"v":-1.5739439605648768,"d":"-1.57"},"NADA","NADA",0]
[null,{"$f":"B30+PARÂMETROS!$C$8","v":{"v":6.064343848340696,"d":"6.06"}},{"v":8.622955634854154E-7,"d":"8.62E-07"},{"$f":"PARÂMETROS!$Q$4/C31","v":{"v":1.1596951698997274E-8,"d":"1.16E-08"}},{"$f":"PARÂMETROS!$F$6/($C31+PARÂMETROS!$F$6)","v":{"v":0.999878771843837,"d":"1.00E+00"}},{"$f":"$C31*PARÂMETROS!$F$6/($C31^2+$C31*PARÂMETROS!$F$6+PARÂMETROS!$F$6*PARÂMETROS!$G$6)","v":{"v":0.9315655723221823,"d":"9.32E-01"}},{"$f":"PARÂMETROS!$F$6*PARÂMETROS!$G$6/($C31^2+$C31*PARÂMETROS!$F$6+PARÂMETROS!$F$6*PARÂMETROS!$G$6)","v":{"v":0.06832148200894488,"d":"6.83E-02"}},{"$f":"(PARÂMETROS!$F$6*$C31^2)/($C31^3+PARÂMETROS!$F$6*$C31^2+PARÂMETROS!$F$6*PARÂMETROS!$G$6*$C31+PARÂMETROS!$F$6*PARÂMETROS!$G$6*PARÂMETROS!$H$6)","v":{"v":0.9315655393525168,"d":"9.32E-01"}},{"$f":"(PARÂMETROS!$F$6*PARÂMETROS!$G$6*$C31)/($C31^3+PARÂMETROS!$F$6*$C31^2+PARÂMETROS!$F$6*PARÂMETROS!$G$6*$C31+PARÂMETROS!$F$6*PARÂMETROS!$G$6*PARÂMETROS!$H$6)","v":{"v":0.06832147959093322,"d":"6.83E-02"}},{"$f":"(PARÂMETROS!$F$6*PARÂMETROS!$G$6*PARÂMETROS!$H$6)/($C31^3+PARÂMETROS!$F$6*$C31^2+PARÂMETROS!$F$6*PARÂMETROS!$G$6*$C31+PARÂMETROS!$F$6*PARÂMETROS!$G$6*PARÂMETROS!$H$6)","v":{"v":3.5391674522123244E-8,"d":"3.54E-08"}},{"$f":"$C31/($C31+PARÂMETROS!$J$6)","v":{"v":0.9999998840304964,"d":"1.00E+00"}},{"$f":"$C31*PARÂMETROS!$J$6/($C31^2+$C31*PARÂMETROS!$J$6+PARÂMETROS!$J$6*PARÂMETROS!$K$6)","v":{"v":1.1596950354104541E-7,"d":"1.16E-07"}},{"$f":"$C31^2/($C31^2+$C31*PARÂMETROS!$J$6+PARÂMETROS!$J$6*PARÂMETROS!$K$6)","v":{"v":0.9999998840304964,"d":"1.00E+00"}},{"$f":"(PARÂMETROS!$K$6*PARÂMETROS!$J$6*$C31)/($C31^3+PARÂMETROS!$J$6*$C31^2+PARÂMETROS!$J$6*PARÂMETROS!$K$6*$C31+PARÂMETROS!$J$6*PARÂMETROS!$K$6*PARÂMETROS!$L$6)","v":{"v":0,"d":"0.00E+00"}},{"$f":"(PARÂMETROS!$J$6*$C31^2)/($C31^3+PARÂMETROS!$J$6*$C31^2+PARÂMETROS!$J$6*PARÂMETROS!$K$6*$C31+PARÂMETROS!$J$6*PARÂMETROS!$K$6*PARÂMETROS!$L$6)","v":{"v":1.1596950354104544E-7,"d":"1.16E-07"}},{"$f":"($C31^3)/($C31^3+PARÂMETROS!$J$6*$C31^2+PARÂMETROS!$J$6*PARÂMETROS!$K$6*$C31+PARÂMETROS!$J$6*PARÂMETROS!$K$6*PARÂMETROS!$L$6)","v":{"v":0.9999998840304964,"d":"1.00E+00"}},{"$f":"IF(PARÂMETROS!$J$6<PARÂMETROS!$F$6,(E31-(C31-D31)/PARÂMETROS!$C$11)/(K31+(C31-D31)/PARÂMETROS!$C$14),(K31+(C31-D31)/PARÂMETROS!$C$14)/(E31-(C31-D31)/PARÂMETROS!$C$11))","v":{"v":0.9998729331245134,"d":"1.00E+00"}},{"$f":"IF(PARÂMETROS!$J$6<PARÂMETROS!$F$6,(E31-(C31-D31)/PARÂMETROS!$C$11)/(L31+2*M31+(C31-D31)/PARÂMETROS!$C$14),(L31+2*M31+(C31-D31)/PARÂMETROS!$C$14)/(E31-(C31-D31)/PARÂMETROS!$C$11))","v":{"v":0.4999368628685087,"d":"5.00E-01"}},{"$f":"IF(PARÂMETROS!$J$6<PARÂMETROS!$F$6, (E31-(C31-D31)/PARÂMETROS!$C$11)/(N31+2*O31+3*P31+(C31-D31)/PARÂMETROS!$C$14),(N31+2*O31+3*P31+(C31-D31)/PARÂMETROS!$C$14)/ (E31-(C31-D31)/PARÂMETROS!$C$11))","v":{"v":0.33329132998048827,"d":"3.33E-01"}},{"$f":"IF(PARÂMETROS!$J$6<PARÂMETROS!$F$6,(F31+2*G31-(C31-D31)/PARÂMETROS!$C$11)/(K31+(C31-D31)/PARÂMETROS!$C$14),(K31+(C31-D31)/PARÂMETROS!$C$14)/(F31+2*G31-(C31-D31)/PARÂMETROS!$C$11))","v":{"v":1.0682025892890175,"d":"1.07E+00"}},{"$f":"IF(PARÂMETROS!$J$6<PARÂMETROS!$F$6,(F31+2*G31-(C31-D31)/PARÂMETROS!$C$11)/(L31+2*M31+(C31-D31)/PARÂMETROS!$C$14),(L31+2*M31+(C31-D31)/PARÂMETROS!$C$14)/(F31+2*G31-(C31-D31)/PARÂMETROS!$C$11))","v":{"v":0.5341017180336719,"d":"5.34E-01"}},{"$f":"IF(PARÂMETROS!$J$6<PARÂMETROS!$F$6,(F31+2*G31-(C31-D31)/PARÂMETROS!$C$11)/(N31+2*O31+3*P31+(C31-D31)/PARÂMETROS!$C$14),(N31+2*O31+3*P31+(C31-D31)/PARÂMETROS!$C$14)/(F31+2*G31-(C31-D31)/PARÂMETROS!$C$11))","v":{"v":0.3560679061090282,"d":"3.56E-01"}},{"$f":"IF(PARÂMETROS!$J$6<PARÂMETROS!$F$6,(H31+2*I31+3*J31-(C31-D31)/PARÂMETROS!$C$11)/(K31+(C31-D31)/PARÂMETROS!$C$14),(K31+(C31-D31)/PARÂMETROS!$C$14)/(H31+2*I31+3*J31-(C31-D31)/PARÂMETROS!$C$11))","v":{"v":1.0682026576582442,"d":"1.07E+00"}},{"$f":"IF(PARÂMETROS!$J$6<PARÂMETROS!$F$6,(H31+2*I31+3*J31-(C31-D31)/PARÂMETROS!$C$11)/(L31+2*M31+(C31-D31)/PARÂMETROS!$C$14),(L31+2*M31+(C31-D31)/PARÂMETROS!$C$14)/(H31+2*I31+3*J31-(C31-D31)/PARÂMETROS!$C$11))","v":{"v":0.5341017522183124,"d":"5.34E-01"}},{"$f":"IF(PARÂMETROS!$J$6<PARÂMETROS!$F$6,(H31+2*I31+3*J31-(C31-D31)/PARÂMETROS!$C$11)/(N31+2*O31+3*P31+(C31-D31)/PARÂMETROS!$C$14),(N31+2*O31+3*P31+(C31-D31)/PARÂMETROS!$C$14)/(H31+2*I31+3*J31-(C31-D31)/PARÂMETROS!$C$11))","v":{"v":0.3560679288987945,"d":"3.56E-01"}},{"$f":"Q31*PARÂMETROS!$C$11*PARÂMETROS!$D$11/PARÂMETROS!$C$14","v":{"v":19.99745866249027,"d":"20.00"}},{"$f":"R31*PARÂMETROS!$C$11*PARÂMETROS!$D$11/PARÂMETROS!$C$14","v":{"v":9.998737257370175,"d":"10.00"}},{"$f":"S31*PARÂMETROS!$C$11*PARÂMETROS!$D$11/PARÂMETROS!$C$14","v":{"v":6.665826599609765,"d":"6.67"}},{"$f":"T31*PARÂMETROS!$C$11*PARÂMETROS!$D$11/PARÂMETROS!$C$14","v":{"v":21.36405178578035,"d":"21.36"}},{"$f":"U31*PARÂMETROS!$C$11*PARÂMETROS!$D$11/PARÂMETROS!$C$14","v":{"v":10.682034360673438,"d":"10.68"}},{"$f":"V31*PARÂMETROS!$C$11*PARÂMETROS!$D$11/PARÂMETROS!$C$14","v":{"v":7.121358122180564,"d":"7.12"}},{"$f":"W31*PARÂMETROS!$C$11*PARÂMETROS!$D$11/PARÂMETROS!$C$14","v":{"v":21.364053153164885,"d":"21.36"}},{"$f":"X31*PARÂMETROS!$C$11*PARÂMETROS!$D$11/PARÂMETROS!$C$14","v":{"v":10.682035044366248,"d":"10.68"}},{"$f":"Y31*PARÂMETROS!$C$11*PARÂMETROS!$D$11/PARÂMETROS!$C$14","v":{"v":7.121358577975891,"d":"7.12"}},{"$f":"AND(B31+PARÂMETROS!$C$8>=PARÂMETROS!$C$5,B31+PARÂMETROS!$C$8<=PARÂMETROS!$D$5)","v":true},1,{"$f":"VLOOKUP('BANCO DE DADOS COMPLETA'!$N$8,'BANCO DE DADOS COMPLETA'!$A$7:$L$249,3)*-1","v":3},7,{"$f":"VLOOKUP('BANCO DE DADOS COMPLETA'!$N$10,'BANCO DE DADOS COMPLETA'!$A$7:$L$249,3)*-1","v":1},11,77,{"v":21.364053153164885,"d":"21.36"},{"v":21.364053153164885,"d":"21.36"},{"v":6.064343848340696,"d":"6.06"},{"v":0.41363590377630016,"d":"0.41"},{"v":-0.6642569518968484,"d":"-0.66"},"NADA","NADA",0]
[null,{"$f":"B31+PARÂMETROS!$C$8","v":{"v":6.264343848340697,"d":"6.26"}},{"v":5.4407171889380866E-7,"d":"5.44E-07"},{"$f":"PARÂMETROS!$Q$4/C32","v":{"v":1.8379929801041156E-8,"d":"1.84E-08"}},{"$f":"PARÂMETROS!$F$6/($C32+PARÂMETROS!$F$6)","v":{"v":0.99992350678233,"d":"1.00E+00"}},{"$f":"$C32*PARÂMETROS!$F$6/($C32^2+$C32*PARÂMETROS!$F$6+PARÂMETROS!$F$6*PARÂMETROS!$G$6)","v":{"v":0.8958058209633656,"d":"8.96E-01"}},{"$f":"PARÂMETROS!$F$6*PARÂMETROS!$G$6/($C32^2+$C32*PARÂMETROS!$F$6+PARÂMETROS!$F$6*PARÂMETROS!$G$6)","v":{"v":0.1041256507250302,"d":"1.04E-01"}},{"$f":"(PARÂMETROS!$F$6*$C32^2)/($C32^3+PARÂMETROS!$F$6*$C32^2+PARÂMETROS!$F$6*PARÂMETROS!$G$6*$C32+PARÂMETROS!$F$6*PARÂMETROS!$G$6*PARÂMETROS!$H$6)","v":{"v":0.8958057443833555,"d":"8.96E-01"}},{"$f":"(PARÂMETROS!$F$6*PARÂMETROS!$G$6*$C32)/($C32^3+PARÂMETROS!$F$6*$C32^2+PARÂMETROS!$F$6*PARÂMETROS!$G$6*$C32+PARÂMETROS!$F$6*PARÂMETROS!$G$6*PARÂMETROS!$H$6)","v":{"v":0.10412564182361071,"d":"1.04E-01"}},{"$f":"(PARÂMETROS!$F$6*PARÂMETROS!$G$6*PARÂMETROS!$H$6)/($C32^3+PARÂMETROS!$F$6*$C32^2+PARÂMETROS!$F$6*PARÂMETROS!$G$6*$C32+PARÂMETROS!$F$6*PARÂMETROS!$G$6*PARÂMETROS!$H$6)","v":{"v":8.5487287998281134E-8,"d":"8.55E-08"}},{"$f":"$C32/($C32+PARÂMETROS!$J$6)","v":{"v":0.9999998162007356,"d":"1.00E+00"}},{"$f":"$C32*PARÂMETROS!$J$6/($C32^2+$C32*PARÂMETROS!$J$6+PARÂMETROS!$J$6*PARÂMETROS!$K$6)","v":{"v":1.8379926422823583E-7,"d":"1.84E-07"}},{"$f":"$C32^2/($C32^2+$C32*PARÂMETROS!$J$6+PARÂMETROS!$J$6*PARÂMETROS!$K$6)","v":{"v":0.9999998162007357,"d":"1.00E+00"}},{"$f":"(PARÂMETROS!$K$6*PARÂMETROS!$J$6*$C32)/($C32^3+PARÂMETROS!$J$6*$C32^2+PARÂMETROS!$J$6*PARÂMETROS!$K$6*$C32+PARÂMETROS!$J$6*PARÂMETROS!$K$6*PARÂMETROS!$L$6)","v":{"v":0,"d":"0.00E+00"}},{"$f":"(PARÂMETROS!$J$6*$C32^2)/($C32^3+PARÂMETROS!$J$6*$C32^2+PARÂMETROS!$J$6*PARÂMETROS!$K$6*$C32+PARÂMETROS!$J$6*PARÂMETROS!$K$6*PARÂMETROS!$L$6)","v":{"v":1.8379926422823585E-7,"d":"1.84E-07"}},{"$f":"($C32^3)/($C32^3+PARÂMETROS!$J$6*$C32^2+PARÂMETROS!$J$6*PARÂMETROS!$K$6*$C32+PARÂMETROS!$J$6*PARÂMETROS!$K$6*PARÂMETROS!$L$6)","v":{"v":0.9999998162007359,"d":"1.00E+00"}},{"$f":"IF(PARÂMETROS!$J$6<PARÂMETROS!$F$6,(E32-(C32-D32)/PARÂMETROS!$C$11)/(K32+(C32-D32)/PARÂMETROS!$C$14),(K32+(C32-D32)/PARÂMETROS!$C$14)/(E32-(C32-D32)/PARÂMETROS!$C$11))","v":{"v":0.9999200108084682,"d":"1.00E+00"}},{"$f":"IF(PARÂMETROS!$J$6<PARÂMETROS!$F$6,(E32-(C32-D32)/PARÂMETROS!$C$11)/(L32+2*M32+(C32-D32)/PARÂMETROS!$C$14),(L32+2*M32+(C32-D32)/PARÂMETROS!$C$14)/(E32-(C32-D32)/PARÂMETROS!$C$11))","v":{"v":0.49996022228286907,"d":"5.00E-01"}},{"$f":"IF(PARÂMETROS!$J$6<PARÂMETROS!$F$6, (E32-(C32-D32)/PARÂMETROS!$C$11)/(N32+2*O32+3*P32+(C32-D32)/PARÂMETROS!$C$14),(N32+2*O32+3*P32+(C32-D32)/PARÂMETROS!$C$14)/ (E32-(C32-D32)/PARÂMETROS!$C$11))","v":{"v":0.3333068630505261,"d":"3.33E-01"}},{"$f":"IF(PARÂMETROS!$J$6<PARÂMETROS!$F$6,(F32+2*G32-(C32-D32)/PARÂMETROS!$C$11)/(K32+(C32-D32)/PARÂMETROS!$C$14),(K32+(C32-D32)/PARÂMETROS!$C$14)/(F32+2*G32-(C32-D32)/PARÂMETROS!$C$11))","v":{"v":1.104053536094951,"d":"1.10E+00"}},{"$f":"IF(PARÂMETROS!$J$6<PARÂMETROS!$F$6,(F32+2*G32-(C32-D32)/PARÂMETROS!$C$11)/(L32+2*M32+(C32-D32)/PARÂMETROS!$C$14),(L32+2*M32+(C32-D32)/PARÂMETROS!$C$14)/(F32+2*G32-(C32-D32)/PARÂMETROS!$C$11))","v":{"v":0.552027007512254,"d":"5.52E-01"}},{"$f":"IF(PARÂMETROS!$J$6<PARÂMETROS!$F$6,(F32+2*G32-(C32-D32)/PARÂMETROS!$C$11)/(N32+2*O32+3*P32+(C32-D32)/PARÂMETROS!$C$14),(N32+2*O32+3*P32+(C32-D32)/PARÂMETROS!$C$14)/(F32+2*G32-(C32-D32)/PARÂMETROS!$C$11))","v":{"v":0.3680180582225953,"d":"3.68E-01"}},{"$f":"IF(PARÂMETROS!$J$6<PARÂMETROS!$F$6,(H32+2*I32+3*J32-(C32-D32)/PARÂMETROS!$C$11)/(K32+(C32-D32)/PARÂMETROS!$C$14),(K32+(C32-D32)/PARÂMETROS!$C$14)/(H32+2*I32+3*J32-(C32-D32)/PARÂMETROS!$C$11))","v":{"v":1.1040536981738254,"d":"1.10E+00"}},{"$f":"IF(PARÂMETROS!$J$6<PARÂMETROS!$F$6,(H32+2*I32+3*J32-(C32-D32)/PARÂMETROS!$C$11)/(L32+2*M32+(C32-D32)/PARÂMETROS!$C$14),(L32+2*M32+(C32-D32)/PARÂMETROS!$C$14)/(H32+2*I32+3*J32-(C32-D32)/PARÂMETROS!$C$11))","v":{"v":0.5520270885517263,"d":"5.52E-01"}},{"$f":"IF(PARÂMETROS!$J$6<PARÂMETROS!$F$6,(H32+2*I32+3*J32-(C32-D32)/PARÂMETROS!$C$11)/(N32+2*O32+3*P32+(C32-D32)/PARÂMETROS!$C$14),(N32+2*O32+3*P32+(C32-D32)/PARÂMETROS!$C$14)/(H32+2*I32+3*J32-(C32-D32)/PARÂMETROS!$C$11))","v":{"v":0.36801811224891795,"d":"3.68E-01"}},{"$f":"Q32*PARÂMETROS!$C$11*PARÂMETROS!$D$11/PARÂMETROS!$C$14","v":{"v":19.998400216169365,"d":"20.00"}},{"$f":"R32*PARÂMETROS!$C$11*PARÂMETROS!$D$11/PARÂMETROS!$C$14","v":{"v":9.999204445657382,"d":"10.00"}},{"$f":"S32*PARÂMETROS!$C$11*PARÂMETROS!$D$11/PARÂMETROS!$C$14","v":{"v":6.6661372610105225,"d":"6.67"}},{"$f":"T32*PARÂMETROS!$C$11*PARÂMETROS!$D$11/PARÂMETROS!$C$14","v":{"v":22.08107072189902,"d":"22.08"}},{"$f":"U32*PARÂMETROS!$C$11*PARÂMETROS!$D$11/PARÂMETROS!$C$14","v":{"v":11.04054015024508,"d":"11.04"}},{"$f":"V32*PARÂMETROS!$C$11*PARÂMETROS!$D$11/PARÂMETROS!$C$14","v":{"v":7.3603611644519065,"d":"7.36"}},{"$f":"W32*PARÂMETROS!$C$11*PARÂMETROS!$D$11/PARÂMETROS!$C$14","v":{"v":22.08107396347651,"d":"22.08"}},{"$f":"X32*PARÂMETROS!$C$11*PARÂMETROS!$D$11/PARÂMETROS!$C$14","v":{"v":11.040541771034528,"d":"11.04"}},{"$f":"Y32*PARÂMETROS!$C$11*PARÂMETROS!$D$11/PARÂMETROS!$C$14","v":{"v":7.36036224497836,"d":"7.36"}},{"$f":"AND(B32+PARÂMETROS!$C$8>=PARÂMETROS!$C$5,B32+PARÂMETROS!$C$8<=PARÂMETROS!$D$5)","v":true},1,{"$f":"VLOOKUP('BANCO DE DADOS COMPLETA'!$N$8,'BANCO DE DADOS COMPLETA'!$A$7:$L$249,3)*-1","v":3},7,{"$f":"VLOOKUP('BANCO DE DADOS COMPLETA'!$N$10,'BANCO DE DADOS COMPLETA'!$A$7:$L$249,3)*-1","v":1},11,77,{"v":22.08107396347651,"d":"22.08"},{"v":22.08107396347651,"d":"22.08"},{"v":6.264343848340697,"d":"6.26"},{"v":0.2789319321332924,"d":"0.28"},{"v":-0.2785919952640628,"d":"-0.28"},"NADA","NADA",0]
[null,{"$f":"B32+PARÂMETROS!$C$8","v":{"v":6.464343848340697,"d":"6.46"}},{"v":3.4328604696001174E-7,"d":"3.43E-07"},{"$f":"PARÂMETROS!$Q$4/C33","v":{"v":2.9130225619583272E-8,"d":"2.91E-08"}},{"$f":"PARÂMETROS!$F$6/($C33+PARÂMETROS!$F$6)","v":{"v":0.9999517346800139,"d":"1.00E+00"}},{"$f":"$C33*PARÂMETROS!$F$6/($C33^2+$C33*PARÂMETROS!$F$6+PARÂMETROS!$F$6*PARÂMETROS!$G$6)","v":{"v":0.844401133451163,"d":"8.44E-01"}},{"$f":"PARÂMETROS!$F$6*PARÂMETROS!$G$6/($C33^2+$C33*PARÂMETROS!$F$6+PARÂMETROS!$F$6*PARÂMETROS!$G$6)","v":{"v":0.15555810929077238,"d":"1.56E-01"}},{"$f":"(PARÂMETROS!$F$6*$C33^2)/($C33^3+PARÂMETROS!$F$6*$C33^2+PARÂMETROS!$F$6*PARÂMETROS!$G$6*$C33+PARÂMETROS!$F$6*PARÂMETROS!$G$6*PARÂMETROS!$H$6)","v":{"v":0.8444009625341775,"d":"8.44E-01"}},{"$f":"(PARÂMETROS!$F$6*PARÂMETROS!$G$6*$C33)/($C33^3+PARÂMETROS!$F$6*$C33^2+PARÂMETROS!$F$6*PARÂMETROS!$G$6*$C33+PARÂMETROS!$F$6*PARÂMETROS!$G$6*PARÂMETROS!$H$6)","v":{"v":0.15555807780393271,"d":"1.56E-01"}},{"$f":"(PARÂMETROS!$F$6*PARÂMETROS!$G$6*PARÂMETROS!$H$6)/($C33^3+PARÂMETROS!$F$6*$C33^2+PARÂMETROS!$F$6*PARÂMETROS!$G$6*$C33+PARÂMETROS!$F$6*PARÂMETROS!$G$6*PARÂMETROS!$H$6)","v":{"v":2.0241207470239416E-7,"d":"2.02E-07"}},{"$f":"$C33/($C33+PARÂMETROS!$J$6)","v":{"v":0.9999997086978287,"d":"1.00E+00"}},{"$f":"$C33*PARÂMETROS!$J$6/($C33^2+$C33*PARÂMETROS!$J$6+PARÂMETROS!$J$6*PARÂMETROS!$K$6)","v":{"v":2.91302171338853E-7,"d":"2.91E-07"}},{"$f":"$C33^2/($C33^2+$C33*PARÂMETROS!$J$6+PARÂMETROS!$J$6*PARÂMETROS!$K$6)","v":{"v":0.9999997086978286,"d":"1.00E+00"}},{"$f":"(PARÂMETROS!$K$6*PARÂMETROS!$J$6*$C33)/($C33^3+PARÂMETROS!$J$6*$C33^2+PARÂMETROS!$J$6*PARÂMETROS!$K$6*$C33+PARÂMETROS!$J$6*PARÂMETROS!$K$6*PARÂMETROS!$L$6)","v":{"v":0,"d":"0.00E+00"}},{"$f":"(PARÂMETROS!$J$6*$C33^2)/($C33^3+PARÂMETROS!$J$6*$C33^2+PARÂMETROS!$J$6*PARÂMETROS!$K$6*$C33+PARÂMETROS!$J$6*PARÂMETROS!$K$6*PARÂMETROS!$L$6)","v":{"v":2.9130217133885294E-7,"d":"2.91E-07"}},{"$f":"($C33^3)/($C33^3+PARÂMETROS!$J$6*$C33^2+PARÂMETROS!$J$6*PARÂMETROS!$K$6*$C33+PARÂMETROS!$J$6*PARÂMETROS!$K$6*PARÂMETROS!$L$6)","v":{"v":0.9999997086978286,"d":"1.00E+00"}},{"$f":"IF(PARÂMETROS!$J$6<PARÂMETROS!$F$6,(E33-(C33-D33)/PARÂMETROS!$C$11)/(K33+(C33-D33)/PARÂMETROS!$C$14),(K33+(C33-D33)/PARÂMETROS!$C$14)/(E33-(C33-D33)/PARÂMETROS!$C$11))","v":{"v":0.9999498269083446,"d":"1.00E+00"}},{"$f":"IF(PARÂMETROS!$J$6<PARÂMETROS!$F$6,(E33-(C33-D33)/PARÂMETROS!$C$11)/(L33+2*M33+(C33-D33)/PARÂMETROS!$C$14),(L33+2*M33+(C33-D33)/PARÂMETROS!$C$14)/(E33-(C33-D33)/PARÂMETROS!$C$11))","v":{"v":0.49997499770229886,"d":"5.00E-01"}},{"$f":"IF(PARÂMETROS!$J$6<PARÂMETROS!$F$6, (E33-(C33-D33)/PARÂMETROS!$C$11)/(N33+2*O33+3*P33+(C33-D33)/PARÂMETROS!$C$14),(N33+2*O33+3*P33+(C33-D33)/PARÂMETROS!$C$14)/ (E33-(C33-D33)/PARÂMETROS!$C$11))","v":{"v":0.33331668385667595,"d":"3.33E-01"}},{"$f":"IF(PARÂMETROS!$J$6<PARÂMETROS!$F$6,(F33+2*G33-(C33-D33)/PARÂMETROS!$C$11)/(K33+(C33-D33)/PARÂMETROS!$C$14),(K33+(C33-D33)/PARÂMETROS!$C$14)/(F33+2*G33-(C33-D33)/PARÂMETROS!$C$11))","v":{"v":1.1555153918339696,"d":"1.16E+00"}},{"$f":"IF(PARÂMETROS!$J$6<PARÂMETROS!$F$6,(F33+2*G33-(C33-D33)/PARÂMETROS!$C$11)/(L33+2*M33+(C33-D33)/PARÂMETROS!$C$14),(L33+2*M33+(C33-D33)/PARÂMETROS!$C$14)/(F33+2*G33-(C33-D33)/PARÂMETROS!$C$11))","v":{"v":0.5777577932718764,"d":"5.78E-01"}},{"$f":"IF(PARÂMETROS!$J$6<PARÂMETROS!$F$6,(F33+2*G33-(C33-D33)/PARÂMETROS!$C$11)/(N33+2*O33+3*P33+(C33-D33)/PARÂMETROS!$C$14),(N33+2*O33+3*P33+(C33-D33)/PARÂMETROS!$C$14)/(F33+2*G33-(C33-D33)/PARÂMETROS!$C$11))","v":{"v":0.3851718838156761,"d":"3.85E-01"}},{"$f":"IF(PARÂMETROS!$J$6<PARÂMETROS!$F$6,(H33+2*I33+3*J33-(C33-D33)/PARÂMETROS!$C$11)/(K33+(C33-D33)/PARÂMETROS!$C$14),(K33+(C33-D33)/PARÂMETROS!$C$14)/(H33+2*I33+3*J33-(C33-D33)/PARÂMETROS!$C$11))","v":{"v":1.155515765179403,"d":"1.16E+00"}},{"$f":"IF(PARÂMETROS!$J$6<PARÂMETROS!$F$6,(H33+2*I33+3*J33-(C33-D33)/PARÂMETROS!$C$11)/(L33+2*M33+(C33-D33)/PARÂMETROS!$C$14),(L33+2*M33+(C33-D33)/PARÂMETROS!$C$14)/(H33+2*I33+3*J33-(C33-D33)/PARÂMETROS!$C$11))","v":{"v":0.5777579799446246,"d":"5.78E-01"}},{"$f":"IF(PARÂMETROS!$J$6<PARÂMETROS!$F$6,(H33+2*I33+3*J33-(C33-D33)/PARÂMETROS!$C$11)/(N33+2*O33+3*P33+(C33-D33)/PARÂMETROS!$C$14),(N33+2*O33+3*P33+(C33-D33)/PARÂMETROS!$C$14)/(H33+2*I33+3*J33-(C33-D33)/PARÂMETROS!$C$11))","v":{"v":0.38517200826418185,"d":"3.85E-01"}},{"$f":"Q33*PARÂMETROS!$C$11*PARÂMETROS!$D$11/PARÂMETROS!$C$14","v":{"v":19.998996538166892,"d":"20.00"}},{"$f":"R33*PARÂMETROS!$C$11*PARÂMETROS!$D$11/PARÂMETROS!$C$14","v":{"v":9.999499954045978,"d":"10.00"}},{"$f":"S33*PARÂMETROS!$C$11*PARÂMETROS!$D$11/PARÂMETROS!$C$14","v":{"v":6.66633367713352,"d":"6.67"}},{"$f":"T33*PARÂMETROS!$C$11*PARÂMETROS!$D$11/PARÂMETROS!$C$14","v":{"v":23.110307836679393,"d":"23.11"}},{"$f":"U33*PARÂMETROS!$C$11*PARÂMETROS!$D$11/PARÂMETROS!$C$14","v":{"v":11.555155865437527,"d":"11.56"}},{"$f":"V33*PARÂMETROS!$C$11*PARÂMETROS!$D$11/PARÂMETROS!$C$14","v":{"v":7.703437676313523,"d":"7.70"}},{"$f":"W33*PARÂMETROS!$C$11*PARÂMETROS!$D$11/PARÂMETROS!$C$14","v":{"v":23.11031530358806,"d":"23.11"}},{"$f":"X33*PARÂMETROS!$C$11*PARÂMETROS!$D$11/PARÂMETROS!$C$14","v":{"v":11.555159598892493,"d":"11.56"}},{"$f":"Y33*PARÂMETROS!$C$11*PARÂMETROS!$D$11/PARÂMETROS!$C$14","v":{"v":7.703440165283637,"d":"7.70"}},{"$f":"AND(B33+PARÂMETROS!$C$8>=PARÂMETROS!$C$5,B33+PARÂMETROS!$C$8<=PARÂMETROS!$D$5)","v":true},1,{"$f":"VLOOKUP('BANCO DE DADOS COMPLETA'!$N$8,'BANCO DE DADOS COMPLETA'!$A$7:$L$249,3)*-1","v":3},7,{"$f":"VLOOKUP('BANCO DE DADOS COMPLETA'!$N$10,'BANCO DE DADOS COMPLETA'!$A$7:$L$249,3)*-1","v":1},11,77,{"v":23.11031530358806,"d":"23.11"},{"v":23.11031530358806,"d":"23.11"},{"v":6.464343848340697,"d":"6.46"},{"v":0.1943178846453291,"d":"0.19"},{"v":-0.11800779875717875,"d":"-0.12"},"NADA","NADA",0]
[null,{"$f":"B33+PARÂMETROS!$C$8","v":{"v":6.664343848340697,"d":"6.66"}},{"v":2.1659885258699196E-7,"d":"2.17E-07"},{"$f":"PARÂMETROS!$Q$4/C34","v":{"v":4.6168296279333839E-8,"d":"4.62E-08"}},{"$f":"PARÂMETROS!$F$6/($C34+PARÂMETROS!$F$6)","v":{"v":0.9999695460994273,"d":"1.00E+00"}},{"$f":"$C34*PARÂMETROS!$F$6/($C34^2+$C34*PARÂMETROS!$F$6+PARÂMETROS!$F$6*PARÂMETROS!$G$6)","v":{"v":0.7739912727626239,"d":"7.74E-01"}},{"$f":"PARÂMETROS!$F$6*PARÂMETROS!$G$6/($C34^2+$C34*PARÂMETROS!$F$6+PARÂMETROS!$F$6*PARÂMETROS!$G$6)","v":{"v":0.22598515546625889,"d":"2.26E-01"}},{"$f":"(PARÂMETROS!$F$6*$C34^2)/($C34^3+PARÂMETROS!$F$6*$C34^2+PARÂMETROS!$F$6*PARÂMETROS!$G$6*$C34+PARÂMETROS!$F$6*PARÂMETROS!$G$6*PARÂMETROS!$H$6)","v":{"v":0.7739909120514284,"d":"7.74E-01"}},{"$f":"(PARÂMETROS!$F$6*PARÂMETROS!$G$6*$C34)/($C34^3+PARÂMETROS!$F$6*$C34^2+PARÂMETROS!$F$6*PARÂMETROS!$G$6*$C34+PARÂMETROS!$F$6*PARÂMETROS!$G$6*PARÂMETROS!$H$6)","v":{"v":0.22598505014804865,"d":"2.26E-01"}},{"$f":"(PARÂMETROS!$F$6*PARÂMETROS!$G$6*PARÂMETROS!$H$6)/($C34^3+PARÂMETROS!$F$6*$C34^2+PARÂMETROS!$F$6*PARÂMETROS!$G$6*$C34+PARÂMETROS!$F$6*PARÂMETROS!$G$6*PARÂMETROS!$H$6)","v":{"v":4.6604039110504463E-7,"d":"4.66E-07"}},{"$f":"$C34/($C34+PARÂMETROS!$J$6)","v":{"v":0.9999995383172504,"d":"1.00E+00"}},{"$f":"$C34*PARÂMETROS!$J$6/($C34^2+$C34*PARÂMETROS!$J$6+PARÂMETROS!$J$6*PARÂMETROS!$K$6)","v":{"v":4.6168274964227862E-7,"d":"4.62E-07"}},{"$f":"$C34^2/($C34^2+$C34*PARÂMETROS!$J$6+PARÂMETROS!$J$6*PARÂMETROS!$K$6)","v":{"v":0.9999995383172503,"d":"1.00E+00"}},{"$f":"(PARÂMETROS!$K$6*PARÂMETROS!$J$6*$C34)/($C34^3+PARÂMETROS!$J$6*$C34^2+PARÂMETROS!$J$6*PARÂMETROS!$K$6*$C34+PARÂMETROS!$J$6*PARÂMETROS!$K$6*PARÂMETROS!$L$6)","v":{"v":0,"d":"0.00E+00"}},{"$f":"(PARÂMETROS!$J$6*$C34^2)/($C34^3+PARÂMETROS!$J$6*$C34^2+PARÂMETROS!$J$6*PARÂMETROS!$K$6*$C34+PARÂMETROS!$J$6*PARÂMETROS!$K$6*PARÂMETROS!$L$6)","v":{"v":4.6168274964227868E-7,"d":"4.62E-07"}},{"$f":"($C34^3)/($C34^3+PARÂMETROS!$J$6*$C34^2+PARÂMETROS!$J$6*PARÂMETROS!$K$6*$C34+PARÂMETROS!$J$6*PARÂMETROS!$K$6*PARÂMETROS!$L$6)","v":{"v":0.9999995383172504,"d":"1.00E+00"}},{"$f":"IF(PARÂMETROS!$J$6<PARÂMETROS!$F$6,(E34-(C34-D34)/PARÂMETROS!$C$11)/(K34+(C34-D34)/PARÂMETROS!$C$14),(K34+(C34-D34)/PARÂMETROS!$C$14)/(E34-(C34-D34)/PARÂMETROS!$C$11))","v":{"v":0.9999688147645148,"d":"1.00E+00"}},{"$f":"IF(PARÂMETROS!$J$6<PARÂMETROS!$F$6,(E34-(C34-D34)/PARÂMETROS!$C$11)/(L34+2*M34+(C34-D34)/PARÂMETROS!$C$14),(L34+2*M34+(C34-D34)/PARÂMETROS!$C$14)/(E34-(C34-D34)/PARÂMETROS!$C$11))","v":{"v":0.4999843771777884,"d":"5.00E-01"}},{"$f":"IF(PARÂMETROS!$J$6<PARÂMETROS!$F$6, (E34-(C34-D34)/PARÂMETROS!$C$11)/(N34+2*O34+3*P34+(C34-D34)/PARÂMETROS!$C$14),(N34+2*O34+3*P34+(C34-D34)/PARÂMETROS!$C$14)/ (E34-(C34-D34)/PARÂMETROS!$C$11))","v":{"v":0.33332291140642184,"d":"3.33E-01"}},{"$f":"IF(PARÂMETROS!$J$6<PARÂMETROS!$F$6,(F34+2*G34-(C34-D34)/PARÂMETROS!$C$11)/(K34+(C34-D34)/PARÂMETROS!$C$14),(K34+(C34-D34)/PARÂMETROS!$C$14)/(F34+2*G34-(C34-D34)/PARÂMETROS!$C$11))","v":{"v":1.2259608796649604,"d":"1.23E+00"}},{"$f":"IF(PARÂMETROS!$J$6<PARÂMETROS!$F$6,(F34+2*G34-(C34-D34)/PARÂMETROS!$C$11)/(L34+2*M34+(C34-D34)/PARÂMETROS!$C$14),(L34+2*M34+(C34-D34)/PARÂMETROS!$C$14)/(F34+2*G34-(C34-D34)/PARÂMETROS!$C$11))","v":{"v":0.612980402801828,"d":"6.13E-01"}},{"$f":"IF(PARÂMETROS!$J$6<PARÂMETROS!$F$6,(F34+2*G34-(C34-D34)/PARÂMETROS!$C$11)/(N34+2*O34+3*P34+(C34-D34)/PARÂMETROS!$C$14),(N34+2*O34+3*P34+(C34-D34)/PARÂMETROS!$C$14)/(F34+2*G34-(C34-D34)/PARÂMETROS!$C$11))","v":{"v":0.40865359363885206,"d":"4.09E-01"}},{"$f":"IF(PARÂMETROS!$J$6<PARÂMETROS!$F$6,(H34+2*I34+3*J34-(C34-D34)/PARÂMETROS!$C$11)/(K34+(C34-D34)/PARÂMETROS!$C$14),(K34+(C34-D34)/PARÂMETROS!$C$14)/(H34+2*I34+3*J34-(C34-D34)/PARÂMETROS!$C$11))","v":{"v":1.2259617064386177,"d":"1.23E+00"}},{"$f":"IF(PARÂMETROS!$J$6<PARÂMETROS!$F$6,(H34+2*I34+3*J34-(C34-D34)/PARÂMETROS!$C$11)/(L34+2*M34+(C34-D34)/PARÂMETROS!$C$14),(L34+2*M34+(C34-D34)/PARÂMETROS!$C$14)/(H34+2*I34+3*J34-(C34-D34)/PARÂMETROS!$C$11))","v":{"v":0.6129808161886316,"d":"6.13E-01"}},{"$f":"IF(PARÂMETROS!$J$6<PARÂMETROS!$F$6,(H34+2*I34+3*J34-(C34-D34)/PARÂMETROS!$C$11)/(N34+2*O34+3*P34+(C34-D34)/PARÂMETROS!$C$14),(N34+2*O34+3*P34+(C34-D34)/PARÂMETROS!$C$14)/(H34+2*I34+3*J34-(C34-D34)/PARÂMETROS!$C$11))","v":{"v":0.408653869230049,"d":"4.09E-01"}},{"$f":"Q34*PARÂMETROS!$C$11*PARÂMETROS!$D$11/PARÂMETROS!$C$14","v":{"v":19.999376295290297,"d":"20.00"}},{"$f":"R34*PARÂMETROS!$C$11*PARÂMETROS!$D$11/PARÂMETROS!$C$14","v":{"v":9.999687543555769,"d":"10.00"}},{"$f":"S34*PARÂMETROS!$C$11*PARÂMETROS!$D$11/PARÂMETROS!$C$14","v":{"v":6.6664582281284375,"d":"6.67"}},{"$f":"T34*PARÂMETROS!$C$11*PARÂMETROS!$D$11/PARÂMETROS!$C$14","v":{"v":24.51921759329921,"d":"24.52"}},{"$f":"U34*PARÂMETROS!$C$11*PARÂMETROS!$D$11/PARÂMETROS!$C$14","v":{"v":12.25960805603656,"d":"12.26"}},{"$f":"V34*PARÂMETROS!$C$11*PARÂMETROS!$D$11/PARÂMETROS!$C$14","v":{"v":8.173071872777042,"d":"8.17"}},{"$f":"W34*PARÂMETROS!$C$11*PARÂMETROS!$D$11/PARÂMETROS!$C$14","v":{"v":24.519234128772354,"d":"24.52"}},{"$f":"X34*PARÂMETROS!$C$11*PARÂMETROS!$D$11/PARÂMETROS!$C$14","v":{"v":12.259616323772633,"d":"12.26"}},{"$f":"Y34*PARÂMETROS!$C$11*PARÂMETROS!$D$11/PARÂMETROS!$C$14","v":{"v":8.17307738460098,"d":"8.17"}},{"$f":"AND(B34+PARÂMETROS!$C$8>=PARÂMETROS!$C$5,B34+PARÂMETROS!$C$8<=PARÂMETROS!$D$5)","v":true},1,{"$f":"VLOOKUP('BANCO DE DADOS COMPLETA'!$N$8,'BANCO DE DADOS COMPLETA'!$A$7:$L$249,3)*-1","v":3},7,{"$f":"VLOOKUP('BANCO DE DADOS COMPLETA'!$N$10,'BANCO DE DADOS COMPLETA'!$A$7:$L$249,3)*-1","v":1},11,77,{"v":24.519234128772354,"d":"24.52"},{"v":24.519234128772354,"d":"24.52"},{"v":6.664343848340697,"d":"6.66"},{"v":0.1419528197260329,"d":"0.14"},{"v":-0.050877343222164785,"d":"-0.05"},"NADA","NADA",0]
[null,{"$f":"B34+PARÂMETROS!$C$8","v":{"v":6.864343848340697,"d":"6.86"}},{"v":1.3666463684574505E-7,"d":"1.37E-07"},{"$f":"PARÂMETROS!$Q$4/C35","v":{"v":7.3171818480644085E-8,"d":"7.32E-08"}},{"$f":"PARÂMETROS!$F$6/($C35+PARÂMETROS!$F$6)","v":{"v":0.9999807846718086,"d":"1.00E+00"}},{"$f":"$C35*PARÂMETROS!$F$6/($C35^2+$C35*PARÂMETROS!$F$6+PARÂMETROS!$F$6*PARÂMETROS!$G$6)","v":{"v":0.6836361251948605,"d":"6.84E-01"}},{"$f":"PARÂMETROS!$F$6*PARÂMETROS!$G$6/($C35^2+$C35*PARÂMETROS!$F$6+PARÂMETROS!$F$6*PARÂMETROS!$G$6)","v":{"v":0.3163507382602075,"d":"3.16E-01"}},{"$f":"(PARÂMETROS!$F$6*$C35^2)/($C35^3+PARÂMETROS!$F$6*$C35^2+PARÂMETROS!$F$6*PARÂMETROS!$G$6*$C35+PARÂMETROS!$F$6*PARÂMETROS!$G$6*PARÂMETROS!$H$6)","v":{"v":0.6836354183285955,"d":"6.84E-01"}},{"$f":"(PARÂMETROS!$F$6*PARÂMETROS!$G$6*$C35)/($C35^3+PARÂMETROS!$F$6*$C35^2+PARÂMETROS!$F$6*PARÂMETROS!$G$6*$C35+PARÂMETROS!$F$6*PARÂMETROS!$G$6*PARÂMETROS!$H$6)","v":{"v":0.3163504111597859,"d":"3.16E-01"}},{"$f":"(PARÂMETROS!$F$6*PARÂMETROS!$G$6*PARÂMETROS!$H$6)/($C35^3+PARÂMETROS!$F$6*$C35^2+PARÂMETROS!$F$6*PARÂMETROS!$G$6*$C35+PARÂMETROS!$F$6*PARÂMETROS!$G$6*PARÂMETROS!$H$6)","v":{"v":1.0339802694883205E-6,"d":"1.03E-06"}},{"$f":"$C35/($C35+PARÂMETROS!$J$6)","v":{"v":0.9999992682823506,"d":"1.00E+00"}},{"$f":"$C35*PARÂMETROS!$J$6/($C35^2+$C35*PARÂMETROS!$J$6+PARÂMETROS!$J$6*PARÂMETROS!$K$6)","v":{"v":7.317176493953307E-7,"d":"7.32E-07"}},{"$f":"$C35^2/($C35^2+$C35*PARÂMETROS!$J$6+PARÂMETROS!$J$6*PARÂMETROS!$K$6)","v":{"v":0.9999992682823506,"d":"1.00E+00"}},{"$f":"(PARÂMETROS!$K$6*PARÂMETROS!$J$6*$C35)/($C35^3+PARÂMETROS!$J$6*$C35^2+PARÂMETROS!$J$6*PARÂMETROS!$K$6*$C35+PARÂMETROS!$J$6*PARÂMETROS!$K$6*PARÂMETROS!$L$6)","v":{"v":0,"d":"0.00E+00"}},{"$f":"(PARÂMETROS!$J$6*$C35^2)/($C35^3+PARÂMETROS!$J$6*$C35^2+PARÂMETROS!$J$6*PARÂMETROS!$K$6*$C35+PARÂMETROS!$J$6*PARÂMETROS!$K$6*PARÂMETROS!$L$6)","v":{"v":7.3171764939533059E-7,"d":"7.32E-07"}},{"$f":"($C35^3)/($C35^3+PARÂMETROS!$J$6*$C35^2+PARÂMETROS!$J$6*PARÂMETROS!$K$6*$C35+PARÂMETROS!$J$6*PARÂMETROS!$K$6*PARÂMETROS!$L$6)","v":{"v":0.9999992682823505,"d":"1.00E+00"}},{"$f":"IF(PARÂMETROS!$J$6<PARÂMETROS!$F$6,(E35-(C35-D35)/PARÂMETROS!$C$11)/(K35+(C35-D35)/PARÂMETROS!$C$14),(K35+(C35-D35)/PARÂMETROS!$C$14)/(E35-(C35-D35)/PARÂMETROS!$C$11))","v":{"v":0.999981071928283,"d":"1.00E+00"}},{"$f":"IF(PARÂMETROS!$J$6<PARÂMETROS!$F$6,(E35-(C35-D35)/PARÂMETROS!$C$11)/(L35+2*M35+(C35-D35)/PARÂMETROS!$C$14),(L35+2*M35+(C35-D35)/PARÂMETROS!$C$14)/(E35-(C35-D35)/PARÂMETROS!$C$11))","v":{"v":0.49999038478395424,"d":"5.00E-01"}},{"$f":"IF(PARÂMETROS!$J$6<PARÂMETROS!$F$6, (E35-(C35-D35)/PARÂMETROS!$C$11)/(N35+2*O35+3*P35+(C35-D35)/PARÂMETROS!$C$14),(N35+2*O35+3*P35+(C35-D35)/PARÂMETROS!$C$14)/ (E35-(C35-D35)/PARÂMETROS!$C$11))","v":{"v":0.33332688959371926,"d":"3.33E-01"}},{"$f":"IF(PARÂMETROS!$J$6<PARÂMETROS!$F$6,(F35+2*G35-(C35-D35)/PARÂMETROS!$C$11)/(K35+(C35-D35)/PARÂMETROS!$C$14),(K35+(C35-D35)/PARÂMETROS!$C$14)/(F35+2*G35-(C35-D35)/PARÂMETROS!$C$11))","v":{"v":1.31633808028296,"d":"1.32E+00"}},{"$f":"IF(PARÂMETROS!$J$6<PARÂMETROS!$F$6,(F35+2*G35-(C35-D35)/PARÂMETROS!$C$11)/(L35+2*M35+(C35-D35)/PARÂMETROS!$C$14),(L35+2*M35+(C35-D35)/PARÂMETROS!$C$14)/(F35+2*G35-(C35-D35)/PARÂMETROS!$C$11))","v":{"v":0.6581688411334757,"d":"6.58E-01"}},{"$f":"IF(PARÂMETROS!$J$6<PARÂMETROS!$F$6,(F35+2*G35-(C35-D35)/PARÂMETROS!$C$11)/(N35+2*O35+3*P35+(C35-D35)/PARÂMETROS!$C$14),(N35+2*O35+3*P35+(C35-D35)/PARÂMETROS!$C$14)/(F35+2*G35-(C35-D35)/PARÂMETROS!$C$11))","v":{"v":0.4387791831983341,"d":"4.39E-01"}},{"$f":"IF(PARÂMETROS!$J$6<PARÂMETROS!$F$6,(H35+2*I35+3*J35-(C35-D35)/PARÂMETROS!$C$11)/(K35+(C35-D35)/PARÂMETROS!$C$14),(K35+(C35-D35)/PARÂMETROS!$C$14)/(H35+2*I35+3*J35-(C35-D35)/PARÂMETROS!$C$11))","v":{"v":1.316339821157713,"d":"1.32E+00"}},{"$f":"IF(PARÂMETROS!$J$6<PARÂMETROS!$F$6,(H35+2*I35+3*J35-(C35-D35)/PARÂMETROS!$C$11)/(L35+2*M35+(C35-D35)/PARÂMETROS!$C$14),(L35+2*M35+(C35-D35)/PARÂMETROS!$C$14)/(H35+2*I35+3*J35-(C35-D35)/PARÂMETROS!$C$11))","v":{"v":0.6581697115705891,"d":"6.58E-01"}},{"$f":"IF(PARÂMETROS!$J$6<PARÂMETROS!$F$6,(H35+2*I35+3*J35-(C35-D35)/PARÂMETROS!$C$11)/(N35+2*O35+3*P35+(C35-D35)/PARÂMETROS!$C$14),(N35+2*O35+3*P35+(C35-D35)/PARÂMETROS!$C$14)/(H35+2*I35+3*J35-(C35-D35)/PARÂMETROS!$C$11))","v":{"v":0.4387797634896845,"d":"4.39E-01"}},{"$f":"Q35*PARÂMETROS!$C$11*PARÂMETROS!$D$11/PARÂMETROS!$C$14","v":{"v":19.99962143856566,"d":"20.00"}},{"$f":"R35*PARÂMETROS!$C$11*PARÂMETROS!$D$11/PARÂMETROS!$C$14","v":{"v":9.999807695679086,"d":"10.00"}},{"$f":"S35*PARÂMETROS!$C$11*PARÂMETROS!$D$11/PARÂMETROS!$C$14","v":{"v":6.6665377918743856,"d":"6.67"}},{"$f":"T35*PARÂMETROS!$C$11*PARÂMETROS!$D$11/PARÂMETROS!$C$14","v":{"v":26.326761605659204,"d":"26.33"}},{"$f":"U35*PARÂMETROS!$C$11*PARÂMETROS!$D$11/PARÂMETROS!$C$14","v":{"v":13.163376822669514,"d":"13.16"}},{"$f":"V35*PARÂMETROS!$C$11*PARÂMETROS!$D$11/PARÂMETROS!$C$14","v":{"v":8.775583663966682,"d":"8.78"}},{"$f":"W35*PARÂMETROS!$C$11*PARÂMETROS!$D$11/PARÂMETROS!$C$14","v":{"v":26.326796423154263,"d":"26.33"}},{"$f":"X35*PARÂMETROS!$C$11*PARÂMETROS!$D$11/PARÂMETROS!$C$14","v":{"v":13.163394231411782,"d":"13.16"}},{"$f":"Y35*PARÂMETROS!$C$11*PARÂMETROS!$D$11/PARÂMETROS!$C$14","v":{"v":8.77559526979369,"d":"8.78"}},{"$f":"AND(B35+PARÂMETROS!$C$8>=PARÂMETROS!$C$5,B35+PARÂMETROS!$C$8<=PARÂMETROS!$D$5)","v":true},1,{"$f":"VLOOKUP('BANCO DE DADOS COMPLETA'!$N$8,'BANCO DE DADOS COMPLETA'!$A$7:$L$249,3)*-1","v":3},7,{"$f":"VLOOKUP('BANCO DE DADOS COMPLETA'!$N$10,'BANCO DE DADOS COMPLETA'!$A$7:$L$249,3)*-1","v":1},11,77,{"v":26.326796423154263,"d":"26.33"},{"v":26.326796423154263,"d":"26.33"},{"v":6.864343848340697,"d":"6.86"},{"v":0.11064625580076594,"d":"0.11"},{"v":-0.022220275125624717,"d":"-0.02"},"NADA","NADA",0]
[null,{"$f":"B35+PARÂMETROS!$C$8","v":{"v":7.064343848340697,"d":"7.06"}},{"v":8.6229556348541143E-8,"d":"8.62E-08"},{"$f":"PARÂMETROS!$Q$4/C36","v":{"v":1.1596951698997328E-7,"d":"1.16E-07"}},{"$f":"PARÂMETROS!$F$6/($C36+PARÂMETROS!$F$6)","v":{"v":0.9999878758615754,"d":"1.00E+00"}},{"$f":"$C36*PARÂMETROS!$F$6/($C36^2+$C36*PARÂMETROS!$F$6+PARÂMETROS!$F$6*PARÂMETROS!$G$6)","v":{"v":0.5768951994453594,"d":"5.77E-01"}},{"$f":"PARÂMETROS!$F$6*PARÂMETROS!$G$6/($C36^2+$C36*PARÂMETROS!$F$6+PARÂMETROS!$F$6*PARÂMETROS!$G$6)","v":{"v":0.42309780611258463,"d":"4.23E-01"}},{"$f":"(PARÂMETROS!$F$6*$C36^2)/($C36^3+PARÂMETROS!$F$6*$C36^2+PARÂMETROS!$F$6*PARÂMETROS!$G$6*$C36+PARÂMETROS!$F$6*PARÂMETROS!$G$6*PARÂMETROS!$H$6)","v":{"v":0.576893935056691,"d":"5.77E-01"}},{"$f":"(PARÂMETROS!$F$6*PARÂMETROS!$G$6*$C36)/($C36^3+PARÂMETROS!$F$6*$C36^2+PARÂMETROS!$F$6*PARÂMETROS!$G$6*$C36+PARÂMETROS!$F$6*PARÂMETROS!$G$6*PARÂMETROS!$H$6)","v":{"v":0.423096878803652,"d":"4.23E-01"}},{"$f":"(PARÂMETROS!$F$6*PARÂMETROS!$G$6*PARÂMETROS!$H$6)/($C36^3+PARÂMETROS!$F$6*$C36^2+PARÂMETROS!$F$6*PARÂMETROS!$G$6*$C36+PARÂMETROS!$F$6*PARÂMETROS!$G$6*PARÂMETROS!$H$6)","v":{"v":2.1917129306333585E-6,"d":"2.19E-06"}},{"$f":"$C36/($C36+PARÂMETROS!$J$6)","v":{"v":0.9999988403061749,"d":"1.00E+00"}},{"$f":"$C36*PARÂMETROS!$J$6/($C36^2+$C36*PARÂMETROS!$J$6+PARÂMETROS!$J$6*PARÂMETROS!$K$6)","v":{"v":1.1596938250084054E-6,"d":"1.16E-06"}},{"$f":"$C36^2/($C36^2+$C36*PARÂMETROS!$J$6+PARÂMETROS!$J$6*PARÂMETROS!$K$6)","v":{"v":0.999998840306175,"d":"1.00E+00"}},{"$f":"(PARÂMETROS!$K$6*PARÂMETROS!$J$6*$C36)/($C36^3+PARÂMETROS!$J$6*$C36^2+PARÂMETROS!$J$6*PARÂMETROS!$K$6*$C36+PARÂMETROS!$J$6*PARÂMETROS!$K$6*PARÂMETROS!$L$6)","v":{"v":0,"d":"0.00E+00"}},{"$f":"(PARÂMETROS!$J$6*$C36^2)/($C36^3+PARÂMETROS!$J$6*$C36^2+PARÂMETROS!$J$6*PARÂMETROS!$K$6*$C36+PARÂMETROS!$J$6*PARÂMETROS!$K$6*PARÂMETROS!$L$6)","v":{"v":1.1596938250084054E-6,"d":"1.16E-06"}},{"$f":"($C36^3)/($C36^3+PARÂMETROS!$J$6*$C36^2+PARÂMETROS!$J$6*PARÂMETROS!$K$6*$C36+PARÂMETROS!$J$6*PARÂMETROS!$K$6*PARÂMETROS!$L$6)","v":{"v":0.9999988403061749,"d":"1.00E+00"}},{"$f":"IF(PARÂMETROS!$J$6<PARÂMETROS!$F$6,(E36-(C36-D36)/PARÂMETROS!$C$11)/(K36+(C36-D36)/PARÂMETROS!$C$14),(K36+(C36-D36)/PARÂMETROS!$C$14)/(E36-(C36-D36)/PARÂMETROS!$C$11))","v":{"v":0.9999892437220114,"d":"1.00E+00"}},{"$f":"IF(PARÂMETROS!$J$6<PARÂMETROS!$F$6,(E36-(C36-D36)/PARÂMETROS!$C$11)/(L36+2*M36+(C36-D36)/PARÂMETROS!$C$14),(L36+2*M36+(C36-D36)/PARÂMETROS!$C$14)/(E36-(C36-D36)/PARÂMETROS!$C$11))","v":{"v":0.49999431707066166,"d":"5.00E-01"}},{"$f":"IF(PARÂMETROS!$J$6<PARÂMETROS!$F$6, (E36-(C36-D36)/PARÂMETROS!$C$11)/(N36+2*O36+3*P36+(C36-D36)/PARÂMETROS!$C$14),(N36+2*O36+3*P36+(C36-D36)/PARÂMETROS!$C$14)/ (E36-(C36-D36)/PARÂMETROS!$C$11))","v":{"v":0.33332947698264204,"d":"3.33E-01"}},{"$f":"IF(PARÂMETROS!$J$6<PARÂMETROS!$F$6,(F36+2*G36-(C36-D36)/PARÂMETROS!$C$11)/(K36+(C36-D36)/PARÂMETROS!$C$14),(K36+(C36-D36)/PARÂMETROS!$C$14)/(F36+2*G36-(C36-D36)/PARÂMETROS!$C$11))","v":{"v":1.4230926953675849,"d":"1.42E+00"}},{"$f":"IF(PARÂMETROS!$J$6<PARÂMETROS!$F$6,(F36+2*G36-(C36-D36)/PARÂMETROS!$C$11)/(L36+2*M36+(C36-D36)/PARÂMETROS!$C$14),(L36+2*M36+(C36-D36)/PARÂMETROS!$C$14)/(F36+2*G36-(C36-D36)/PARÂMETROS!$C$11))","v":{"v":0.7115459139342147,"d":"7.12E-01"}},{"$f":"IF(PARÂMETROS!$J$6<PARÂMETROS!$F$6,(F36+2*G36-(C36-D36)/PARÂMETROS!$C$11)/(N36+2*O36+3*P36+(C36-D36)/PARÂMETROS!$C$14),(N36+2*O36+3*P36+(C36-D36)/PARÂMETROS!$C$14)/(F36+2*G36-(C36-D36)/PARÂMETROS!$C$11))","v":{"v":0.4743638462340932,"d":"4.74E-01"}},{"$f":"IF(PARÂMETROS!$J$6<PARÂMETROS!$F$6,(H36+2*I36+3*J36-(C36-D36)/PARÂMETROS!$C$11)/(K36+(C36-D36)/PARÂMETROS!$C$14),(K36+(C36-D36)/PARÂMETROS!$C$14)/(H36+2*I36+3*J36-(C36-D36)/PARÂMETROS!$C$11))","v":{"v":1.4230961515040563,"d":"1.42E+00"}},{"$f":"IF(PARÂMETROS!$J$6<PARÂMETROS!$F$6,(H36+2*I36+3*J36-(C36-D36)/PARÂMETROS!$C$11)/(L36+2*M36+(C36-D36)/PARÂMETROS!$C$14),(L36+2*M36+(C36-D36)/PARÂMETROS!$C$14)/(H36+2*I36+3*J36-(C36-D36)/PARÂMETROS!$C$11))","v":{"v":0.7115476420013971,"d":"7.12E-01"}},{"$f":"IF(PARÂMETROS!$J$6<PARÂMETROS!$F$6,(H36+2*I36+3*J36-(C36-D36)/PARÂMETROS!$C$11)/(N36+2*O36+3*P36+(C36-D36)/PARÂMETROS!$C$14),(N36+2*O36+3*P36+(C36-D36)/PARÂMETROS!$C$14)/(H36+2*I36+3*J36-(C36-D36)/PARÂMETROS!$C$11))","v":{"v":0.47436499827864737,"d":"4.74E-01"}},{"$f":"Q36*PARÂMETROS!$C$11*PARÂMETROS!$D$11/PARÂMETROS!$C$14","v":{"v":19.99978487444023,"d":"20.00"}},{"$f":"R36*PARÂMETROS!$C$11*PARÂMETROS!$D$11/PARÂMETROS!$C$14","v":{"v":9.999886341413234,"d":"10.00"}},{"$f":"S36*PARÂMETROS!$C$11*PARÂMETROS!$D$11/PARÂMETROS!$C$14","v":{"v":6.666589539652841,"d":"6.67"}},{"$f":"T36*PARÂMETROS!$C$11*PARÂMETROS!$D$11/PARÂMETROS!$C$14","v":{"v":28.461853907351696,"d":"28.46"}},{"$f":"U36*PARÂMETROS!$C$11*PARÂMETROS!$D$11/PARÂMETROS!$C$14","v":{"v":14.230918278684296,"d":"14.23"}},{"$f":"V36*PARÂMETROS!$C$11*PARÂMETROS!$D$11/PARÂMETROS!$C$14","v":{"v":9.487276924681865,"d":"9.49"}},{"$f":"W36*PARÂMETROS!$C$11*PARÂMETROS!$D$11/PARÂMETROS!$C$14","v":{"v":28.461923030081127,"d":"28.46"}},{"$f":"X36*PARÂMETROS!$C$11*PARÂMETROS!$D$11/PARÂMETROS!$C$14","v":{"v":14.23095284002794,"d":"14.23"}},{"$f":"Y36*PARÂMETROS!$C$11*PARÂMETROS!$D$11/PARÂMETROS!$C$14","v":{"v":9.487299965572948,"d":"9.49"}},{"$f":"AND(B36+PARÂMETROS!$C$8>=PARÂMETROS!$C$5,B36+PARÂMETROS!$C$8<=PARÂMETROS!$D$5)","v":true},1,{"$f":"VLOOKUP('BANCO DE DADOS COMPLETA'!$N$8,'BANCO DE DADOS COMPLETA'!$A$7:$L$249,3)*-1","v":3},7,{"$f":"VLOOKUP('BANCO DE DADOS COMPLETA'!$N$10,'BANCO DE DADOS COMPLETA'!$A$7:$L$249,3)*-1","v":1},11,77,{"v":28.461923030081127,"d":"28.46"},{"v":28.461923030081127,"d":"28.46"},{"v":7.064343848340697,"d":"7.06"},{"v":0.09367126021995703,"d":"0.09"},{"v":-0.00939109851625526,"d":"-0.01"},"NADA","NADA",0]
[null,{"$f":"B36+PARÂMETROS!$C$8","v":{"v":7.2643438483406975,"d":"7.26"}},{"v":5.4407171889380806E-8,"d":"5.44E-08"},{"$f":"PARÂMETROS!$Q$4/C37","v":{"v":1.8379929801041174E-7,"d":"1.84E-07"}},{"$f":"PARÂMETROS!$F$6/($C37+PARÂMETROS!$F$6)","v":{"v":0.9999923501515876,"d":"1.00E+00"}},{"$f":"$C37*PARÂMETROS!$F$6/($C37^2+$C37*PARÂMETROS!$F$6+PARÂMETROS!$F$6*PARÂMETROS!$G$6)","v":{"v":0.46245422193965213,"d":"4.62E-01"}},{"$f":"PARÂMETROS!$F$6*PARÂMETROS!$G$6/($C37^2+$C37*PARÂMETROS!$F$6+PARÂMETROS!$F$6*PARÂMETROS!$G$6)","v":{"v":0.5375422403285892,"d":"5.38E-01"}},{"$f":"(PARÂMETROS!$F$6*$C37^2)/($C37^3+PARÂMETROS!$F$6*$C37^2+PARÂMETROS!$F$6*PARÂMETROS!$G$6*$C37+PARÂMETROS!$F$6*PARÂMETROS!$G$6*PARÂMETROS!$H$6)","v":{"v":0.4624521810323602,"d":"4.62E-01"}},{"$f":"(PARÂMETROS!$F$6*PARÂMETROS!$G$6*$C37)/($C37^3+PARÂMETROS!$F$6*$C37^2+PARÂMETROS!$F$6*PARÂMETROS!$G$6*$C37+PARÂMETROS!$F$6*PARÂMETROS!$G$6*PARÂMETROS!$H$6)","v":{"v":0.5375398680421533,"d":"5.38E-01"}},{"$f":"(PARÂMETROS!$F$6*PARÂMETROS!$G$6*PARÂMETROS!$H$6)/($C37^3+PARÂMETROS!$F$6*$C37^2+PARÂMETROS!$F$6*PARÂMETROS!$G$6*$C37+PARÂMETROS!$F$6*PARÂMETROS!$G$6*PARÂMETROS!$H$6)","v":{"v":4.4132093406657619E-6,"d":"4.41E-06"}},{"$f":"$C37/($C37+PARÂMETROS!$J$6)","v":{"v":0.9999981620103982,"d":"1.00E+00"}},{"$f":"$C37*PARÂMETROS!$J$6/($C37^2+$C37*PARÂMETROS!$J$6+PARÂMETROS!$J$6*PARÂMETROS!$K$6)","v":{"v":1.8379896018921318E-6,"d":"1.84E-06"}},{"$f":"$C37^2/($C37^2+$C37*PARÂMETROS!$J$6+PARÂMETROS!$J$6*PARÂMETROS!$K$6)","v":{"v":0.9999981620103982,"d":"1.00E+00"}},{"$f":"(PARÂMETROS!$K$6*PARÂMETROS!$J$6*$C37)/($C37^3+PARÂMETROS!$J$6*$C37^2+PARÂMETROS!$J$6*PARÂMETROS!$K$6*$C37+PARÂMETROS!$J$6*PARÂMETROS!$K$6*PARÂMETROS!$L$6)","v":{"v":0,"d":"0.00E+00"}},{"$f":"(PARÂMETROS!$J$6*$C37^2)/($C37^3+PARÂMETROS!$J$6*$C37^2+PARÂMETROS!$J$6*PARÂMETROS!$K$6*$C37+PARÂMETROS!$J$6*PARÂMETROS!$K$6*PARÂMETROS!$L$6)","v":{"v":1.8379896018921318E-6,"d":"1.84E-06"}},{"$f":"($C37^3)/($C37^3+PARÂMETROS!$J$6*$C37^2+PARÂMETROS!$J$6*PARÂMETROS!$K$6*$C37+PARÂMETROS!$J$6*PARÂMETROS!$K$6*PARÂMETROS!$L$6)","v":{"v":0.999998162010398,"d":"1.00E+00"}},{"$f":"IF(PARÂMETROS!$J$6<PARÂMETROS!$F$6,(E37-(C37-D37)/PARÂMETROS!$C$11)/(K37+(C37-D37)/PARÂMETROS!$C$14),(K37+(C37-D37)/PARÂMETROS!$C$14)/(E37-(C37-D37)/PARÂMETROS!$C$11))","v":{"v":0.9999950938757853,"d":"1.00E+00"}},{"$f":"IF(PARÂMETROS!$J$6<PARÂMETROS!$F$6,(E37-(C37-D37)/PARÂMETROS!$C$11)/(L37+2*M37+(C37-D37)/PARÂMETROS!$C$14),(L37+2*M37+(C37-D37)/PARÂMETROS!$C$14)/(E37-(C37-D37)/PARÂMETROS!$C$11))","v":{"v":0.4999970227464513,"d":"5.00E-01"}},{"$f":"IF(PARÂMETROS!$J$6<PARÂMETROS!$F$6, (E37-(C37-D37)/PARÂMETROS!$C$11)/(N37+2*O37+3*P37+(C37-D37)/PARÂMETROS!$C$14),(N37+2*O37+3*P37+(C37-D37)/PARÂMETROS!$C$14)/ (E37-(C37-D37)/PARÂMETROS!$C$11))","v":{"v":0.33333123201081016,"d":"3.33E-01"}},{"$f":"IF(PARÂMETROS!$J$6<PARÂMETROS!$F$6,(F37+2*G37-(C37-D37)/PARÂMETROS!$C$11)/(K37+(C37-D37)/PARÂMETROS!$C$14),(K37+(C37-D37)/PARÂMETROS!$C$14)/(F37+2*G37-(C37-D37)/PARÂMETROS!$C$11))","v":{"v":1.5375425734365287,"d":"1.54E+00"}},{"$f":"IF(PARÂMETROS!$J$6<PARÂMETROS!$F$6,(F37+2*G37-(C37-D37)/PARÂMETROS!$C$11)/(L37+2*M37+(C37-D37)/PARÂMETROS!$C$14),(L37+2*M37+(C37-D37)/PARÂMETROS!$C$14)/(F37+2*G37-(C37-D37)/PARÂMETROS!$C$11))","v":{"v":0.7687704807476525,"d":"7.69E-01"}},{"$f":"IF(PARÂMETROS!$J$6<PARÂMETROS!$F$6,(F37+2*G37-(C37-D37)/PARÂMETROS!$C$11)/(N37+2*O37+3*P37+(C37-D37)/PARÂMETROS!$C$14),(N37+2*O37+3*P37+(C37-D37)/PARÂMETROS!$C$14)/(F37+2*G37-(C37-D37)/PARÂMETROS!$C$11))","v":{"v":0.5125134747274384,"d":"5.13E-01"}},{"$f":"IF(PARÂMETROS!$J$6<PARÂMETROS!$F$6,(H37+2*I37+3*J37-(C37-D37)/PARÂMETROS!$C$11)/(K37+(C37-D37)/PARÂMETROS!$C$14),(K37+(C37-D37)/PARÂMETROS!$C$14)/(H37+2*I37+3*J37-(C37-D37)/PARÂMETROS!$C$11))","v":{"v":1.5375490275979196,"d":"1.54E+00"}},{"$f":"IF(PARÂMETROS!$J$6<PARÂMETROS!$F$6,(H37+2*I37+3*J37-(C37-D37)/PARÂMETROS!$C$11)/(L37+2*M37+(C37-D37)/PARÂMETROS!$C$14),(L37+2*M37+(C37-D37)/PARÂMETROS!$C$14)/(H37+2*I37+3*J37-(C37-D37)/PARÂMETROS!$C$11))","v":{"v":0.7687737078249647,"d":"7.69E-01"}},{"$f":"IF(PARÂMETROS!$J$6<PARÂMETROS!$F$6,(H37+2*I37+3*J37-(C37-D37)/PARÂMETROS!$C$11)/(N37+2*O37+3*P37+(C37-D37)/PARÂMETROS!$C$14),(N37+2*O37+3*P37+(C37-D37)/PARÂMETROS!$C$14)/(H37+2*I37+3*J37-(C37-D37)/PARÂMETROS!$C$11))","v":{"v":0.5125156261115613,"d":"5.13E-01"}},{"$f":"Q37*PARÂMETROS!$C$11*PARÂMETROS!$D$11/PARÂMETROS!$C$14","v":{"v":19.999901877515708,"d":"20.00"}},{"$f":"R37*PARÂMETROS!$C$11*PARÂMETROS!$D$11/PARÂMETROS!$C$14","v":{"v":9.999940454929027,"d":"10.00"}},{"$f":"S37*PARÂMETROS!$C$11*PARÂMETROS!$D$11/PARÂMETROS!$C$14","v":{"v":6.666624640216204,"d":"6.67"}},{"$f":"T37*PARÂMETROS!$C$11*PARÂMETROS!$D$11/PARÂMETROS!$C$14","v":{"v":30.750851468730577,"d":"30.75"}},{"$f":"U37*PARÂMETROS!$C$11*PARÂMETROS!$D$11/PARÂMETROS!$C$14","v":{"v":15.37540961495305,"d":"15.38"}},{"$f":"V37*PARÂMETROS!$C$11*PARÂMETROS!$D$11/PARÂMETROS!$C$14","v":{"v":10.250269494548768,"d":"10.25"}},{"$f":"W37*PARÂMETROS!$C$11*PARÂMETROS!$D$11/PARÂMETROS!$C$14","v":{"v":30.750980551958396,"d":"30.75"}},{"$f":"X37*PARÂMETROS!$C$11*PARÂMETROS!$D$11/PARÂMETROS!$C$14","v":{"v":15.375474156499294,"d":"15.38"}},{"$f":"Y37*PARÂMETROS!$C$11*PARÂMETROS!$D$11/PARÂMETROS!$C$14","v":{"v":10.250312522231226,"d":"10.25"}},{"$f":"AND(B37+PARÂMETROS!$C$8>=PARÂMETROS!$C$5,B37+PARÂMETROS!$C$8<=PARÂMETROS!$D$5)","v":true},1,{"$f":"VLOOKUP('BANCO DE DADOS COMPLETA'!$N$8,'BANCO DE DADOS COMPLETA'!$A$7:$L$249,3)*-1","v":3},7,{"$f":"VLOOKUP('BANCO DE DADOS COMPLETA'!$N$10,'BANCO DE DADOS COMPLETA'!$A$7:$L$249,3)*-1","v":1},11,77,{"v":30.750980551958396,"d":"30.75"},{"v":30.750980551958396,"d":"30.75"},{"v":7.2643438483406975,"d":"7.26"},{"v":0.08737220366396871,"d":"0.09"},{"v":-2.9502028289810395E-3,"d":"-0.00"},"NADA","NADA",0]
[null,{"$f":"B37+PARÂMETROS!$C$8","v":{"v":7.464343848340698,"d":"7.46"}},{"v":3.4328604696001079E-8,"d":"3.43E-08"},{"$f":"PARÂMETROS!$Q$4/C38","v":{"v":2.9130225619583354E-7,"d":"2.91E-07"}},{"$f":"PARÂMETROS!$F$6/($C38+PARÂMETROS!$F$6)","v":{"v":0.9999951732583336,"d":"1.00E+00"}},{"$f":"$C38*PARÂMETROS!$F$6/($C38^2+$C38*PARÂMETROS!$F$6+PARÂMETROS!$F$6*PARÂMETROS!$G$6)","v":{"v":0.35183581369514133,"d":"3.52E-01"}},{"$f":"PARÂMETROS!$F$6*PARÂMETROS!$G$6/($C38^2+$C38*PARÂMETROS!$F$6+PARÂMETROS!$F$6*PARÂMETROS!$G$6)","v":{"v":0.64816248807608,"d":"6.48E-01"}},{"$f":"(PARÂMETROS!$F$6*$C38^2)/($C38^3+PARÂMETROS!$F$6*$C38^2+PARÂMETROS!$F$6*PARÂMETROS!$G$6*$C38+PARÂMETROS!$F$6*PARÂMETROS!$G$6*PARÂMETROS!$H$6)","v":{"v":0.35183284637692225,"d":"3.52E-01"}},{"$f":"(PARÂMETROS!$F$6*PARÂMETROS!$G$6*$C38)/($C38^3+PARÂMETROS!$F$6*$C38^2+PARÂMETROS!$F$6*PARÂMETROS!$G$6*$C38+PARÂMETROS!$F$6*PARÂMETROS!$G$6*PARÂMETROS!$H$6)","v":{"v":0.6481570215934623,"d":"6.48E-01"}},{"$f":"(PARÂMETROS!$F$6*PARÂMETROS!$G$6*PARÂMETROS!$H$6)/($C38^3+PARÂMETROS!$F$6*$C38^2+PARÂMETROS!$F$6*PARÂMETROS!$G$6*$C38+PARÂMETROS!$F$6*PARÂMETROS!$G$6*PARÂMETROS!$H$6)","v":{"v":8.4338151593141375E-6,"d":"8.43E-06"}},{"$f":"$C38/($C38+PARÂMETROS!$J$6)","v":{"v":0.9999970869859237,"d":"1.00E+00"}},{"$f":"$C38*PARÂMETROS!$J$6/($C38^2+$C38*PARÂMETROS!$J$6+PARÂMETROS!$J$6*PARÂMETROS!$K$6)","v":{"v":2.913014076282608E-6,"d":"2.91E-06"}},{"$f":"$C38^2/($C38^2+$C38*PARÂMETROS!$J$6+PARÂMETROS!$J$6*PARÂMETROS!$K$6)","v":{"v":0.9999970869859237,"d":"1.00E+00"}},{"$f":"(PARÂMETROS!$K$6*PARÂMETROS!$J$6*$C38)/($C38^3+PARÂMETROS!$J$6*$C38^2+PARÂMETROS!$J$6*PARÂMETROS!$K$6*$C38+PARÂMETROS!$J$6*PARÂMETROS!$K$6*PARÂMETROS!$L$6)","v":{"v":0,"d":"0.00E+00"}},{"$f":"(PARÂMETROS!$J$6*$C38^2)/($C38^3+PARÂMETROS!$J$6*$C38^2+PARÂMETROS!$J$6*PARÂMETROS!$K$6*$C38+PARÂMETROS!$J$6*PARÂMETROS!$K$6*PARÂMETROS!$L$6)","v":{"v":2.913014076282608E-6,"d":"2.91E-06"}},{"$f":"($C38^3)/($C38^3+PARÂMETROS!$J$6*$C38^2+PARÂMETROS!$J$6*PARÂMETROS!$K$6*$C38+PARÂMETROS!$J$6*PARÂMETROS!$K$6*PARÂMETROS!$L$6)","v":{"v":0.9999970869859237,"d":"1.00E+00"}},{"$f":"IF(PARÂMETROS!$J$6<PARÂMETROS!$F$6,(E38-(C38-D38)/PARÂMETROS!$C$11)/(K38+(C38-D38)/PARÂMETROS!$C$14),(K38+(C38-D38)/PARÂMETROS!$C$14)/(E38-(C38-D38)/PARÂMETROS!$C$11))","v":{"v":0.9999998850875766,"d":"1.00E+00"}},{"$f":"IF(PARÂMETROS!$J$6<PARÂMETROS!$F$6,(E38-(C38-D38)/PARÂMETROS!$C$11)/(L38+2*M38+(C38-D38)/PARÂMETROS!$C$14),(L38+2*M38+(C38-D38)/PARÂMETROS!$C$14)/(E38-(C38-D38)/PARÂMETROS!$C$11))","v":{"v":0.4999990858020739,"d":"5.00E-01"}},{"$f":"IF(PARÂMETROS!$J$6<PARÂMETROS!$F$6, (E38-(C38-D38)/PARÂMETROS!$C$11)/(N38+2*O38+3*P38+(C38-D38)/PARÂMETROS!$C$14),(N38+2*O38+3*P38+(C38-D38)/PARÂMETROS!$C$14)/ (E38-(C38-D38)/PARÂMETROS!$C$11))","v":{"v":0.33333253348143665,"d":"3.33E-01"}},{"$f":"IF(PARÂMETROS!$J$6<PARÂMETROS!$F$6,(F38+2*G38-(C38-D38)/PARÂMETROS!$C$11)/(K38+(C38-D38)/PARÂMETROS!$C$14),(K38+(C38-D38)/PARÂMETROS!$C$14)/(F38+2*G38-(C38-D38)/PARÂMETROS!$C$11))","v":{"v":1.648167722922692,"d":"1.65E+00"}},{"$f":"IF(PARÂMETROS!$J$6<PARÂMETROS!$F$6,(F38+2*G38-(C38-D38)/PARÂMETROS!$C$11)/(L38+2*M38+(C38-D38)/PARÂMETROS!$C$14),(L38+2*M38+(C38-D38)/PARÂMETROS!$C$14)/(F38+2*G38-(C38-D38)/PARÂMETROS!$C$11))","v":{"v":0.8240824494071433,"d":"8.24E-01"}},{"$f":"IF(PARÂMETROS!$J$6<PARÂMETROS!$F$6,(F38+2*G38-(C38-D38)/PARÂMETROS!$C$11)/(N38+2*O38+3*P38+(C38-D38)/PARÂMETROS!$C$14),(N38+2*O38+3*P38+(C38-D38)/PARÂMETROS!$C$14)/(F38+2*G38-(C38-D38)/PARÂMETROS!$C$11))","v":{"v":0.5493879858156563,"d":"5.49E-01"}},{"$f":"IF(PARÂMETROS!$J$6<PARÂMETROS!$F$6,(H38+2*I38+3*J38-(C38-D38)/PARÂMETROS!$C$11)/(K38+(C38-D38)/PARÂMETROS!$C$14),(K38+(C38-D38)/PARÂMETROS!$C$14)/(H38+2*I38+3*J38-(C38-D38)/PARÂMETROS!$C$11))","v":{"v":1.6481791241237869,"d":"1.65E+00"}},{"$f":"IF(PARÂMETROS!$J$6<PARÂMETROS!$F$6,(H38+2*I38+3*J38-(C38-D38)/PARÂMETROS!$C$11)/(L38+2*M38+(C38-D38)/PARÂMETROS!$C$14),(L38+2*M38+(C38-D38)/PARÂMETROS!$C$14)/(H38+2*I38+3*J38-(C38-D38)/PARÂMETROS!$C$11))","v":{"v":0.8240881499979228,"d":"8.24E-01"}},{"$f":"IF(PARÂMETROS!$J$6<PARÂMETROS!$F$6,(H38+2*I38+3*J38-(C38-D38)/PARÂMETROS!$C$11)/(N38+2*O38+3*P38+(C38-D38)/PARÂMETROS!$C$14),(N38+2*O38+3*P38+(C38-D38)/PARÂMETROS!$C$14)/(H38+2*I38+3*J38-(C38-D38)/PARÂMETROS!$C$11))","v":{"v":0.5493917862073386,"d":"5.49E-01"}},{"$f":"Q38*PARÂMETROS!$C$11*PARÂMETROS!$D$11/PARÂMETROS!$C$14","v":{"v":19.999997701751536,"d":"20.00"}},{"$f":"R38*PARÂMETROS!$C$11*PARÂMETROS!$D$11/PARÂMETROS!$C$14","v":{"v":9.999981716041479,"d":"10.00"}},{"$f":"S38*PARÂMETROS!$C$11*PARÂMETROS!$D$11/PARÂMETROS!$C$14","v":{"v":6.6666506696287335,"d":"6.67"}},{"$f":"T38*PARÂMETROS!$C$11*PARÂMETROS!$D$11/PARÂMETROS!$C$14","v":{"v":32.96335445845384,"d":"32.96"}},{"$f":"U38*PARÂMETROS!$C$11*PARÂMETROS!$D$11/PARÂMETROS!$C$14","v":{"v":16.481648988142865,"d":"16.48"}},{"$f":"V38*PARÂMETROS!$C$11*PARÂMETROS!$D$11/PARÂMETROS!$C$14","v":{"v":10.987759716313127,"d":"10.99"}},{"$f":"W38*PARÂMETROS!$C$11*PARÂMETROS!$D$11/PARÂMETROS!$C$14","v":{"v":32.963582482475736,"d":"32.96"}},{"$f":"X38*PARÂMETROS!$C$11*PARÂMETROS!$D$11/PARÂMETROS!$C$14","v":{"v":16.48176299995846,"d":"16.48"}},{"$f":"Y38*PARÂMETROS!$C$11*PARÂMETROS!$D$11/PARÂMETROS!$C$14","v":{"v":10.987835724146773,"d":"10.99"}},{"$f":"AND(B38+PARÂMETROS!$C$8>=PARÂMETROS!$C$5,B38+PARÂMETROS!$C$8<=PARÂMETROS!$D$5)","v":true},1,{"$f":"VLOOKUP('BANCO DE DADOS COMPLETA'!$N$8,'BANCO DE DADOS COMPLETA'!$A$7:$L$249,3)*-1","v":3},7,{"$f":"VLOOKUP('BANCO DE DADOS COMPLETA'!$N$10,'BANCO DE DADOS COMPLETA'!$A$7:$L$249,3)*-1","v":1},11,77,{"v":32.963582482475736,"d":"32.96"},{"v":32.963582482475736,"d":"32.96"},{"v":7.464343848340698,"d":"7.46"},{"v":0.09039131587182384,"d":"0.09"},{"v":1.3189324335454605E-3,"d":"0.00"},"NADA","NADA",0]
[null,{"$f":"B38+PARÂMETROS!$C$8","v":{"v":7.664343848340698,"d":"7.66"}},{"v":2.1659885258699095E-8,"d":"2.17E-08"},{"$f":"PARÂMETROS!$Q$4/C39","v":{"v":4.6168296279334057E-7,"d":"4.62E-07"}},{"$f":"PARÂMETROS!$F$6/($C39+PARÂMETROS!$F$6)","v":{"v":0.9999969545264709,"d":"1.00E+00"}},{"$f":"$C39*PARÂMETROS!$F$6/($C39^2+$C39*PARÂMETROS!$F$6+PARÂMETROS!$F$6*PARÂMETROS!$G$6)","v":{"v":0.2551189087336623,"d":"2.55E-01"}},{"$f":"PARÂMETROS!$F$6*PARÂMETROS!$G$6/($C39^2+$C39*PARÂMETROS!$F$6+PARÂMETROS!$F$6*PARÂMETROS!$G$6)","v":{"v":0.7448803143060883,"d":"7.45E-01"}},{"$f":"(PARÂMETROS!$F$6*$C39^2)/($C39^3+PARÂMETROS!$F$6*$C39^2+PARÂMETROS!$F$6*PARÂMETROS!$G$6*$C39+PARÂMETROS!$F$6*PARÂMETROS!$G$6*PARÂMETROS!$H$6)","v":{"v":0.25511498981434355,"d":"2.55E-01"}},{"$f":"(PARÂMETROS!$F$6*PARÂMETROS!$G$6*$C39)/($C39^3+PARÂMETROS!$F$6*$C39^2+PARÂMETROS!$F$6*PARÂMETROS!$G$6*$C39+PARÂMETROS!$F$6*PARÂMETROS!$G$6*PARÂMETROS!$H$6)","v":{"v":0.744868872089326,"d":"7.45E-01"}},{"$f":"(PARÂMETROS!$F$6*PARÂMETROS!$G$6*PARÂMETROS!$H$6)/($C39^3+PARÂMETROS!$F$6*$C39^2+PARÂMETROS!$F$6*PARÂMETROS!$G$6*$C39+PARÂMETROS!$F$6*PARÂMETROS!$G$6*PARÂMETROS!$H$6)","v":{"v":1.5361148015900379E-5,"d":"1.54E-05"}},{"$f":"$C39/($C39+PARÂMETROS!$J$6)","v":{"v":0.9999953831916871,"d":"1.00E+00"}},{"$f":"$C39*PARÂMETROS!$J$6/($C39^2+$C39*PARÂMETROS!$J$6+PARÂMETROS!$J$6*PARÂMETROS!$K$6)","v":{"v":4.616808312916001E-6,"d":"4.62E-06"}},{"$f":"$C39^2/($C39^2+$C39*PARÂMETROS!$J$6+PARÂMETROS!$J$6*PARÂMETROS!$K$6)","v":{"v":0.9999953831916871,"d":"1.00E+00"}},{"$f":"(PARÂMETROS!$K$6*PARÂMETROS!$J$6*$C39)/($C39^3+PARÂMETROS!$J$6*$C39^2+PARÂMETROS!$J$6*PARÂMETROS!$K$6*$C39+PARÂMETROS!$J$6*PARÂMETROS!$K$6*PARÂMETROS!$L$6)","v":{"v":0,"d":"0.00E+00"}},{"$f":"(PARÂMETROS!$J$6*$C39^2)/($C39^3+PARÂMETROS!$J$6*$C39^2+PARÂMETROS!$J$6*PARÂMETROS!$K$6*$C39+PARÂMETROS!$J$6*PARÂMETROS!$K$6*PARÂMETROS!$L$6)","v":{"v":4.616808312916001E-6,"d":"4.62E-06"}},{"$f":"($C39^3)/($C39^3+PARÂMETROS!$J$6*$C39^2+PARÂMETROS!$J$6*PARÂMETROS!$K$6*$C39+PARÂMETROS!$J$6*PARÂMETROS!$K$6*PARÂMETROS!$L$6)","v":{"v":0.9999953831916871,"d":"1.00E+00"}},{"$f":"IF(PARÂMETROS!$J$6<PARÂMETROS!$F$6,(E39-(C39-D39)/PARÂMETROS!$C$11)/(K39+(C39-D39)/PARÂMETROS!$C$14),(K39+(C39-D39)/PARÂMETROS!$C$14)/(E39-(C39-D39)/PARÂMETROS!$C$11))","v":{"v":1.0000046515218952,"d":"1.00E+00"}},{"$f":"IF(PARÂMETROS!$J$6<PARÂMETROS!$F$6,(E39-(C39-D39)/PARÂMETROS!$C$11)/(L39+2*M39+(C39-D39)/PARÂMETROS!$C$14),(L39+2*M39+(C39-D39)/PARÂMETROS!$C$14)/(E39-(C39-D39)/PARÂMETROS!$C$11))","v":{"v":0.5000009515371614,"d":"5.00E-01"}},{"$f":"IF(PARÂMETROS!$J$6<PARÂMETROS!$F$6, (E39-(C39-D39)/PARÂMETROS!$C$11)/(N39+2*O39+3*P39+(C39-D39)/PARÂMETROS!$C$14),(N39+2*O39+3*P39+(C39-D39)/PARÂMETROS!$C$14)/ (E39-(C39-D39)/PARÂMETROS!$C$11))","v":{"v":0.33333366230949646,"d":"3.33E-01"}},{"$f":"IF(PARÂMETROS!$J$6<PARÂMETROS!$F$6,(F39+2*G39-(C39-D39)/PARÂMETROS!$C$11)/(K39+(C39-D39)/PARÂMETROS!$C$14),(K39+(C39-D39)/PARÂMETROS!$C$14)/(F39+2*G39-(C39-D39)/PARÂMETROS!$C$11))","v":{"v":1.7448913288749237,"d":"1.74E+00"}},{"$f":"IF(PARÂMETROS!$J$6<PARÂMETROS!$F$6,(F39+2*G39-(C39-D39)/PARÂMETROS!$C$11)/(L39+2*M39+(C39-D39)/PARÂMETROS!$C$14),(L39+2*M39+(C39-D39)/PARÂMETROS!$C$14)/(F39+2*G39-(C39-D39)/PARÂMETROS!$C$11))","v":{"v":0.8724432665774471,"d":"8.72E-01"}},{"$f":"IF(PARÂMETROS!$J$6<PARÂMETROS!$F$6,(F39+2*G39-(C39-D39)/PARÂMETROS!$C$11)/(N39+2*O39+3*P39+(C39-D39)/PARÂMETROS!$C$14),(N39+2*O39+3*P39+(C39-D39)/PARÂMETROS!$C$14)/(F39+2*G39-(C39-D39)/PARÂMETROS!$C$11))","v":{"v":0.5816283115291364,"d":"5.82E-01"}},{"$f":"IF(PARÂMETROS!$J$6<PARÂMETROS!$F$6,(H39+2*I39+3*J39-(C39-D39)/PARÂMETROS!$C$11)/(K39+(C39-D39)/PARÂMETROS!$C$14),(K39+(C39-D39)/PARÂMETROS!$C$14)/(H39+2*I39+3*J39-(C39-D39)/PARÂMETROS!$C$11))","v":{"v":1.7449106090721085,"d":"1.74E+00"}},{"$f":"IF(PARÂMETROS!$J$6<PARÂMETROS!$F$6,(H39+2*I39+3*J39-(C39-D39)/PARÂMETROS!$C$11)/(L39+2*M39+(C39-D39)/PARÂMETROS!$C$14),(L39+2*M39+(C39-D39)/PARÂMETROS!$C$14)/(H39+2*I39+3*J39-(C39-D39)/PARÂMETROS!$C$11))","v":{"v":0.8724529066495443,"d":"8.72E-01"}},{"$f":"IF(PARÂMETROS!$J$6<PARÂMETROS!$F$6,(H39+2*I39+3*J39-(C39-D39)/PARÂMETROS!$C$11)/(N39+2*O39+3*P39+(C39-D39)/PARÂMETROS!$C$14),(N39+2*O39+3*P39+(C39-D39)/PARÂMETROS!$C$14)/(H39+2*I39+3*J39-(C39-D39)/PARÂMETROS!$C$11))","v":{"v":0.5816347382379801,"d":"5.82E-01"}},{"$f":"Q39*PARÂMETROS!$C$11*PARÂMETROS!$D$11/PARÂMETROS!$C$14","v":{"v":20.000093030437903,"d":"20.00"}},{"$f":"R39*PARÂMETROS!$C$11*PARÂMETROS!$D$11/PARÂMETROS!$C$14","v":{"v":10.000019030743228,"d":"10.00"}},{"$f":"S39*PARÂMETROS!$C$11*PARÂMETROS!$D$11/PARÂMETROS!$C$14","v":{"v":6.666673246189929,"d":"6.67"}},{"$f":"T39*PARÂMETROS!$C$11*PARÂMETROS!$D$11/PARÂMETROS!$C$14","v":{"v":34.89782657749848,"d":"34.90"}},{"$f":"U39*PARÂMETROS!$C$11*PARÂMETROS!$D$11/PARÂMETROS!$C$14","v":{"v":17.448865331548944,"d":"17.45"}},{"$f":"V39*PARÂMETROS!$C$11*PARÂMETROS!$D$11/PARÂMETROS!$C$14","v":{"v":11.632566230582729,"d":"11.63"}},{"$f":"W39*PARÂMETROS!$C$11*PARÂMETROS!$D$11/PARÂMETROS!$C$14","v":{"v":34.898212181442176,"d":"34.90"}},{"$f":"X39*PARÂMETROS!$C$11*PARÂMETROS!$D$11/PARÂMETROS!$C$14","v":{"v":17.44905813299089,"d":"17.45"}},{"$f":"Y39*PARÂMETROS!$C$11*PARÂMETROS!$D$11/PARÂMETROS!$C$14","v":{"v":11.632694764759602,"d":"11.63"}},{"$f":"AND(B39+PARÂMETROS!$C$8>=PARÂMETROS!$C$5,B39+PARÂMETROS!$C$8<=PARÂMETROS!$D$5)","v":true},1,{"$f":"VLOOKUP('BANCO DE DADOS COMPLETA'!$N$8,'BANCO DE DADOS COMPLETA'!$A$7:$L$249,3)*-1","v":3},7,{"$f":"VLOOKUP('BANCO DE DADOS COMPLETA'!$N$10,'BANCO DE DADOS COMPLETA'!$A$7:$L$249,3)*-1","v":1},11,77,{"v":34.898212181442176,"d":"34.90"},{"v":34.898212181442176,"d":"34.90"},{"v":7.664343848340698,"d":"7.66"},{"v":0.10337895676203492,"d":"0.10"},{"v":0.005869849750684421,"d":"0.01"},"NADA","NADA",0]
[null,{"$f":"B39+PARÂMETROS!$C$8","v":{"v":7.864343848340698,"d":"7.86"}},{"v":1.366646368457449E-8,"d":"1.37E-08"},{"$f":"PARÂMETROS!$Q$4/C40","v":{"v":7.3171818480644167E-7,"d":"7.32E-07"}},{"$f":"PARÂMETROS!$F$6/($C40+PARÂMETROS!$F$6)","v":{"v":0.9999980784339497,"d":"1.00E+00"}},{"$f":"$C40*PARÂMETROS!$F$6/($C40^2+$C40*PARÂMETROS!$F$6+PARÂMETROS!$F$6*PARÂMETROS!$G$6)","v":{"v":0.17769960761106504,"d":"1.78E-01"}},{"$f":"PARÂMETROS!$F$6*PARÂMETROS!$G$6/($C40^2+$C40*PARÂMETROS!$F$6+PARÂMETROS!$F$6*PARÂMETROS!$G$6)","v":{"v":0.8223000509267456,"d":"8.22E-01"}},{"$f":"(PARÂMETROS!$F$6*$C40^2)/($C40^3+PARÂMETROS!$F$6*$C40^2+PARÂMETROS!$F$6*PARÂMETROS!$G$6*$C40+PARÂMETROS!$F$6*PARÂMETROS!$G$6*PARÂMETROS!$H$6)","v":{"v":0.17769483177993434,"d":"1.78E-01"}},{"$f":"(PARÂMETROS!$F$6*PARÂMETROS!$G$6*$C40)/($C40^3+PARÂMETROS!$F$6*$C40^2+PARÂMETROS!$F$6*PARÂMETROS!$G$6*$C40+PARÂMETROS!$F$6*PARÂMETROS!$G$6*PARÂMETROS!$H$6)","v":{"v":0.8222779508994309,"d":"8.22E-01"}},{"$f":"(PARÂMETROS!$F$6*PARÂMETROS!$G$6*PARÂMETROS!$H$6)/($C40^3+PARÂMETROS!$F$6*$C40^2+PARÂMETROS!$F$6*PARÂMETROS!$G$6*$C40+PARÂMETROS!$F$6*PARÂMETROS!$G$6*PARÂMETROS!$H$6)","v":{"v":2.6875867622497257E-5,"d":"2.69E-05"}},{"$f":"$C40/($C40+PARÂMETROS!$J$6)","v":{"v":0.9999926828716926,"d":"1.00E+00"}},{"$f":"$C40*PARÂMETROS!$J$6/($C40^2+$C40*PARÂMETROS!$J$6+PARÂMETROS!$J$6*PARÂMETROS!$K$6)","v":{"v":7.3171283073059865E-6,"d":"7.32E-06"}},{"$f":"$C40^2/($C40^2+$C40*PARÂMETROS!$J$6+PARÂMETROS!$J$6*PARÂMETROS!$K$6)","v":{"v":0.9999926828716926,"d":"1.00E+00"}},{"$f":"(PARÂMETROS!$K$6*PARÂMETROS!$J$6*$C40)/($C40^3+PARÂMETROS!$J$6*$C40^2+PARÂMETROS!$J$6*PARÂMETROS!$K$6*$C40+PARÂMETROS!$J$6*PARÂMETROS!$K$6*PARÂMETROS!$L$6)","v":{"v":0,"d":"0.00E+00"}},{"$f":"(PARÂMETROS!$J$6*$C40^2)/($C40^3+PARÂMETROS!$J$6*$C40^2+PARÂMETROS!$J$6*PARÂMETROS!$K$6*$C40+PARÂMETROS!$J$6*PARÂMETROS!$K$6*PARÂMETROS!$L$6)","v":{"v":7.3171283073059865E-6,"d":"7.32E-06"}},{"$f":"($C40^3)/($C40^3+PARÂMETROS!$J$6*$C40^2+PARÂMETROS!$J$6*PARÂMETROS!$K$6*$C40+PARÂMETROS!$J$6*PARÂMETROS!$K$6*PARÂMETROS!$L$6)","v":{"v":0.9999926828716927,"d":"1.00E+00"}},{"$f":"IF(PARÂMETROS!$J$6<PARÂMETROS!$F$6,(E40-(C40-D40)/PARÂMETROS!$C$11)/(K40+(C40-D40)/PARÂMETROS!$C$14),(K40+(C40-D40)/PARÂMETROS!$C$14)/(E40-(C40-D40)/PARÂMETROS!$C$11))","v":{"v":1.0000104220155313,"d":"1.00E+00"}},{"$f":"IF(PARÂMETROS!$J$6<PARÂMETROS!$F$6,(E40-(C40-D40)/PARÂMETROS!$C$11)/(L40+2*M40+(C40-D40)/PARÂMETROS!$C$14),(L40+2*M40+(C40-D40)/PARÂMETROS!$C$14)/(E40-(C40-D40)/PARÂMETROS!$C$11))","v":{"v":0.5000030226674441,"d":"5.00E-01"}},{"$f":"IF(PARÂMETROS!$J$6<PARÂMETROS!$F$6, (E40-(C40-D40)/PARÂMETROS!$C$11)/(N40+2*O40+3*P40+(C40-D40)/PARÂMETROS!$C$14),(N40+2*O40+3*P40+(C40-D40)/PARÂMETROS!$C$14)/ (E40-(C40-D40)/PARÂMETROS!$C$11))","v":{"v":0.3333348621499513,"d":"3.33E-01"}},{"$f":"IF(PARÂMETROS!$J$6<PARÂMETROS!$F$6,(F40+2*G40-(C40-D40)/PARÂMETROS!$C$11)/(K40+(C40-D40)/PARÂMETROS!$C$14),(K40+(C40-D40)/PARÂMETROS!$C$14)/(F40+2*G40-(C40-D40)/PARÂMETROS!$C$11))","v":{"v":1.822319250905887,"d":"1.82E+00"}},{"$f":"IF(PARÂMETROS!$J$6<PARÂMETROS!$F$6,(F40+2*G40-(C40-D40)/PARÂMETROS!$C$11)/(L40+2*M40+(C40-D40)/PARÂMETROS!$C$14),(L40+2*M40+(C40-D40)/PARÂMETROS!$C$14)/(F40+2*G40-(C40-D40)/PARÂMETROS!$C$11))","v":{"v":0.911155637639809,"d":"9.11E-01"}},{"$f":"IF(PARÂMETROS!$J$6<PARÂMETROS!$F$6,(F40+2*G40-(C40-D40)/PARÂMETROS!$C$11)/(N40+2*O40+3*P40+(C40-D40)/PARÂMETROS!$C$14),(N40+2*O40+3*P40+(C40-D40)/PARÂMETROS!$C$14)/(F40+2*G40-(C40-D40)/PARÂMETROS!$C$11))","v":{"v":0.6074362055843475,"d":"6.07E-01"}},{"$f":"IF(PARÂMETROS!$J$6<PARÂMETROS!$F$6,(H40+2*I40+3*J40-(C40-D40)/PARÂMETROS!$C$11)/(K40+(C40-D40)/PARÂMETROS!$C$14),(K40+(C40-D40)/PARÂMETROS!$C$14)/(H40+2*I40+3*J40-(C40-D40)/PARÂMETROS!$C$11))","v":{"v":1.8223509029000513,"d":"1.82E+00"}},{"$f":"IF(PARÂMETROS!$J$6<PARÂMETROS!$F$6,(H40+2*I40+3*J40-(C40-D40)/PARÂMETROS!$C$11)/(L40+2*M40+(C40-D40)/PARÂMETROS!$C$14),(L40+2*M40+(C40-D40)/PARÂMETROS!$C$14)/(H40+2*I40+3*J40-(C40-D40)/PARÂMETROS!$C$11))","v":{"v":0.9111714635676267,"d":"9.11E-01"}},{"$f":"IF(PARÂMETROS!$J$6<PARÂMETROS!$F$6,(H40+2*I40+3*J40-(C40-D40)/PARÂMETROS!$C$11)/(N40+2*O40+3*P40+(C40-D40)/PARÂMETROS!$C$14),(N40+2*O40+3*P40+(C40-D40)/PARÂMETROS!$C$14)/(H40+2*I40+3*J40-(C40-D40)/PARÂMETROS!$C$11))","v":{"v":0.6074467561875005,"d":"6.07E-01"}},{"$f":"Q40*PARÂMETROS!$C$11*PARÂMETROS!$D$11/PARÂMETROS!$C$14","v":{"v":20.000208440310626,"d":"20.00"}},{"$f":"R40*PARÂMETROS!$C$11*PARÂMETROS!$D$11/PARÂMETROS!$C$14","v":{"v":10.000060453348883,"d":"10.00"}},{"$f":"S40*PARÂMETROS!$C$11*PARÂMETROS!$D$11/PARÂMETROS!$C$14","v":{"v":6.666697242999025,"d":"6.67"}},{"$f":"T40*PARÂMETROS!$C$11*PARÂMETROS!$D$11/PARÂMETROS!$C$14","v":{"v":36.446385018117745,"d":"36.45"}},{"$f":"U40*PARÂMETROS!$C$11*PARÂMETROS!$D$11/PARÂMETROS!$C$14","v":{"v":18.22311275279618,"d":"18.22"}},{"$f":"V40*PARÂMETROS!$C$11*PARÂMETROS!$D$11/PARÂMETROS!$C$14","v":{"v":12.14872411168695,"d":"12.15"}},{"$f":"W40*PARÂMETROS!$C$11*PARÂMETROS!$D$11/PARÂMETROS!$C$14","v":{"v":36.44701805800103,"d":"36.45"}},{"$f":"X40*PARÂMETROS!$C$11*PARÂMETROS!$D$11/PARÂMETROS!$C$14","v":{"v":18.223429271352533,"d":"18.22"}},{"$f":"Y40*PARÂMETROS!$C$11*PARÂMETROS!$D$11/PARÂMETROS!$C$14","v":{"v":12.148935123750011,"d":"12.15"}},{"$f":"AND(B40+PARÂMETROS!$C$8>=PARÂMETROS!$C$5,B40+PARÂMETROS!$C$8<=PARÂMETROS!$D$5)","v":true},1,{"$f":"VLOOKUP('BANCO DE DADOS COMPLETA'!$N$8,'BANCO DE DADOS COMPLETA'!$A$7:$L$249,3)*-1","v":3},7,{"$f":"VLOOKUP('BANCO DE DADOS COMPLETA'!$N$10,'BANCO DE DADOS COMPLETA'!$A$7:$L$249,3)*-1","v":1},11,77,{"v":36.44701805800103,"d":"36.45"},{"v":36.44701805800103,"d":"36.45"},{"v":7.864343848340698,"d":"7.86"},{"v":0.12913174144481013,"d":"0.13"},{"v":0.013311480071113057,"d":"0.01"},"NADA","NADA",0]
[null,{"$f":"B40+PARÂMETROS!$C$8","v":{"v":8.064343848340698,"d":"8.06"}},{"v":8.6229556348541051E-9,"d":"8.62E-09"},{"$f":"PARÂMETROS!$Q$4/C41","v":{"v":1.1596951698997339E-6,"d":"1.16E-06"}},{"$f":"PARÂMETROS!$F$6/($C41+PARÂMETROS!$F$6)","v":{"v":0.9999987875729278,"d":"1.00E+00"}},{"$f":"$C41*PARÂMETROS!$F$6/($C41^2+$C41*PARÂMETROS!$F$6+PARÂMETROS!$F$6*PARÂMETROS!$G$6)","v":{"v":0.11998966783303727,"d":"1.20E-01"}},{"$f":"PARÂMETROS!$F$6*PARÂMETROS!$G$6/($C41^2+$C41*PARÂMETROS!$F$6+PARÂMETROS!$F$6*PARÂMETROS!$G$6)","v":{"v":0.8800101866880646,"d":"8.80E-01"}},{"$f":"(PARÂMETROS!$F$6*$C41^2)/($C41^3+PARÂMETROS!$F$6*$C41^2+PARÂMETROS!$F$6*PARÂMETROS!$G$6*$C41+PARÂMETROS!$F$6*PARÂMETROS!$G$6*PARÂMETROS!$H$6)","v":{"v":0.11998419823260092,"d":"1.20E-01"}},{"$f":"(PARÂMETROS!$F$6*PARÂMETROS!$G$6*$C41)/($C41^3+PARÂMETROS!$F$6*$C41^2+PARÂMETROS!$F$6*PARÂMETROS!$G$6*$C41+PARÂMETROS!$F$6*PARÂMETROS!$G$6*PARÂMETROS!$H$6)","v":{"v":0.8799700723666567,"d":"8.80E-01"}},{"$f":"(PARÂMETROS!$F$6*PARÂMETROS!$G$6*PARÂMETROS!$H$6)/($C41^3+PARÂMETROS!$F$6*$C41^2+PARÂMETROS!$F$6*PARÂMETROS!$G$6*$C41+PARÂMETROS!$F$6*PARÂMETROS!$G$6*PARÂMETROS!$H$6)","v":{"v":4.5583928475903678E-5,"d":"4.56E-05"}},{"$f":"$C41/($C41+PARÂMETROS!$J$6)","v":{"v":0.9999884031827887,"d":"1.00E+00"}},{"$f":"$C41*PARÂMETROS!$J$6/($C41^2+$C41*PARÂMETROS!$J$6+PARÂMETROS!$J$6*PARÂMETROS!$K$6)","v":{"v":1.1596817211268279E-5,"d":"1.16E-05"}},{"$f":"$C41^2/($C41^2+$C41*PARÂMETROS!$J$6+PARÂMETROS!$J$6*PARÂMETROS!$K$6)","v":{"v":0.9999884031827887,"d":"1.00E+00"}},{"$f":"(PARÂMETROS!$K$6*PARÂMETROS!$J$6*$C41)/($C41^3+PARÂMETROS!$J$6*$C41^2+PARÂMETROS!$J$6*PARÂMETROS!$K$6*$C41+PARÂMETROS!$J$6*PARÂMETROS!$K$6*PARÂMETROS!$L$6)","v":{"v":0,"d":"0.00E+00"}},{"$f":"(PARÂMETROS!$J$6*$C41^2)/($C41^3+PARÂMETROS!$J$6*$C41^2+PARÂMETROS!$J$6*PARÂMETROS!$K$6*$C41+PARÂMETROS!$J$6*PARÂMETROS!$K$6*PARÂMETROS!$L$6)","v":{"v":1.1596817211268279E-5,"d":"1.16E-05"}},{"$f":"($C41^3)/($C41^3+PARÂMETROS!$J$6*$C41^2+PARÂMETROS!$J$6*PARÂMETROS!$K$6*$C41+PARÂMETROS!$J$6*PARÂMETROS!$K$6*PARÂMETROS!$L$6)","v":{"v":0.9999884031827887,"d":"1.00E+00"}},{"$f":"IF(PARÂMETROS!$J$6<PARÂMETROS!$F$6,(E41-(C41-D41)/PARÂMETROS!$C$11)/(K41+(C41-D41)/PARÂMETROS!$C$14),(K41+(C41-D41)/PARÂMETROS!$C$14)/(E41-(C41-D41)/PARÂMETROS!$C$11))","v":{"v":1.0000184421519658,"d":"1.00E+00"}},{"$f":"IF(PARÂMETROS!$J$6<PARÂMETROS!$F$6,(E41-(C41-D41)/PARÂMETROS!$C$11)/(L41+2*M41+(C41-D41)/PARÂMETROS!$C$14),(L41+2*M41+(C41-D41)/PARÂMETROS!$C$14)/(E41-(C41-D41)/PARÂMETROS!$C$11))","v":{"v":0.500005746247343,"d":"5.00E-01"}},{"$f":"IF(PARÂMETROS!$J$6<PARÂMETROS!$F$6, (E41-(C41-D41)/PARÂMETROS!$C$11)/(N41+2*O41+3*P41+(C41-D41)/PARÂMETROS!$C$14),(N41+2*O41+3*P41+(C41-D41)/PARÂMETROS!$C$14)/ (E41-(C41-D41)/PARÂMETROS!$C$11))","v":{"v":0.3333363919879082,"d":"3.33E-01"}},{"$f":"IF(PARÂMETROS!$J$6<PARÂMETROS!$F$6,(F41+2*G41-(C41-D41)/PARÂMETROS!$C$11)/(K41+(C41-D41)/PARÂMETROS!$C$14),(K41+(C41-D41)/PARÂMETROS!$C$14)/(F41+2*G41-(C41-D41)/PARÂMETROS!$C$11))","v":{"v":1.8800419272008653,"d":"1.88E+00"}},{"$f":"IF(PARÂMETROS!$J$6<PARÂMETROS!$F$6,(F41+2*G41-(C41-D41)/PARÂMETROS!$C$11)/(L41+2*M41+(C41-D41)/PARÂMETROS!$C$14),(L41+2*M41+(C41-D41)/PARÂMETROS!$C$14)/(F41+2*G41-(C41-D41)/PARÂMETROS!$C$11))","v":{"v":0.9400144308973768,"d":"9.40E-01"}},{"$f":"IF(PARÂMETROS!$J$6<PARÂMETROS!$F$6,(F41+2*G41-(C41-D41)/PARÂMETROS!$C$11)/(N41+2*O41+3*P41+(C41-D41)/PARÂMETROS!$C$14),(N41+2*O41+3*P41+(C41-D41)/PARÂMETROS!$C$14)/(F41+2*G41-(C41-D41)/PARÂMETROS!$C$11))","v":{"v":0.6266748355665793,"d":"6.27E-01"}},{"$f":"IF(PARÂMETROS!$J$6<PARÂMETROS!$F$6,(H41+2*I41+3*J41-(C41-D41)/PARÂMETROS!$C$11)/(K41+(C41-D41)/PARÂMETROS!$C$14),(K41+(C41-D41)/PARÂMETROS!$C$14)/(H41+2*I41+3*J41-(C41-D41)/PARÂMETROS!$C$11))","v":{"v":1.8800929814526417,"d":"1.88E+00"}},{"$f":"IF(PARÂMETROS!$J$6<PARÂMETROS!$F$6,(H41+2*I41+3*J41-(C41-D41)/PARÂMETROS!$C$11)/(L41+2*M41+(C41-D41)/PARÂMETROS!$C$14),(L41+2*M41+(C41-D41)/PARÂMETROS!$C$14)/(H41+2*I41+3*J41-(C41-D41)/PARÂMETROS!$C$11))","v":{"v":0.9400399578458636,"d":"9.40E-01"}},{"$f":"IF(PARÂMETROS!$J$6<PARÂMETROS!$F$6,(H41+2*I41+3*J41-(C41-D41)/PARÂMETROS!$C$11)/(N41+2*O41+3*P41+(C41-D41)/PARÂMETROS!$C$14),(N41+2*O41+3*P41+(C41-D41)/PARÂMETROS!$C$14)/(H41+2*I41+3*J41-(C41-D41)/PARÂMETROS!$C$11))","v":{"v":0.626691853492815,"d":"6.27E-01"}},{"$f":"Q41*PARÂMETROS!$C$11*PARÂMETROS!$D$11/PARÂMETROS!$C$14","v":{"v":20.00036884303932,"d":"20.00"}},{"$f":"R41*PARÂMETROS!$C$11*PARÂMETROS!$D$11/PARÂMETROS!$C$14","v":{"v":10.00011492494686,"d":"10.00"}},{"$f":"S41*PARÂMETROS!$C$11*PARÂMETROS!$D$11/PARÂMETROS!$C$14","v":{"v":6.666727839758164,"d":"6.67"}},{"$f":"T41*PARÂMETROS!$C$11*PARÂMETROS!$D$11/PARÂMETROS!$C$14","v":{"v":37.60083854401731,"d":"37.60"}},{"$f":"U41*PARÂMETROS!$C$11*PARÂMETROS!$D$11/PARÂMETROS!$C$14","v":{"v":18.800288617947537,"d":"18.80"}},{"$f":"V41*PARÂMETROS!$C$11*PARÂMETROS!$D$11/PARÂMETROS!$C$14","v":{"v":12.533496711331587,"d":"12.53"}},{"$f":"W41*PARÂMETROS!$C$11*PARÂMETROS!$D$11/PARÂMETROS!$C$14","v":{"v":37.60185962905284,"d":"37.60"}},{"$f":"X41*PARÂMETROS!$C$11*PARÂMETROS!$D$11/PARÂMETROS!$C$14","v":{"v":18.80079915691727,"d":"18.80"}},{"$f":"Y41*PARÂMETROS!$C$11*PARÂMETROS!$D$11/PARÂMETROS!$C$14","v":{"v":12.533837069856299,"d":"12.53"}},{"$f":"AND(B41+PARÂMETROS!$C$8>=PARÂMETROS!$C$5,B41+PARÂMETROS!$C$8<=PARÂMETROS!$D$5)","v":true},1,{"$f":"VLOOKUP('BANCO DE DADOS COMPLETA'!$N$8,'BANCO DE DADOS COMPLETA'!$A$7:$L$249,3)*-1","v":3},7,{"$f":"VLOOKUP('BANCO DE DADOS COMPLETA'!$N$10,'BANCO DE DADOS COMPLETA'!$A$7:$L$249,3)*-1","v":1},11,77,{"v":37.60185962905284,"d":"37.60"},{"v":37.60185962905284,"d":"37.60"},{"v":8.064343848340698,"d":"8.06"},{"v":0.17318392843950303,"d":"0.17"},{"v":0.028442678105385533,"d":"0.03"},{"$f":"IF(AT40>0,IF(AT42<0,AQ41,\"NADA\"),\"NADA\")","v":"NADA"},"NADA",0]
[null,{"$f":"B41+PARÂMETROS!$C$8","v":{"v":8.264343848340697,"d":"8.26"}},{"v":5.4407171889380745E-9,"d":"5.44E-09"},{"$f":"PARÂMETROS!$Q$4/C42","v":{"v":1.8379929801041196E-6,"d":"1.84E-06"}},{"$f":"PARÂMETROS!$F$6/($C42+PARÂMETROS!$F$6)","v":{"v":0.9999992350098919,"d":"1.00E+00"}},{"$f":"$C42*PARÂMETROS!$F$6/($C42^2+$C42*PARÂMETROS!$F$6+PARÂMETROS!$F$6*PARÂMETROS!$G$6)","v":{"v":0.07921616430138773,"d":"7.92E-02"}},{"$f":"PARÂMETROS!$F$6*PARÂMETROS!$G$6/($C42^2+$C42*PARÂMETROS!$F$6+PARÂMETROS!$F$6*PARÂMETROS!$G$6)","v":{"v":0.9207837750989838,"d":"9.21E-01"}},{"$f":"(PARÂMETROS!$F$6*$C42^2)/($C42^3+PARÂMETROS!$F$6*$C42^2+PARÂMETROS!$F$6*PARÂMETROS!$G$6*$C42+PARÂMETROS!$F$6*PARÂMETROS!$G$6*PARÂMETROS!$H$6)","v":{"v":0.07921017629181025,"d":"7.92E-02"}},{"$f":"(PARÂMETROS!$F$6*PARÂMETROS!$G$6*$C42)/($C42^3+PARÂMETROS!$F$6*$C42^2+PARÂMETROS!$F$6*PARÂMETROS!$G$6*$C42+PARÂMETROS!$F$6*PARÂMETROS!$G$6*PARÂMETROS!$H$6)","v":{"v":0.9207141723592815,"d":"9.21E-01"}},{"$f":"(PARÂMETROS!$F$6*PARÂMETROS!$G$6*PARÂMETROS!$H$6)/($C42^3+PARÂMETROS!$F$6*$C42^2+PARÂMETROS!$F$6*PARÂMETROS!$G$6*$C42+PARÂMETROS!$F$6*PARÂMETROS!$G$6*PARÂMETROS!$H$6)","v":{"v":7.5590753860524691E-5,"d":"7.56E-05"}},{"$f":"$C42/($C42+PARÂMETROS!$J$6)","v":{"v":0.9999816204080146,"d":"1.00E+00"}},{"$f":"$C42*PARÂMETROS!$J$6/($C42^2+$C42*PARÂMETROS!$J$6+PARÂMETROS!$J$6*PARÂMETROS!$K$6)","v":{"v":1.8379591985430733E-5,"d":"1.84E-05"}},{"$f":"$C42^2/($C42^2+$C42*PARÂMETROS!$J$6+PARÂMETROS!$J$6*PARÂMETROS!$K$6)","v":{"v":0.9999816204080145,"d":"1.00E+00"}},{"$f":"(PARÂMETROS!$K$6*PARÂMETROS!$J$6*$C42)/($C42^3+PARÂMETROS!$J$6*$C42^2+PARÂMETROS!$J$6*PARÂMETROS!$K$6*$C42+PARÂMETROS!$J$6*PARÂMETROS!$K$6*PARÂMETROS!$L$6)","v":{"v":0,"d":"0.00E+00"}},{"$f":"(PARÂMETROS!$J$6*$C42^2)/($C42^3+PARÂMETROS!$J$6*$C42^2+PARÂMETROS!$J$6*PARÂMETROS!$K$6*$C42+PARÂMETROS!$J$6*PARÂMETROS!$K$6*PARÂMETROS!$L$6)","v":{"v":1.8379591985430736E-5,"d":"1.84E-05"}},{"$f":"($C42^3)/($C42^3+PARÂMETROS!$J$6*$C42^2+PARÂMETROS!$J$6*PARÂMETROS!$K$6*$C42+PARÂMETROS!$J$6*PARÂMETROS!$K$6*PARÂMETROS!$L$6)","v":{"v":0.9999816204080146,"d":"1.00E+00"}},{"$f":"IF(PARÂMETROS!$J$6<PARÂMETROS!$F$6,(E42-(C42-D42)/PARÂMETROS!$C$11)/(K42+(C42-D42)/PARÂMETROS!$C$14),(K42+(C42-D42)/PARÂMETROS!$C$14)/(E42-(C42-D42)/PARÂMETROS!$C$11))","v":{"v":1.0000304431388274,"d":"1.00E+00"}},{"$f":"IF(PARÂMETROS!$J$6<PARÂMETROS!$F$6,(E42-(C42-D42)/PARÂMETROS!$C$11)/(L42+2*M42+(C42-D42)/PARÂMETROS!$C$14),(L42+2*M42+(C42-D42)/PARÂMETROS!$C$14)/(E42-(C42-D42)/PARÂMETROS!$C$11))","v":{"v":0.5000097101667599,"d":"5.00E-01"}},{"$f":"IF(PARÂMETROS!$J$6<PARÂMETROS!$F$6, (E42-(C42-D42)/PARÂMETROS!$C$11)/(N42+2*O42+3*P42+(C42-D42)/PARÂMETROS!$C$14),(N42+2*O42+3*P42+(C42-D42)/PARÂMETROS!$C$14)/ (E42-(C42-D42)/PARÂMETROS!$C$11))","v":{"v":0.3333385820396943,"d":"3.33E-01"}},{"$f":"IF(PARÂMETROS!$J$6<PARÂMETROS!$F$6,(F42+2*G42-(C42-D42)/PARÂMETROS!$C$11)/(K42+(C42-D42)/PARÂMETROS!$C$14),(K42+(C42-D42)/PARÂMETROS!$C$14)/(F42+2*G42-(C42-D42)/PARÂMETROS!$C$11))","v":{"v":1.9208352214901758,"d":"1.92E+00"}},{"$f":"IF(PARÂMETROS!$J$6<PARÂMETROS!$F$6,(F42+2*G42-(C42-D42)/PARÂMETROS!$C$11)/(L42+2*M42+(C42-D42)/PARÂMETROS!$C$14),(L42+2*M42+(C42-D42)/PARÂMETROS!$C$14)/(F42+2*G42-(C42-D42)/PARÂMETROS!$C$11))","v":{"v":0.960407024571027,"d":"9.60E-01"}},{"$f":"IF(PARÂMETROS!$J$6<PARÂMETROS!$F$6,(F42+2*G42-(C42-D42)/PARÂMETROS!$C$11)/(N42+2*O42+3*P42+(C42-D42)/PARÂMETROS!$C$14),(N42+2*O42+3*P42+(C42-D42)/PARÂMETROS!$C$14)/(F42+2*G42-(C42-D42)/PARÂMETROS!$C$11))","v":{"v":0.6402689972654667,"d":"6.40E-01"}},{"$f":"IF(PARÂMETROS!$J$6<PARÂMETROS!$F$6,(H42+2*I42+3*J42-(C42-D42)/PARÂMETROS!$C$11)/(K42+(C42-D42)/PARÂMETROS!$C$14),(K42+(C42-D42)/PARÂMETROS!$C$14)/(H42+2*I42+3*J42-(C42-D42)/PARÂMETROS!$C$11))","v":{"v":1.9209168020611944,"d":"1.92E+00"}},{"$f":"IF(PARÂMETROS!$J$6<PARÂMETROS!$F$6,(H42+2*I42+3*J42-(C42-D42)/PARÂMETROS!$C$11)/(L42+2*M42+(C42-D42)/PARÂMETROS!$C$14),(L42+2*M42+(C42-D42)/PARÂMETROS!$C$14)/(H42+2*I42+3*J42-(C42-D42)/PARÂMETROS!$C$11))","v":{"v":0.9604478144069266,"d":"9.60E-01"}},{"$f":"IF(PARÂMETROS!$J$6<PARÂMETROS!$F$6,(H42+2*I42+3*J42-(C42-D42)/PARÂMETROS!$C$11)/(N42+2*O42+3*P42+(C42-D42)/PARÂMETROS!$C$14),(N42+2*O42+3*P42+(C42-D42)/PARÂMETROS!$C$14)/(H42+2*I42+3*J42-(C42-D42)/PARÂMETROS!$C$11))","v":{"v":0.6402961903894879,"d":"6.40E-01"}},{"$f":"Q42*PARÂMETROS!$C$11*PARÂMETROS!$D$11/PARÂMETROS!$C$14","v":{"v":20.00060886277655,"d":"20.00"}},{"$f":"R42*PARÂMETROS!$C$11*PARÂMETROS!$D$11/PARÂMETROS!$C$14","v":{"v":10.000194203335198,"d":"10.00"}},{"$f":"S42*PARÂMETROS!$C$11*PARÂMETROS!$D$11/PARÂMETROS!$C$14","v":{"v":6.666771640793886,"d":"6.67"}},{"$f":"T42*PARÂMETROS!$C$11*PARÂMETROS!$D$11/PARÂMETROS!$C$14","v":{"v":38.41670442980352,"d":"38.42"}},{"$f":"U42*PARÂMETROS!$C$11*PARÂMETROS!$D$11/PARÂMETROS!$C$14","v":{"v":19.20814049142054,"d":"19.21"}},{"$f":"V42*PARÂMETROS!$C$11*PARÂMETROS!$D$11/PARÂMETROS!$C$14","v":{"v":12.805379945309333,"d":"12.81"}},{"$f":"W42*PARÂMETROS!$C$11*PARÂMETROS!$D$11/PARÂMETROS!$C$14","v":{"v":38.41833604122389,"d":"38.42"}},{"$f":"X42*PARÂMETROS!$C$11*PARÂMETROS!$D$11/PARÂMETROS!$C$14","v":{"v":19.208956288138534,"d":"19.21"}},{"$f":"Y42*PARÂMETROS!$C$11*PARÂMETROS!$D$11/PARÂMETROS!$C$14","v":{"v":12.80592380778976,"d":"12.81"}},{"$f":"AND(B42+PARÂMETROS!$C$8>=PARÂMETROS!$C$5,B42+PARÂMETROS!$C$8<=PARÂMETROS!$D$5)","v":true},1,{"$f":"VLOOKUP('BANCO DE DADOS COMPLETA'!$N$8,'BANCO DE DADOS COMPLETA'!$A$7:$L$249,3)*-1","v":3},7,{"$f":"VLOOKUP('BANCO DE DADOS COMPLETA'!$N$10,'BANCO DE DADOS COMPLETA'!$A$7:$L$249,3)*-1","v":1},11,77,{"v":38.41833604122389,"d":"38.42"},{"v":38.41833604122389,"d":"38.42"},{"v":8.264343848340697,"d":"8.26"},{"v":0.24495502505478378,"d":"0.24"},{"v":0.06214800230122715,"d":"0.06"},"NADA",{"$f":"IF(AU41=\"NADA\",\"NADA\",IF(AU42=\"NADA\",\"NADA\",AVERAGE(AU42,AU41)))","v":"NADA"},{"$f":"IF(AV42=\"NADA\",0,1)","v":0}]
[null,{"$f":"B42+PARÂMETROS!$C$8","v":{"v":8.464343848340697,"d":"8.46"}},{"v":3.432860469600116E-9,"d":"3.43E-09"},{"$f":"PARÂMETROS!$Q$4/C43","v":{"v":2.9130225619583283E-6,"d":"2.91E-06"}},{"$f":"PARÂMETROS!$F$6/($C43+PARÂMETROS!$F$6)","v":{"v":0.9999995173237366,"d":"1.00E+00"}},{"$f":"$C43*PARÂMETROS!$F$6/($C43^2+$C43*PARÂMETROS!$F$6+PARÂMETROS!$F$6*PARÂMETROS!$G$6)","v":{"v":0.05148720694872579,"d":"5.15E-02"}},{"$f":"PARÂMETROS!$F$6*PARÂMETROS!$G$6/($C43^2+$C43*PARÂMETROS!$F$6+PARÂMETROS!$F$6*PARÂMETROS!$G$6)","v":{"v":0.9485127681996096,"d":"9.49E-01"}},{"$f":"(PARÂMETROS!$F$6*$C43^2)/($C43^3+PARÂMETROS!$F$6*$C43^2+PARÂMETROS!$F$6*PARÂMETROS!$G$6*$C43+PARÂMETROS!$F$6*PARÂMETROS!$G$6*PARÂMETROS!$H$6)","v":{"v":0.05148085316006374,"d":"5.15E-02"}},{"$f":"(PARÂMETROS!$F$6*PARÂMETROS!$G$6*$C43)/($C43^3+PARÂMETROS!$F$6*$C43^2+PARÂMETROS!$F$6*PARÂMETROS!$G$6*$C43+PARÂMETROS!$F$6*PARÂMETROS!$G$6*PARÂMETROS!$H$6)","v":{"v":0.9483957167992801,"d":"9.48E-01"}},{"$f":"(PARÂMETROS!$F$6*PARÂMETROS!$G$6*PARÂMETROS!$H$6)/($C43^3+PARÂMETROS!$F$6*$C43^2+PARÂMETROS!$F$6*PARÂMETROS!$G$6*$C43+PARÂMETROS!$F$6*PARÂMETROS!$G$6*PARÂMETROS!$H$6)","v":{"v":1.2340519205834095E-4,"d":"1.23E-04"}},{"$f":"$C43/($C43+PARÂMETROS!$J$6)","v":{"v":0.9999708706229258,"d":"1.00E+00"}},{"$f":"$C43*PARÂMETROS!$J$6/($C43^2+$C43*PARÂMETROS!$J$6+PARÂMETROS!$J$6*PARÂMETROS!$K$6)","v":{"v":2.9129377074256952E-5,"d":"2.91E-05"}},{"$f":"$C43^2/($C43^2+$C43*PARÂMETROS!$J$6+PARÂMETROS!$J$6*PARÂMETROS!$K$6)","v":{"v":0.9999708706229258,"d":"1.00E+00"}},{"$f":"(PARÂMETROS!$K$6*PARÂMETROS!$J$6*$C43)/($C43^3+PARÂMETROS!$J$6*$C43^2+PARÂMETROS!$J$6*PARÂMETROS!$K$6*$C43+PARÂMETROS!$J$6*PARÂMETROS!$K$6*PARÂMETROS!$L$6)","v":{"v":0,"d":"0.00E+00"}},{"$f":"(PARÂMETROS!$J$6*$C43^2)/($C43^3+PARÂMETROS!$J$6*$C43^2+PARÂMETROS!$J$6*PARÂMETROS!$K$6*$C43+PARÂMETROS!$J$6*PARÂMETROS!$K$6*PARÂMETROS!$L$6)","v":{"v":2.9129377074256949E-5,"d":"2.91E-05"}},{"$f":"($C43^3)/($C43^3+PARÂMETROS!$J$6*$C43^2+PARÂMETROS!$J$6*PARÂMETROS!$K$6*$C43+PARÂMETROS!$J$6*PARÂMETROS!$K$6*PARÂMETROS!$L$6)","v":{"v":0.9999708706229258,"d":"1.00E+00"}},{"$f":"IF(PARÂMETROS!$J$6<PARÂMETROS!$F$6,(E43-(C43-D43)/PARÂMETROS!$C$11)/(K43+(C43-D43)/PARÂMETROS!$C$14),(K43+(C43-D43)/PARÂMETROS!$C$14)/(E43-(C43-D43)/PARÂMETROS!$C$11))","v":{"v":1.0000490155417436,"d":"1.00E+00"}},{"$f":"IF(PARÂMETROS!$J$6<PARÂMETROS!$F$6,(E43-(C43-D43)/PARÂMETROS!$C$11)/(L43+2*M43+(C43-D43)/PARÂMETROS!$C$14),(L43+2*M43+(C43-D43)/PARÂMETROS!$C$14)/(E43-(C43-D43)/PARÂMETROS!$C$11))","v":{"v":0.5000157700508115,"d":"5.00E-01"}},{"$f":"IF(PARÂMETROS!$J$6<PARÂMETROS!$F$6, (E43-(C43-D43)/PARÂMETROS!$C$11)/(N43+2*O43+3*P43+(C43-D43)/PARÂMETROS!$C$14),(N43+2*O43+3*P43+(C43-D43)/PARÂMETROS!$C$14)/ (E43-(C43-D43)/PARÂMETROS!$C$11))","v":{"v":0.3333419050302127,"d":"3.33E-01"}},{"$f":"IF(PARÂMETROS!$J$6<PARÂMETROS!$F$6,(F43+2*G43-(C43-D43)/PARÂMETROS!$C$11)/(K43+(C43-D43)/PARÂMETROS!$C$14),(K43+(C43-D43)/PARÂMETROS!$C$14)/(F43+2*G43-(C43-D43)/PARÂMETROS!$C$11))","v":{"v":1.9485953918925571,"d":"1.95E+00"}},{"$f":"IF(PARÂMETROS!$J$6<PARÂMETROS!$F$6,(F43+2*G43-(C43-D43)/PARÂMETROS!$C$11)/(L43+2*M43+(C43-D43)/PARÂMETROS!$C$14),(L43+2*M43+(C43-D43)/PARÂMETROS!$C$14)/(F43+2*G43-(C43-D43)/PARÂMETROS!$C$11))","v":{"v":0.974280670499745,"d":"9.74E-01"}},{"$f":"IF(PARÂMETROS!$J$6<PARÂMETROS!$F$6,(F43+2*G43-(C43-D43)/PARÂMETROS!$C$11)/(N43+2*O43+3*P43+(C43-D43)/PARÂMETROS!$C$14),(N43+2*O43+3*P43+(C43-D43)/PARÂMETROS!$C$14)/(F43+2*G43-(C43-D43)/PARÂMETROS!$C$11))","v":{"v":0.6495166636554184,"d":"6.50E-01"}},{"$f":"IF(PARÂMETROS!$J$6<PARÂMETROS!$F$6,(H43+2*I43+3*J43-(C43-D43)/PARÂMETROS!$C$11)/(K43+(C43-D43)/PARÂMETROS!$C$14),(K43+(C43-D43)/PARÂMETROS!$C$14)/(H43+2*I43+3*J43-(C43-D43)/PARÂMETROS!$C$11))","v":{"v":1.9487251554144591,"d":"1.95E+00"}},{"$f":"IF(PARÂMETROS!$J$6<PARÂMETROS!$F$6,(H43+2*I43+3*J43-(C43-D43)/PARÂMETROS!$C$11)/(L43+2*M43+(C43-D43)/PARÂMETROS!$C$14),(L43+2*M43+(C43-D43)/PARÂMETROS!$C$14)/(H43+2*I43+3*J43-(C43-D43)/PARÂMETROS!$C$11))","v":{"v":0.9743455511269142,"d":"9.74E-01"}},{"$f":"IF(PARÂMETROS!$J$6<PARÂMETROS!$F$6,(H43+2*I43+3*J43-(C43-D43)/PARÂMETROS!$C$11)/(N43+2*O43+3*P43+(C43-D43)/PARÂMETROS!$C$14),(N43+2*O43+3*P43+(C43-D43)/PARÂMETROS!$C$14)/(H43+2*I43+3*J43-(C43-D43)/PARÂMETROS!$C$11))","v":{"v":0.6495599171549188,"d":"6.50E-01"}},{"$f":"Q43*PARÂMETROS!$C$11*PARÂMETROS!$D$11/PARÂMETROS!$C$14","v":{"v":20.000980310834873,"d":"20.00"}},{"$f":"R43*PARÂMETROS!$C$11*PARÂMETROS!$D$11/PARÂMETROS!$C$14","v":{"v":10.00031540101623,"d":"10.00"}},{"$f":"S43*PARÂMETROS!$C$11*PARÂMETROS!$D$11/PARÂMETROS!$C$14","v":{"v":6.666838100604254,"d":"6.67"}},{"$f":"T43*PARÂMETROS!$C$11*PARÂMETROS!$D$11/PARÂMETROS!$C$14","v":{"v":38.97190783785114,"d":"38.97"}},{"$f":"U43*PARÂMETROS!$C$11*PARÂMETROS!$D$11/PARÂMETROS!$C$14","v":{"v":19.4856134099949,"d":"19.49"}},{"$f":"V43*PARÂMETROS!$C$11*PARÂMETROS!$D$11/PARÂMETROS!$C$14","v":{"v":12.990333273108368,"d":"12.99"}},{"$f":"W43*PARÂMETROS!$C$11*PARÂMETROS!$D$11/PARÂMETROS!$C$14","v":{"v":38.974503108289184,"d":"38.97"}},{"$f":"X43*PARÂMETROS!$C$11*PARÂMETROS!$D$11/PARÂMETROS!$C$14","v":{"v":19.486911022538287,"d":"19.49"}},{"$f":"Y43*PARÂMETROS!$C$11*PARÂMETROS!$D$11/PARÂMETROS!$C$14","v":{"v":12.991198343098375,"d":"12.99"}},{"$f":"AND(B43+PARÂMETROS!$C$8>=PARÂMETROS!$C$5,B43+PARÂMETROS!$C$8<=PARÂMETROS!$D$5)","v":true},1,{"$f":"VLOOKUP('BANCO DE DADOS COMPLETA'!$N$8,'BANCO DE DADOS COMPLETA'!$A$7:$L$249,3)*-1","v":3},7,{"$f":"VLOOKUP('BANCO DE DADOS COMPLETA'!$N$10,'BANCO DE DADOS COMPLETA'!$A$7:$L$249,3)*-1","v":1},11,77,{"v":38.974503108289184,"d":"38.97"},{"v":38.974503108289184,"d":"38.97"},{"v":8.464343848340697,"d":"8.46"},{"v":0.35960417623310775,"d":"0.36"},{"v":0.14041942849698072,"d":"0.14"},"NADA","NADA",0]
[null,{"$f":"B43+PARÂMETROS!$C$8","v":{"v":8.664343848340696,"d":"8.66"}},{"v":2.1659885258699225E-9,"d":"2.17E-09"},{"$f":"PARÂMETROS!$Q$4/C44","v":{"v":4.6168296279333782E-6,"d":"4.62E-06"}},{"$f":"PARÂMETROS!$F$6/($C44+PARÂMETROS!$F$6)","v":{"v":0.9999996954518123,"d":"1.00E+00"}},{"$f":"$C44*PARÂMETROS!$F$6/($C44^2+$C44*PARÂMETROS!$F$6+PARÂMETROS!$F$6*PARÂMETROS!$G$6)","v":{"v":0.033115457872694494,"d":"3.31E-02"}},{"$f":"PARÂMETROS!$F$6*PARÂMETROS!$G$6/($C44^2+$C44*PARÂMETROS!$F$6+PARÂMETROS!$F$6*PARÂMETROS!$G$6)","v":{"v":0.9668845320420498,"d":"9.67E-01"}},{"$f":"(PARÂMETROS!$F$6*$C44^2)/($C44^3+PARÂMETROS!$F$6*$C44^2+PARÂMETROS!$F$6*PARÂMETROS!$G$6*$C44+PARÂMETROS!$F$6*PARÂMETROS!$G$6*PARÂMETROS!$H$6)","v":{"v":0.033108856068538056,"d":"3.31E-02"}},{"$f":"(PARÂMETROS!$F$6*PARÂMETROS!$G$6*$C44)/($C44^3+PARÂMETROS!$F$6*$C44^2+PARÂMETROS!$F$6*PARÂMETROS!$G$6*$C44+PARÂMETROS!$F$6*PARÂMETROS!$G$6*PARÂMETROS!$H$6)","v":{"v":0.9666917766724287,"d":"9.67E-01"}},{"$f":"(PARÂMETROS!$F$6*PARÂMETROS!$G$6*PARÂMETROS!$H$6)/($C44^3+PARÂMETROS!$F$6*$C44^2+PARÂMETROS!$F$6*PARÂMETROS!$G$6*$C44+PARÂMETROS!$F$6*PARÂMETROS!$G$6*PARÂMETROS!$H$6)","v":{"v":1.9935717578808992E-4,"d":"1.99E-04"}},{"$f":"$C44/($C44+PARÂMETROS!$J$6)","v":{"v":0.9999538338351338,"d":"1.00E+00"}},{"$f":"$C44*PARÂMETROS!$J$6/($C44^2+$C44*PARÂMETROS!$J$6+PARÂMETROS!$J$6*PARÂMETROS!$K$6)","v":{"v":4.6166164866156166E-5,"d":"4.62E-05"}},{"$f":"$C44^2/($C44^2+$C44*PARÂMETROS!$J$6+PARÂMETROS!$J$6*PARÂMETROS!$K$6)","v":{"v":0.9999538338351339,"d":"1.00E+00"}},{"$f":"(PARÂMETROS!$K$6*PARÂMETROS!$J$6*$C44)/($C44^3+PARÂMETROS!$J$6*$C44^2+PARÂMETROS!$J$6*PARÂMETROS!$K$6*$C44+PARÂMETROS!$J$6*PARÂMETROS!$K$6*PARÂMETROS!$L$6)","v":{"v":0,"d":"0.00E+00"}},{"$f":"(PARÂMETROS!$J$6*$C44^2)/($C44^3+PARÂMETROS!$J$6*$C44^2+PARÂMETROS!$J$6*PARÂMETROS!$K$6*$C44+PARÂMETROS!$J$6*PARÂMETROS!$K$6*PARÂMETROS!$L$6)","v":{"v":4.6166164866156159E-5,"d":"4.62E-05"}},{"$f":"($C44^3)/($C44^3+PARÂMETROS!$J$6*$C44^2+PARÂMETROS!$J$6*PARÂMETROS!$K$6*$C44+PARÂMETROS!$J$6*PARÂMETROS!$K$6*PARÂMETROS!$L$6)","v":{"v":0.9999538338351338,"d":"1.00E+00"}},{"$f":"IF(PARÂMETROS!$J$6<PARÂMETROS!$F$6,(E44-(C44-D44)/PARÂMETROS!$C$11)/(K44+(C44-D44)/PARÂMETROS!$C$14),(K44+(C44-D44)/PARÂMETROS!$C$14)/(E44-(C44-D44)/PARÂMETROS!$C$11))","v":{"v":1.000078168592342,"d":"1.00E+00"}},{"$f":"IF(PARÂMETROS!$J$6<PARÂMETROS!$F$6,(E44-(C44-D44)/PARÂMETROS!$C$11)/(L44+2*M44+(C44-D44)/PARÂMETROS!$C$14),(L44+2*M44+(C44-D44)/PARÂMETROS!$C$14)/(E44-(C44-D44)/PARÂMETROS!$C$11))","v":{"v":0.5000252339569646,"d":"5.00E-01"}},{"$f":"IF(PARÂMETROS!$J$6<PARÂMETROS!$F$6, (E44-(C44-D44)/PARÂMETROS!$C$11)/(N44+2*O44+3*P44+(C44-D44)/PARÂMETROS!$C$14),(N44+2*O44+3*P44+(C44-D44)/PARÂMETROS!$C$14)/ (E44-(C44-D44)/PARÂMETROS!$C$11))","v":{"v":0.3333470782318211,"d":"3.33E-01"}},{"$f":"IF(PARÂMETROS!$J$6<PARÂMETROS!$F$6,(F44+2*G44-(C44-D44)/PARÂMETROS!$C$11)/(K44+(C44-D44)/PARÂMETROS!$C$14),(K44+(C44-D44)/PARÂMETROS!$C$14)/(F44+2*G44-(C44-D44)/PARÂMETROS!$C$11))","v":{"v":1.9670165591253412,"d":"1.97E+00"}},{"$f":"IF(PARÂMETROS!$J$6<PARÂMETROS!$F$6,(F44+2*G44-(C44-D44)/PARÂMETROS!$C$11)/(L44+2*M44+(C44-D44)/PARÂMETROS!$C$14),(L44+2*M44+(C44-D44)/PARÂMETROS!$C$14)/(F44+2*G44-(C44-D44)/PARÂMETROS!$C$11))","v":{"v":0.9834810378455489,"d":"9.83E-01"}},{"$f":"IF(PARÂMETROS!$J$6<PARÂMETROS!$F$6,(F44+2*G44-(C44-D44)/PARÂMETROS!$C$11)/(N44+2*O44+3*P44+(C44-D44)/PARÂMETROS!$C$14),(N44+2*O44+3*P44+(C44-D44)/PARÂMETROS!$C$14)/(F44+2*G44-(C44-D44)/PARÂMETROS!$C$11))","v":{"v":0.6556479717390199,"d":"6.56E-01"}},{"$f":"IF(PARÂMETROS!$J$6<PARÂMETROS!$F$6,(H44+2*I44+3*J44-(C44-D44)/PARÂMETROS!$C$11)/(K44+(C44-D44)/PARÂMETROS!$C$14),(K44+(C44-D44)/PARÂMETROS!$C$14)/(H44+2*I44+3*J44-(C44-D44)/PARÂMETROS!$C$11))","v":{"v":1.9672225295191381,"d":"1.97E+00"}},{"$f":"IF(PARÂMETROS!$J$6<PARÂMETROS!$F$6,(H44+2*I44+3*J44-(C44-D44)/PARÂMETROS!$C$11)/(L44+2*M44+(C44-D44)/PARÂMETROS!$C$14),(L44+2*M44+(C44-D44)/PARÂMETROS!$C$14)/(H44+2*I44+3*J44-(C44-D44)/PARÂMETROS!$C$11))","v":{"v":0.9835840201899104,"d":"9.84E-01"}},{"$f":"IF(PARÂMETROS!$J$6<PARÂMETROS!$F$6,(H44+2*I44+3*J44-(C44-D44)/PARÂMETROS!$C$11)/(N44+2*O44+3*P44+(C44-D44)/PARÂMETROS!$C$14),(N44+2*O44+3*P44+(C44-D44)/PARÂMETROS!$C$14)/(H44+2*I44+3*J44-(C44-D44)/PARÂMETROS!$C$11))","v":{"v":0.6557166260013872,"d":"6.56E-01"}},{"$f":"Q44*PARÂMETROS!$C$11*PARÂMETROS!$D$11/PARÂMETROS!$C$14","v":{"v":20.001563371846842,"d":"20.00"}},{"$f":"R44*PARÂMETROS!$C$11*PARÂMETROS!$D$11/PARÂMETROS!$C$14","v":{"v":10.000504679139294,"d":"10.00"}},{"$f":"S44*PARÂMETROS!$C$11*PARÂMETROS!$D$11/PARÂMETROS!$C$14","v":{"v":6.6669415646364225,"d":"6.67"}},{"$f":"T44*PARÂMETROS!$C$11*PARÂMETROS!$D$11/PARÂMETROS!$C$14","v":{"v":39.34033118250683,"d":"39.34"}},{"$f":"U44*PARÂMETROS!$C$11*PARÂMETROS!$D$11/PARÂMETROS!$C$14","v":{"v":19.669620756910977,"d":"19.67"}},{"$f":"V44*PARÂMETROS!$C$11*PARÂMETROS!$D$11/PARÂMETROS!$C$14","v":{"v":13.1129594347804,"d":"13.11"}},{"$f":"W44*PARÂMETROS!$C$11*PARÂMETROS!$D$11/PARÂMETROS!$C$14","v":{"v":39.34445059038276,"d":"39.34"}},{"$f":"X44*PARÂMETROS!$C$11*PARÂMETROS!$D$11/PARÂMETROS!$C$14","v":{"v":19.67168040379821,"d":"19.67"}},{"$f":"Y44*PARÂMETROS!$C$11*PARÂMETROS!$D$11/PARÂMETROS!$C$14","v":{"v":13.114332520027746,"d":"13.11"}},{"$f":"AND(B44+PARÂMETROS!$C$8>=PARÂMETROS!$C$5,B44+PARÂMETROS!$C$8<=PARÂMETROS!$D$5)","v":true},1,{"$f":"VLOOKUP('BANCO DE DADOS COMPLETA'!$N$8,'BANCO DE DADOS COMPLETA'!$A$7:$L$249,3)*-1","v":3},7,{"$f":"VLOOKUP('BANCO DE DADOS COMPLETA'!$N$10,'BANCO DE DADOS COMPLETA'!$A$7:$L$249,3)*-1","v":1},11,77,{"v":39.34445059038276,"d":"39.34"},{"v":39.34445059038276,"d":"39.34"},{"v":8.664343848340696,"d":"8.66"},{"v":0.5406172759121761,"d":"0.54"},{"v":0.32546533298746516,"d":"0.33"},"NADA","NADA",0]
[null,{"$f":"B44+PARÂMETROS!$C$8","v":{"v":8.864343848340695,"d":"8.86"}},{"v":1.3666463684574572E-9,"d":"1.37E-09"},{"$f":"PARÂMETROS!$Q$4/C45","v":{"v":7.3171818480643722E-6,"d":"7.32E-06"}},{"$f":"PARÂMETROS!$F$6/($C45+PARÂMETROS!$F$6)","v":{"v":0.9999998078430627,"d":"1.00E+00"}},{"$f":"$C45*PARÂMETROS!$F$6/($C45^2+$C45*PARÂMETROS!$F$6+PARÂMETROS!$F$6*PARÂMETROS!$G$6)","v":{"v":0.021152952065476332,"d":"2.12E-02"}},{"$f":"PARÂMETROS!$F$6*PARÂMETROS!$G$6/($C45^2+$C45*PARÂMETROS!$F$6+PARÂMETROS!$F$6*PARÂMETROS!$G$6)","v":{"v":0.9788470438698365,"d":"9.79E-01"}},{"$f":"(PARÂMETROS!$F$6*$C45^2)/($C45^3+PARÂMETROS!$F$6*$C45^2+PARÂMETROS!$F$6*PARÂMETROS!$G$6*$C45+PARÂMETROS!$F$6*PARÂMETROS!$G$6*PARÂMETROS!$H$6)","v":{"v":0.021146186708077188,"d":"2.11E-02"}},{"$f":"(PARÂMETROS!$F$6*PARÂMETROS!$G$6*$C45)/($C45^3+PARÂMETROS!$F$6*$C45^2+PARÂMETROS!$F$6*PARÂMETROS!$G$6*$C45+PARÂMETROS!$F$6*PARÂMETROS!$G$6*PARÂMETROS!$H$6)","v":{"v":0.9785339788153523,"d":"9.79E-01"}},{"$f":"(PARÂMETROS!$F$6*PARÂMETROS!$G$6*PARÂMETROS!$H$6)/($C45^3+PARÂMETROS!$F$6*$C45^2+PARÂMETROS!$F$6*PARÂMETROS!$G$6*$C45+PARÂMETROS!$F$6*PARÂMETROS!$G$6*PARÂMETROS!$H$6)","v":{"v":3.1983041318316087E-4,"d":"3.20E-04"}},{"$f":"$C45/($C45+PARÂMETROS!$J$6)","v":{"v":0.9999268335352426,"d":"1.00E+00"}},{"$f":"$C45*PARÂMETROS!$J$6/($C45^2+$C45*PARÂMETROS!$J$6+PARÂMETROS!$J$6*PARÂMETROS!$K$6)","v":{"v":7.3166464757365633E-5,"d":"7.32E-05"}},{"$f":"$C45^2/($C45^2+$C45*PARÂMETROS!$J$6+PARÂMETROS!$J$6*PARÂMETROS!$K$6)","v":{"v":0.9999268335352427,"d":"1.00E+00"}},{"$f":"(PARÂMETROS!$K$6*PARÂMETROS!$J$6*$C45)/($C45^3+PARÂMETROS!$J$6*$C45^2+PARÂMETROS!$J$6*PARÂMETROS!$K$6*$C45+PARÂMETROS!$J$6*PARÂMETROS!$K$6*PARÂMETROS!$L$6)","v":{"v":0,"d":"0.00E+00"}},{"$f":"(PARÂMETROS!$J$6*$C45^2)/($C45^3+PARÂMETROS!$J$6*$C45^2+PARÂMETROS!$J$6*PARÂMETROS!$K$6*$C45+PARÂMETROS!$J$6*PARÂMETROS!$K$6*PARÂMETROS!$L$6)","v":{"v":7.3166464757365633E-5,"d":"7.32E-05"}},{"$f":"($C45^3)/($C45^3+PARÂMETROS!$J$6*$C45^2+PARÂMETROS!$J$6*PARÂMETROS!$K$6*$C45+PARÂMETROS!$J$6*PARÂMETROS!$K$6*PARÂMETROS!$L$6)","v":{"v":0.9999268335352427,"d":"1.00E+00"}},{"$f":"IF(PARÂMETROS!$J$6<PARÂMETROS!$F$6,(E45-(C45-D45)/PARÂMETROS!$C$11)/(K45+(C45-D45)/PARÂMETROS!$C$14),(K45+(C45-D45)/PARÂMETROS!$C$14)/(E45-(C45-D45)/PARÂMETROS!$C$11))","v":{"v":1.000124195918397,"d":"1.00E+00"}},{"$f":"IF(PARÂMETROS!$J$6<PARÂMETROS!$F$6,(E45-(C45-D45)/PARÂMETROS!$C$11)/(L45+2*M45+(C45-D45)/PARÂMETROS!$C$14),(L45+2*M45+(C45-D45)/PARÂMETROS!$C$14)/(E45-(C45-D45)/PARÂMETROS!$C$11))","v":{"v":0.5000401447456418,"d":"5.00E-01"}},{"$f":"IF(PARÂMETROS!$J$6<PARÂMETROS!$F$6, (E45-(C45-D45)/PARÂMETROS!$C$11)/(N45+2*O45+3*P45+(C45-D45)/PARÂMETROS!$C$14),(N45+2*O45+3*P45+(C45-D45)/PARÂMETROS!$C$14)/ (E45-(C45-D45)/PARÂMETROS!$C$11))","v":{"v":0.33335521829074966,"d":"3.33E-01"}},{"$f":"IF(PARÂMETROS!$J$6<PARÂMETROS!$F$6,(F45+2*G45-(C45-D45)/PARÂMETROS!$C$11)/(K45+(C45-D45)/PARÂMETROS!$C$14),(K45+(C45-D45)/PARÂMETROS!$C$14)/(F45+2*G45-(C45-D45)/PARÂMETROS!$C$11))","v":{"v":1.979057376349015,"d":"1.98E+00"}},{"$f":"IF(PARÂMETROS!$J$6<PARÂMETROS!$F$6,(F45+2*G45-(C45-D45)/PARÂMETROS!$C$11)/(L45+2*M45+(C45-D45)/PARÂMETROS!$C$14),(L45+2*M45+(C45-D45)/PARÂMETROS!$C$14)/(F45+2*G45-(C45-D45)/PARÂMETROS!$C$11))","v":{"v":0.9894852469005125,"d":"9.89E-01"}},{"$f":"IF(PARÂMETROS!$J$6<PARÂMETROS!$F$6,(F45+2*G45-(C45-D45)/PARÂMETROS!$C$11)/(N45+2*O45+3*P45+(C45-D45)/PARÂMETROS!$C$14),(N45+2*O45+3*P45+(C45-D45)/PARÂMETROS!$C$14)/(F45+2*G45-(C45-D45)/PARÂMETROS!$C$11))","v":{"v":0.6596471782156277,"d":"6.60E-01"}},{"$f":"IF(PARÂMETROS!$J$6<PARÂMETROS!$F$6,(H45+2*I45+3*J45-(C45-D45)/PARÂMETROS!$C$11)/(K45+(C45-D45)/PARÂMETROS!$C$14),(K45+(C45-D45)/PARÂMETROS!$C$14)/(H45+2*I45+3*J45-(C45-D45)/PARÂMETROS!$C$11))","v":{"v":1.9793840007992014,"d":"1.98E+00"}},{"$f":"IF(PARÂMETROS!$J$6<PARÂMETROS!$F$6,(H45+2*I45+3*J45-(C45-D45)/PARÂMETROS!$C$11)/(L45+2*M45+(C45-D45)/PARÂMETROS!$C$14),(L45+2*M45+(C45-D45)/PARÂMETROS!$C$14)/(H45+2*I45+3*J45-(C45-D45)/PARÂMETROS!$C$11))","v":{"v":0.98964855195604,"d":"9.90E-01"}},{"$f":"IF(PARÂMETROS!$J$6<PARÂMETROS!$F$6,(H45+2*I45+3*J45-(C45-D45)/PARÂMETROS!$C$11)/(N45+2*O45+3*P45+(C45-D45)/PARÂMETROS!$C$14),(N45+2*O45+3*P45+(C45-D45)/PARÂMETROS!$C$14)/(H45+2*I45+3*J45-(C45-D45)/PARÂMETROS!$C$11))","v":{"v":0.6597560466595024,"d":"6.60E-01"}},{"$f":"Q45*PARÂMETROS!$C$11*PARÂMETROS!$D$11/PARÂMETROS!$C$14","v":{"v":20.002483918367943,"d":"20.00"}},{"$f":"R45*PARÂMETROS!$C$11*PARÂMETROS!$D$11/PARÂMETROS!$C$14","v":{"v":10.000802894912837,"d":"10.00"}},{"$f":"S45*PARÂMETROS!$C$11*PARÂMETROS!$D$11/PARÂMETROS!$C$14","v":{"v":6.6671043658149935,"d":"6.67"}},{"$f":"T45*PARÂMETROS!$C$11*PARÂMETROS!$D$11/PARÂMETROS!$C$14","v":{"v":39.581147526980295,"d":"39.58"}},{"$f":"U45*PARÂMETROS!$C$11*PARÂMETROS!$D$11/PARÂMETROS!$C$14","v":{"v":19.789704938010253,"d":"19.79"}},{"$f":"V45*PARÂMETROS!$C$11*PARÂMETROS!$D$11/PARÂMETROS!$C$14","v":{"v":13.192943564312554,"d":"13.19"}},{"$f":"W45*PARÂMETROS!$C$11*PARÂMETROS!$D$11/PARÂMETROS!$C$14","v":{"v":39.58768001598403,"d":"39.59"}},{"$f":"X45*PARÂMETROS!$C$11*PARÂMETROS!$D$11/PARÂMETROS!$C$14","v":{"v":19.7929710391208,"d":"19.79"}},{"$f":"Y45*PARÂMETROS!$C$11*PARÂMETROS!$D$11/PARÂMETROS!$C$14","v":{"v":13.195120933190049,"d":"13.20"}},{"$f":"AND(B45+PARÂMETROS!$C$8>=PARÂMETROS!$C$5,B45+PARÂMETROS!$C$8<=PARÂMETROS!$D$5)","v":true},1,{"$f":"VLOOKUP('BANCO DE DADOS COMPLETA'!$N$8,'BANCO DE DADOS COMPLETA'!$A$7:$L$249,3)*-1","v":3},7,{"$f":"VLOOKUP('BANCO DE DADOS COMPLETA'!$N$10,'BANCO DE DADOS COMPLETA'!$A$7:$L$249,3)*-1","v":1},11,77,{"v":39.58768001598403,"d":"39.59"},{"v":39.58768001598403,"d":"39.59"},{"v":8.864343848340695,"d":"8.86"},{"v":0.8222689319172574,"d":"0.82"},{"v":0.7613287551281044,"d":"0.76"},"NADA","NADA",0]
[null,{"$f":"B45+PARÂMETROS!$C$8","v":{"v":9.064343848340695,"d":"9.06"}},{"v":8.622955634854187e-10,"d":"8.62E-10"},{"$f":"PARÂMETROS!$Q$4/C46","v":{"v":1.159695169899723E-5,"d":"1.16E-05"}},{"$f":"PARÂMETROS!$F$6/($C46+PARÂMETROS!$F$6)","v":{"v":0.9999998787571606,"d":"1.00E+00"}},{"$f":"$C46*PARÂMETROS!$F$6/($C46^2+$C46*PARÂMETROS!$F$6+PARÂMETROS!$F$6*PARÂMETROS!$G$6)","v":{"v":0.013451618424585724,"d":"1.35E-02"}},{"$f":"PARÂMETROS!$F$6*PARÂMETROS!$G$6/($C46^2+$C46*PARÂMETROS!$F$6+PARÂMETROS!$F$6*PARÂMETROS!$G$6)","v":{"v":0.9865483799445017,"d":"9.87E-01"}},{"$f":"(PARÂMETROS!$F$6*$C46^2)/($C46^3+PARÂMETROS!$F$6*$C46^2+PARÂMETROS!$F$6*PARÂMETROS!$G$6*$C46+PARÂMETROS!$F$6*PARÂMETROS!$G$6*PARÂMETROS!$H$6)","v":{"v":0.013444747504670994,"d":"1.34E-02"}},{"$f":"(PARÂMETROS!$F$6*PARÂMETROS!$G$6*$C46)/($C46^3+PARÂMETROS!$F$6*$C46^2+PARÂMETROS!$F$6*PARÂMETROS!$G$6*$C46+PARÂMETROS!$F$6*PARÂMETROS!$G$6*PARÂMETROS!$H$6)","v":{"v":0.9860444632635009,"d":"9.86E-01"}},{"$f":"(PARÂMETROS!$F$6*PARÂMETROS!$G$6*PARÂMETROS!$H$6)/($C46^3+PARÂMETROS!$F$6*$C46^2+PARÂMETROS!$F$6*PARÂMETROS!$G$6*$C46+PARÂMETROS!$F$6*PARÂMETROS!$G$6*PARÂMETROS!$H$6)","v":{"v":5.107876017485225E-4,"d":"5.11E-04"}},{"$f":"$C46/($C46+PARÂMETROS!$J$6)","v":{"v":0.9998840439303793,"d":"1.00E+00"}},{"$f":"$C46*PARÂMETROS!$J$6/($C46^2+$C46*PARÂMETROS!$J$6+PARÂMETROS!$J$6*PARÂMETROS!$K$6)","v":{"v":1.1595606962058635E-4,"d":"1.16E-04"}},{"$f":"$C46^2/($C46^2+$C46*PARÂMETROS!$J$6+PARÂMETROS!$J$6*PARÂMETROS!$K$6)","v":{"v":0.9998840439303793,"d":"1.00E+00"}},{"$f":"(PARÂMETROS!$K$6*PARÂMETROS!$J$6*$C46)/($C46^3+PARÂMETROS!$J$6*$C46^2+PARÂMETROS!$J$6*PARÂMETROS!$K$6*$C46+PARÂMETROS!$J$6*PARÂMETROS!$K$6*PARÂMETROS!$L$6)","v":{"v":0,"d":"0.00E+00"}},{"$f":"(PARÂMETROS!$J$6*$C46^2)/($C46^3+PARÂMETROS!$J$6*$C46^2+PARÂMETROS!$J$6*PARÂMETROS!$K$6*$C46+PARÂMETROS!$J$6*PARÂMETROS!$K$6*PARÂMETROS!$L$6)","v":{"v":1.1595606962058635E-4,"d":"1.16E-04"}},{"$f":"($C46^3)/($C46^3+PARÂMETROS!$J$6*$C46^2+PARÂMETROS!$J$6*PARÂMETROS!$K$6*$C46+PARÂMETROS!$J$6*PARÂMETROS!$K$6*PARÂMETROS!$L$6)","v":{"v":0.9998840439303794,"d":"1.00E+00"}},{"$f":"IF(PARÂMETROS!$J$6<PARÂMETROS!$F$6,(E46-(C46-D46)/PARÂMETROS!$C$11)/(K46+(C46-D46)/PARÂMETROS!$C$14),(K46+(C46-D46)/PARÂMETROS!$C$14)/(E46-(C46-D46)/PARÂMETROS!$C$11))","v":{"v":1.0001970348696623,"d":"1.00E+00"}},{"$f":"IF(PARÂMETROS!$J$6<PARÂMETROS!$F$6,(E46-(C46-D46)/PARÂMETROS!$C$11)/(L46+2*M46+(C46-D46)/PARÂMETROS!$C$14),(L46+2*M46+(C46-D46)/PARÂMETROS!$C$14)/(E46-(C46-D46)/PARÂMETROS!$C$11))","v":{"v":0.5000637210975354,"d":"5.00E-01"}},{"$f":"IF(PARÂMETROS!$J$6<PARÂMETROS!$F$6, (E46-(C46-D46)/PARÂMETROS!$C$11)/(N46+2*O46+3*P46+(C46-D46)/PARÂMETROS!$C$14),(N46+2*O46+3*P46+(C46-D46)/PARÂMETROS!$C$14)/ (E46-(C46-D46)/PARÂMETROS!$C$11))","v":{"v":0.3333680822629687,"d":"3.33E-01"}},{"$f":"IF(PARÂMETROS!$J$6<PARÂMETROS!$F$6,(F46+2*G46-(C46-D46)/PARÂMETROS!$C$11)/(K46+(C46-D46)/PARÂMETROS!$C$14),(K46+(C46-D46)/PARÂMETROS!$C$14)/(F46+2*G46-(C46-D46)/PARÂMETROS!$C$11))","v":{"v":1.9868828300262351,"d":"1.99E+00"}},{"$f":"IF(PARÂMETROS!$J$6<PARÂMETROS!$F$6,(F46+2*G46-(C46-D46)/PARÂMETROS!$C$11)/(L46+2*M46+(C46-D46)/PARÂMETROS!$C$14),(L46+2*M46+(C46-D46)/PARÂMETROS!$C$14)/(F46+2*G46-(C46-D46)/PARÂMETROS!$C$11))","v":{"v":0.9933722923875642,"d":"9.93E-01"}},{"$f":"IF(PARÂMETROS!$J$6<PARÂMETROS!$F$6,(F46+2*G46-(C46-D46)/PARÂMETROS!$C$11)/(N46+2*O46+3*P46+(C46-D46)/PARÂMETROS!$C$14),(N46+2*O46+3*P46+(C46-D46)/PARÂMETROS!$C$14)/(F46+2*G46-(C46-D46)/PARÂMETROS!$C$11))","v":{"v":0.6622328357665846,"d":"6.62E-01"}},{"$f":"IF(PARÂMETROS!$J$6<PARÂMETROS!$F$6,(H46+2*I46+3*J46-(C46-D46)/PARÂMETROS!$C$11)/(K46+(C46-D46)/PARÂMETROS!$C$14),(K46+(C46-D46)/PARÂMETROS!$C$14)/(H46+2*I46+3*J46-(C46-D46)/PARÂMETROS!$C$11))","v":{"v":1.9874005605908656,"d":"1.99E+00"}},{"$f":"IF(PARÂMETROS!$J$6<PARÂMETROS!$F$6,(H46+2*I46+3*J46-(C46-D46)/PARÂMETROS!$C$11)/(L46+2*M46+(C46-D46)/PARÂMETROS!$C$14),(L46+2*M46+(C46-D46)/PARÂMETROS!$C$14)/(H46+2*I46+3*J46-(C46-D46)/PARÂMETROS!$C$11))","v":{"v":0.9936311396583011,"d":"9.94E-01"}},{"$f":"IF(PARÂMETROS!$J$6<PARÂMETROS!$F$6,(H46+2*I46+3*J46-(C46-D46)/PARÂMETROS!$C$11)/(N46+2*O46+3*P46+(C46-D46)/PARÂMETROS!$C$14),(N46+2*O46+3*P46+(C46-D46)/PARÂMETROS!$C$14)/(H46+2*I46+3*J46-(C46-D46)/PARÂMETROS!$C$11))","v":{"v":0.662405396611541,"d":"6.62E-01"}},{"$f":"Q46*PARÂMETROS!$C$11*PARÂMETROS!$D$11/PARÂMETROS!$C$14","v":{"v":20.003940697393247,"d":"20.00"}},{"$f":"R46*PARÂMETROS!$C$11*PARÂMETROS!$D$11/PARÂMETROS!$C$14","v":{"v":10.001274421950708,"d":"10.00"}},{"$f":"S46*PARÂMETROS!$C$11*PARÂMETROS!$D$11/PARÂMETROS!$C$14","v":{"v":6.6673616452593745,"d":"6.67"}},{"$f":"T46*PARÂMETROS!$C$11*PARÂMETROS!$D$11/PARÂMETROS!$C$14","v":{"v":39.73765660052471,"d":"39.74"}},{"$f":"U46*PARÂMETROS!$C$11*PARÂMETROS!$D$11/PARÂMETROS!$C$14","v":{"v":19.867445847751284,"d":"19.87"}},{"$f":"V46*PARÂMETROS!$C$11*PARÂMETROS!$D$11/PARÂMETROS!$C$14","v":{"v":13.244656715331693,"d":"13.24"}},{"$f":"W46*PARÂMETROS!$C$11*PARÂMETROS!$D$11/PARÂMETROS!$C$14","v":{"v":39.748011211817314,"d":"39.75"}},{"$f":"X46*PARÂMETROS!$C$11*PARÂMETROS!$D$11/PARÂMETROS!$C$14","v":{"v":19.872622793166023,"d":"19.87"}},{"$f":"Y46*PARÂMETROS!$C$11*PARÂMETROS!$D$11/PARÂMETROS!$C$14","v":{"v":13.248107932230822,"d":"13.25"}},{"$f":"AND(B46+PARÂMETROS!$C$8>=PARÂMETROS!$C$5,B46+PARÂMETROS!$C$8<=PARÂMETROS!$D$5)","v":true},1,{"$f":"VLOOKUP('BANCO DE DADOS COMPLETA'!$N$8,'BANCO DE DADOS COMPLETA'!$A$7:$L$249,3)*-1","v":3},7,{"$f":"VLOOKUP('BANCO DE DADOS COMPLETA'!$N$10,'BANCO DE DADOS COMPLETA'!$A$7:$L$249,3)*-1","v":1},11,77,{"v":39.748011211817314,"d":"39.75"},{"v":39.748011211817314,"d":"39.75"},{"v":9.064343848340695,"d":"9.06"},{"v":1.2474178774788185,"d":"1.25"},{"v":1.7479338468632715,"d":"1.75"},"NADA","NADA",0]
[null,{"$f":"B46+PARÂMETROS!$C$8","v":{"v":9.264343848340694,"d":"9.26"}},{"v":5.440717188938127e-10,"d":"5.44E-10"},{"$f":"PARÂMETROS!$Q$4/C47","v":{"v":1.8379929801041019E-5,"d":"1.84E-05"}},{"$f":"PARÂMETROS!$F$6/($C47+PARÂMETROS!$F$6)","v":{"v":0.9999999235009365,"d":"1.00E+00"}},{"$f":"$C47*PARÂMETROS!$F$6/($C47^2+$C47*PARÂMETROS!$F$6+PARÂMETROS!$F$6*PARÂMETROS!$G$6)","v":{"v":8.529740967613891E-3,"d":"8.53E-03"}},{"$f":"PARÂMETROS!$F$6*PARÂMETROS!$G$6/($C47^2+$C47*PARÂMETROS!$F$6+PARÂMETROS!$F$6*PARÂMETROS!$G$6)","v":{"v":0.9914702583798688,"d":"9.91E-01"}},{"$f":"(PARÂMETROS!$F$6*$C47^2)/($C47^3+PARÂMETROS!$F$6*$C47^2+PARÂMETROS!$F$6*PARÂMETROS!$G$6*$C47+PARÂMETROS!$F$6*PARÂMETROS!$G$6*PARÂMETROS!$H$6)","v":{"v":0.008522803419457124,"d":"8.52E-03"}},{"$f":"(PARÂMETROS!$F$6*PARÂMETROS!$G$6*$C47)/($C47^3+PARÂMETROS!$F$6*$C47^2+PARÂMETROS!$F$6*PARÂMETROS!$G$6*$C47+PARÂMETROS!$F$6*PARÂMETROS!$G$6*PARÂMETROS!$H$6)","v":{"v":0.9906638596053189,"d":"9.91E-01"}},{"$f":"(PARÂMETROS!$F$6*PARÂMETROS!$G$6*PARÂMETROS!$H$6)/($C47^3+PARÂMETROS!$F$6*$C47^2+PARÂMETROS!$F$6*PARÂMETROS!$G$6*$C47+PARÂMETROS!$F$6*PARÂMETROS!$G$6*PARÂMETROS!$H$6)","v":{"v":8.1333632323757311E-4,"d":"8.13E-04"}},{"$f":"$C47/($C47+PARÂMETROS!$J$6)","v":{"v":0.9998162344779635,"d":"1.00E+00"}},{"$f":"$C47*PARÂMETROS!$J$6/($C47^2+$C47*PARÂMETROS!$J$6+PARÂMETROS!$J$6*PARÂMETROS!$K$6)","v":{"v":1.8376552203646141E-4,"d":"1.84E-04"}},{"$f":"$C47^2/($C47^2+$C47*PARÂMETROS!$J$6+PARÂMETROS!$J$6*PARÂMETROS!$K$6)","v":{"v":0.9998162344779635,"d":"1.00E+00"}},{"$f":"(PARÂMETROS!$K$6*PARÂMETROS!$J$6*$C47)/($C47^3+PARÂMETROS!$J$6*$C47^2+PARÂMETROS!$J$6*PARÂMETROS!$K$6*$C47+PARÂMETROS!$J$6*PARÂMETROS!$K$6*PARÂMETROS!$L$6)","v":{"v":0,"d":"0.00E+00"}},{"$f":"(PARÂMETROS!$J$6*$C47^2)/($C47^3+PARÂMETROS!$J$6*$C47^2+PARÂMETROS!$J$6*PARÂMETROS!$K$6*$C47+PARÂMETROS!$J$6*PARÂMETROS!$K$6*PARÂMETROS!$L$6)","v":{"v":1.8376552203646138E-4,"d":"1.84E-04"}},{"$f":"($C47^3)/($C47^3+PARÂMETROS!$J$6*$C47^2+PARÂMETROS!$J$6*PARÂMETROS!$K$6*$C47+PARÂMETROS!$J$6*PARÂMETROS!$K$6*PARÂMETROS!$L$6)","v":{"v":0.9998162344779635,"d":"1.00E+00"}},{"$f":"IF(PARÂMETROS!$J$6<PARÂMETROS!$F$6,(E47-(C47-D47)/PARÂMETROS!$C$11)/(K47+(C47-D47)/PARÂMETROS!$C$14),(K47+(C47-D47)/PARÂMETROS!$C$14)/(E47-(C47-D47)/PARÂMETROS!$C$11))","v":{"v":1.0003124136178705,"d":"1.00E+00"}},{"$f":"IF(PARÂMETROS!$J$6<PARÂMETROS!$F$6,(E47-(C47-D47)/PARÂMETROS!$C$11)/(L47+2*M47+(C47-D47)/PARÂMETROS!$C$14),(L47+2*M47+(C47-D47)/PARÂMETROS!$C$14)/(E47-(C47-D47)/PARÂMETROS!$C$11))","v":{"v":0.5001010524304232,"d":"5.00E-01"}},{"$f":"IF(PARÂMETROS!$J$6<PARÂMETROS!$F$6, (E47-(C47-D47)/PARÂMETROS!$C$11)/(N47+2*O47+3*P47+(C47-D47)/PARÂMETROS!$C$14),(N47+2*O47+3*P47+(C47-D47)/PARÂMETROS!$C$14)/ (E47-(C47-D47)/PARÂMETROS!$C$11))","v":{"v":0.33338844689376457,"d":"3.33E-01"}},{"$f":"IF(PARÂMETROS!$J$6<PARÂMETROS!$F$6,(F47+2*G47-(C47-D47)/PARÂMETROS!$C$11)/(K47+(C47-D47)/PARÂMETROS!$C$14),(K47+(C47-D47)/PARÂMETROS!$C$14)/(F47+2*G47-(C47-D47)/PARÂMETROS!$C$11))","v":{"v":1.9920014393660554,"d":"1.99E+00"}},{"$f":"IF(PARÂMETROS!$J$6<PARÂMETROS!$F$6,(F47+2*G47-(C47-D47)/PARÂMETROS!$C$11)/(L47+2*M47+(C47-D47)/PARÂMETROS!$C$14),(L47+2*M47+(C47-D47)/PARÂMETROS!$C$14)/(F47+2*G47-(C47-D47)/PARÂMETROS!$C$11))","v":{"v":0.9958908863950593,"d":"9.96E-01"}},{"$f":"IF(PARÂMETROS!$J$6<PARÂMETROS!$F$6,(F47+2*G47-(C47-D47)/PARÂMETROS!$C$11)/(N47+2*O47+3*P47+(C47-D47)/PARÂMETROS!$C$14),(N47+2*O47+3*P47+(C47-D47)/PARÂMETROS!$C$14)/(F47+2*G47-(C47-D47)/PARÂMETROS!$C$11))","v":{"v":0.6639028537879264,"d":"6.64E-01"}},{"$f":"IF(PARÂMETROS!$J$6<PARÂMETROS!$F$6,(H47+2*I47+3*J47-(C47-D47)/PARÂMETROS!$C$11)/(K47+(C47-D47)/PARÂMETROS!$C$14),(K47+(C47-D47)/PARÂMETROS!$C$14)/(H47+2*I47+3*J47-(C47-D47)/PARÂMETROS!$C$11))","v":{"v":1.9928218941687272,"d":"1.99E+00"}},{"$f":"IF(PARÂMETROS!$J$6<PARÂMETROS!$F$6,(H47+2*I47+3*J47-(C47-D47)/PARÂMETROS!$C$11)/(L47+2*M47+(C47-D47)/PARÂMETROS!$C$14),(L47+2*M47+(C47-D47)/PARÂMETROS!$C$14)/(H47+2*I47+3*J47-(C47-D47)/PARÂMETROS!$C$11))","v":{"v":0.9963010685588533,"d":"9.96E-01"}},{"$f":"IF(PARÂMETROS!$J$6<PARÂMETROS!$F$6,(H47+2*I47+3*J47-(C47-D47)/PARÂMETROS!$C$11)/(N47+2*O47+3*P47+(C47-D47)/PARÂMETROS!$C$14),(N47+2*O47+3*P47+(C47-D47)/PARÂMETROS!$C$14)/(H47+2*I47+3*J47-(C47-D47)/PARÂMETROS!$C$11))","v":{"v":0.66417629851248,"d":"6.64E-01"}},{"$f":"Q47*PARÂMETROS!$C$11*PARÂMETROS!$D$11/PARÂMETROS!$C$14","v":{"v":20.00624827235741,"d":"20.01"}},{"$f":"R47*PARÂMETROS!$C$11*PARÂMETROS!$D$11/PARÂMETROS!$C$14","v":{"v":10.002021048608466,"d":"10.00"}},{"$f":"S47*PARÂMETROS!$C$11*PARÂMETROS!$D$11/PARÂMETROS!$C$14","v":{"v":6.667768937875292,"d":"6.67"}},{"$f":"T47*PARÂMETROS!$C$11*PARÂMETROS!$D$11/PARÂMETROS!$C$14","v":{"v":39.84002878732112,"d":"39.84"}},{"$f":"U47*PARÂMETROS!$C$11*PARÂMETROS!$D$11/PARÂMETROS!$C$14","v":{"v":19.917817727901188,"d":"19.92"}},{"$f":"V47*PARÂMETROS!$C$11*PARÂMETROS!$D$11/PARÂMETROS!$C$14","v":{"v":13.278057075758529,"d":"13.28"}},{"$f":"W47*PARÂMETROS!$C$11*PARÂMETROS!$D$11/PARÂMETROS!$C$14","v":{"v":39.85643788337455,"d":"39.86"}},{"$f":"X47*PARÂMETROS!$C$11*PARÂMETROS!$D$11/PARÂMETROS!$C$14","v":{"v":19.926021371177065,"d":"19.93"}},{"$f":"Y47*PARÂMETROS!$C$11*PARÂMETROS!$D$11/PARÂMETROS!$C$14","v":{"v":13.283525970249599,"d":"13.28"}},{"$f":"AND(B47+PARÂMETROS!$C$8>=PARÂMETROS!$C$5,B47+PARÂMETROS!$C$8<=PARÂMETROS!$D$5)","v":true},1,{"$f":"VLOOKUP('BANCO DE DADOS COMPLETA'!$N$8,'BANCO DE DADOS COMPLETA'!$A$7:$L$249,3)*-1","v":3},7,{"$f":"VLOOKUP('BANCO DE DADOS COMPLETA'!$N$10,'BANCO DE DADOS COMPLETA'!$A$7:$L$249,3)*-1","v":1},11,77,{"v":39.85643788337455,"d":"39.86"},{"v":39.85643788337455,"d":"39.86"},{"v":9.264343848340694,"d":"9.26"},{"v":1.8445645995361024,"d":"1.84"},{"v":3.724457482860669,"d":"3.72"},"NADA","NADA",0]
[null,{"$f":"B47+PARÂMETROS!$C$8","v":{"v":9.464343848340693,"d":"9.46"}},{"v":3.432860469600149e-10,"d":"3.43E-10"},{"$f":"PARÂMETROS!$Q$4/C48","v":{"v":2.9130225619583004E-5,"d":"2.91E-05"}},{"$f":"PARÂMETROS!$F$6/($C48+PARÂMETROS!$F$6)","v":{"v":0.9999999517323527,"d":"1.00E+00"}},{"$f":"$C48*PARÂMETROS!$F$6/($C48^2+$C48*PARÂMETROS!$F$6+PARÂMETROS!$F$6*PARÂMETROS!$G$6)","v":{"v":0.00539889756846477,"d":"5.40E-03"}},{"$f":"PARÂMETROS!$F$6*PARÂMETROS!$G$6/($C48^2+$C48*PARÂMETROS!$F$6+PARÂMETROS!$F$6*PARÂMETROS!$G$6)","v":{"v":0.9946011021709432,"d":"9.95E-01"}},{"$f":"(PARÂMETROS!$F$6*$C48^2)/($C48^3+PARÂMETROS!$F$6*$C48^2+PARÂMETROS!$F$6*PARÂMETROS!$G$6*$C48+PARÂMETROS!$F$6*PARÂMETROS!$G$6*PARÂMETROS!$H$6)","v":{"v":0.005391919484627256,"d":"5.39E-03"}},{"$f":"(PARÂMETROS!$F$6*PARÂMETROS!$G$6*$C48)/($C48^3+PARÂMETROS!$F$6*$C48^2+PARÂMETROS!$F$6*PARÂMETROS!$G$6*$C48+PARÂMETROS!$F$6*PARÂMETROS!$G$6*PARÂMETROS!$H$6)","v":{"v":0.9933155786380701,"d":"9.93E-01"}},{"$f":"(PARÂMETROS!$F$6*PARÂMETROS!$G$6*PARÂMETROS!$H$6)/($C48^3+PARÂMETROS!$F$6*$C48^2+PARÂMETROS!$F$6*PARÂMETROS!$G$6*$C48+PARÂMETROS!$F$6*PARÂMETROS!$G$6*PARÂMETROS!$H$6)","v":{"v":0.001292501617047212,"d":"1.29E-03"}},{"$f":"$C48/($C48+PARÂMETROS!$J$6)","v":{"v":0.9997087825760969,"d":"1.00E+00"}},{"$f":"$C48*PARÂMETROS!$J$6/($C48^2+$C48*PARÂMETROS!$J$6+PARÂMETROS!$J$6*PARÂMETROS!$K$6)","v":{"v":2.9121742390320353E-4,"d":"2.91E-04"}},{"$f":"$C48^2/($C48^2+$C48*PARÂMETROS!$J$6+PARÂMETROS!$J$6*PARÂMETROS!$K$6)","v":{"v":0.9997087825760969,"d":"1.00E+00"}},{"$f":"(PARÂMETROS!$K$6*PARÂMETROS!$J$6*$C48)/($C48^3+PARÂMETROS!$J$6*$C48^2+PARÂMETROS!$J$6*PARÂMETROS!$K$6*$C48+PARÂMETROS!$J$6*PARÂMETROS!$K$6*PARÂMETROS!$L$6)","v":{"v":0,"d":"0.00E+00"}},{"$f":"(PARÂMETROS!$J$6*$C48^2)/($C48^3+PARÂMETROS!$J$6*$C48^2+PARÂMETROS!$J$6*PARÂMETROS!$K$6*$C48+PARÂMETROS!$J$6*PARÂMETROS!$K$6*PARÂMETROS!$L$6)","v":{"v":2.9121742390320353E-4,"d":"2.91E-04"}},{"$f":"($C48^3)/($C48^3+PARÂMETROS!$J$6*$C48^2+PARÂMETROS!$J$6*PARÂMETROS!$K$6*$C48+PARÂMETROS!$J$6*PARÂMETROS!$K$6*PARÂMETROS!$L$6)","v":{"v":0.9997087825760969,"d":"1.00E+00"}},{"$f":"IF(PARÂMETROS!$J$6<PARÂMETROS!$F$6,(E48-(C48-D48)/PARÂMETROS!$C$11)/(K48+(C48-D48)/PARÂMETROS!$C$14),(K48+(C48-D48)/PARÂMETROS!$C$14)/(E48-(C48-D48)/PARÂMETROS!$C$11))","v":{"v":1.0004952514116616,"d":"1.00E+00"}},{"$f":"IF(PARÂMETROS!$J$6<PARÂMETROS!$F$6,(E48-(C48-D48)/PARÂMETROS!$C$11)/(L48+2*M48+(C48-D48)/PARÂMETROS!$C$14),(L48+2*M48+(C48-D48)/PARÂMETROS!$C$14)/(E48-(C48-D48)/PARÂMETROS!$C$11))","v":{"v":0.5001601978619019,"d":"5.00E-01"}},{"$f":"IF(PARÂMETROS!$J$6<PARÂMETROS!$F$6, (E48-(C48-D48)/PARÂMETROS!$C$11)/(N48+2*O48+3*P48+(C48-D48)/PARÂMETROS!$C$14),(N48+2*O48+3*P48+(C48-D48)/PARÂMETROS!$C$14)/ (E48-(C48-D48)/PARÂMETROS!$C$11))","v":{"v":0.33342070802522406,"d":"3.33E-01"}},{"$f":"IF(PARÂMETROS!$J$6<PARÂMETROS!$F$6,(F48+2*G48-(C48-D48)/PARÂMETROS!$C$11)/(K48+(C48-D48)/PARÂMETROS!$C$14),(K48+(C48-D48)/PARÂMETROS!$C$14)/(F48+2*G48-(C48-D48)/PARÂMETROS!$C$11))","v":{"v":1.995444113520761,"d":"2.00E+00"}},{"$f":"IF(PARÂMETROS!$J$6<PARÂMETROS!$F$6,(F48+2*G48-(C48-D48)/PARÂMETROS!$C$11)/(L48+2*M48+(C48-D48)/PARÂMETROS!$C$14),(L48+2*M48+(C48-D48)/PARÂMETROS!$C$14)/(F48+2*G48-(C48-D48)/PARÂMETROS!$C$11))","v":{"v":0.9975476857413481,"d":"9.98E-01"}},{"$f":"IF(PARÂMETROS!$J$6<PARÂMETROS!$F$6,(F48+2*G48-(C48-D48)/PARÂMETROS!$C$11)/(N48+2*O48+3*P48+(C48-D48)/PARÂMETROS!$C$14),(N48+2*O48+3*P48+(C48-D48)/PARÂMETROS!$C$14)/(F48+2*G48-(C48-D48)/PARÂMETROS!$C$11))","v":{"v":0.664993050407898,"d":"6.65E-01"}},{"$f":"IF(PARÂMETROS!$J$6<PARÂMETROS!$F$6,(H48+2*I48+3*J48-(C48-D48)/PARÂMETROS!$C$11)/(K48+(C48-D48)/PARÂMETROS!$C$14),(K48+(C48-D48)/PARÂMETROS!$C$14)/(H48+2*I48+3*J48-(C48-D48)/PARÂMETROS!$C$11))","v":{"v":1.9967440475195983,"d":"2.00E+00"}},{"$f":"IF(PARÂMETROS!$J$6<PARÂMETROS!$F$6,(H48+2*I48+3*J48-(C48-D48)/PARÂMETROS!$C$11)/(L48+2*M48+(C48-D48)/PARÂMETROS!$C$14),(L48+2*M48+(C48-D48)/PARÂMETROS!$C$14)/(H48+2*I48+3*J48-(C48-D48)/PARÂMETROS!$C$11))","v":{"v":0.9981975391465977,"d":"9.98E-01"}},{"$f":"IF(PARÂMETROS!$J$6<PARÂMETROS!$F$6,(H48+2*I48+3*J48-(C48-D48)/PARÂMETROS!$C$11)/(N48+2*O48+3*P48+(C48-D48)/PARÂMETROS!$C$14),(N48+2*O48+3*P48+(C48-D48)/PARÂMETROS!$C$14)/(H48+2*I48+3*J48-(C48-D48)/PARÂMETROS!$C$11))","v":{"v":0.665426260774131,"d":"6.65E-01"}},{"$f":"Q48*PARÂMETROS!$C$11*PARÂMETROS!$D$11/PARÂMETROS!$C$14","v":{"v":20.009905028233234,"d":"20.01"}},{"$f":"R48*PARÂMETROS!$C$11*PARÂMETROS!$D$11/PARÂMETROS!$C$14","v":{"v":10.00320395723804,"d":"10.00"}},{"$f":"S48*PARÂMETROS!$C$11*PARÂMETROS!$D$11/PARÂMETROS!$C$14","v":{"v":6.668414160504481,"d":"6.67"}},{"$f":"T48*PARÂMETROS!$C$11*PARÂMETROS!$D$11/PARÂMETROS!$C$14","v":{"v":39.908882270415226,"d":"39.91"}},{"$f":"U48*PARÂMETROS!$C$11*PARÂMETROS!$D$11/PARÂMETROS!$C$14","v":{"v":19.950953714826962,"d":"19.95"}},{"$f":"V48*PARÂMETROS!$C$11*PARÂMETROS!$D$11/PARÂMETROS!$C$14","v":{"v":13.299861008157961,"d":"13.30"}},{"$f":"W48*PARÂMETROS!$C$11*PARÂMETROS!$D$11/PARÂMETROS!$C$14","v":{"v":39.93488095039197,"d":"39.93"}},{"$f":"X48*PARÂMETROS!$C$11*PARÂMETROS!$D$11/PARÂMETROS!$C$14","v":{"v":19.963950782931956,"d":"19.96"}},{"$f":"Y48*PARÂMETROS!$C$11*PARÂMETROS!$D$11/PARÂMETROS!$C$14","v":{"v":13.308525215482621,"d":"13.31"}},{"$f":"AND(B48+PARÂMETROS!$C$8>=PARÂMETROS!$C$5,B48+PARÂMETROS!$C$8<=PARÂMETROS!$D$5)","v":true},1,{"$f":"VLOOKUP('BANCO DE DADOS COMPLETA'!$N$8,'BANCO DE DADOS COMPLETA'!$A$7:$L$249,3)*-1","v":3},7,{"$f":"VLOOKUP('BANCO DE DADOS COMPLETA'!$N$10,'BANCO DE DADOS COMPLETA'!$A$7:$L$249,3)*-1","v":1},11,77,{"v":39.93488095039197,"d":"39.93"},{"v":39.93488095039197,"d":"39.93"},{"v":9.464343848340693,"d":"9.46"},{"v":2.5496198402794903,"d":"2.55"},{"v":6.50259968896331,"d":"6.50"},"NADA","NADA",0]
[null,{"$f":"B48+PARÂMETROS!$C$8","v":{"v":9.664343848340692,"d":"9.66"}},{"v":2.1659885258699354E-10,"d":"2.17E-10"},{"$f":"PARÂMETROS!$Q$4/C49","v":{"v":4.6168296279333508E-5,"d":"4.62E-05"}},{"$f":"PARÂMETROS!$F$6/($C49+PARÂMETROS!$F$6)","v":{"v":0.9999999695451729,"d":"1.00E+00"}},{"$f":"$C49*PARÂMETROS!$F$6/($C49^2+$C49*PARÂMETROS!$F$6+PARÂMETROS!$F$6*PARÂMETROS!$G$6)","v":{"v":0.0034132747622876,"d":"3.41E-03"}},{"$f":"PARÂMETROS!$F$6*PARÂMETROS!$G$6/($C49^2+$C49*PARÂMETROS!$F$6+PARÂMETROS!$F$6*PARÂMETROS!$G$6)","v":{"v":0.9965867251337618,"d":"9.97E-01"}},{"$f":"(PARÂMETROS!$F$6*$C49^2)/($C49^3+PARÂMETROS!$F$6*$C49^2+PARÂMETROS!$F$6*PARÂMETROS!$G$6*$C49+PARÂMETROS!$F$6*PARÂMETROS!$G$6*PARÂMETROS!$H$6)","v":{"v":3.4062741094774383E-3,"d":"3.41E-03"}},{"$f":"(PARÂMETROS!$F$6*PARÂMETROS!$G$6*$C49)/($C49^3+PARÂMETROS!$F$6*$C49^2+PARÂMETROS!$F$6*PARÂMETROS!$G$6*$C49+PARÂMETROS!$F$6*PARÂMETROS!$G$6*PARÂMETROS!$H$6)","v":{"v":0.9945427180895703,"d":"9.95E-01"}},{"$f":"(PARÂMETROS!$F$6*PARÂMETROS!$G$6*PARÂMETROS!$H$6)/($C49^3+PARÂMETROS!$F$6*$C49^2+PARÂMETROS!$F$6*PARÂMETROS!$G$6*$C49+PARÂMETROS!$F$6*PARÂMETROS!$G$6*PARÂMETROS!$H$6)","v":{"v":2.051007697214861E-3,"d":"2.05E-03"}},{"$f":"$C49/($C49+PARÂMETROS!$J$6)","v":{"v":0.9995385300900019,"d":"1.00E+00"}},{"$f":"$C49*PARÂMETROS!$J$6/($C49^2+$C49*PARÂMETROS!$J$6+PARÂMETROS!$J$6*PARÂMETROS!$K$6)","v":{"v":4.6146990999804724E-4,"d":"4.61E-04"}},{"$f":"$C49^2/($C49^2+$C49*PARÂMETROS!$J$6+PARÂMETROS!$J$6*PARÂMETROS!$K$6)","v":{"v":0.9995385300900019,"d":"1.00E+00"}},{"$f":"(PARÂMETROS!$K$6*PARÂMETROS!$J$6*$C49)/($C49^3+PARÂMETROS!$J$6*$C49^2+PARÂMETROS!$J$6*PARÂMETROS!$K$6*$C49+PARÂMETROS!$J$6*PARÂMETROS!$K$6*PARÂMETROS!$L$6)","v":{"v":0,"d":"0.00E+00"}},{"$f":"(PARÂMETROS!$J$6*$C49^2)/($C49^3+PARÂMETROS!$J$6*$C49^2+PARÂMETROS!$J$6*PARÂMETROS!$K$6*$C49+PARÂMETROS!$J$6*PARÂMETROS!$K$6*PARÂMETROS!$L$6)","v":{"v":4.6146990999804724E-4,"d":"4.61E-04"}},{"$f":"($C49^3)/($C49^3+PARÂMETROS!$J$6*$C49^2+PARÂMETROS!$J$6*PARÂMETROS!$K$6*$C49+PARÂMETROS!$J$6*PARÂMETROS!$K$6*PARÂMETROS!$L$6)","v":{"v":0.999538530090002,"d":"1.00E+00"}},{"$f":"IF(PARÂMETROS!$J$6<PARÂMETROS!$F$6,(E49-(C49-D49)/PARÂMETROS!$C$11)/(K49+(C49-D49)/PARÂMETROS!$C$14),(K49+(C49-D49)/PARÂMETROS!$C$14)/(E49-(C49-D49)/PARÂMETROS!$C$11))","v":{"v":1.0007850507788203,"d":"1.00E+00"}},{"$f":"IF(PARÂMETROS!$J$6<PARÂMETROS!$F$6,(E49-(C49-D49)/PARÂMETROS!$C$11)/(L49+2*M49+(C49-D49)/PARÂMETROS!$C$14),(L49+2*M49+(C49-D49)/PARÂMETROS!$C$14)/(E49-(C49-D49)/PARÂMETROS!$C$11))","v":{"v":0.5002539268022296,"d":"5.00E-01"}},{"$f":"IF(PARÂMETROS!$J$6<PARÂMETROS!$F$6, (E49-(C49-D49)/PARÂMETROS!$C$11)/(N49+2*O49+3*P49+(C49-D49)/PARÂMETROS!$C$14),(N49+2*O49+3*P49+(C49-D49)/PARÂMETROS!$C$14)/ (E49-(C49-D49)/PARÂMETROS!$C$11))","v":{"v":0.3334718295555811,"d":"3.33E-01"}},{"$f":"IF(PARÂMETROS!$J$6<PARÂMETROS!$F$6,(F49+2*G49-(C49-D49)/PARÂMETROS!$C$11)/(K49+(C49-D49)/PARÂMETROS!$C$14),(K49+(C49-D49)/PARÂMETROS!$C$14)/(F49+2*G49-(C49-D49)/PARÂMETROS!$C$11))","v":{"v":1.9979240278809725,"d":"2.00E+00"}},{"$f":"IF(PARÂMETROS!$J$6<PARÂMETROS!$F$6,(F49+2*G49-(C49-D49)/PARÂMETROS!$C$11)/(L49+2*M49+(C49-D49)/PARÂMETROS!$C$14),(L49+2*M49+(C49-D49)/PARÂMETROS!$C$14)/(F49+2*G49-(C49-D49)/PARÂMETROS!$C$11))","v":{"v":0.9986853217103784,"d":"9.99E-01"}},{"$f":"IF(PARÂMETROS!$J$6<PARÂMETROS!$F$6,(F49+2*G49-(C49-D49)/PARÂMETROS!$C$11)/(N49+2*O49+3*P49+(C49-D49)/PARÂMETROS!$C$14),(N49+2*O49+3*P49+(C49-D49)/PARÂMETROS!$C$14)/(F49+2*G49-(C49-D49)/PARÂMETROS!$C$11))","v":{"v":0.6657287500168397,"d":"6.66E-01"}},{"$f":"IF(PARÂMETROS!$J$6<PARÂMETROS!$F$6,(H49+2*I49+3*J49-(C49-D49)/PARÂMETROS!$C$11)/(K49+(C49-D49)/PARÂMETROS!$C$14),(K49+(C49-D49)/PARÂMETROS!$C$14)/(H49+2*I49+3*J49-(C49-D49)/PARÂMETROS!$C$11))","v":{"v":1.9999831766004823,"d":"2.00E+00"}},{"$f":"IF(PARÂMETROS!$J$6<PARÂMETROS!$F$6,(H49+2*I49+3*J49-(C49-D49)/PARÂMETROS!$C$11)/(L49+2*M49+(C49-D49)/PARÂMETROS!$C$14),(L49+2*M49+(C49-D49)/PARÂMETROS!$C$14)/(H49+2*I49+3*J49-(C49-D49)/PARÂMETROS!$C$11))","v":{"v":0.9997146108989039,"d":"1.00E+00"}},{"$f":"IF(PARÂMETROS!$J$6<PARÂMETROS!$F$6,(H49+2*I49+3*J49-(C49-D49)/PARÂMETROS!$C$11)/(N49+2*O49+3*P49+(C49-D49)/PARÂMETROS!$C$14),(N49+2*O49+3*P49+(C49-D49)/PARÂMETROS!$C$14)/(H49+2*I49+3*J49-(C49-D49)/PARÂMETROS!$C$11))","v":{"v":0.6664148794612071,"d":"6.66E-01"}},{"$f":"Q49*PARÂMETROS!$C$11*PARÂMETROS!$D$11/PARÂMETROS!$C$14","v":{"v":20.015701015576408,"d":"20.02"}},{"$f":"R49*PARÂMETROS!$C$11*PARÂMETROS!$D$11/PARÂMETROS!$C$14","v":{"v":10.005078536044593,"d":"10.01"}},{"$f":"S49*PARÂMETROS!$C$11*PARÂMETROS!$D$11/PARÂMETROS!$C$14","v":{"v":6.669436591111621,"d":"6.67"}},{"$f":"T49*PARÂMETROS!$C$11*PARÂMETROS!$D$11/PARÂMETROS!$C$14","v":{"v":39.95848055761945,"d":"39.96"}},{"$f":"U49*PARÂMETROS!$C$11*PARÂMETROS!$D$11/PARÂMETROS!$C$14","v":{"v":19.973706434207568,"d":"19.97"}},{"$f":"V49*PARÂMETROS!$C$11*PARÂMETROS!$D$11/PARÂMETROS!$C$14","v":{"v":13.314575000336795,"d":"13.31"}},{"$f":"W49*PARÂMETROS!$C$11*PARÂMETROS!$D$11/PARÂMETROS!$C$14","v":{"v":39.99966353200965,"d":"40.00"}},{"$f":"X49*PARÂMETROS!$C$11*PARÂMETROS!$D$11/PARÂMETROS!$C$14","v":{"v":19.994292217978078,"d":"19.99"}},{"$f":"Y49*PARÂMETROS!$C$11*PARÂMETROS!$D$11/PARÂMETROS!$C$14","v":{"v":13.328297589224144,"d":"13.33"}},{"$f":"AND(B49+PARÂMETROS!$C$8>=PARÂMETROS!$C$5,B49+PARÂMETROS!$C$8<=PARÂMETROS!$D$5)","v":true},1,{"$f":"VLOOKUP('BANCO DE DADOS COMPLETA'!$N$8,'BANCO DE DADOS COMPLETA'!$A$7:$L$249,3)*-1","v":3},7,{"$f":"VLOOKUP('BANCO DE DADOS COMPLETA'!$N$10,'BANCO DE DADOS COMPLETA'!$A$7:$L$249,3)*-1","v":1},11,77,{"v":39.99966353200965,"d":"40.00"},{"v":39.99966353200965,"d":"40.00"},{"v":9.664343848340692,"d":"9.66"},{"v":3.0872496125628905,"d":"3.09"},{"v":6.853757670693533,"d":"6.85"},{"v":39.99966353200965,"d":"40.00"},"NADA",0]
[null,{"$f":"B49+PARÂMETROS!$C$8","v":{"v":9.864343848340692,"d":"9.86"}},{"v":1.3666463684574654E-10,"d":"1.37E-10"},{"$f":"PARÂMETROS!$Q$4/C50","v":{"v":7.3171818480643281E-5,"d":"7.32E-05"}},{"$f":"PARÂMETROS!$F$6/($C50+PARÂMETROS!$F$6)","v":{"v":0.9999999807843029,"d":"1.00E+00"}},{"$f":"$C50*PARÂMETROS!$F$6/($C50^2+$C50*PARÂMETROS!$F$6+PARÂMETROS!$F$6*PARÂMETROS!$G$6)","v":{"v":2.1563470096636265E-3,"d":"2.16E-03"}},{"$f":"PARÂMETROS!$F$6*PARÂMETROS!$G$6/($C50^2+$C50*PARÂMETROS!$F$6+PARÂMETROS!$F$6*PARÂMETROS!$G$6)","v":{"v":0.9978436529489007,"d":"9.98E-01"}},{"$f":"(PARÂMETROS!$F$6*$C50^2)/($C50^3+PARÂMETROS!$F$6*$C50^2+PARÂMETROS!$F$6*PARÂMETROS!$G$6*$C50+PARÂMETROS!$F$6*PARÂMETROS!$G$6*PARÂMETROS!$H$6)","v":{"v":0.002149337124752628,"d":"2.15E-03"}},{"$f":"(PARÂMETROS!$F$6*PARÂMETROS!$G$6*$C50)/($C50^3+PARÂMETROS!$F$6*$C50^2+PARÂMETROS!$F$6*PARÂMETROS!$G$6*$C50+PARÂMETROS!$F$6*PARÂMETROS!$G$6*PARÂMETROS!$H$6)","v":{"v":0.9945998479699267,"d":"9.95E-01"}},{"$f":"(PARÂMETROS!$F$6*PARÂMETROS!$G$6*PARÂMETROS!$H$6)/($C50^3+PARÂMETROS!$F$6*$C50^2+PARÂMETROS!$F$6*PARÂMETROS!$G$6*$C50+PARÂMETROS!$F$6*PARÂMETROS!$G$6*PARÂMETROS!$H$6)","v":{"v":3.250814864019702E-3,"d":"3.25E-03"}},{"$f":"$C50/($C50+PARÂMETROS!$J$6)","v":{"v":0.9992688168352116,"d":"9.99E-01"}},{"$f":"$C50*PARÂMETROS!$J$6/($C50^2+$C50*PARÂMETROS!$J$6+PARÂMETROS!$J$6*PARÂMETROS!$K$6)","v":{"v":0.000731183164788333,"d":"7.31E-04"}},{"$f":"$C50^2/($C50^2+$C50*PARÂMETROS!$J$6+PARÂMETROS!$J$6*PARÂMETROS!$K$6)","v":{"v":0.9992688168352116,"d":"9.99E-01"}},{"$f":"(PARÂMETROS!$K$6*PARÂMETROS!$J$6*$C50)/($C50^3+PARÂMETROS!$J$6*$C50^2+PARÂMETROS!$J$6*PARÂMETROS!$K$6*$C50+PARÂMETROS!$J$6*PARÂMETROS!$K$6*PARÂMETROS!$L$6)","v":{"v":0,"d":"0.00E+00"}},{"$f":"(PARÂMETROS!$J$6*$C50^2)/($C50^3+PARÂMETROS!$J$6*$C50^2+PARÂMETROS!$J$6*PARÂMETROS!$K$6*$C50+PARÂMETROS!$J$6*PARÂMETROS!$K$6*PARÂMETROS!$L$6)","v":{"v":7.3118316478833288E-4,"d":"7.31E-04"}},{"$f":"($C50^3)/($C50^3+PARÂMETROS!$J$6*$C50^2+PARÂMETROS!$J$6*PARÂMETROS!$K$6*$C50+PARÂMETROS!$J$6*PARÂMETROS!$K$6*PARÂMETROS!$L$6)","v":{"v":0.9992688168352116,"d":"9.99E-01"}},{"$f":"IF(PARÂMETROS!$J$6<PARÂMETROS!$F$6,(E50-(C50-D50)/PARÂMETROS!$C$11)/(K50+(C50-D50)/PARÂMETROS!$C$14),(K50+(C50-D50)/PARÂMETROS!$C$14)/(E50-(C50-D50)/PARÂMETROS!$C$11))","v":{"v":1.001244457766507,"d":"1.00E+00"}},{"$f":"IF(PARÂMETROS!$J$6<PARÂMETROS!$F$6,(E50-(C50-D50)/PARÂMETROS!$C$11)/(L50+2*M50+(C50-D50)/PARÂMETROS!$C$14),(L50+2*M50+(C50-D50)/PARÂMETROS!$C$14)/(E50-(C50-D50)/PARÂMETROS!$C$11))","v":{"v":0.5004024778212792,"d":"5.00E-01"}},{"$f":"IF(PARÂMETROS!$J$6<PARÂMETROS!$F$6, (E50-(C50-D50)/PARÂMETROS!$C$11)/(N50+2*O50+3*P50+(C50-D50)/PARÂMETROS!$C$14),(N50+2*O50+3*P50+(C50-D50)/PARÂMETROS!$C$14)/ (E50-(C50-D50)/PARÂMETROS!$C$11))","v":{"v":0.33355284688838593,"d":"3.34E-01"}},{"$f":"IF(PARÂMETROS!$J$6<PARÂMETROS!$F$6,(F50+2*G50-(C50-D50)/PARÂMETROS!$C$11)/(K50+(C50-D50)/PARÂMETROS!$C$14),(K50+(C50-D50)/PARÂMETROS!$C$14)/(F50+2*G50-(C50-D50)/PARÂMETROS!$C$11))","v":{"v":1.9999645332503722,"d":"2.00E+00"}},{"$f":"IF(PARÂMETROS!$J$6<PARÂMETROS!$F$6,(F50+2*G50-(C50-D50)/PARÂMETROS!$C$11)/(L50+2*M50+(C50-D50)/PARÂMETROS!$C$14),(L50+2*M50+(C50-D50)/PARÂMETROS!$C$14)/(F50+2*G50-(C50-D50)/PARÂMETROS!$C$11))","v":{"v":0.9995433185474379,"d":"1.00E+00"}},{"$f":"IF(PARÂMETROS!$J$6<PARÂMETROS!$F$6,(F50+2*G50-(C50-D50)/PARÂMETROS!$C$11)/(N50+2*O50+3*P50+(C50-D50)/PARÂMETROS!$C$14),(N50+2*O50+3*P50+(C50-D50)/PARÂMETROS!$C$14)/(F50+2*G50-(C50-D50)/PARÂMETROS!$C$11))","v":{"v":0.6662647254293534,"d":"6.66E-01"}},{"$f":"IF(PARÂMETROS!$J$6<PARÂMETROS!$F$6,(H50+2*I50+3*J50-(C50-D50)/PARÂMETROS!$C$11)/(K50+(C50-D50)/PARÂMETROS!$C$14),(K50+(C50-D50)/PARÂMETROS!$C$14)/(H50+2*I50+3*J50-(C50-D50)/PARÂMETROS!$C$11))","v":{"v":2.0032252193381153,"d":"2.00E+00"}},{"$f":"IF(PARÂMETROS!$J$6<PARÂMETROS!$F$6,(H50+2*I50+3*J50-(C50-D50)/PARÂMETROS!$C$11)/(L50+2*M50+(C50-D50)/PARÂMETROS!$C$14),(L50+2*M50+(C50-D50)/PARÂMETROS!$C$14)/(H50+2*I50+3*J50-(C50-D50)/PARÂMETROS!$C$11))","v":{"v":1.0011729459426735,"d":"1.00E+00"}},{"$f":"IF(PARÂMETROS!$J$6<PARÂMETROS!$F$6,(H50+2*I50+3*J50-(C50-D50)/PARÂMETROS!$C$11)/(N50+2*O50+3*P50+(C50-D50)/PARÂMETROS!$C$14),(N50+2*O50+3*P50+(C50-D50)/PARÂMETROS!$C$14)/(H50+2*I50+3*J50-(C50-D50)/PARÂMETROS!$C$11))","v":{"v":0.6673509847528779,"d":"6.67E-01"}},{"$f":"Q50*PARÂMETROS!$C$11*PARÂMETROS!$D$11/PARÂMETROS!$C$14","v":{"v":20.02488915533014,"d":"20.02"}},{"$f":"R50*PARÂMETROS!$C$11*PARÂMETROS!$D$11/PARÂMETROS!$C$14","v":{"v":10.008049556425586,"d":"10.01"}},{"$f":"S50*PARÂMETROS!$C$11*PARÂMETROS!$D$11/PARÂMETROS!$C$14","v":{"v":6.67105693776772,"d":"6.67"}},{"$f":"T50*PARÂMETROS!$C$11*PARÂMETROS!$D$11/PARÂMETROS!$C$14","v":{"v":39.99929066500745,"d":"40.00"}},{"$f":"U50*PARÂMETROS!$C$11*PARÂMETROS!$D$11/PARÂMETROS!$C$14","v":{"v":19.99086637094876,"d":"19.99"}},{"$f":"V50*PARÂMETROS!$C$11*PARÂMETROS!$D$11/PARÂMETROS!$C$14","v":{"v":13.325294508587069,"d":"13.33"}},{"$f":"W50*PARÂMETROS!$C$11*PARÂMETROS!$D$11/PARÂMETROS!$C$14","v":{"v":40.06450438676231,"d":"40.06"}},{"$f":"X50*PARÂMETROS!$C$11*PARÂMETROS!$D$11/PARÂMETROS!$C$14","v":{"v":20.02345891885347,"d":"20.02"}},{"$f":"Y50*PARÂMETROS!$C$11*PARÂMETROS!$D$11/PARÂMETROS!$C$14","v":{"v":13.347019695057558,"d":"13.35"}},{"$f":"AND(B50+PARÂMETROS!$C$8>=PARÂMETROS!$C$5,B50+PARÂMETROS!$C$8<=PARÂMETROS!$D$5)","v":true},1,{"$f":"VLOOKUP('BANCO DE DADOS COMPLETA'!$N$8,'BANCO DE DADOS COMPLETA'!$A$7:$L$249,3)*-1","v":3},7,{"$f":"VLOOKUP('BANCO DE DADOS COMPLETA'!$N$10,'BANCO DE DADOS COMPLETA'!$A$7:$L$249,3)*-1","v":1},11,77,{"v":40.06450438676231,"d":"40.06"},{"v":40.06450438676231,"d":"40.06"},{"v":9.864343848340692,"d":"9.86"},{"v":3.084475069968053,"d":"3.08"},{"v":-0.04282852775475761,"d":"-0.04"},{"v":40.06450438676231,"d":"40.06"},40.03208395938598,1]
[null,{"$f":"B50+PARÂMETROS!$C$8","v":{"v":10.064343848340691,"d":"10.06"}},{"v":8.622955634854237e-11,"d":"8.62E-11"},{"$f":"PARÂMETROS!$Q$4/C51","v":{"v":1.1596951698997163E-4,"d":"1.16E-04"}},{"$f":"PARÂMETROS!$F$6/($C51+PARÂMETROS!$F$6)","v":{"v":0.9999999878757148,"d":"1.00E+00"}},{"$f":"$C51*PARÂMETROS!$F$6/($C51^2+$C51*PARÂMETROS!$F$6+PARÂMETROS!$F$6*PARÂMETROS!$G$6)","v":{"v":1.3616465596112358E-3,"d":"1.36E-03"}},{"$f":"PARÂMETROS!$F$6*PARÂMETROS!$G$6/($C51^2+$C51*PARÂMETROS!$F$6+PARÂMETROS!$F$6*PARÂMETROS!$G$6)","v":{"v":0.9986383534238797,"d":"9.99E-01"}},{"$f":"(PARÂMETROS!$F$6*$C51^2)/($C51^3+PARÂMETROS!$F$6*$C51^2+PARÂMETROS!$F$6*PARÂMETROS!$G$6*$C51+PARÂMETROS!$F$6*PARÂMETROS!$G$6*PARÂMETROS!$H$6)","v":{"v":1.3546388577146786E-3,"d":"1.35E-03"}},{"$f":"(PARÂMETROS!$F$6*PARÂMETROS!$G$6*$C51)/($C51^3+PARÂMETROS!$F$6*$C51^2+PARÂMETROS!$F$6*PARÂMETROS!$G$6*$C51+PARÂMETROS!$F$6*PARÂMETROS!$G$6*PARÂMETROS!$H$6)","v":{"v":0.9934988700286723,"d":"9.93E-01"}},{"$f":"(PARÂMETROS!$F$6*PARÂMETROS!$G$6*PARÂMETROS!$H$6)/($C51^3+PARÂMETROS!$F$6*$C51^2+PARÂMETROS!$F$6*PARÂMETROS!$G$6*$C51+PARÂMETROS!$F$6*PARÂMETROS!$G$6*PARÂMETROS!$H$6)","v":{"v":0.005146491097188982,"d":"5.15E-03"}},{"$f":"$C51/($C51+PARÂMETROS!$J$6)","v":{"v":0.9988416481651282,"d":"9.99E-01"}},{"$f":"$C51*PARÂMETROS!$J$6/($C51^2+$C51*PARÂMETROS!$J$6+PARÂMETROS!$J$6*PARÂMETROS!$K$6)","v":{"v":1.1583518348717708E-3,"d":"1.16E-03"}},{"$f":"$C51^2/($C51^2+$C51*PARÂMETROS!$J$6+PARÂMETROS!$J$6*PARÂMETROS!$K$6)","v":{"v":0.9988416481651282,"d":"9.99E-01"}},{"$f":"(PARÂMETROS!$K$6*PARÂMETROS!$J$6*$C51)/($C51^3+PARÂMETROS!$J$6*$C51^2+PARÂMETROS!$J$6*PARÂMETROS!$K$6*$C51+PARÂMETROS!$J$6*PARÂMETROS!$K$6*PARÂMETROS!$L$6)","v":{"v":0,"d":"0.00E+00"}},{"$f":"(PARÂMETROS!$J$6*$C51^2)/($C51^3+PARÂMETROS!$J$6*$C51^2+PARÂMETROS!$J$6*PARÂMETROS!$K$6*$C51+PARÂMETROS!$J$6*PARÂMETROS!$K$6*PARÂMETROS!$L$6)","v":{"v":0.001158351834871771,"d":"1.16E-03"}},{"$f":"($C51^3)/($C51^3+PARÂMETROS!$J$6*$C51^2+PARÂMETROS!$J$6*PARÂMETROS!$K$6*$C51+PARÂMETROS!$J$6*PARÂMETROS!$K$6*PARÂMETROS!$L$6)","v":{"v":0.9988416481651282,"d":"9.99E-01"}},{"$f":"IF(PARÂMETROS!$J$6<PARÂMETROS!$F$6,(E51-(C51-D51)/PARÂMETROS!$C$11)/(K51+(C51-D51)/PARÂMETROS!$C$14),(K51+(C51-D51)/PARÂMETROS!$C$14)/(E51-(C51-D51)/PARÂMETROS!$C$11))","v":{"v":1.0019728685867508,"d":"1.00E+00"}},{"$f":"IF(PARÂMETROS!$J$6<PARÂMETROS!$F$6,(E51-(C51-D51)/PARÂMETROS!$C$11)/(L51+2*M51+(C51-D51)/PARÂMETROS!$C$14),(L51+2*M51+(C51-D51)/PARÂMETROS!$C$14)/(E51-(C51-D51)/PARÂMETROS!$C$11))","v":{"v":0.5006379336454626,"d":"5.01E-01"}},{"$f":"IF(PARÂMETROS!$J$6<PARÂMETROS!$F$6, (E51-(C51-D51)/PARÂMETROS!$C$11)/(N51+2*O51+3*P51+(C51-D51)/PARÂMETROS!$C$14),(N51+2*O51+3*P51+(C51-D51)/PARÂMETROS!$C$14)/ (E51-(C51-D51)/PARÂMETROS!$C$11))","v":{"v":0.3336812496554912,"d":"3.34E-01"}},{"$f":"IF(PARÂMETROS!$J$6<PARÂMETROS!$F$6,(F51+2*G51-(C51-D51)/PARÂMETROS!$C$11)/(K51+(C51-D51)/PARÂMETROS!$C$14),(K51+(C51-D51)/PARÂMETROS!$C$14)/(F51+2*G51-(C51-D51)/PARÂMETROS!$C$11))","v":{"v":2.0020015647107536,"d":"2.00E+00"}},{"$f":"IF(PARÂMETROS!$J$6<PARÂMETROS!$F$6,(F51+2*G51-(C51-D51)/PARÂMETROS!$C$11)/(L51+2*M51+(C51-D51)/PARÂMETROS!$C$14),(L51+2*M51+(C51-D51)/PARÂMETROS!$C$14)/(F51+2*G51-(C51-D51)/PARÂMETROS!$C$11))","v":{"v":1.0003044572708384,"d":"1.00E+00"}},{"$f":"IF(PARÂMETROS!$J$6<PARÂMETROS!$F$6,(F51+2*G51-(C51-D51)/PARÂMETROS!$C$11)/(N51+2*O51+3*P51+(C51-D51)/PARÂMETROS!$C$14),(N51+2*O51+3*P51+(C51-D51)/PARÂMETROS!$C$14)/(F51+2*G51-(C51-D51)/PARÂMETROS!$C$11))","v":{"v":0.6667150427607561,"d":"6.67E-01"}},{"$f":"IF(PARÂMETROS!$J$6<PARÂMETROS!$F$6,(H51+2*I51+3*J51-(C51-D51)/PARÂMETROS!$C$11)/(K51+(C51-D51)/PARÂMETROS!$C$14),(K51+(C51-D51)/PARÂMETROS!$C$14)/(H51+2*I51+3*J51-(C51-D51)/PARÂMETROS!$C$11))","v":{"v":2.007162238346552,"d":"2.01E+00"}},{"$f":"IF(PARÂMETROS!$J$6<PARÂMETROS!$F$6,(H51+2*I51+3*J51-(C51-D51)/PARÂMETROS!$C$11)/(L51+2*M51+(C51-D51)/PARÂMETROS!$C$14),(L51+2*M51+(C51-D51)/PARÂMETROS!$C$14)/(H51+2*I51+3*J51-(C51-D51)/PARÂMETROS!$C$11))","v":{"v":1.0028829991318458,"d":"1.00E+00"}},{"$f":"IF(PARÂMETROS!$J$6<PARÂMETROS!$F$6,(H51+2*I51+3*J51-(C51-D51)/PARÂMETROS!$C$11)/(N51+2*O51+3*P51+(C51-D51)/PARÂMETROS!$C$14),(N51+2*O51+3*P51+(C51-D51)/PARÂMETROS!$C$14)/(H51+2*I51+3*J51-(C51-D51)/PARÂMETROS!$C$11))","v":{"v":0.668433672158662,"d":"6.68E-01"}},{"$f":"Q51*PARÂMETROS!$C$11*PARÂMETROS!$D$11/PARÂMETROS!$C$14","v":{"v":20.03945737173502,"d":"20.04"}},{"$f":"R51*PARÂMETROS!$C$11*PARÂMETROS!$D$11/PARÂMETROS!$C$14","v":{"v":10.012758672909253,"d":"10.01"}},{"$f":"S51*PARÂMETROS!$C$11*PARÂMETROS!$D$11/PARÂMETROS!$C$14","v":{"v":6.673624993109824,"d":"6.67"}},{"$f":"T51*PARÂMETROS!$C$11*PARÂMETROS!$D$11/PARÂMETROS!$C$14","v":{"v":40.04003129421507,"d":"40.04"}},{"$f":"U51*PARÂMETROS!$C$11*PARÂMETROS!$D$11/PARÂMETROS!$C$14","v":{"v":20.00608914541677,"d":"20.01"}},{"$f":"V51*PARÂMETROS!$C$11*PARÂMETROS!$D$11/PARÂMETROS!$C$14","v":{"v":13.334300855215123,"d":"13.33"}},{"$f":"W51*PARÂMETROS!$C$11*PARÂMETROS!$D$11/PARÂMETROS!$C$14","v":{"v":40.14324476693104,"d":"40.14"}},{"$f":"X51*PARÂMETROS!$C$11*PARÂMETROS!$D$11/PARÂMETROS!$C$14","v":{"v":20.057659982636917,"d":"20.06"}},{"$f":"Y51*PARÂMETROS!$C$11*PARÂMETROS!$D$11/PARÂMETROS!$C$14","v":{"v":13.36867344317324,"d":"13.37"}},{"$f":"AND(B51+PARÂMETROS!$C$8>=PARÂMETROS!$C$5,B51+PARÂMETROS!$C$8<=PARÂMETROS!$D$5)","v":true},1,{"$f":"VLOOKUP('BANCO DE DADOS COMPLETA'!$N$8,'BANCO DE DADOS COMPLETA'!$A$7:$L$249,3)*-1","v":3},7,{"$f":"VLOOKUP('BANCO DE DADOS COMPLETA'!$N$10,'BANCO DE DADOS COMPLETA'!$A$7:$L$249,3)*-1","v":1},11,77,{"v":40.14324476693104,"d":"40.14"},{"v":40.14324476693104,"d":"40.14"},{"v":10.064343848340691,"d":"10.06"},{"v":2.5399928165373544,"d":"2.54"},{"v":-8.397209683735115,"d":"-8.40"},"NADA","NADA",0]
[null,{"$f":"B51+PARÂMETROS!$C$8","v":{"v":10.26434384834069,"d":"10.26"}},{"v":5.4407171889381594E-11,"d":"5.44E-11"},{"$f":"PARÂMETROS!$Q$4/C52","v":{"v":1.8379929801040908E-4,"d":"1.84E-04"}},{"$f":"PARÂMETROS!$F$6/($C52+PARÂMETROS!$F$6)","v":{"v":0.9999999923500932,"d":"1.00E+00"}},{"$f":"$C52*PARÂMETROS!$F$6/($C52^2+$C52*PARÂMETROS!$F$6+PARÂMETROS!$F$6*PARÂMETROS!$G$6)","v":{"v":8.5957283759943953E-4,"d":"8.60E-04"}},{"$f":"PARÂMETROS!$F$6*PARÂMETROS!$G$6/($C52^2+$C52*PARÂMETROS!$F$6+PARÂMETROS!$F$6*PARÂMETROS!$G$6)","v":{"v":0.999140427155825,"d":"9.99E-01"}},{"$f":"(PARÂMETROS!$F$6*$C52^2)/($C52^3+PARÂMETROS!$F$6*$C52^2+PARÂMETROS!$F$6*PARÂMETROS!$G$6*$C52+PARÂMETROS!$F$6*PARÂMETROS!$G$6*PARÂMETROS!$H$6)","v":{"v":8.5257916822772766E-4,"d":"8.53E-04"}},{"$f":"(PARÂMETROS!$F$6*PARÂMETROS!$G$6*$C52)/($C52^3+PARÂMETROS!$F$6*$C52^2+PARÂMETROS!$F$6*PARÂMETROS!$G$6*$C52+PARÂMETROS!$F$6*PARÂMETROS!$G$6*PARÂMETROS!$H$6)","v":{"v":0.9910112058754579,"d":"9.91E-01"}},{"$f":"(PARÂMETROS!$F$6*PARÂMETROS!$G$6*PARÂMETROS!$H$6)/($C52^3+PARÂMETROS!$F$6*$C52^2+PARÂMETROS!$F$6*PARÂMETROS!$G$6*$C52+PARÂMETROS!$F$6*PARÂMETROS!$G$6*PARÂMETROS!$H$6)","v":{"v":0.008136214949792301,"d":"8.14E-03"}},{"$f":"$C52/($C52+PARÂMETROS!$J$6)","v":{"v":0.998165379040341,"d":"9.98E-01"}},{"$f":"$C52*PARÂMETROS!$J$6/($C52^2+$C52*PARÂMETROS!$J$6+PARÂMETROS!$J$6*PARÂMETROS!$K$6)","v":{"v":1.8346209596590856E-3,"d":"1.83E-03"}},{"$f":"$C52^2/($C52^2+$C52*PARÂMETROS!$J$6+PARÂMETROS!$J$6*PARÂMETROS!$K$6)","v":{"v":0.9981653790403409,"d":"9.98E-01"}},{"$f":"(PARÂMETROS!$K$6*PARÂMETROS!$J$6*$C52)/($C52^3+PARÂMETROS!$J$6*$C52^2+PARÂMETROS!$J$6*PARÂMETROS!$K$6*$C52+PARÂMETROS!$J$6*PARÂMETROS!$K$6*PARÂMETROS!$L$6)","v":{"v":0,"d":"0.00E+00"}},{"$f":"(PARÂMETROS!$J$6*$C52^2)/($C52^3+PARÂMETROS!$J$6*$C52^2+PARÂMETROS!$J$6*PARÂMETROS!$K$6*$C52+PARÂMETROS!$J$6*PARÂMETROS!$K$6*PARÂMETROS!$L$6)","v":{"v":1.8346209596590858E-3,"d":"1.83E-03"}},{"$f":"($C52^3)/($C52^3+PARÂMETROS!$J$6*$C52^2+PARÂMETROS!$J$6*PARÂMETROS!$K$6*$C52+PARÂMETROS!$J$6*PARÂMETROS!$K$6*PARÂMETROS!$L$6)","v":{"v":0.998165379040341,"d":"9.98E-01"}},{"$f":"IF(PARÂMETROS!$J$6<PARÂMETROS!$F$6,(E52-(C52-D52)/PARÂMETROS!$C$11)/(K52+(C52-D52)/PARÂMETROS!$C$14),(K52+(C52-D52)/PARÂMETROS!$C$14)/(E52-(C52-D52)/PARÂMETROS!$C$11))","v":{"v":1.0031280967705145,"d":"1.00E+00"}},{"$f":"IF(PARÂMETROS!$J$6<PARÂMETROS!$F$6,(E52-(C52-D52)/PARÂMETROS!$C$11)/(L52+2*M52+(C52-D52)/PARÂMETROS!$C$14),(L52+2*M52+(C52-D52)/PARÂMETROS!$C$14)/(E52-(C52-D52)/PARÂMETROS!$C$11))","v":{"v":0.5010111625466832,"d":"5.01E-01"}},{"$f":"IF(PARÂMETROS!$J$6<PARÂMETROS!$F$6, (E52-(C52-D52)/PARÂMETROS!$C$11)/(N52+2*O52+3*P52+(C52-D52)/PARÂMETROS!$C$14),(N52+2*O52+3*P52+(C52-D52)/PARÂMETROS!$C$14)/ (E52-(C52-D52)/PARÂMETROS!$C$11))","v":{"v":0.3338847586922378,"d":"3.34E-01"}},{"$f":"IF(PARÂMETROS!$J$6<PARÂMETROS!$F$6,(F52+2*G52-(C52-D52)/PARÂMETROS!$C$11)/(K52+(C52-D52)/PARÂMETROS!$C$14),(K52+(C52-D52)/PARÂMETROS!$C$14)/(F52+2*G52-(C52-D52)/PARÂMETROS!$C$11))","v":{"v":2.0044737143617635,"d":"2.00E+00"}},{"$f":"IF(PARÂMETROS!$J$6<PARÂMETROS!$F$6,(F52+2*G52-(C52-D52)/PARÂMETROS!$C$11)/(L52+2*M52+(C52-D52)/PARÂMETROS!$C$14),(L52+2*M52+(C52-D52)/PARÂMETROS!$C$14)/(F52+2*G52-(C52-D52)/PARÂMETROS!$C$11))","v":{"v":1.0011320679380797,"d":"1.00E+00"}},{"$f":"IF(PARÂMETROS!$J$6<PARÂMETROS!$F$6,(F52+2*G52-(C52-D52)/PARÂMETROS!$C$11)/(N52+2*O52+3*P52+(C52-D52)/PARÂMETROS!$C$14),(N52+2*O52+3*P52+(C52-D52)/PARÂMETROS!$C$14)/(F52+2*G52-(C52-D52)/PARÂMETROS!$C$11))","v":{"v":0.6671762306122688,"d":"6.67E-01"}},{"$f":"IF(PARÂMETROS!$J$6<PARÂMETROS!$F$6,(H52+2*I52+3*J52-(C52-D52)/PARÂMETROS!$C$11)/(K52+(C52-D52)/PARÂMETROS!$C$14),(K52+(C52-D52)/PARÂMETROS!$C$14)/(H52+2*I52+3*J52-(C52-D52)/PARÂMETROS!$C$11))","v":{"v":2.0126348956932723,"d":"2.01E+00"}},{"$f":"IF(PARÂMETROS!$J$6<PARÂMETROS!$F$6,(H52+2*I52+3*J52-(C52-D52)/PARÂMETROS!$C$11)/(L52+2*M52+(C52-D52)/PARÂMETROS!$C$14),(L52+2*M52+(C52-D52)/PARÂMETROS!$C$14)/(H52+2*I52+3*J52-(C52-D52)/PARÂMETROS!$C$11))","v":{"v":1.0052081604728387,"d":"1.01E+00"}},{"$f":"IF(PARÂMETROS!$J$6<PARÂMETROS!$F$6,(H52+2*I52+3*J52-(C52-D52)/PARÂMETROS!$C$11)/(N52+2*O52+3*P52+(C52-D52)/PARÂMETROS!$C$14),(N52+2*O52+3*P52+(C52-D52)/PARÂMETROS!$C$14)/(H52+2*I52+3*J52-(C52-D52)/PARÂMETROS!$C$11))","v":{"v":0.6698926275193905,"d":"6.70E-01"}},{"$f":"Q52*PARÂMETROS!$C$11*PARÂMETROS!$D$11/PARÂMETROS!$C$14","v":{"v":20.06256193541029,"d":"20.06"}},{"$f":"R52*PARÂMETROS!$C$11*PARÂMETROS!$D$11/PARÂMETROS!$C$14","v":{"v":10.020223250933665,"d":"10.02"}},{"$f":"S52*PARÂMETROS!$C$11*PARÂMETROS!$D$11/PARÂMETROS!$C$14","v":{"v":6.677695173844757,"d":"6.68"}},{"$f":"T52*PARÂMETROS!$C$11*PARÂMETROS!$D$11/PARÂMETROS!$C$14","v":{"v":40.08947428723527,"d":"40.09"}},{"$f":"U52*PARÂMETROS!$C$11*PARÂMETROS!$D$11/PARÂMETROS!$C$14","v":{"v":20.022641358761597,"d":"20.02"}},{"$f":"V52*PARÂMETROS!$C$11*PARÂMETROS!$D$11/PARÂMETROS!$C$14","v":{"v":13.343524612245378,"d":"13.34"}},{"$f":"W52*PARÂMETROS!$C$11*PARÂMETROS!$D$11/PARÂMETROS!$C$14","v":{"v":40.25269791386545,"d":"40.25"}},{"$f":"X52*PARÂMETROS!$C$11*PARÂMETROS!$D$11/PARÂMETROS!$C$14","v":{"v":20.104163209456775,"d":"20.10"}},{"$f":"Y52*PARÂMETROS!$C$11*PARÂMETROS!$D$11/PARÂMETROS!$C$14","v":{"v":13.397852550387809,"d":"13.40"}},{"$f":"AND(B52+PARÂMETROS!$C$8>=PARÂMETROS!$C$5,B52+PARÂMETROS!$C$8<=PARÂMETROS!$D$5)","v":true},1,{"$f":"VLOOKUP('BANCO DE DADOS COMPLETA'!$N$8,'BANCO DE DADOS COMPLETA'!$A$7:$L$249,3)*-1","v":3},7,{"$f":"VLOOKUP('BANCO DE DADOS COMPLETA'!$N$10,'BANCO DE DADOS COMPLETA'!$A$7:$L$249,3)*-1","v":1},11,77,{"v":40.25269791386545,"d":"40.25"},{"v":40.25269791386545,"d":"40.25"},{"v":10.26434384834069,"d":"10.26"},{"v":1.8272658722170552,"d":"1.83"},{"v":-9.051606593630927,"d":"-9.05"},"NADA","NADA",0]
[null,{"$f":"B52+PARÂMETROS!$C$8","v":{"v":10.46434384834069,"d":"10.46"}},{"v":3.43286046960017e-11,"d":"3.43E-11"},{"$f":"PARÂMETROS!$Q$4/C53","v":{"v":2.9130225619582829E-4,"d":"2.91E-04"}},{"$f":"PARÂMETROS!$F$6/($C53+PARÂMETROS!$F$6)","v":{"v":0.999999995173235,"d":"1.00E+00"}},{"$f":"$C53*PARÂMETROS!$F$6/($C53^2+$C53*PARÂMETROS!$F$6+PARÂMETROS!$F$6*PARÂMETROS!$G$6)","v":{"v":5.4252589454604886E-4,"d":"5.43E-04"}},{"$f":"PARÂMETROS!$F$6*PARÂMETROS!$G$6/($C53^2+$C53*PARÂMETROS!$F$6+PARÂMETROS!$F$6*PARÂMETROS!$G$6)","v":{"v":0.9994574741028353,"d":"9.99E-01"}},{"$f":"(PARÂMETROS!$F$6*$C53^2)/($C53^3+PARÂMETROS!$F$6*$C53^2+PARÂMETROS!$F$6*PARÂMETROS!$G$6*$C53+PARÂMETROS!$F$6*PARÂMETROS!$G$6*PARÂMETROS!$H$6)","v":{"v":5.355609593614872E-4,"d":"5.36E-04"}},{"$f":"(PARÂMETROS!$F$6*PARÂMETROS!$G$6*$C53)/($C53^3+PARÂMETROS!$F$6*$C53^2+PARÂMETROS!$F$6*PARÂMETROS!$G$6*$C53+PARÂMETROS!$F$6*PARÂMETROS!$G$6*PARÂMETROS!$H$6)","v":{"v":0.9866264616169215,"d":"9.87E-01"}},{"$f":"(PARÂMETROS!$F$6*PARÂMETROS!$G$6*PARÂMETROS!$H$6)/($C53^3+PARÂMETROS!$F$6*$C53^2+PARÂMETROS!$F$6*PARÂMETROS!$G$6*$C53+PARÂMETROS!$F$6*PARÂMETROS!$G$6*PARÂMETROS!$H$6)","v":{"v":0.012837977421132112,"d":"1.28E-02"}},{"$f":"$C53/($C53+PARÂMETROS!$J$6)","v":{"v":0.9970954384912494,"d":"9.97E-01"}},{"$f":"$C53*PARÂMETROS!$J$6/($C53^2+$C53*PARÂMETROS!$J$6+PARÂMETROS!$J$6*PARÂMETROS!$K$6)","v":{"v":2.9045615087506965E-3,"d":"2.90E-03"}},{"$f":"$C53^2/($C53^2+$C53*PARÂMETROS!$J$6+PARÂMETROS!$J$6*PARÂMETROS!$K$6)","v":{"v":0.9970954384912493,"d":"9.97E-01"}},{"$f":"(PARÂMETROS!$K$6*PARÂMETROS!$J$6*$C53)/($C53^3+PARÂMETROS!$J$6*$C53^2+PARÂMETROS!$J$6*PARÂMETROS!$K$6*$C53+PARÂMETROS!$J$6*PARÂMETROS!$K$6*PARÂMETROS!$L$6)","v":{"v":0,"d":"0.00E+00"}},{"$f":"(PARÂMETROS!$J$6*$C53^2)/($C53^3+PARÂMETROS!$J$6*$C53^2+PARÂMETROS!$J$6*PARÂMETROS!$K$6*$C53+PARÂMETROS!$J$6*PARÂMETROS!$K$6*PARÂMETROS!$L$6)","v":{"v":0.002904561508750697,"d":"2.90E-03"}},{"$f":"($C53^3)/($C53^3+PARÂMETROS!$J$6*$C53^2+PARÂMETROS!$J$6*PARÂMETROS!$K$6*$C53+PARÂMETROS!$J$6*PARÂMETROS!$K$6*PARÂMETROS!$L$6)","v":{"v":0.9970954384912493,"d":"9.97E-01"}},{"$f":"IF(PARÂMETROS!$J$6<PARÂMETROS!$F$6,(E53-(C53-D53)/PARÂMETROS!$C$11)/(K53+(C53-D53)/PARÂMETROS!$C$14),(K53+(C53-D53)/PARÂMETROS!$C$14)/(E53-(C53-D53)/PARÂMETROS!$C$11))","v":{"v":1.004960971967593,"d":"1.00E+00"}},{"$f":"IF(PARÂMETROS!$J$6<PARÂMETROS!$F$6,(E53-(C53-D53)/PARÂMETROS!$C$11)/(L53+2*M53+(C53-D53)/PARÂMETROS!$C$14),(L53+2*M53+(C53-D53)/PARÂMETROS!$C$14)/(E53-(C53-D53)/PARÂMETROS!$C$11))","v":{"v":0.5016028393127462,"d":"5.02E-01"}},{"$f":"IF(PARÂMETROS!$J$6<PARÂMETROS!$F$6, (E53-(C53-D53)/PARÂMETROS!$C$11)/(N53+2*O53+3*P53+(C53-D53)/PARÂMETROS!$C$14),(N53+2*O53+3*P53+(C53-D53)/PARÂMETROS!$C$14)/ (E53-(C53-D53)/PARÂMETROS!$C$11))","v":{"v":0.33420731421659294,"d":"3.34E-01"}},{"$f":"IF(PARÂMETROS!$J$6<PARÂMETROS!$F$6,(F53+2*G53-(C53-D53)/PARÂMETROS!$C$11)/(K53+(C53-D53)/PARÂMETROS!$C$14),(K53+(C53-D53)/PARÂMETROS!$C$14)/(F53+2*G53-(C53-D53)/PARÂMETROS!$C$11))","v":{"v":2.0079159212455733,"d":"2.01E+00"}},{"$f":"IF(PARÂMETROS!$J$6<PARÂMETROS!$F$6,(F53+2*G53-(C53-D53)/PARÂMETROS!$C$11)/(L53+2*M53+(C53-D53)/PARÂMETROS!$C$14),(L53+2*M53+(C53-D53)/PARÂMETROS!$C$14)/(F53+2*G53-(C53-D53)/PARÂMETROS!$C$11))","v":{"v":1.0022044191687542,"d":"1.00E+00"}},{"$f":"IF(PARÂMETROS!$J$6<PARÂMETROS!$F$6,(F53+2*G53-(C53-D53)/PARÂMETROS!$C$11)/(N53+2*O53+3*P53+(C53-D53)/PARÂMETROS!$C$14),(N53+2*O53+3*P53+(C53-D53)/PARÂMETROS!$C$14)/(F53+2*G53-(C53-D53)/PARÂMETROS!$C$11))","v":{"v":0.6677475105310445,"d":"6.68E-01"}},{"$f":"IF(PARÂMETROS!$J$6<PARÂMETROS!$F$6,(H53+2*I53+3*J53-(C53-D53)/PARÂMETROS!$C$11)/(K53+(C53-D53)/PARÂMETROS!$C$14),(K53+(C53-D53)/PARÂMETROS!$C$14)/(H53+2*I53+3*J53-(C53-D53)/PARÂMETROS!$C$11))","v":{"v":2.0208058127928923,"d":"2.02E+00"}},{"$f":"IF(PARÂMETROS!$J$6<PARÂMETROS!$F$6,(H53+2*I53+3*J53-(C53-D53)/PARÂMETROS!$C$11)/(L53+2*M53+(C53-D53)/PARÂMETROS!$C$14),(L53+2*M53+(C53-D53)/PARÂMETROS!$C$14)/(H53+2*I53+3*J53-(C53-D53)/PARÂMETROS!$C$11))","v":{"v":1.008638108017297,"d":"1.01E+00"}},{"$f":"IF(PARÂMETROS!$J$6<PARÂMETROS!$F$6,(H53+2*I53+3*J53-(C53-D53)/PARÂMETROS!$C$11)/(N53+2*O53+3*P53+(C53-D53)/PARÂMETROS!$C$14),(N53+2*O53+3*P53+(C53-D53)/PARÂMETROS!$C$14)/(H53+2*I53+3*J53-(C53-D53)/PARÂMETROS!$C$11))","v":{"v":0.6720341407134469,"d":"6.72E-01"}},{"$f":"Q53*PARÂMETROS!$C$11*PARÂMETROS!$D$11/PARÂMETROS!$C$14","v":{"v":20.09921943935186,"d":"20.10"}},{"$f":"R53*PARÂMETROS!$C$11*PARÂMETROS!$D$11/PARÂMETROS!$C$14","v":{"v":10.032056786254923,"d":"10.03"}},{"$f":"S53*PARÂMETROS!$C$11*PARÂMETROS!$D$11/PARÂMETROS!$C$14","v":{"v":6.684146284331859,"d":"6.68"}},{"$f":"T53*PARÂMETROS!$C$11*PARÂMETROS!$D$11/PARÂMETROS!$C$14","v":{"v":40.158318424911464,"d":"40.16"}},{"$f":"U53*PARÂMETROS!$C$11*PARÂMETROS!$D$11/PARÂMETROS!$C$14","v":{"v":20.044088383375087,"d":"20.04"}},{"$f":"V53*PARÂMETROS!$C$11*PARÂMETROS!$D$11/PARÂMETROS!$C$14","v":{"v":13.354950210620892,"d":"13.35"}},{"$f":"W53*PARÂMETROS!$C$11*PARÂMETROS!$D$11/PARÂMETROS!$C$14","v":{"v":40.41611625585785,"d":"40.42"}},{"$f":"X53*PARÂMETROS!$C$11*PARÂMETROS!$D$11/PARÂMETROS!$C$14","v":{"v":20.172762160345943,"d":"20.17"}},{"$f":"Y53*PARÂMETROS!$C$11*PARÂMETROS!$D$11/PARÂMETROS!$C$14","v":{"v":13.44068281426894,"d":"13.44"}},{"$f":"AND(B53+PARÂMETROS!$C$8>=PARÂMETROS!$C$5,B53+PARÂMETROS!$C$8<=PARÂMETROS!$D$5)","v":true},1,{"$f":"VLOOKUP('BANCO DE DADOS COMPLETA'!$N$8,'BANCO DE DADOS COMPLETA'!$A$7:$L$249,3)*-1","v":3},7,{"$f":"VLOOKUP('BANCO DE DADOS COMPLETA'!$N$10,'BANCO DE DADOS COMPLETA'!$A$7:$L$249,3)*-1","v":1},11,77,{"v":40.41611625585785,"d":"40.42"},{"v":40.41611625585785,"d":"40.42"},{"v":10.46434384834069,"d":"10.46"},{"v":1.2238528280338041,"d":"1.22"},{"v":-5.512980312433303,"d":"-5.51"},"NADA","NADA",0]
[null,{"$f":"B53+PARÂMETROS!$C$8","v":{"v":10.664343848340689,"d":"10.66"}},{"v":2.165988525869956e-11,"d":"2.17E-11"},{"$f":"PARÂMETROS!$Q$4/C54","v":{"v":4.6168296279333062E-4,"d":"4.62E-04"}},{"$f":"PARÂMETROS!$F$6/($C54+PARÂMETROS!$F$6)","v":{"v":0.9999999969545171,"d":"1.00E+00"}},{"$f":"$C54*PARÂMETROS!$F$6/($C54^2+$C54*PARÂMETROS!$F$6+PARÂMETROS!$F$6*PARÂMETROS!$G$6)","v":{"v":3.4237924726343165E-4,"d":"3.42E-04"}},{"$f":"PARÂMETROS!$F$6*PARÂMETROS!$G$6/($C54^2+$C54*PARÂMETROS!$F$6+PARÂMETROS!$F$6*PARÂMETROS!$G$6)","v":{"v":0.9996576207516938,"d":"1.00E+00"}},{"$f":"(PARÂMETROS!$F$6*$C54^2)/($C54^3+PARÂMETROS!$F$6*$C54^2+PARÂMETROS!$F$6*PARÂMETROS!$G$6*$C54+PARÂMETROS!$F$6*PARÂMETROS!$G$6*PARÂMETROS!$H$6)","v":{"v":3.3546347987749406E-4,"d":"3.35E-04"}},{"$f":"(PARÂMETROS!$F$6*PARÂMETROS!$G$6*$C54)/($C54^3+PARÂMETROS!$F$6*$C54^2+PARÂMETROS!$F$6*PARÂMETROS!$G$6*$C54+PARÂMETROS!$F$6*PARÂMETROS!$G$6*PARÂMETROS!$H$6)","v":{"v":0.9794653934892182,"d":"9.79E-01"}},{"$f":"(PARÂMETROS!$F$6*PARÂMETROS!$G$6*PARÂMETROS!$H$6)/($C54^3+PARÂMETROS!$F$6*$C54^2+PARÂMETROS!$F$6*PARÂMETROS!$G$6*$C54+PARÂMETROS!$F$6*PARÂMETROS!$G$6*PARÂMETROS!$H$6)","v":{"v":0.02019914302988266,"d":"2.02E-02"}},{"$f":"$C54/($C54+PARÂMETROS!$J$6)","v":{"v":0.995404387531868,"d":"9.95E-01"}},{"$f":"$C54*PARÂMETROS!$J$6/($C54^2+$C54*PARÂMETROS!$J$6+PARÂMETROS!$J$6*PARÂMETROS!$K$6)","v":{"v":0.004595612468131935,"d":"4.60E-03"}},{"$f":"$C54^2/($C54^2+$C54*PARÂMETROS!$J$6+PARÂMETROS!$J$6*PARÂMETROS!$K$6)","v":{"v":0.9954043875318681,"d":"9.95E-01"}},{"$f":"(PARÂMETROS!$K$6*PARÂMETROS!$J$6*$C54)/($C54^3+PARÂMETROS!$J$6*$C54^2+PARÂMETROS!$J$6*PARÂMETROS!$K$6*$C54+PARÂMETROS!$J$6*PARÂMETROS!$K$6*PARÂMETROS!$L$6)","v":{"v":0,"d":"0.00E+00"}},{"$f":"(PARÂMETROS!$J$6*$C54^2)/($C54^3+PARÂMETROS!$J$6*$C54^2+PARÂMETROS!$J$6*PARÂMETROS!$K$6*$C54+PARÂMETROS!$J$6*PARÂMETROS!$K$6*PARÂMETROS!$L$6)","v":{"v":0.004595612468131935,"d":"4.60E-03"}},{"$f":"($C54^3)/($C54^3+PARÂMETROS!$J$6*$C54^2+PARÂMETROS!$J$6*PARÂMETROS!$K$6*$C54+PARÂMETROS!$J$6*PARÂMETROS!$K$6*PARÂMETROS!$L$6)","v":{"v":0.9954043875318681,"d":"9.95E-01"}},{"$f":"IF(PARÂMETROS!$J$6<PARÂMETROS!$F$6,(E54-(C54-D54)/PARÂMETROS!$C$11)/(K54+(C54-D54)/PARÂMETROS!$C$14),(K54+(C54-D54)/PARÂMETROS!$C$14)/(E54-(C54-D54)/PARÂMETROS!$C$11))","v":{"v":1.0078708289451312,"d":"1.01E+00"}},{"$f":"IF(PARÂMETROS!$J$6<PARÂMETROS!$F$6,(E54-(C54-D54)/PARÂMETROS!$C$11)/(L54+2*M54+(C54-D54)/PARÂMETROS!$C$14),(L54+2*M54+(C54-D54)/PARÂMETROS!$C$14)/(E54-(C54-D54)/PARÂMETROS!$C$11))","v":{"v":0.5025409621753092,"d":"5.03E-01"}},{"$f":"IF(PARÂMETROS!$J$6<PARÂMETROS!$F$6, (E54-(C54-D54)/PARÂMETROS!$C$11)/(N54+2*O54+3*P54+(C54-D54)/PARÂMETROS!$C$14),(N54+2*O54+3*P54+(C54-D54)/PARÂMETROS!$C$14)/ (E54-(C54-D54)/PARÂMETROS!$C$11))","v":{"v":0.3347185720709735,"d":"3.35E-01"}},{"$f":"IF(PARÂMETROS!$J$6<PARÂMETROS!$F$6,(F54+2*G54-(C54-D54)/PARÂMETROS!$C$11)/(K54+(C54-D54)/PARÂMETROS!$C$14),(K54+(C54-D54)/PARÂMETROS!$C$14)/(F54+2*G54-(C54-D54)/PARÂMETROS!$C$11))","v":{"v":2.0130761591966286,"d":"2.01E+00"}},{"$f":"IF(PARÂMETROS!$J$6<PARÂMETROS!$F$6,(F54+2*G54-(C54-D54)/PARÂMETROS!$C$11)/(L54+2*M54+(C54-D54)/PARÂMETROS!$C$14),(L54+2*M54+(C54-D54)/PARÂMETROS!$C$14)/(F54+2*G54-(C54-D54)/PARÂMETROS!$C$11))","v":{"v":1.0037528628878736,"d":"1.00E+00"}},{"$f":"IF(PARÂMETROS!$J$6<PARÂMETROS!$F$6,(F54+2*G54-(C54-D54)/PARÂMETROS!$C$11)/(N54+2*O54+3*P54+(C54-D54)/PARÂMETROS!$C$14),(N54+2*O54+3*P54+(C54-D54)/PARÂMETROS!$C$14)/(F54+2*G54-(C54-D54)/PARÂMETROS!$C$11))","v":{"v":0.6685519196757087,"d":"6.69E-01"}},{"$f":"IF(PARÂMETROS!$J$6<PARÂMETROS!$F$6,(H54+2*I54+3*J54-(C54-D54)/PARÂMETROS!$C$11)/(K54+(C54-D54)/PARÂMETROS!$C$14),(K54+(C54-D54)/PARÂMETROS!$C$14)/(H54+2*I54+3*J54-(C54-D54)/PARÂMETROS!$C$11))","v":{"v":2.0333943536693537,"d":"2.03E+00"}},{"$f":"IF(PARÂMETROS!$J$6<PARÂMETROS!$F$6,(H54+2*I54+3*J54-(C54-D54)/PARÂMETROS!$C$11)/(L54+2*M54+(C54-D54)/PARÂMETROS!$C$14),(L54+2*M54+(C54-D54)/PARÂMETROS!$C$14)/(H54+2*I54+3*J54-(C54-D54)/PARÂMETROS!$C$11))","v":{"v":1.0138838486320243,"d":"1.01E+00"}},{"$f":"IF(PARÂMETROS!$J$6<PARÂMETROS!$F$6,(H54+2*I54+3*J54-(C54-D54)/PARÂMETROS!$C$11)/(N54+2*O54+3*P54+(C54-D54)/PARÂMETROS!$C$14),(N54+2*O54+3*P54+(C54-D54)/PARÂMETROS!$C$14)/(H54+2*I54+3*J54-(C54-D54)/PARÂMETROS!$C$11))","v":{"v":0.6752996862006004,"d":"6.75E-01"}},{"$f":"Q54*PARÂMETROS!$C$11*PARÂMETROS!$D$11/PARÂMETROS!$C$14","v":{"v":20.157416578902627,"d":"20.16"}},{"$f":"R54*PARÂMETROS!$C$11*PARÂMETROS!$D$11/PARÂMETROS!$C$14","v":{"v":10.050819243506185,"d":"10.05"}},{"$f":"S54*PARÂMETROS!$C$11*PARÂMETROS!$D$11/PARÂMETROS!$C$14","v":{"v":6.694371441419471,"d":"6.69"}},{"$f":"T54*PARÂMETROS!$C$11*PARÂMETROS!$D$11/PARÂMETROS!$C$14","v":{"v":40.261523183932574,"d":"40.26"}},{"$f":"U54*PARÂMETROS!$C$11*PARÂMETROS!$D$11/PARÂMETROS!$C$14","v":{"v":20.07505725775747,"d":"20.08"}},{"$f":"V54*PARÂMETROS!$C$11*PARÂMETROS!$D$11/PARÂMETROS!$C$14","v":{"v":13.371038393514176,"d":"13.37"}},{"$f":"W54*PARÂMETROS!$C$11*PARÂMETROS!$D$11/PARÂMETROS!$C$14","v":{"v":40.66788707338708,"d":"40.67"}},{"$f":"X54*PARÂMETROS!$C$11*PARÂMETROS!$D$11/PARÂMETROS!$C$14","v":{"v":20.27767697264049,"d":"20.28"}},{"$f":"Y54*PARÂMETROS!$C$11*PARÂMETROS!$D$11/PARÂMETROS!$C$14","v":{"v":13.505993724012008,"d":"13.51"}},{"$f":"AND(B54+PARÂMETROS!$C$8>=PARÂMETROS!$C$5,B54+PARÂMETROS!$C$8<=PARÂMETROS!$D$5)","v":true},1,{"$f":"VLOOKUP('BANCO DE DADOS COMPLETA'!$N$8,'BANCO DE DADOS COMPLETA'!$A$7:$L$249,3)*-1","v":3},7,{"$f":"VLOOKUP('BANCO DE DADOS COMPLETA'!$N$10,'BANCO DE DADOS COMPLETA'!$A$7:$L$249,3)*-1","v":1},11,77,{"v":40.66788707338708,"d":"40.67"},{"v":40.66788707338708,"d":"40.67"},{"v":10.664343848340689,"d":"10.66"},{"v":0.7943732397690694,"d":"0.79"},{"v":-2.6280990434029565,"d":"-2.63"},"NADA","NADA",0]
[null,{"$f":"B54+PARÂMETROS!$C$8","v":{"v":10.864343848340688,"d":"10.86"}},{"v":1.3666463684574786E-11,"d":"1.37E-11"},{"$f":"PARÂMETROS!$Q$4/C55","v":{"v":7.3171818480642571E-4,"d":"7.32E-04"}},{"$f":"PARÂMETROS!$F$6/($C55+PARÂMETROS!$F$6)","v":{"v":0.9999999980784302,"d":"1.00E+00"}},{"$f":"$C55*PARÂMETROS!$F$6/($C55^2+$C55*PARÂMETROS!$F$6+PARÂMETROS!$F$6*PARÂMETROS!$G$6)","v":{"v":2.1605399963165597E-4,"d":"2.16E-04"}},{"$f":"PARÂMETROS!$F$6*PARÂMETROS!$G$6/($C55^2+$C55*PARÂMETROS!$F$6+PARÂMETROS!$F$6*PARÂMETROS!$G$6)","v":{"v":0.9997839459999531,"d":"1.00E+00"}},{"$f":"(PARÂMETROS!$F$6*$C55^2)/($C55^3+PARÂMETROS!$F$6*$C55^2+PARÂMETROS!$F$6*PARÂMETROS!$G$6*$C55+PARÂMETROS!$F$6*PARÂMETROS!$G$6*PARÂMETROS!$H$6)","v":{"v":2.0921728322338256E-4,"d":"2.09E-04"}},{"$f":"(PARÂMETROS!$F$6*PARÂMETROS!$G$6*$C55)/($C55^3+PARÂMETROS!$F$6*$C55^2+PARÂMETROS!$F$6*PARÂMETROS!$G$6*$C55+PARÂMETROS!$F$6*PARÂMETROS!$G$6*PARÂMETROS!$H$6)","v":{"v":0.9681472286977999,"d":"9.68E-01"}},{"$f":"(PARÂMETROS!$F$6*PARÂMETROS!$G$6*PARÂMETROS!$H$6)/($C55^3+PARÂMETROS!$F$6*$C55^2+PARÂMETROS!$F$6*PARÂMETROS!$G$6*$C55+PARÂMETROS!$F$6*PARÂMETROS!$G$6*PARÂMETROS!$H$6)","v":{"v":0.03164355401857473,"d":"3.16E-02"}},{"$f":"$C55/($C55+PARÂMETROS!$J$6)","v":{"v":0.9927359703776323,"d":"9.93E-01"}},{"$f":"$C55*PARÂMETROS!$J$6/($C55^2+$C55*PARÂMETROS!$J$6+PARÂMETROS!$J$6*PARÂMETROS!$K$6)","v":{"v":0.007264029622367669,"d":"7.26E-03"}},{"$f":"$C55^2/($C55^2+$C55*PARÂMETROS!$J$6+PARÂMETROS!$J$6*PARÂMETROS!$K$6)","v":{"v":0.9927359703776323,"d":"9.93E-01"}},{"$f":"(PARÂMETROS!$K$6*PARÂMETROS!$J$6*$C55)/($C55^3+PARÂMETROS!$J$6*$C55^2+PARÂMETROS!$J$6*PARÂMETROS!$K$6*$C55+PARÂMETROS!$J$6*PARÂMETROS!$K$6*PARÂMETROS!$L$6)","v":{"v":0,"d":"0.00E+00"}},{"$f":"(PARÂMETROS!$J$6*$C55^2)/($C55^3+PARÂMETROS!$J$6*$C55^2+PARÂMETROS!$J$6*PARÂMETROS!$K$6*$C55+PARÂMETROS!$J$6*PARÂMETROS!$K$6*PARÂMETROS!$L$6)","v":{"v":0.007264029622367669,"d":"7.26E-03"}},{"$f":"($C55^3)/($C55^3+PARÂMETROS!$J$6*$C55^2+PARÂMETROS!$J$6*PARÂMETROS!$K$6*$C55+PARÂMETROS!$J$6*PARÂMETROS!$K$6*PARÂMETROS!$L$6)","v":{"v":0.9927359703776324,"d":"9.93E-01"}},{"$f":"IF(PARÂMETROS!$J$6<PARÂMETROS!$F$6,(E55-(C55-D55)/PARÂMETROS!$C$11)/(K55+(C55-D55)/PARÂMETROS!$C$14),(K55+(C55-D55)/PARÂMETROS!$C$14)/(E55-(C55-D55)/PARÂMETROS!$C$11))","v":{"v":1.0124951055068132,"d":"1.01E+00"}},{"$f":"IF(PARÂMETROS!$J$6<PARÂMETROS!$F$6,(E55-(C55-D55)/PARÂMETROS!$C$11)/(L55+2*M55+(C55-D55)/PARÂMETROS!$C$14),(L55+2*M55+(C55-D55)/PARÂMETROS!$C$14)/(E55-(C55-D55)/PARÂMETROS!$C$11))","v":{"v":0.5040287413095568,"d":"5.04E-01"}},{"$f":"IF(PARÂMETROS!$J$6<PARÂMETROS!$F$6, (E55-(C55-D55)/PARÂMETROS!$C$11)/(N55+2*O55+3*P55+(C55-D55)/PARÂMETROS!$C$14),(N55+2*O55+3*P55+(C55-D55)/PARÂMETROS!$C$14)/ (E55-(C55-D55)/PARÂMETROS!$C$11))","v":{"v":0.33552896886334604,"d":"3.36E-01"}},{"$f":"IF(PARÂMETROS!$J$6<PARÂMETROS!$F$6,(F55+2*G55-(C55-D55)/PARÂMETROS!$C$11)/(K55+(C55-D55)/PARÂMETROS!$C$14),(K55+(C55-D55)/PARÂMETROS!$C$14)/(F55+2*G55-(C55-D55)/PARÂMETROS!$C$11))","v":{"v":2.021081456478434,"d":"2.02E+00"}},{"$f":"IF(PARÂMETROS!$J$6<PARÂMETROS!$F$6,(F55+2*G55-(C55-D55)/PARÂMETROS!$C$11)/(L55+2*M55+(C55-D55)/PARÂMETROS!$C$14),(L55+2*M55+(C55-D55)/PARÂMETROS!$C$14)/(F55+2*G55-(C55-D55)/PARÂMETROS!$C$11))","v":{"v":1.0061116711107458,"d":"1.01E+00"}},{"$f":"IF(PARÂMETROS!$J$6<PARÂMETROS!$F$6,(F55+2*G55-(C55-D55)/PARÂMETROS!$C$11)/(N55+2*O55+3*P55+(C55-D55)/PARÂMETROS!$C$14),(N55+2*O55+3*P55+(C55-D55)/PARÂMETROS!$C$14)/(F55+2*G55-(C55-D55)/PARÂMETROS!$C$11))","v":{"v":0.6697626224490182,"d":"6.70E-01"}},{"$f":"IF(PARÂMETROS!$J$6<PARÂMETROS!$F$6,(H55+2*I55+3*J55-(C55-D55)/PARÂMETROS!$C$11)/(K55+(C55-D55)/PARÂMETROS!$C$14),(K55+(C55-D55)/PARÂMETROS!$C$14)/(H55+2*I55+3*J55-(C55-D55)/PARÂMETROS!$C$11))","v":{"v":2.0530105069144065,"d":"2.05E+00"}},{"$f":"IF(PARÂMETROS!$J$6<PARÂMETROS!$F$6,(H55+2*I55+3*J55-(C55-D55)/PARÂMETROS!$C$11)/(L55+2*M55+(C55-D55)/PARÂMETROS!$C$14),(L55+2*M55+(C55-D55)/PARÂMETROS!$C$14)/(H55+2*I55+3*J55-(C55-D55)/PARÂMETROS!$C$11))","v":{"v":1.022006226071974,"d":"1.02E+00"}},{"$f":"IF(PARÂMETROS!$J$6<PARÂMETROS!$F$6,(H55+2*I55+3*J55-(C55-D55)/PARÂMETROS!$C$11)/(N55+2*O55+3*P55+(C55-D55)/PARÂMETROS!$C$14),(N55+2*O55+3*P55+(C55-D55)/PARÂMETROS!$C$14)/(H55+2*I55+3*J55-(C55-D55)/PARÂMETROS!$C$11))","v":{"v":0.6803435342097769,"d":"6.80E-01"}},{"$f":"Q55*PARÂMETROS!$C$11*PARÂMETROS!$D$11/PARÂMETROS!$C$14","v":{"v":20.249902110136265,"d":"20.25"}},{"$f":"R55*PARÂMETROS!$C$11*PARÂMETROS!$D$11/PARÂMETROS!$C$14","v":{"v":10.080574826191135,"d":"10.08"}},{"$f":"S55*PARÂMETROS!$C$11*PARÂMETROS!$D$11/PARÂMETROS!$C$14","v":{"v":6.710579377266922,"d":"6.71"}},{"$f":"T55*PARÂMETROS!$C$11*PARÂMETROS!$D$11/PARÂMETROS!$C$14","v":{"v":40.42162912956868,"d":"40.42"}},{"$f":"U55*PARÂMETROS!$C$11*PARÂMETROS!$D$11/PARÂMETROS!$C$14","v":{"v":20.12223342221492,"d":"20.12"}},{"$f":"V55*PARÂMETROS!$C$11*PARÂMETROS!$D$11/PARÂMETROS!$C$14","v":{"v":13.395252448980363,"d":"13.40"}},{"$f":"W55*PARÂMETROS!$C$11*PARÂMETROS!$D$11/PARÂMETROS!$C$14","v":{"v":41.060210138288134,"d":"41.06"}},{"$f":"X55*PARÂMETROS!$C$11*PARÂMETROS!$D$11/PARÂMETROS!$C$14","v":{"v":20.440124521439483,"d":"20.44"}},{"$f":"Y55*PARÂMETROS!$C$11*PARÂMETROS!$D$11/PARÂMETROS!$C$14","v":{"v":13.606870684195538,"d":"13.61"}},{"$f":"AND(B55+PARÂMETROS!$C$8>=PARÂMETROS!$C$5,B55+PARÂMETROS!$C$8<=PARÂMETROS!$D$5)","v":true},1,{"$f":"VLOOKUP('BANCO DE DADOS COMPLETA'!$N$8,'BANCO DE DADOS COMPLETA'!$A$7:$L$249,3)*-1","v":3},7,{"$f":"VLOOKUP('BANCO DE DADOS COMPLETA'!$N$10,'BANCO DE DADOS COMPLETA'!$A$7:$L$249,3)*-1","v":1},11,77,{"v":41.060210138288134,"d":"41.06"},{"v":41.060210138288134,"d":"41.06"},{"v":10.864343848340688,"d":"10.86"},{"v":0.5097839456633507,"d":"0.51"},{"v":-1.1303505978117654,"d":"-1.13"},"NADA","NADA",0]
[null,{"$f":"B55+PARÂMETROS!$C$8","v":{"v":11.064343848340688,"d":"11.06"}},{"v":8.62295563485432e-12,"d":"8.62E-12"},{"$f":"PARÂMETROS!$Q$4/C56","v":{"v":0.001159695169899705,"d":"1.16E-03"}},{"$f":"PARÂMETROS!$F$6/($C56+PARÂMETROS!$F$6)","v":{"v":0.9999999987875715,"d":"1.00E+00"}},{"$f":"$C56*PARÂMETROS!$F$6/($C56^2+$C56*PARÂMETROS!$F$6+PARÂMETROS!$F$6*PARÂMETROS!$G$6)","v":{"v":1.3633172802894592E-4,"d":"1.36E-04"}},{"$f":"PARÂMETROS!$F$6*PARÂMETROS!$G$6/($C56^2+$C56*PARÂMETROS!$F$6+PARÂMETROS!$F$6*PARÂMETROS!$G$6)","v":{"v":0.9998636682718057,"d":"1.00E+00"}},{"$f":"(PARÂMETROS!$F$6*$C56^2)/($C56^3+PARÂMETROS!$F$6*$C56^2+PARÂMETROS!$F$6*PARÂMETROS!$G$6*$C56+PARÂMETROS!$F$6*PARÂMETROS!$G$6*PARÂMETROS!$H$6)","v":{"v":1.2961820270588863E-4,"d":"1.30E-04"}},{"$f":"(PARÂMETROS!$F$6*PARÂMETROS!$G$6*$C56)/($C56^3+PARÂMETROS!$F$6*$C56^2+PARÂMETROS!$F$6*PARÂMETROS!$G$6*$C56+PARÂMETROS!$F$6*PARÂMETROS!$G$6*PARÂMETROS!$H$6)","v":{"v":0.9506263399286744,"d":"9.51E-01"}},{"$f":"(PARÂMETROS!$F$6*PARÂMETROS!$G$6*PARÂMETROS!$H$6)/($C56^3+PARÂMETROS!$F$6*$C56^2+PARÂMETROS!$F$6*PARÂMETROS!$G$6*$C56+PARÂMETROS!$F$6*PARÂMETROS!$G$6*PARÂMETROS!$H$6)","v":{"v":0.0492440418684626,"d":"4.92E-02"}},{"$f":"$C56/($C56+PARÂMETROS!$J$6)","v":{"v":0.9885359958039417,"d":"9.89E-01"}},{"$f":"$C56*PARÂMETROS!$J$6/($C56^2+$C56*PARÂMETROS!$J$6+PARÂMETROS!$J$6*PARÂMETROS!$K$6)","v":{"v":0.011464004196058265,"d":"1.15E-02"}},{"$f":"$C56^2/($C56^2+$C56*PARÂMETROS!$J$6+PARÂMETROS!$J$6*PARÂMETROS!$K$6)","v":{"v":0.9885359958039417,"d":"9.89E-01"}},{"$f":"(PARÂMETROS!$K$6*PARÂMETROS!$J$6*$C56)/($C56^3+PARÂMETROS!$J$6*$C56^2+PARÂMETROS!$J$6*PARÂMETROS!$K$6*$C56+PARÂMETROS!$J$6*PARÂMETROS!$K$6*PARÂMETROS!$L$6)","v":{"v":0,"d":"0.00E+00"}},{"$f":"(PARÂMETROS!$J$6*$C56^2)/($C56^3+PARÂMETROS!$J$6*$C56^2+PARÂMETROS!$J$6*PARÂMETROS!$K$6*$C56+PARÂMETROS!$J$6*PARÂMETROS!$K$6*PARÂMETROS!$L$6)","v":{"v":0.011464004196058263,"d":"1.15E-02"}},{"$f":"($C56^3)/($C56^3+PARÂMETROS!$J$6*$C56^2+PARÂMETROS!$J$6*PARÂMETROS!$K$6*$C56+PARÂMETROS!$J$6*PARÂMETROS!$K$6*PARÂMETROS!$L$6)","v":{"v":0.9885359958039417,"d":"9.89E-01"}},{"$f":"IF(PARÂMETROS!$J$6<PARÂMETROS!$F$6,(E56-(C56-D56)/PARÂMETROS!$C$11)/(K56+(C56-D56)/PARÂMETROS!$C$14),(K56+(C56-D56)/PARÂMETROS!$C$14)/(E56-(C56-D56)/PARÂMETROS!$C$11))","v":{"v":1.0198555459355796,"d":"1.02E+00"}},{"$f":"IF(PARÂMETROS!$J$6<PARÂMETROS!$F$6,(E56-(C56-D56)/PARÂMETROS!$C$11)/(L56+2*M56+(C56-D56)/PARÂMETROS!$C$14),(L56+2*M56+(C56-D56)/PARÂMETROS!$C$14)/(E56-(C56-D56)/PARÂMETROS!$C$11))","v":{"v":0.5063891177922085,"d":"5.06E-01"}},{"$f":"IF(PARÂMETROS!$J$6<PARÂMETROS!$F$6, (E56-(C56-D56)/PARÂMETROS!$C$11)/(N56+2*O56+3*P56+(C56-D56)/PARÂMETROS!$C$14),(N56+2*O56+3*P56+(C56-D56)/PARÂMETROS!$C$14)/ (E56-(C56-D56)/PARÂMETROS!$C$11))","v":{"v":0.33681363660886116,"d":"3.37E-01"}},{"$f":"IF(PARÂMETROS!$J$6<PARÂMETROS!$F$6,(F56+2*G56-(C56-D56)/PARÂMETROS!$C$11)/(K56+(C56-D56)/PARÂMETROS!$C$14),(K56+(C56-D56)/PARÂMETROS!$C$14)/(F56+2*G56-(C56-D56)/PARÂMETROS!$C$11))","v":{"v":2.03369334173706,"d":"2.03E+00"}},{"$f":"IF(PARÂMETROS!$J$6<PARÂMETROS!$F$6,(F56+2*G56-(C56-D56)/PARÂMETROS!$C$11)/(L56+2*M56+(C56-D56)/PARÂMETROS!$C$14),(L56+2*M56+(C56-D56)/PARÂMETROS!$C$14)/(F56+2*G56-(C56-D56)/PARÂMETROS!$C$11))","v":{"v":1.009790240673133,"d":"1.01E+00"}},{"$f":"IF(PARÂMETROS!$J$6<PARÂMETROS!$F$6,(F56+2*G56-(C56-D56)/PARÂMETROS!$C$11)/(N56+2*O56+3*P56+(C56-D56)/PARÂMETROS!$C$14),(N56+2*O56+3*P56+(C56-D56)/PARÂMETROS!$C$14)/(F56+2*G56-(C56-D56)/PARÂMETROS!$C$11))","v":{"v":0.6716398738110643,"d":"6.72E-01"}},{"$f":"IF(PARÂMETROS!$J$6<PARÂMETROS!$F$6,(H56+2*I56+3*J56-(C56-D56)/PARÂMETROS!$C$11)/(K56+(C56-D56)/PARÂMETROS!$C$14),(K56+(C56-D56)/PARÂMETROS!$C$14)/(H56+2*I56+3*J56-(C56-D56)/PARÂMETROS!$C$11))","v":{"v":2.083632427248363,"d":"2.08E+00"}},{"$f":"IF(PARÂMETROS!$J$6<PARÂMETROS!$F$6,(H56+2*I56+3*J56-(C56-D56)/PARÂMETROS!$C$11)/(L56+2*M56+(C56-D56)/PARÂMETROS!$C$14),(L56+2*M56+(C56-D56)/PARÂMETROS!$C$14)/(H56+2*I56+3*J56-(C56-D56)/PARÂMETROS!$C$11))","v":{"v":1.0345865067288513,"d":"1.03E+00"}},{"$f":"IF(PARÂMETROS!$J$6<PARÂMETROS!$F$6,(H56+2*I56+3*J56-(C56-D56)/PARÂMETROS!$C$11)/(N56+2*O56+3*P56+(C56-D56)/PARÂMETROS!$C$14),(N56+2*O56+3*P56+(C56-D56)/PARÂMETROS!$C$14)/(H56+2*I56+3*J56-(C56-D56)/PARÂMETROS!$C$11))","v":{"v":0.6881325673763599,"d":"6.88E-01"}},{"$f":"Q56*PARÂMETROS!$C$11*PARÂMETROS!$D$11/PARÂMETROS!$C$14","v":{"v":20.39711091871159,"d":"20.40"}},{"$f":"R56*PARÂMETROS!$C$11*PARÂMETROS!$D$11/PARÂMETROS!$C$14","v":{"v":10.127782355844172,"d":"10.13"}},{"$f":"S56*PARÂMETROS!$C$11*PARÂMETROS!$D$11/PARÂMETROS!$C$14","v":{"v":6.736272732177223,"d":"6.74"}},{"$f":"T56*PARÂMETROS!$C$11*PARÂMETROS!$D$11/PARÂMETROS!$C$14","v":{"v":40.673866834741204,"d":"40.67"}},{"$f":"U56*PARÂMETROS!$C$11*PARÂMETROS!$D$11/PARÂMETROS!$C$14","v":{"v":20.195804813462658,"d":"20.20"}},{"$f":"V56*PARÂMETROS!$C$11*PARÂMETROS!$D$11/PARÂMETROS!$C$14","v":{"v":13.432797476221287,"d":"13.43"}},{"$f":"W56*PARÂMETROS!$C$11*PARÂMETROS!$D$11/PARÂMETROS!$C$14","v":{"v":41.67264854496726,"d":"41.67"}},{"$f":"X56*PARÂMETROS!$C$11*PARÂMETROS!$D$11/PARÂMETROS!$C$14","v":{"v":20.69173013457703,"d":"20.69"}},{"$f":"Y56*PARÂMETROS!$C$11*PARÂMETROS!$D$11/PARÂMETROS!$C$14","v":{"v":13.762651347527196,"d":"13.76"}},{"$f":"AND(B56+PARÂMETROS!$C$8>=PARÂMETROS!$C$5,B56+PARÂMETROS!$C$8<=PARÂMETROS!$D$5)","v":true},1,{"$f":"VLOOKUP('BANCO DE DADOS COMPLETA'!$N$8,'BANCO DE DADOS COMPLETA'!$A$7:$L$249,3)*-1","v":3},7,{"$f":"VLOOKUP('BANCO DE DADOS COMPLETA'!$N$10,'BANCO DE DADOS COMPLETA'!$A$7:$L$249,3)*-1","v":1},11,77,{"v":41.67264854496726,"d":"41.67"},{"v":41.67264854496726,"d":"41.67"},{"v":11.064343848340688,"d":"11.06"},{"v":0.3265634516366726,"d":"0.33"},{"v":-0.4670143318565434,"d":"-0.47"},"NADA","NADA",0]
[null,{"$f":"B56+PARÂMETROS!$C$8","v":{"v":11.264343848340687,"d":"11.26"}},{"v":5.440717188938211e-12,"d":"5.44E-12"},{"$f":"PARÂMETROS!$Q$4/C57","v":{"v":1.8379929801040735E-3,"d":"1.84E-03"}},{"$f":"PARÂMETROS!$F$6/($C57+PARÂMETROS!$F$6)","v":{"v":0.9999999992350093,"d":"1.00E+00"}},{"$f":"$C57*PARÂMETROS!$F$6/($C57^2+$C57*PARÂMETROS!$F$6+PARÂMETROS!$F$6*PARÂMETROS!$G$6)","v":{"v":8.6023833135819556E-5,"d":"8.60E-05"}},{"$f":"PARÂMETROS!$F$6*PARÂMETROS!$G$6/($C57^2+$C57*PARÂMETROS!$F$6+PARÂMETROS!$F$6*PARÂMETROS!$G$6)","v":{"v":0.9999139761667984,"d":"1.00E+00"}},{"$f":"(PARÂMETROS!$F$6*$C57^2)/($C57^3+PARÂMETROS!$F$6*$C57^2+PARÂMETROS!$F$6*PARÂMETROS!$G$6*$C57+PARÂMETROS!$F$6*PARÂMETROS!$G$6*PARÂMETROS!$H$6)","v":{"v":7.9497628874651926E-5,"d":"7.95E-05"}},{"$f":"(PARÂMETROS!$F$6*PARÂMETROS!$G$6*$C57)/($C57^3+PARÂMETROS!$F$6*$C57^2+PARÂMETROS!$F$6*PARÂMETROS!$G$6*$C57+PARÂMETROS!$F$6*PARÂMETROS!$G$6*PARÂMETROS!$H$6)","v":{"v":0.9240554307592979,"d":"9.24E-01"}},{"$f":"(PARÂMETROS!$F$6*PARÂMETROS!$G$6*PARÂMETROS!$H$6)/($C57^3+PARÂMETROS!$F$6*$C57^2+PARÂMETROS!$F$6*PARÂMETROS!$G$6*$C57+PARÂMETROS!$F$6*PARÂMETROS!$G$6*PARÂMETROS!$H$6)","v":{"v":0.07586507161176674,"d":"7.59E-02"}},{"$f":"$C57/($C57+PARÂMETROS!$J$6)","v":{"v":0.9819517949409788,"d":"9.82E-01"}},{"$f":"$C57*PARÂMETROS!$J$6/($C57^2+$C57*PARÂMETROS!$J$6+PARÂMETROS!$J$6*PARÂMETROS!$K$6)","v":{"v":0.01804820505902114,"d":"1.80E-02"}},{"$f":"$C57^2/($C57^2+$C57*PARÂMETROS!$J$6+PARÂMETROS!$J$6*PARÂMETROS!$K$6)","v":{"v":0.981951794940979,"d":"9.82E-01"}},{"$f":"(PARÂMETROS!$K$6*PARÂMETROS!$J$6*$C57)/($C57^3+PARÂMETROS!$J$6*$C57^2+PARÂMETROS!$J$6*PARÂMETROS!$K$6*$C57+PARÂMETROS!$J$6*PARÂMETROS!$K$6*PARÂMETROS!$L$6)","v":{"v":0,"d":"0.00E+00"}},{"$f":"(PARÂMETROS!$J$6*$C57^2)/($C57^3+PARÂMETROS!$J$6*$C57^2+PARÂMETROS!$J$6*PARÂMETROS!$K$6*$C57+PARÂMETROS!$J$6*PARÂMETROS!$K$6*PARÂMETROS!$L$6)","v":{"v":0.018048205059021136,"d":"1.80E-02"}},{"$f":"($C57^3)/($C57^3+PARÂMETROS!$J$6*$C57^2+PARÂMETROS!$J$6*PARÂMETROS!$K$6*$C57+PARÂMETROS!$J$6*PARÂMETROS!$K$6*PARÂMETROS!$L$6)","v":{"v":0.9819517949409788,"d":"9.82E-01"}},{"$f":"IF(PARÂMETROS!$J$6<PARÂMETROS!$F$6,(E57-(C57-D57)/PARÂMETROS!$C$11)/(K57+(C57-D57)/PARÂMETROS!$C$14),(K57+(C57-D57)/PARÂMETROS!$C$14)/(E57-(C57-D57)/PARÂMETROS!$C$11))","v":{"v":1.0316006537548326,"d":"1.03E+00"}},{"$f":"IF(PARÂMETROS!$J$6<PARÂMETROS!$F$6,(E57-(C57-D57)/PARÂMETROS!$C$11)/(L57+2*M57+(C57-D57)/PARÂMETROS!$C$14),(L57+2*M57+(C57-D57)/PARÂMETROS!$C$14)/(E57-(C57-D57)/PARÂMETROS!$C$11))","v":{"v":0.5101361294119653,"d":"5.10E-01"}},{"$f":"IF(PARÂMETROS!$J$6<PARÂMETROS!$F$6, (E57-(C57-D57)/PARÂMETROS!$C$11)/(N57+2*O57+3*P57+(C57-D57)/PARÂMETROS!$C$14),(N57+2*O57+3*P57+(C57-D57)/PARÂMETROS!$C$14)/ (E57-(C57-D57)/PARÂMETROS!$C$11))","v":{"v":0.3388504050100064,"d":"3.39E-01"}},{"$f":"IF(PARÂMETROS!$J$6<PARÂMETROS!$F$6,(F57+2*G57-(C57-D57)/PARÂMETROS!$C$11)/(K57+(C57-D57)/PARÂMETROS!$C$14),(K57+(C57-D57)/PARÂMETROS!$C$14)/(F57+2*G57-(C57-D57)/PARÂMETROS!$C$11))","v":{"v":2.053719332087863,"d":"2.05E+00"}},{"$f":"IF(PARÂMETROS!$J$6<PARÂMETROS!$F$6,(F57+2*G57-(C57-D57)/PARÂMETROS!$C$11)/(L57+2*M57+(C57-D57)/PARÂMETROS!$C$14),(L57+2*M57+(C57-D57)/PARÂMETROS!$C$14)/(F57+2*G57-(C57-D57)/PARÂMETROS!$C$11))","v":{"v":1.015583333682936,"d":"1.02E+00"}},{"$f":"IF(PARÂMETROS!$J$6<PARÂMETROS!$F$6,(F57+2*G57-(C57-D57)/PARÂMETROS!$C$11)/(N57+2*O57+3*P57+(C57-D57)/PARÂMETROS!$C$14),(N57+2*O57+3*P57+(C57-D57)/PARÂMETROS!$C$14)/(F57+2*G57-(C57-D57)/PARÂMETROS!$C$11))","v":{"v":0.6745862606056848,"d":"6.75E-01"}},{"$f":"IF(PARÂMETROS!$J$6<PARÂMETROS!$F$6,(H57+2*I57+3*J57-(C57-D57)/PARÂMETROS!$C$11)/(K57+(C57-D57)/PARÂMETROS!$C$14),(K57+(C57-D57)/PARÂMETROS!$C$14)/(H57+2*I57+3*J57-(C57-D57)/PARÂMETROS!$C$11))","v":{"v":2.131275781014308,"d":"2.13E+00"}},{"$f":"IF(PARÂMETROS!$J$6<PARÂMETROS!$F$6,(H57+2*I57+3*J57-(C57-D57)/PARÂMETROS!$C$11)/(L57+2*M57+(C57-D57)/PARÂMETROS!$C$14),(L57+2*M57+(C57-D57)/PARÂMETROS!$C$14)/(H57+2*I57+3*J57-(C57-D57)/PARÂMETROS!$C$11))","v":{"v":1.0539357198725596,"d":"1.05E+00"}},{"$f":"IF(PARÂMETROS!$J$6<PARÂMETROS!$F$6,(H57+2*I57+3*J57-(C57-D57)/PARÂMETROS!$C$11)/(N57+2*O57+3*P57+(C57-D57)/PARÂMETROS!$C$14),(N57+2*O57+3*P57+(C57-D57)/PARÂMETROS!$C$14)/(H57+2*I57+3*J57-(C57-D57)/PARÂMETROS!$C$11))","v":{"v":0.7000612678521512,"d":"7.00E-01"}},{"$f":"Q57*PARÂMETROS!$C$11*PARÂMETROS!$D$11/PARÂMETROS!$C$14","v":{"v":20.63201307509665,"d":"20.63"}},{"$f":"R57*PARÂMETROS!$C$11*PARÂMETROS!$D$11/PARÂMETROS!$C$14","v":{"v":10.202722588239306,"d":"10.20"}},{"$f":"S57*PARÂMETROS!$C$11*PARÂMETROS!$D$11/PARÂMETROS!$C$14","v":{"v":6.777008100200129,"d":"6.78"}},{"$f":"T57*PARÂMETROS!$C$11*PARÂMETROS!$D$11/PARÂMETROS!$C$14","v":{"v":41.074386641757265,"d":"41.07"}},{"$f":"U57*PARÂMETROS!$C$11*PARÂMETROS!$D$11/PARÂMETROS!$C$14","v":{"v":20.311666673658724,"d":"20.31"}},{"$f":"V57*PARÂMETROS!$C$11*PARÂMETROS!$D$11/PARÂMETROS!$C$14","v":{"v":13.491725212113698,"d":"13.49"}},{"$f":"W57*PARÂMETROS!$C$11*PARÂMETROS!$D$11/PARÂMETROS!$C$14","v":{"v":42.62551562028616,"d":"42.63"}},{"$f":"X57*PARÂMETROS!$C$11*PARÂMETROS!$D$11/PARÂMETROS!$C$14","v":{"v":21.078714397451193,"d":"21.08"}},{"$f":"Y57*PARÂMETROS!$C$11*PARÂMETROS!$D$11/PARÂMETROS!$C$14","v":{"v":14.001225357043023,"d":"14.00"}},{"$f":"AND(B57+PARÂMETROS!$C$8>=PARÂMETROS!$C$5,B57+PARÂMETROS!$C$8<=PARÂMETROS!$D$5)","v":true},1,{"$f":"VLOOKUP('BANCO DE DADOS COMPLETA'!$N$8,'BANCO DE DADOS COMPLETA'!$A$7:$L$249,3)*-1","v":3},7,{"$f":"VLOOKUP('BANCO DE DADOS COMPLETA'!$N$10,'BANCO DE DADOS COMPLETA'!$A$7:$L$249,3)*-1","v":1},11,77,{"v":42.62551562028616,"d":"42.63"},{"v":42.62551562028616,"d":"42.63"},{"v":11.264343848340687,"d":"11.26"},{"v":0.2098928645772178,"d":"0.21"},{"v":-0.190501748073063,"d":"-0.19"},"NADA","NADA",0]
[null,{"$f":"B57+PARÂMETROS!$C$8","v":{"v":11.464343848340686,"d":"11.46"}},{"v":3.4328604696002024E-12,"d":"3.43E-12"},{"$f":"PARÂMETROS!$Q$4/C58","v":{"v":2.913022561958255E-3,"d":"2.91E-03"}},{"$f":"PARÂMETROS!$F$6/($C58+PARÂMETROS!$F$6)","v":{"v":0.9999999995173234,"d":"1.00E+00"}},{"$f":"$C58*PARÂMETROS!$F$6/($C58^2+$C58*PARÂMETROS!$F$6+PARÂMETROS!$F$6*PARÂMETROS!$G$6)","v":{"v":5.4279092486631939E-5,"d":"5.43E-05"}},{"$f":"PARÂMETROS!$F$6*PARÂMETROS!$G$6/($C58^2+$C58*PARÂMETROS!$F$6+PARÂMETROS!$F$6*PARÂMETROS!$G$6)","v":{"v":0.9999457209074872,"d":"1.00E+00"}},{"$f":"(PARÂMETROS!$F$6*$C58^2)/($C58^3+PARÂMETROS!$F$6*$C58^2+PARÂMETROS!$F$6*PARÂMETROS!$G$6*$C58+PARÂMETROS!$F$6*PARÂMETROS!$G$6*PARÂMETROS!$H$6)","v":{"v":4.80297974368981e-05,"d":"4.80E-05"}},{"$f":"(PARÂMETROS!$F$6*PARÂMETROS!$G$6*$C58)/($C58^3+PARÂMETROS!$F$6*$C58^2+PARÂMETROS!$F$6*PARÂMETROS!$G$6*$C58+PARÂMETROS!$F$6*PARÂMETROS!$G$6*PARÂMETROS!$H$6)","v":{"v":0.8848193332434211,"d":"8.85E-01"}},{"$f":"(PARÂMETROS!$F$6*PARÂMETROS!$G$6*PARÂMETROS!$H$6)/($C58^3+PARÂMETROS!$F$6*$C58^2+PARÂMETROS!$F$6*PARÂMETROS!$G$6*$C58+PARÂMETROS!$F$6*PARÂMETROS!$G$6*PARÂMETROS!$H$6)","v":{"v":0.11513263695911885,"d":"1.15E-01"}},{"$f":"$C58/($C58+PARÂMETROS!$J$6)","v":{"v":0.9716943250772322,"d":"9.72E-01"}},{"$f":"$C58*PARÂMETROS!$J$6/($C58^2+$C58*PARÂMETROS!$J$6+PARÂMETROS!$J$6*PARÂMETROS!$K$6)","v":{"v":0.028305674922767768,"d":"2.83E-02"}},{"$f":"$C58^2/($C58^2+$C58*PARÂMETROS!$J$6+PARÂMETROS!$J$6*PARÂMETROS!$K$6)","v":{"v":0.9716943250772323,"d":"9.72E-01"}},{"$f":"(PARÂMETROS!$K$6*PARÂMETROS!$J$6*$C58)/($C58^3+PARÂMETROS!$J$6*$C58^2+PARÂMETROS!$J$6*PARÂMETROS!$K$6*$C58+PARÂMETROS!$J$6*PARÂMETROS!$K$6*PARÂMETROS!$L$6)","v":{"v":0,"d":"0.00E+00"}},{"$f":"(PARÂMETROS!$J$6*$C58^2)/($C58^3+PARÂMETROS!$J$6*$C58^2+PARÂMETROS!$J$6*PARÂMETROS!$K$6*$C58+PARÂMETROS!$J$6*PARÂMETROS!$K$6*PARÂMETROS!$L$6)","v":{"v":0.028305674922767768,"d":"2.83E-02"}},{"$f":"($C58^3)/($C58^3+PARÂMETROS!$J$6*$C58^2+PARÂMETROS!$J$6*PARÂMETROS!$K$6*$C58+PARÂMETROS!$J$6*PARÂMETROS!$K$6*PARÂMETROS!$L$6)","v":{"v":0.9716943250772323,"d":"9.72E-01"}},{"$f":"IF(PARÂMETROS!$J$6<PARÂMETROS!$F$6,(E58-(C58-D58)/PARÂMETROS!$C$11)/(K58+(C58-D58)/PARÂMETROS!$C$14),(K58+(C58-D58)/PARÂMETROS!$C$14)/(E58-(C58-D58)/PARÂMETROS!$C$11))","v":{"v":1.0504176742938245,"d":"1.05E+00"}},{"$f":"IF(PARÂMETROS!$J$6<PARÂMETROS!$F$6,(E58-(C58-D58)/PARÂMETROS!$C$11)/(L58+2*M58+(C58-D58)/PARÂMETROS!$C$14),(L58+2*M58+(C58-D58)/PARÂMETROS!$C$14)/(E58-(C58-D58)/PARÂMETROS!$C$11))","v":{"v":0.5160900771696161,"d":"5.16E-01"}},{"$f":"IF(PARÂMETROS!$J$6<PARÂMETROS!$F$6, (E58-(C58-D58)/PARÂMETROS!$C$11)/(N58+2*O58+3*P58+(C58-D58)/PARÂMETROS!$C$14),(N58+2*O58+3*P58+(C58-D58)/PARÂMETROS!$C$14)/ (E58-(C58-D58)/PARÂMETROS!$C$11))","v":{"v":0.3420803004520388,"d":"3.42E-01"}},{"$f":"IF(PARÂMETROS!$J$6<PARÂMETROS!$F$6,(F58+2*G58-(C58-D58)/PARÂMETROS!$C$11)/(K58+(C58-D58)/PARÂMETROS!$C$14),(K58+(C58-D58)/PARÂMETROS!$C$14)/(F58+2*G58-(C58-D58)/PARÂMETROS!$C$11))","v":{"v":2.085699339648195,"d":"2.09E+00"}},{"$f":"IF(PARÂMETROS!$J$6<PARÂMETROS!$F$6,(F58+2*G58-(C58-D58)/PARÂMETROS!$C$11)/(L58+2*M58+(C58-D58)/PARÂMETROS!$C$14),(L58+2*M58+(C58-D58)/PARÂMETROS!$C$14)/(F58+2*G58-(C58-D58)/PARÂMETROS!$C$11))","v":{"v":1.024743546775622,"d":"1.02E+00"}},{"$f":"IF(PARÂMETROS!$J$6<PARÂMETROS!$F$6,(F58+2*G58-(C58-D58)/PARÂMETROS!$C$11)/(N58+2*O58+3*P58+(C58-D58)/PARÂMETROS!$C$14),(N58+2*O58+3*P58+(C58-D58)/PARÂMETROS!$C$14)/(F58+2*G58-(C58-D58)/PARÂMETROS!$C$11))","v":{"v":0.6792313897794321,"d":"6.79E-01"}},{"$f":"IF(PARÂMETROS!$J$6<PARÂMETROS!$F$6,(H58+2*I58+3*J58-(C58-D58)/PARÂMETROS!$C$11)/(K58+(C58-D58)/PARÂMETROS!$C$14),(K58+(C58-D58)/PARÂMETROS!$C$14)/(H58+2*I58+3*J58-(C58-D58)/PARÂMETROS!$C$11))","v":{"v":2.2049069879819005,"d":"2.20E+00"}},{"$f":"IF(PARÂMETROS!$J$6<PARÂMETROS!$F$6,(H58+2*I58+3*J58-(C58-D58)/PARÂMETROS!$C$11)/(L58+2*M58+(C58-D58)/PARÂMETROS!$C$14),(L58+2*M58+(C58-D58)/PARÂMETROS!$C$14)/(H58+2*I58+3*J58-(C58-D58)/PARÂMETROS!$C$11))","v":{"v":1.083312519797816,"d":"1.08E+00"}},{"$f":"IF(PARÂMETROS!$J$6<PARÂMETROS!$F$6,(H58+2*I58+3*J58-(C58-D58)/PARÂMETROS!$C$11)/(N58+2*O58+3*P58+(C58-D58)/PARÂMETROS!$C$14),(N58+2*O58+3*P58+(C58-D58)/PARÂMETROS!$C$14)/(H58+2*I58+3*J58-(C58-D58)/PARÂMETROS!$C$11))","v":{"v":0.7180526978706061,"d":"7.18E-01"}},{"$f":"Q58*PARÂMETROS!$C$11*PARÂMETROS!$D$11/PARÂMETROS!$C$14","v":{"v":21.00835348587649,"d":"21.01"}},{"$f":"R58*PARÂMETROS!$C$11*PARÂMETROS!$D$11/PARÂMETROS!$C$14","v":{"v":10.321801543392322,"d":"10.32"}},{"$f":"S58*PARÂMETROS!$C$11*PARÂMETROS!$D$11/PARÂMETROS!$C$14","v":{"v":6.841606009040777,"d":"6.84"}},{"$f":"T58*PARÂMETROS!$C$11*PARÂMETROS!$D$11/PARÂMETROS!$C$14","v":{"v":41.713986792963894,"d":"41.71"}},{"$f":"U58*PARÂMETROS!$C$11*PARÂMETROS!$D$11/PARÂMETROS!$C$14","v":{"v":20.494870935512445,"d":"20.49"}},{"$f":"V58*PARÂMETROS!$C$11*PARÂMETROS!$D$11/PARÂMETROS!$C$14","v":{"v":13.584627795588641,"d":"13.58"}},{"$f":"W58*PARÂMETROS!$C$11*PARÂMETROS!$D$11/PARÂMETROS!$C$14","v":{"v":44.09813975963801,"d":"44.10"}},{"$f":"X58*PARÂMETROS!$C$11*PARÂMETROS!$D$11/PARÂMETROS!$C$14","v":{"v":21.66625039595632,"d":"21.67"}},{"$f":"Y58*PARÂMETROS!$C$11*PARÂMETROS!$D$11/PARÂMETROS!$C$14","v":{"v":14.361053957412123,"d":"14.36"}},{"$f":"AND(B58+PARÂMETROS!$C$8>=PARÂMETROS!$C$5,B58+PARÂMETROS!$C$8<=PARÂMETROS!$D$5)","v":true},1,{"$f":"VLOOKUP('BANCO DE DADOS COMPLETA'!$N$8,'BANCO DE DADOS COMPLETA'!$A$7:$L$249,3)*-1","v":3},7,{"$f":"VLOOKUP('BANCO DE DADOS COMPLETA'!$N$10,'BANCO DE DADOS COMPLETA'!$A$7:$L$249,3)*-1","v":1},11,77,{"v":44.09813975963801,"d":"44.10"},{"v":44.09813975963801,"d":"44.10"},{"v":11.464343848340686,"d":"11.46"},{"v":0.13581197989055493,"d":"0.14"},{"v":-0.07774524548649138,"d":"-0.08"},"NADA","NADA",0]
[null,{"$f":"B58+PARÂMETROS!$C$8","v":{"v":11.664343848340685,"d":"11.66"}},{"v":2.1659885258699772E-12,"d":"2.17E-12"},{"$f":"PARÂMETROS!$Q$4/C59","v":{"v":0.004616829627933261,"d":"4.62E-03"}},{"$f":"PARÂMETROS!$F$6/($C59+PARÂMETROS!$F$6)","v":{"v":0.9999999996954517,"d":"1.00E+00"}},{"$f":"$C59*PARÂMETROS!$F$6/($C59^2+$C59*PARÂMETROS!$F$6+PARÂMETROS!$F$6*PARÂMETROS!$G$6)","v":{"v":3.4248478097714767E-5,"d":"3.42E-05"}},{"$f":"PARÂMETROS!$F$6*PARÂMETROS!$G$6/($C59^2+$C59*PARÂMETROS!$F$6+PARÂMETROS!$F$6*PARÂMETROS!$G$6)","v":{"v":0.9999657515218918,"d":"1.00E+00"}},{"$f":"(PARÂMETROS!$F$6*$C59^2)/($C59^3+PARÂMETROS!$F$6*$C59^2+PARÂMETROS!$F$6*PARÂMETROS!$G$6*$C59+PARÂMETROS!$F$6*PARÂMETROS!$G$6*PARÂMETROS!$H$6)","v":{"v":2.8393247068012151E-5,"d":"2.84E-05"}},{"$f":"(PARÂMETROS!$F$6*PARÂMETROS!$G$6*$C59)/($C59^3+PARÂMETROS!$F$6*$C59^2+PARÂMETROS!$F$6*PARÂMETROS!$G$6*$C59+PARÂMETROS!$F$6*PARÂMETROS!$G$6*PARÂMETROS!$H$6)","v":{"v":0.8290083594811181,"d":"8.29E-01"}},{"$f":"(PARÂMETROS!$F$6*PARÂMETROS!$G$6*PARÂMETROS!$H$6)/($C59^3+PARÂMETROS!$F$6*$C59^2+PARÂMETROS!$F$6*PARÂMETROS!$G$6*$C59+PARÂMETROS!$F$6*PARÂMETROS!$G$6*PARÂMETROS!$H$6)","v":{"v":0.17096324727180523,"d":"1.71E-01"}},{"$f":"$C59/($C59+PARÂMETROS!$J$6)","v":{"v":0.9558691498838869,"d":"9.56E-01"}},{"$f":"$C59*PARÂMETROS!$J$6/($C59^2+$C59*PARÂMETROS!$J$6+PARÂMETROS!$J$6*PARÂMETROS!$K$6)","v":{"v":0.044130850116113084,"d":"4.41E-02"}},{"$f":"$C59^2/($C59^2+$C59*PARÂMETROS!$J$6+PARÂMETROS!$J$6*PARÂMETROS!$K$6)","v":{"v":0.9558691498838869,"d":"9.56E-01"}},{"$f":"(PARÂMETROS!$K$6*PARÂMETROS!$J$6*$C59)/($C59^3+PARÂMETROS!$J$6*$C59^2+PARÂMETROS!$J$6*PARÂMETROS!$K$6*$C59+PARÂMETROS!$J$6*PARÂMETROS!$K$6*PARÂMETROS!$L$6)","v":{"v":0,"d":"0.00E+00"}},{"$f":"(PARÂMETROS!$J$6*$C59^2)/($C59^3+PARÂMETROS!$J$6*$C59^2+PARÂMETROS!$J$6*PARÂMETROS!$K$6*$C59+PARÂMETROS!$J$6*PARÂMETROS!$K$6*PARÂMETROS!$L$6)","v":{"v":0.044130850116113084,"d":"4.41E-02"}},{"$f":"($C59^3)/($C59^3+PARÂMETROS!$J$6*$C59^2+PARÂMETROS!$J$6*PARÂMETROS!$K$6*$C59+PARÂMETROS!$J$6*PARÂMETROS!$K$6*PARÂMETROS!$L$6)","v":{"v":0.9558691498838869,"d":"9.56E-01"}},{"$f":"IF(PARÂMETROS!$J$6<PARÂMETROS!$F$6,(E59-(C59-D59)/PARÂMETROS!$C$11)/(K59+(C59-D59)/PARÂMETROS!$C$14),(K59+(C59-D59)/PARÂMETROS!$C$14)/(E59-(C59-D59)/PARÂMETROS!$C$11))","v":{"v":1.0807582833608613,"d":"1.08E+00"}},{"$f":"IF(PARÂMETROS!$J$6<PARÂMETROS!$F$6,(E59-(C59-D59)/PARÂMETROS!$C$11)/(L59+2*M59+(C59-D59)/PARÂMETROS!$C$14),(L59+2*M59+(C59-D59)/PARÂMETROS!$C$14)/(E59-(C59-D59)/PARÂMETROS!$C$11))","v":{"v":0.5255653422264204,"d":"5.26E-01"}},{"$f":"IF(PARÂMETROS!$J$6<PARÂMETROS!$F$6, (E59-(C59-D59)/PARÂMETROS!$C$11)/(N59+2*O59+3*P59+(C59-D59)/PARÂMETROS!$C$14),(N59+2*O59+3*P59+(C59-D59)/PARÂMETROS!$C$14)/ (E59-(C59-D59)/PARÂMETROS!$C$11))","v":{"v":0.34720417611094906,"d":"3.47E-01"}},{"$f":"IF(PARÂMETROS!$J$6<PARÂMETROS!$F$6,(F59+2*G59-(C59-D59)/PARÂMETROS!$C$11)/(K59+(C59-D59)/PARÂMETROS!$C$14),(K59+(C59-D59)/PARÂMETROS!$C$14)/(F59+2*G59-(C59-D59)/PARÂMETROS!$C$11))","v":{"v":2.137094921614782,"d":"2.14E+00"}},{"$f":"IF(PARÂMETROS!$J$6<PARÂMETROS!$F$6,(F59+2*G59-(C59-D59)/PARÂMETROS!$C$11)/(L59+2*M59+(C59-D59)/PARÂMETROS!$C$14),(L59+2*M59+(C59-D59)/PARÂMETROS!$C$14)/(F59+2*G59-(C59-D59)/PARÂMETROS!$C$11))","v":{"v":1.0392546059013559,"d":"1.04E+00"}},{"$f":"IF(PARÂMETROS!$J$6<PARÂMETROS!$F$6,(F59+2*G59-(C59-D59)/PARÂMETROS!$C$11)/(N59+2*O59+3*P59+(C59-D59)/PARÂMETROS!$C$14),(N59+2*O59+3*P59+(C59-D59)/PARÂMETROS!$C$14)/(F59+2*G59-(C59-D59)/PARÂMETROS!$C$11))","v":{"v":0.6865626597121344,"d":"6.87E-01"}},{"$f":"IF(PARÂMETROS!$J$6<PARÂMETROS!$F$6,(H59+2*I59+3*J59-(C59-D59)/PARÂMETROS!$C$11)/(K59+(C59-D59)/PARÂMETROS!$C$14),(K59+(C59-D59)/PARÂMETROS!$C$14)/(H59+2*I59+3*J59-(C59-D59)/PARÂMETROS!$C$11))","v":{"v":2.317702034061655,"d":"2.32E+00"}},{"$f":"IF(PARÂMETROS!$J$6<PARÂMETROS!$F$6,(H59+2*I59+3*J59-(C59-D59)/PARÂMETROS!$C$11)/(L59+2*M59+(C59-D59)/PARÂMETROS!$C$14),(L59+2*M59+(C59-D59)/PARÂMETROS!$C$14)/(H59+2*I59+3*J59-(C59-D59)/PARÂMETROS!$C$11))","v":{"v":1.1270826062258028,"d":"1.13E+00"}},{"$f":"IF(PARÂMETROS!$J$6<PARÂMETROS!$F$6,(H59+2*I59+3*J59-(C59-D59)/PARÂMETROS!$C$11)/(N59+2*O59+3*P59+(C59-D59)/PARÂMETROS!$C$14),(N59+2*O59+3*P59+(C59-D59)/PARÂMETROS!$C$14)/(H59+2*I59+3*J59-(C59-D59)/PARÂMETROS!$C$11))","v":{"v":0.7445844622209163,"d":"7.45E-01"}},{"$f":"Q59*PARÂMETROS!$C$11*PARÂMETROS!$D$11/PARÂMETROS!$C$14","v":{"v":21.61516566721723,"d":"21.62"}},{"$f":"R59*PARÂMETROS!$C$11*PARÂMETROS!$D$11/PARÂMETROS!$C$14","v":{"v":10.511306844528407,"d":"10.51"}},{"$f":"S59*PARÂMETROS!$C$11*PARÂMETROS!$D$11/PARÂMETROS!$C$14","v":{"v":6.944083522218982,"d":"6.94"}},{"$f":"T59*PARÂMETROS!$C$11*PARÂMETROS!$D$11/PARÂMETROS!$C$14","v":{"v":42.74189843229564,"d":"42.74"}},{"$f":"U59*PARÂMETROS!$C$11*PARÂMETROS!$D$11/PARÂMETROS!$C$14","v":{"v":20.78509211802712,"d":"20.79"}},{"$f":"V59*PARÂMETROS!$C$11*PARÂMETROS!$D$11/PARÂMETROS!$C$14","v":{"v":13.731253194242687,"d":"13.73"}},{"$f":"W59*PARÂMETROS!$C$11*PARÂMETROS!$D$11/PARÂMETROS!$C$14","v":{"v":46.3540406812331,"d":"46.35"}},{"$f":"X59*PARÂMETROS!$C$11*PARÂMETROS!$D$11/PARÂMETROS!$C$14","v":{"v":22.541652124516055,"d":"22.54"}},{"$f":"Y59*PARÂMETROS!$C$11*PARÂMETROS!$D$11/PARÂMETROS!$C$14","v":{"v":14.891689244418327,"d":"14.89"}},{"$f":"AND(B59+PARÂMETROS!$C$8>=PARÂMETROS!$C$5,B59+PARÂMETROS!$C$8<=PARÂMETROS!$D$5)","v":true},1,{"$f":"VLOOKUP('BANCO DE DADOS COMPLETA'!$N$8,'BANCO DE DADOS COMPLETA'!$A$7:$L$249,3)*-1","v":3},7,{"$f":"VLOOKUP('BANCO DE DADOS COMPLETA'!$N$10,'BANCO DE DADOS COMPLETA'!$A$7:$L$249,3)*-1","v":1},11,77,{"v":46.3540406812331,"d":"46.35"},{"v":46.3540406812331,"d":"46.35"},{"v":11.664343848340685,"d":"11.66"},{"v":0.08865637585651776,"d":"0.09"},{"v":-0.03202147973398825,"d":"-0.03"},"NADA","NADA",0]
[null,{"$f":"B59+PARÂMETROS!$C$8","v":{"v":11.864343848340685,"d":"11.86"}},{"v":1.3666463684574868E-12,"d":"1.37E-12"},{"$f":"PARÂMETROS!$Q$4/C60","v":{"v":0.007317181848064214,"d":"7.32E-03"}},{"$f":"PARÂMETROS!$F$6/($C60+PARÂMETROS!$F$6)","v":{"v":0.999999999807843,"d":"1.00E+00"}},{"$f":"$C60*PARÂMETROS!$F$6/($C60^2+$C60*PARÂMETROS!$F$6+PARÂMETROS!$F$6*PARÂMETROS!$G$6)","v":{"v":2.160960192000735E-5,"d":"2.16E-05"}},{"$f":"PARÂMETROS!$F$6*PARÂMETROS!$G$6/($C60^2+$C60*PARÂMETROS!$F$6+PARÂMETROS!$F$6*PARÂMETROS!$G$6)","v":{"v":0.9999783903980759,"d":"1.00E+00"}},{"$f":"(PARÂMETROS!$F$6*$C60^2)/($C60^3+PARÂMETROS!$F$6*$C60^2+PARÂMETROS!$F$6*PARÂMETROS!$G$6*$C60+PARÂMETROS!$F$6*PARÂMETROS!$G$6*PARÂMETROS!$H$6)","v":{"v":1.6286523598864268E-5,"d":"1.63E-05"}},{"$f":"(PARÂMETROS!$F$6*PARÂMETROS!$G$6*$C60)/($C60^3+PARÂMETROS!$F$6*$C60^2+PARÂMETROS!$F$6*PARÂMETROS!$G$6*$C60+PARÂMETROS!$F$6*PARÂMETROS!$G$6*PARÂMETROS!$H$6)","v":{"v":0.7536544039015334,"d":"7.54E-01"}},{"$f":"(PARÂMETROS!$F$6*PARÂMETROS!$G$6*PARÂMETROS!$H$6)/($C60^3+PARÂMETROS!$F$6*$C60^2+PARÂMETROS!$F$6*PARÂMETROS!$G$6*$C60+PARÂMETROS!$F$6*PARÂMETROS!$G$6*PARÂMETROS!$H$6)","v":{"v":0.24632930957486465,"d":"2.46E-01"}},{"$f":"$C60/($C60+PARÂMETROS!$J$6)","v":{"v":0.9318172381900262,"d":"9.32E-01"}},{"$f":"$C60*PARÂMETROS!$J$6/($C60^2+$C60*PARÂMETROS!$J$6+PARÂMETROS!$J$6*PARÂMETROS!$K$6)","v":{"v":0.06818276180997387,"d":"6.82E-02"}},{"$f":"$C60^2/($C60^2+$C60*PARÂMETROS!$J$6+PARÂMETROS!$J$6*PARÂMETROS!$K$6)","v":{"v":0.9318172381900262,"d":"9.32E-01"}},{"$f":"(PARÂMETROS!$K$6*PARÂMETROS!$J$6*$C60)/($C60^3+PARÂMETROS!$J$6*$C60^2+PARÂMETROS!$J$6*PARÂMETROS!$K$6*$C60+PARÂMETROS!$J$6*PARÂMETROS!$K$6*PARÂMETROS!$L$6)","v":{"v":0,"d":"0.00E+00"}},{"$f":"(PARÂMETROS!$J$6*$C60^2)/($C60^3+PARÂMETROS!$J$6*$C60^2+PARÂMETROS!$J$6*PARÂMETROS!$K$6*$C60+PARÂMETROS!$J$6*PARÂMETROS!$K$6*PARÂMETROS!$L$6)","v":{"v":0.06818276180997387,"d":"6.82E-02"}},{"$f":"($C60^3)/($C60^3+PARÂMETROS!$J$6*$C60^2+PARÂMETROS!$J$6*PARÂMETROS!$K$6*$C60+PARÂMETROS!$J$6*PARÂMETROS!$K$6*PARÂMETROS!$L$6)","v":{"v":0.9318172381900262,"d":"9.32E-01"}},{"$f":"IF(PARÂMETROS!$J$6<PARÂMETROS!$F$6,(E60-(C60-D60)/PARÂMETROS!$C$11)/(K60+(C60-D60)/PARÂMETROS!$C$14),(K60+(C60-D60)/PARÂMETROS!$C$14)/(E60-(C60-D60)/PARÂMETROS!$C$11))","v":{"v":1.1301845442875618,"d":"1.13E+00"}},{"$f":"IF(PARÂMETROS!$J$6<PARÂMETROS!$F$6,(E60-(C60-D60)/PARÂMETROS!$C$11)/(L60+2*M60+(C60-D60)/PARÂMETROS!$C$14),(L60+2*M60+(C60-D60)/PARÂMETROS!$C$14)/(E60-(C60-D60)/PARÂMETROS!$C$11))","v":{"v":0.5406818112296634,"d":"5.41E-01"}},{"$f":"IF(PARÂMETROS!$J$6<PARÂMETROS!$F$6, (E60-(C60-D60)/PARÂMETROS!$C$11)/(N60+2*O60+3*P60+(C60-D60)/PARÂMETROS!$C$14),(N60+2*O60+3*P60+(C60-D60)/PARÂMETROS!$C$14)/ (E60-(C60-D60)/PARÂMETROS!$C$11))","v":{"v":0.3553379934126334,"d":"3.55E-01"}},{"$f":"IF(PARÂMETROS!$J$6<PARÂMETROS!$F$6,(F60+2*G60-(C60-D60)/PARÂMETROS!$C$11)/(K60+(C60-D60)/PARÂMETROS!$C$14),(K60+(C60-D60)/PARÂMETROS!$C$14)/(F60+2*G60-(C60-D60)/PARÂMETROS!$C$11))","v":{"v":2.220456090339965,"d":"2.22E+00"}},{"$f":"IF(PARÂMETROS!$J$6<PARÂMETROS!$F$6,(F60+2*G60-(C60-D60)/PARÂMETROS!$C$11)/(L60+2*M60+(C60-D60)/PARÂMETROS!$C$14),(L60+2*M60+(C60-D60)/PARÂMETROS!$C$14)/(F60+2*G60-(C60-D60)/PARÂMETROS!$C$11))","v":{"v":1.0622691902389714,"d":"1.06E+00"}},{"$f":"IF(PARÂMETROS!$J$6<PARÂMETROS!$F$6,(F60+2*G60-(C60-D60)/PARÂMETROS!$C$11)/(N60+2*O60+3*P60+(C60-D60)/PARÂMETROS!$C$14),(N60+2*O60+3*P60+(C60-D60)/PARÂMETROS!$C$14)/(F60+2*G60-(C60-D60)/PARÂMETROS!$C$11))","v":{"v":0.6981270586208878,"d":"6.98E-01"}},{"$f":"IF(PARÂMETROS!$J$6<PARÂMETROS!$F$6,(H60+2*I60+3*J60-(C60-D60)/PARÂMETROS!$C$11)/(K60+(C60-D60)/PARÂMETROS!$C$14),(K60+(C60-D60)/PARÂMETROS!$C$14)/(H60+2*I60+3*J60-(C60-D60)/PARÂMETROS!$C$11))","v":{"v":2.489033534929061,"d":"2.49E+00"}},{"$f":"IF(PARÂMETROS!$J$6<PARÂMETROS!$F$6,(H60+2*I60+3*J60-(C60-D60)/PARÂMETROS!$C$11)/(L60+2*M60+(C60-D60)/PARÂMETROS!$C$14),(L60+2*M60+(C60-D60)/PARÂMETROS!$C$14)/(H60+2*I60+3*J60-(C60-D60)/PARÂMETROS!$C$11))","v":{"v":1.190757002189547,"d":"1.19E+00"}},{"$f":"IF(PARÂMETROS!$J$6<PARÂMETROS!$F$6,(H60+2*I60+3*J60-(C60-D60)/PARÂMETROS!$C$11)/(N60+2*O60+3*P60+(C60-D60)/PARÂMETROS!$C$14),(N60+2*O60+3*P60+(C60-D60)/PARÂMETROS!$C$14)/(H60+2*I60+3*J60-(C60-D60)/PARÂMETROS!$C$11))","v":{"v":0.7825697018321719,"d":"7.83E-01"}},{"$f":"Q60*PARÂMETROS!$C$11*PARÂMETROS!$D$11/PARÂMETROS!$C$14","v":{"v":22.603690885751238,"d":"22.60"}},{"$f":"R60*PARÂMETROS!$C$11*PARÂMETROS!$D$11/PARÂMETROS!$C$14","v":{"v":10.81363622459327,"d":"10.81"}},{"$f":"S60*PARÂMETROS!$C$11*PARÂMETROS!$D$11/PARÂMETROS!$C$14","v":{"v":7.106759868252668,"d":"7.11"}},{"$f":"T60*PARÂMETROS!$C$11*PARÂMETROS!$D$11/PARÂMETROS!$C$14","v":{"v":44.4091218067993,"d":"44.41"}},{"$f":"U60*PARÂMETROS!$C$11*PARÂMETROS!$D$11/PARÂMETROS!$C$14","v":{"v":21.24538380477943,"d":"21.25"}},{"$f":"V60*PARÂMETROS!$C$11*PARÂMETROS!$D$11/PARÂMETROS!$C$14","v":{"v":13.962541172417756,"d":"13.96"}},{"$f":"W60*PARÂMETROS!$C$11*PARÂMETROS!$D$11/PARÂMETROS!$C$14","v":{"v":49.780670698581226,"d":"49.78"}},{"$f":"X60*PARÂMETROS!$C$11*PARÂMETROS!$D$11/PARÂMETROS!$C$14","v":{"v":23.81514004379094,"d":"23.82"}},{"$f":"Y60*PARÂMETROS!$C$11*PARÂMETROS!$D$11/PARÂMETROS!$C$14","v":{"v":15.65139403664344,"d":"15.65"}},{"$f":"AND(B60+PARÂMETROS!$C$8>=PARÂMETROS!$C$5,B60+PARÂMETROS!$C$8<=PARÂMETROS!$D$5)","v":false},0,{"$f":"VLOOKUP('BANCO DE DADOS COMPLETA'!$N$8,'BANCO DE DADOS COMPLETA'!$A$7:$L$249,3)*-1","v":3},7,{"$f":"VLOOKUP('BANCO DE DADOS COMPLETA'!$N$10,'BANCO DE DADOS COMPLETA'!$A$7:$L$249,3)*-1","v":1},11,77,{"v":49.780670698581226,"d":"49.78"},"LIMITE","LIMITE",{"$error":"#VALUE!"},{"$error":"#VALUE!"},"NADA","NADA",0]
[null,{"$f":"B60+PARÂMETROS!$C$8","v":{"v":12.064343848340684,"d":"12.06"}},{"v":8.622955634854373E-13,"d":"8.62E-13"},{"$f":"PARÂMETROS!$Q$4/C61","v":{"v":0.01159695169899698,"d":"1.16E-02"}},{"$f":"PARÂMETROS!$F$6/($C61+PARÂMETROS!$F$6)","v":{"v":0.9999999998787572,"d":"1.00E+00"}},{"$f":"$C61*PARÂMETROS!$F$6/($C61^2+$C61*PARÂMETROS!$F$6+PARÂMETROS!$F$6*PARÂMETROS!$G$6)","v":{"v":1.3634845778774692E-5,"d":"1.36E-05"}},{"$f":"PARÂMETROS!$F$6*PARÂMETROS!$G$6/($C61^2+$C61*PARÂMETROS!$F$6+PARÂMETROS!$F$6*PARÂMETROS!$G$6)","v":{"v":0.9999863651542196,"d":"1.00E+00"}},{"$f":"(PARÂMETROS!$F$6*$C61^2)/($C61^3+PARÂMETROS!$F$6*$C61^2+PARÂMETROS!$F$6*PARÂMETROS!$G$6*$C61+PARÂMETROS!$F$6*PARÂMETROS!$G$6*PARÂMETROS!$H$6)","v":{"v":8.9820542046662527E-6,"d":"8.98E-06"}},{"$f":"(PARÂMETROS!$F$6*PARÂMETROS!$G$6*$C61)/($C61^3+PARÂMETROS!$F$6*$C61^2+PARÂMETROS!$F$6*PARÂMETROS!$G$6*$C61+PARÂMETROS!$F$6*PARÂMETROS!$G$6*PARÂMETROS!$H$6)","v":{"v":0.6587483189376823,"d":"6.59E-01"}},{"$f":"(PARÂMETROS!$F$6*PARÂMETROS!$G$6*PARÂMETROS!$H$6)/($C61^3+PARÂMETROS!$F$6*$C61^2+PARÂMETROS!$F$6*PARÂMETROS!$G$6*$C61+PARÂMETROS!$F$6*PARÂMETROS!$G$6*PARÂMETROS!$H$6)","v":{"v":0.341242699008112,"d":"3.41E-01"}},{"$f":"$C61/($C61+PARÂMETROS!$J$6)","v":{"v":0.8960818237197314,"d":"8.96E-01"}},{"$f":"$C61*PARÂMETROS!$J$6/($C61^2+$C61*PARÂMETROS!$J$6+PARÂMETROS!$J$6*PARÂMETROS!$K$6)","v":{"v":0.10391817628026853,"d":"1.04E-01"}},{"$f":"$C61^2/($C61^2+$C61*PARÂMETROS!$J$6+PARÂMETROS!$J$6*PARÂMETROS!$K$6)","v":{"v":0.8960818237197316,"d":"8.96E-01"}},{"$f":"(PARÂMETROS!$K$6*PARÂMETROS!$J$6*$C61)/($C61^3+PARÂMETROS!$J$6*$C61^2+PARÂMETROS!$J$6*PARÂMETROS!$K$6*$C61+PARÂMETROS!$J$6*PARÂMETROS!$K$6*PARÂMETROS!$L$6)","v":{"v":0,"d":"0.00E+00"}},{"$f":"(PARÂMETROS!$J$6*$C61^2)/($C61^3+PARÂMETROS!$J$6*$C61^2+PARÂMETROS!$J$6*PARÂMETROS!$K$6*$C61+PARÂMETROS!$J$6*PARÂMETROS!$K$6*PARÂMETROS!$L$6)","v":{"v":0.10391817628026853,"d":"1.04E-01"}},{"$f":"($C61^3)/($C61^3+PARÂMETROS!$J$6*$C61^2+PARÂMETROS!$J$6*PARÂMETROS!$K$6*$C61+PARÂMETROS!$J$6*PARÂMETROS!$K$6*PARÂMETROS!$L$6)","v":{"v":0.8960818237197314,"d":"8.96E-01"}},{"$f":"IF(PARÂMETROS!$J$6<PARÂMETROS!$F$6,(E61-(C61-D61)/PARÂMETROS!$C$11)/(K61+(C61-D61)/PARÂMETROS!$C$14),(K61+(C61-D61)/PARÂMETROS!$C$14)/(E61-(C61-D61)/PARÂMETROS!$C$11))","v":{"v":1.212051093544035,"d":"1.21E+00"}},{"$f":"IF(PARÂMETROS!$J$6<PARÂMETROS!$F$6,(E61-(C61-D61)/PARÂMETROS!$C$11)/(L61+2*M61+(C61-D61)/PARÂMETROS!$C$14),(L61+2*M61+(C61-D61)/PARÂMETROS!$C$14)/(E61-(C61-D61)/PARÂMETROS!$C$11))","v":{"v":0.5648948593713544,"d":"5.65E-01"}},{"$f":"IF(PARÂMETROS!$J$6<PARÂMETROS!$F$6, (E61-(C61-D61)/PARÂMETROS!$C$11)/(N61+2*O61+3*P61+(C61-D61)/PARÂMETROS!$C$14),(N61+2*O61+3*P61+(C61-D61)/PARÂMETROS!$C$14)/ (E61-(C61-D61)/PARÂMETROS!$C$11))","v":{"v":0.36826523961655655,"d":"3.68E-01"}},{"$f":"IF(PARÂMETROS!$J$6<PARÂMETROS!$F$6,(F61+2*G61-(C61-D61)/PARÂMETROS!$C$11)/(K61+(C61-D61)/PARÂMETROS!$C$14),(K61+(C61-D61)/PARÂMETROS!$C$14)/(F61+2*G61-(C61-D61)/PARÂMETROS!$C$11))","v":{"v":2.3576579257532613,"d":"2.36E+00"}},{"$f":"IF(PARÂMETROS!$J$6<PARÂMETROS!$F$6,(F61+2*G61-(C61-D61)/PARÂMETROS!$C$11)/(L61+2*M61+(C61-D61)/PARÂMETROS!$C$14),(L61+2*M61+(C61-D61)/PARÂMETROS!$C$14)/(F61+2*G61-(C61-D61)/PARÂMETROS!$C$11))","v":{"v":1.0988223594765156,"d":"1.10E+00"}},{"$f":"IF(PARÂMETROS!$J$6<PARÂMETROS!$F$6,(F61+2*G61-(C61-D61)/PARÂMETROS!$C$11)/(N61+2*O61+3*P61+(C61-D61)/PARÂMETROS!$C$14),(N61+2*O61+3*P61+(C61-D61)/PARÂMETROS!$C$14)/(F61+2*G61-(C61-D61)/PARÂMETROS!$C$11))","v":{"v":0.716342294137664,"d":"7.16E-01"}},{"$f":"IF(PARÂMETROS!$J$6<PARÂMETROS!$F$6,(H61+2*I61+3*J61-(C61-D61)/PARÂMETROS!$C$11)/(K61+(C61-D61)/PARÂMETROS!$C$14),(K61+(C61-D61)/PARÂMETROS!$C$14)/(H61+2*I61+3*J61-(C61-D61)/PARÂMETROS!$C$11))","v":{"v":2.7485985538160627,"d":"2.75E+00"}},{"$f":"IF(PARÂMETROS!$J$6<PARÂMETROS!$F$6,(H61+2*I61+3*J61-(C61-D61)/PARÂMETROS!$C$11)/(L61+2*M61+(C61-D61)/PARÂMETROS!$C$14),(L61+2*M61+(C61-D61)/PARÂMETROS!$C$14)/(H61+2*I61+3*J61-(C61-D61)/PARÂMETROS!$C$11))","v":{"v":1.2810261892394579,"d":"1.28E+00"}},{"$f":"IF(PARÂMETROS!$J$6<PARÂMETROS!$F$6,(H61+2*I61+3*J61-(C61-D61)/PARÂMETROS!$C$11)/(N61+2*O61+3*P61+(C61-D61)/PARÂMETROS!$C$14),(N61+2*O61+3*P61+(C61-D61)/PARÂMETROS!$C$14)/(H61+2*I61+3*J61-(C61-D61)/PARÂMETROS!$C$11))","v":{"v":0.835124286774977,"d":"8.35E-01"}},{"$f":"Q61*PARÂMETROS!$C$11*PARÂMETROS!$D$11/PARÂMETROS!$C$14","v":{"v":24.2410218708807,"d":"24.24"}},{"$f":"R61*PARÂMETROS!$C$11*PARÂMETROS!$D$11/PARÂMETROS!$C$14","v":{"v":11.29789718742709,"d":"11.30"}},{"$f":"S61*PARÂMETROS!$C$11*PARÂMETROS!$D$11/PARÂMETROS!$C$14","v":{"v":7.3653047923311314,"d":"7.37"}},{"$f":"T61*PARÂMETROS!$C$11*PARÂMETROS!$D$11/PARÂMETROS!$C$14","v":{"v":47.15315851506523,"d":"47.15"}},{"$f":"U61*PARÂMETROS!$C$11*PARÂMETROS!$D$11/PARÂMETROS!$C$14","v":{"v":21.97644718953031,"d":"21.98"}},{"$f":"V61*PARÂMETROS!$C$11*PARÂMETROS!$D$11/PARÂMETROS!$C$14","v":{"v":14.32684588275328,"d":"14.33"}},{"$f":"W61*PARÂMETROS!$C$11*PARÂMETROS!$D$11/PARÂMETROS!$C$14","v":{"v":54.97197107632126,"d":"54.97"}},{"$f":"X61*PARÂMETROS!$C$11*PARÂMETROS!$D$11/PARÂMETROS!$C$14","v":{"v":25.620523784789157,"d":"25.62"}},{"$f":"Y61*PARÂMETROS!$C$11*PARÂMETROS!$D$11/PARÂMETROS!$C$14","v":{"v":16.70248573549954,"d":"16.70"}},{"$f":"AND(B61+PARÂMETROS!$C$8>=PARÂMETROS!$C$5,B61+PARÂMETROS!$C$8<=PARÂMETROS!$D$5)","v":false},0,{"$f":"VLOOKUP('BANCO DE DADOS COMPLETA'!$N$8,'BANCO DE DADOS COMPLETA'!$A$7:$L$249,3)*-1","v":3},7,{"$f":"VLOOKUP('BANCO DE DADOS COMPLETA'!$N$10,'BANCO DE DADOS COMPLETA'!$A$7:$L$249,3)*-1","v":1},11,77,{"v":54.97197107632126,"d":"54.97"},"LIMITE","LIMITE","LIMITE",{"$error":"#VALUE!"},{"$error":"#VALUE!"},"NADA",0]
[null,{"$f":"B61+PARÂMETROS!$C$8","v":{"v":12.264343848340683,"d":"12.26"}},{"v":5.440717188938244e-13,"d":"5.44E-13"},{"$f":"PARÂMETROS!$Q$4/C62","v":{"v":0.018379929801040622,"d":"1.84E-02"}},{"$f":"PARÂMETROS!$F$6/($C62+PARÂMETROS!$F$6)","v":{"v":0.999999999923501,"d":"1.00E+00"}},{"$f":"$C62*PARÂMETROS!$F$6/($C62^2+$C62*PARÂMETROS!$F$6+PARÂMETROS!$F$6*PARÂMETROS!$G$6)","v":{"v":8.6030493741380048E-6,"d":"8.60E-06"}},{"$f":"PARÂMETROS!$F$6*PARÂMETROS!$G$6/($C62^2+$C62*PARÂMETROS!$F$6+PARÂMETROS!$F$6*PARÂMETROS!$G$6)","v":{"v":0.9999913969506251,"d":"1.00E+00"}},{"$f":"(PARÂMETROS!$F$6*$C62^2)/($C62^3+PARÂMETROS!$F$6*$C62^2+PARÂMETROS!$F$6*PARÂMETROS!$G$6*$C62+PARÂMETROS!$F$6*PARÂMETROS!$G$6*PARÂMETROS!$H$6)","v":{"v":4.7243693407809654E-6,"d":"4.72E-06"}},{"$f":"(PARÂMETROS!$F$6*PARÂMETROS!$G$6*$C62)/($C62^3+PARÂMETROS!$F$6*$C62^2+PARÂMETROS!$F$6*PARÂMETROS!$G$6*$C62+PARÂMETROS!$F$6*PARÂMETROS!$G$6*PARÂMETROS!$H$6)","v":{"v":0.54914583089576,"d":"5.49E-01"}},{"$f":"(PARÂMETROS!$F$6*PARÂMETROS!$G$6*PARÂMETROS!$H$6)/($C62^3+PARÂMETROS!$F$6*$C62^2+PARÂMETROS!$F$6*PARÂMETROS!$G$6*$C62+PARÂMETROS!$F$6*PARÂMETROS!$G$6*PARÂMETROS!$H$6)","v":{"v":0.4508494447348989,"d":"4.51E-01"}},{"$f":"$C62/($C62+PARÂMETROS!$J$6)","v":{"v":0.8447377876306271,"d":"8.45E-01"}},{"$f":"$C62*PARÂMETROS!$J$6/($C62^2+$C62*PARÂMETROS!$J$6+PARÂMETROS!$J$6*PARÂMETROS!$K$6)","v":{"v":0.1552622123693729,"d":"1.55E-01"}},{"$f":"$C62^2/($C62^2+$C62*PARÂMETROS!$J$6+PARÂMETROS!$J$6*PARÂMETROS!$K$6)","v":{"v":0.8447377876306271,"d":"8.45E-01"}},{"$f":"(PARÂMETROS!$K$6*PARÂMETROS!$J$6*$C62)/($C62^3+PARÂMETROS!$J$6*$C62^2+PARÂMETROS!$J$6*PARÂMETROS!$K$6*$C62+PARÂMETROS!$J$6*PARÂMETROS!$K$6*PARÂMETROS!$L$6)","v":{"v":0,"d":"0.00E+00"}},{"$f":"(PARÂMETROS!$J$6*$C62^2)/($C62^3+PARÂMETROS!$J$6*$C62^2+PARÂMETROS!$J$6*PARÂMETROS!$K$6*$C62+PARÂMETROS!$J$6*PARÂMETROS!$K$6*PARÂMETROS!$L$6)","v":{"v":0.1552622123693729,"d":"1.55E-01"}},{"$f":"($C62^3)/($C62^3+PARÂMETROS!$J$6*$C62^2+PARÂMETROS!$J$6*PARÂMETROS!$K$6*$C62+PARÂMETROS!$J$6*PARÂMETROS!$K$6*PARÂMETROS!$L$6)","v":{"v":0.8447377876306271,"d":"8.45E-01"}},{"$f":"IF(PARÂMETROS!$J$6<PARÂMETROS!$F$6,(E62-(C62-D62)/PARÂMETROS!$C$11)/(K62+(C62-D62)/PARÂMETROS!$C$14),(K62+(C62-D62)/PARÂMETROS!$C$14)/(E62-(C62-D62)/PARÂMETROS!$C$11))","v":{"v":1.351397867499589,"d":"1.35E+00"}},{"$f":"IF(PARÂMETROS!$J$6<PARÂMETROS!$F$6,(E62-(C62-D62)/PARÂMETROS!$C$11)/(L62+2*M62+(C62-D62)/PARÂMETROS!$C$14),(L62+2*M62+(C62-D62)/PARÂMETROS!$C$14)/(E62-(C62-D62)/PARÂMETROS!$C$11))","v":{"v":0.6039341697694036,"d":"6.04E-01"}},{"$f":"IF(PARÂMETROS!$J$6<PARÂMETROS!$F$6, (E62-(C62-D62)/PARÂMETROS!$C$11)/(N62+2*O62+3*P62+(C62-D62)/PARÂMETROS!$C$14),(N62+2*O62+3*P62+(C62-D62)/PARÂMETROS!$C$14)/ (E62-(C62-D62)/PARÂMETROS!$C$11))","v":{"v":0.38885620788770686,"d":"3.89E-01"}},{"$f":"IF(PARÂMETROS!$J$6<PARÂMETROS!$F$6,(F62+2*G62-(C62-D62)/PARÂMETROS!$C$11)/(K62+(C62-D62)/PARÂMETROS!$C$14),(K62+(C62-D62)/PARÂMETROS!$C$14)/(F62+2*G62-(C62-D62)/PARÂMETROS!$C$11))","v":{"v":2.589044791179473,"d":"2.59E+00"}},{"$f":"IF(PARÂMETROS!$J$6<PARÂMETROS!$F$6,(F62+2*G62-(C62-D62)/PARÂMETROS!$C$11)/(L62+2*M62+(C62-D62)/PARÂMETROS!$C$14),(L62+2*M62+(C62-D62)/PARÂMETROS!$C$14)/(F62+2*G62-(C62-D62)/PARÂMETROS!$C$11))","v":{"v":1.1570335088287755,"d":"1.16E+00"}},{"$f":"IF(PARÂMETROS!$J$6<PARÂMETROS!$F$6,(F62+2*G62-(C62-D62)/PARÂMETROS!$C$11)/(N62+2*O62+3*P62+(C62-D62)/PARÂMETROS!$C$14),(N62+2*O62+3*P62+(C62-D62)/PARÂMETROS!$C$14)/(F62+2*G62-(C62-D62)/PARÂMETROS!$C$11))","v":{"v":0.7449812995577899,"d":"7.45E-01"}},{"$f":"IF(PARÂMETROS!$J$6<PARÂMETROS!$F$6,(H62+2*I62+3*J62-(C62-D62)/PARÂMETROS!$C$11)/(K62+(C62-D62)/PARÂMETROS!$C$14),(K62+(C62-D62)/PARÂMETROS!$C$14)/(H62+2*I62+3*J62-(C62-D62)/PARÂMETROS!$C$11))","v":{"v":3.1470468204111395,"d":"3.15E+00"}},{"$f":"IF(PARÂMETROS!$J$6<PARÂMETROS!$F$6,(H62+2*I62+3*J62-(C62-D62)/PARÂMETROS!$C$11)/(L62+2*M62+(C62-D62)/PARÂMETROS!$C$14),(L62+2*M62+(C62-D62)/PARÂMETROS!$C$14)/(H62+2*I62+3*J62-(C62-D62)/PARÂMETROS!$C$11))","v":{"v":1.4064023293354952,"d":"1.41E+00"}},{"$f":"IF(PARÂMETROS!$J$6<PARÂMETROS!$F$6,(H62+2*I62+3*J62-(C62-D62)/PARÂMETROS!$C$11)/(N62+2*O62+3*P62+(C62-D62)/PARÂMETROS!$C$14),(N62+2*O62+3*P62+(C62-D62)/PARÂMETROS!$C$14)/(H62+2*I62+3*J62-(C62-D62)/PARÂMETROS!$C$11))","v":{"v":0.9055428619954612,"d":"9.06E-01"}},{"$f":"Q62*PARÂMETROS!$C$11*PARÂMETROS!$D$11/PARÂMETROS!$C$14","v":{"v":27.027957349991784,"d":"27.03"}},{"$f":"R62*PARÂMETROS!$C$11*PARÂMETROS!$D$11/PARÂMETROS!$C$14","v":{"v":12.078683395388074,"d":"12.08"}},{"$f":"S62*PARÂMETROS!$C$11*PARÂMETROS!$D$11/PARÂMETROS!$C$14","v":{"v":7.777124157754138,"d":"7.78"}},{"$f":"T62*PARÂMETROS!$C$11*PARÂMETROS!$D$11/PARÂMETROS!$C$14","v":{"v":51.780895823589454,"d":"51.78"}},{"$f":"U62*PARÂMETROS!$C$11*PARÂMETROS!$D$11/PARÂMETROS!$C$14","v":{"v":23.14067017657551,"d":"23.14"}},{"$f":"V62*PARÂMETROS!$C$11*PARÂMETROS!$D$11/PARÂMETROS!$C$14","v":{"v":14.8996259911558,"d":"14.90"}},{"$f":"W62*PARÂMETROS!$C$11*PARÂMETROS!$D$11/PARÂMETROS!$C$14","v":{"v":62.94093640822279,"d":"62.94"}},{"$f":"X62*PARÂMETROS!$C$11*PARÂMETROS!$D$11/PARÂMETROS!$C$14","v":{"v":28.128046586709903,"d":"28.13"}},{"$f":"Y62*PARÂMETROS!$C$11*PARÂMETROS!$D$11/PARÂMETROS!$C$14","v":{"v":18.110857239909226,"d":"18.11"}},{"$f":"AND(B62+PARÂMETROS!$C$8>=PARÂMETROS!$C$5,B62+PARÂMETROS!$C$8<=PARÂMETROS!$D$5)","v":false},0,{"$f":"VLOOKUP('BANCO DE DADOS COMPLETA'!$N$8,'BANCO DE DADOS COMPLETA'!$A$7:$L$249,3)*-1","v":3},7,{"$f":"VLOOKUP('BANCO DE DADOS COMPLETA'!$N$10,'BANCO DE DADOS COMPLETA'!$A$7:$L$249,3)*-1","v":1},11,77,{"v":62.94093640822279,"d":"62.94"},"LIMITE","LIMITE","LIMITE","LIMITE",{"$error":"#VALUE!"},{"$error":"#VALUE!"},{"$error":"#VALUE!"}]
[null,{"$f":"B62+PARÂMETROS!$C$8","v":{"v":12.464343848340683,"d":"12.46"}},{"v":3.432860469600223e-13,"d":"3.43E-13"},{"$f":"PARÂMETROS!$Q$4/C63","v":{"v":0.029130225619582378,"d":"2.91E-02"}},{"$f":"PARÂMETROS!$F$6/($C63+PARÂMETROS!$F$6)","v":{"v":0.9999999999517324,"d":"1.00E+00"}},{"$f":"$C63*PARÂMETROS!$F$6/($C63^2+$C63*PARÂMETROS!$F$6+PARÂMETROS!$F$6*PARÂMETROS!$G$6)","v":{"v":5.4281744214066735E-6,"d":"5.43E-06"}},{"$f":"PARÂMETROS!$F$6*PARÂMETROS!$G$6/($C63^2+$C63*PARÂMETROS!$F$6+PARÂMETROS!$F$6*PARÂMETROS!$G$6)","v":{"v":0.9999945718255783,"d":"1.00E+00"}},{"$f":"(PARÂMETROS!$F$6*$C63^2)/($C63^3+PARÂMETROS!$F$6*$C63^2+PARÂMETROS!$F$6*PARÂMETROS!$G$6*$C63+PARÂMETROS!$F$6*PARÂMETROS!$G$6*PARÂMETROS!$H$6)","v":{"v":2.3588530071694844E-6,"d":"2.36E-06"}},{"$f":"(PARÂMETROS!$F$6*PARÂMETROS!$G$6*$C63)/($C63^3+PARÂMETROS!$F$6*$C63^2+PARÂMETROS!$F$6*PARÂMETROS!$G$6*$C63+PARÂMETROS!$F$6*PARÂMETROS!$G$6*PARÂMETROS!$H$6)","v":{"v":0.43455497553681216,"d":"4.35E-01"}},{"$f":"(PARÂMETROS!$F$6*PARÂMETROS!$G$6*PARÂMETROS!$H$6)/($C63^3+PARÂMETROS!$F$6*$C63^2+PARÂMETROS!$F$6*PARÂMETROS!$G$6*$C63+PARÂMETROS!$F$6*PARÂMETROS!$G$6*PARÂMETROS!$H$6)","v":{"v":0.5654426656101805,"d":"5.65E-01"}},{"$f":"$C63/($C63+PARÂMETROS!$J$6)","v":{"v":0.7744120287886741,"d":"7.74E-01"}},{"$f":"$C63*PARÂMETROS!$J$6/($C63^2+$C63*PARÂMETROS!$J$6+PARÂMETROS!$J$6*PARÂMETROS!$K$6)","v":{"v":0.22558797121132598,"d":"2.26E-01"}},{"$f":"$C63^2/($C63^2+$C63*PARÂMETROS!$J$6+PARÂMETROS!$J$6*PARÂMETROS!$K$6)","v":{"v":0.774412028788674,"d":"7.74E-01"}},{"$f":"(PARÂMETROS!$K$6*PARÂMETROS!$J$6*$C63)/($C63^3+PARÂMETROS!$J$6*$C63^2+PARÂMETROS!$J$6*PARÂMETROS!$K$6*$C63+PARÂMETROS!$J$6*PARÂMETROS!$K$6*PARÂMETROS!$L$6)","v":{"v":0,"d":"0.00E+00"}},{"$f":"(PARÂMETROS!$J$6*$C63^2)/($C63^3+PARÂMETROS!$J$6*$C63^2+PARÂMETROS!$J$6*PARÂMETROS!$K$6*$C63+PARÂMETROS!$J$6*PARÂMETROS!$K$6*PARÂMETROS!$L$6)","v":{"v":0.22558797121132595,"d":"2.26E-01"}},{"$f":"($C63^3)/($C63^3+PARÂMETROS!$J$6*$C63^2+PARÂMETROS!$J$6*PARÂMETROS!$K$6*$C63+PARÂMETROS!$J$6*PARÂMETROS!$K$6*PARÂMETROS!$L$6)","v":{"v":0.774412028788674,"d":"7.74E-01"}},{"$f":"IF(PARÂMETROS!$J$6<PARÂMETROS!$F$6,(E63-(C63-D63)/PARÂMETROS!$C$11)/(K63+(C63-D63)/PARÂMETROS!$C$14),(K63+(C63-D63)/PARÂMETROS!$C$14)/(E63-(C63-D63)/PARÂMETROS!$C$11))","v":{"v":1.5997327436838995,"d":"1.60E+00"}},{"$f":"IF(PARÂMETROS!$J$6<PARÂMETROS!$F$6,(E63-(C63-D63)/PARÂMETROS!$C$11)/(L63+2*M63+(C63-D63)/PARÂMETROS!$C$14),(L63+2*M63+(C63-D63)/PARÂMETROS!$C$14)/(E63-(C63-D63)/PARÂMETROS!$C$11))","v":{"v":0.667569894777793,"d":"6.68E-01"}},{"$f":"IF(PARÂMETROS!$J$6<PARÂMETROS!$F$6, (E63-(C63-D63)/PARÂMETROS!$C$11)/(N63+2*O63+3*P63+(C63-D63)/PARÂMETROS!$C$14),(N63+2*O63+3*P63+(C63-D63)/PARÂMETROS!$C$14)/ (E63-(C63-D63)/PARÂMETROS!$C$11))","v":{"v":0.4217920448612208,"d":"4.22E-01"}},{"$f":"IF(PARÂMETROS!$J$6<PARÂMETROS!$F$6,(F63+2*G63-(C63-D63)/PARÂMETROS!$C$11)/(K63+(C63-D63)/PARÂMETROS!$C$14),(K63+(C63-D63)/PARÂMETROS!$C$14)/(F63+2*G63-(C63-D63)/PARÂMETROS!$C$11))","v":{"v":2.9960776003057576,"d":"3.00E+00"}},{"$f":"IF(PARÂMETROS!$J$6<PARÂMETROS!$F$6,(F63+2*G63-(C63-D63)/PARÂMETROS!$C$11)/(L63+2*M63+(C63-D63)/PARÂMETROS!$C$14),(L63+2*M63+(C63-D63)/PARÂMETROS!$C$14)/(F63+2*G63-(C63-D63)/PARÂMETROS!$C$11))","v":{"v":1.2502658436410843,"d":"1.25E+00"}},{"$f":"IF(PARÂMETROS!$J$6<PARÂMETROS!$F$6,(F63+2*G63-(C63-D63)/PARÂMETROS!$C$11)/(N63+2*O63+3*P63+(C63-D63)/PARÂMETROS!$C$14),(N63+2*O63+3*P63+(C63-D63)/PARÂMETROS!$C$14)/(F63+2*G63-(C63-D63)/PARÂMETROS!$C$11))","v":{"v":0.7899580117899812,"d":"7.90E-01"}},{"$f":"IF(PARÂMETROS!$J$6<PARÂMETROS!$F$6,(H63+2*I63+3*J63-(C63-D63)/PARÂMETROS!$C$11)/(K63+(C63-D63)/PARÂMETROS!$C$14),(K63+(C63-D63)/PARÂMETROS!$C$14)/(H63+2*I63+3*J63-(C63-D63)/PARÂMETROS!$C$11))","v":{"v":3.7856391298158454,"d":"3.79E+00"}},{"$f":"IF(PARÂMETROS!$J$6<PARÂMETROS!$F$6,(H63+2*I63+3*J63-(C63-D63)/PARÂMETROS!$C$11)/(L63+2*M63+(C63-D63)/PARÂMETROS!$C$14),(L63+2*M63+(C63-D63)/PARÂMETROS!$C$14)/(H63+2*I63+3*J63-(C63-D63)/PARÂMETROS!$C$11))","v":{"v":1.5797505711724182,"d":"1.58E+00"}},{"$f":"IF(PARÂMETROS!$J$6<PARÂMETROS!$F$6,(H63+2*I63+3*J63-(C63-D63)/PARÂMETROS!$C$11)/(N63+2*O63+3*P63+(C63-D63)/PARÂMETROS!$C$14),(N63+2*O63+3*P63+(C63-D63)/PARÂMETROS!$C$14)/(H63+2*I63+3*J63-(C63-D63)/PARÂMETROS!$C$11))","v":{"v":0.9981370175587214,"d":"9.98E-01"}},{"$f":"Q63*PARÂMETROS!$C$11*PARÂMETROS!$D$11/PARÂMETROS!$C$14","v":{"v":31.99465487367799,"d":"31.99"}},{"$f":"R63*PARÂMETROS!$C$11*PARÂMETROS!$D$11/PARÂMETROS!$C$14","v":{"v":13.351397895555861,"d":"13.35"}},{"$f":"S63*PARÂMETROS!$C$11*PARÂMETROS!$D$11/PARÂMETROS!$C$14","v":{"v":8.435840897224416,"d":"8.44"}},{"$f":"T63*PARÂMETROS!$C$11*PARÂMETROS!$D$11/PARÂMETROS!$C$14","v":{"v":59.92155200611515,"d":"59.92"}},{"$f":"U63*PARÂMETROS!$C$11*PARÂMETROS!$D$11/PARÂMETROS!$C$14","v":{"v":25.005316872821687,"d":"25.01"}},{"$f":"V63*PARÂMETROS!$C$11*PARÂMETROS!$D$11/PARÂMETROS!$C$14","v":{"v":15.799160235799626,"d":"15.80"}},{"$f":"W63*PARÂMETROS!$C$11*PARÂMETROS!$D$11/PARÂMETROS!$C$14","v":{"v":75.71278259631691,"d":"75.71"}},{"$f":"X63*PARÂMETROS!$C$11*PARÂMETROS!$D$11/PARÂMETROS!$C$14","v":{"v":31.595011423448366,"d":"31.60"}},{"$f":"Y63*PARÂMETROS!$C$11*PARÂMETROS!$D$11/PARÂMETROS!$C$14","v":{"v":19.96274035117443,"d":"19.96"}},{"$f":"AND(B63+PARÂMETROS!$C$8>=PARÂMETROS!$C$5,B63+PARÂMETROS!$C$8<=PARÂMETROS!$D$5)","v":false},0,{"$f":"VLOOKUP('BANCO DE DADOS COMPLETA'!$N$8,'BANCO DE DADOS COMPLETA'!$A$7:$L$249,3)*-1","v":3},7,{"$f":"VLOOKUP('BANCO DE DADOS COMPLETA'!$N$10,'BANCO DE DADOS COMPLETA'!$A$7:$L$249,3)*-1","v":1},11,77,{"v":75.71278259631691,"d":"75.71"},"LIMITE","LIMITE","LIMITE","LIMITE","NADA",{"$error":"#VALUE!"},{"$error":"#VALUE!"}]
[null,{"$f":"B63+PARÂMETROS!$C$8","v":{"v":12.664343848340682,"d":"12.66"}},{"v":2.1659885258699898E-13,"d":"2.17E-13"},{"$f":"PARÂMETROS!$Q$4/C64","v":{"v":0.046168296279332346,"d":"4.62E-02"}},{"$f":"PARÂMETROS!$F$6/($C64+PARÂMETROS!$F$6)","v":{"v":0.9999999999695453,"d":"1.00E+00"}},{"$f":"$C64*PARÂMETROS!$F$6/($C64^2+$C64*PARÂMETROS!$F$6+PARÂMETROS!$F$6*PARÂMETROS!$G$6)","v":{"v":3.4249533792682479E-6,"d":"3.42E-06"}},{"$f":"PARÂMETROS!$F$6*PARÂMETROS!$G$6/($C64^2+$C64*PARÂMETROS!$F$6+PARÂMETROS!$F$6*PARÂMETROS!$G$6)","v":{"v":0.9999965750466207,"d":"1.00E+00"}},{"$f":"(PARÂMETROS!$F$6*$C64^2)/($C64^3+PARÂMETROS!$F$6*$C64^2+PARÂMETROS!$F$6*PARÂMETROS!$G$6*$C64+PARÂMETROS!$F$6*PARÂMETROS!$G$6*PARÂMETROS!$H$6)","v":{"v":1.1184416066934179E-6,"d":"1.12E-06"}},{"$f":"(PARÂMETROS!$F$6*PARÂMETROS!$G$6*$C64)/($C64^3+PARÂMETROS!$F$6*$C64^2+PARÂMETROS!$F$6*PARÂMETROS!$G$6*$C64+PARÂMETROS!$F$6*PARÂMETROS!$G$6*PARÂMETROS!$H$6)","v":{"v":0.3265556205386992,"d":"3.27E-01"}},{"$f":"(PARÂMETROS!$F$6*PARÂMETROS!$G$6*PARÂMETROS!$H$6)/($C64^3+PARÂMETROS!$F$6*$C64^2+PARÂMETROS!$F$6*PARÂMETROS!$G$6*$C64+PARÂMETROS!$F$6*PARÂMETROS!$G$6*PARÂMETROS!$H$6)","v":{"v":0.673443261019694,"d":"6.73E-01"}},{"$f":"$C64/($C64+PARÂMETROS!$J$6)","v":{"v":0.6841428856015176,"d":"6.84E-01"}},{"$f":"$C64*PARÂMETROS!$J$6/($C64^2+$C64*PARÂMETROS!$J$6+PARÂMETROS!$J$6*PARÂMETROS!$K$6)","v":{"v":0.31585711439848235,"d":"3.16E-01"}},{"$f":"$C64^2/($C64^2+$C64*PARÂMETROS!$J$6+PARÂMETROS!$J$6*PARÂMETROS!$K$6)","v":{"v":0.6841428856015176,"d":"6.84E-01"}},{"$f":"(PARÂMETROS!$K$6*PARÂMETROS!$J$6*$C64)/($C64^3+PARÂMETROS!$J$6*$C64^2+PARÂMETROS!$J$6*PARÂMETROS!$K$6*$C64+PARÂMETROS!$J$6*PARÂMETROS!$K$6*PARÂMETROS!$L$6)","v":{"v":0,"d":"0.00E+00"}},{"$f":"(PARÂMETROS!$J$6*$C64^2)/($C64^3+PARÂMETROS!$J$6*$C64^2+PARÂMETROS!$J$6*PARÂMETROS!$K$6*$C64+PARÂMETROS!$J$6*PARÂMETROS!$K$6*PARÂMETROS!$L$6)","v":{"v":0.3158571143984824,"d":"3.16E-01"}},{"$f":"($C64^3)/($C64^3+PARÂMETROS!$J$6*$C64^2+PARÂMETROS!$J$6*PARÂMETROS!$K$6*$C64+PARÂMETROS!$J$6*PARÂMETROS!$K$6*PARÂMETROS!$L$6)","v":{"v":0.6841428856015176,"d":"6.84E-01"}},{"$f":"IF(PARÂMETROS!$J$6<PARÂMETROS!$F$6,(E64-(C64-D64)/PARÂMETROS!$C$11)/(K64+(C64-D64)/PARÂMETROS!$C$14),(K64+(C64-D64)/PARÂMETROS!$C$14)/(E64-(C64-D64)/PARÂMETROS!$C$11))","v":{"v":2.079804652018287,"d":"2.08E+00"}},{"$f":"IF(PARÂMETROS!$J$6<PARÂMETROS!$F$6,(E64-(C64-D64)/PARÂMETROS!$C$11)/(L64+2*M64+(C64-D64)/PARÂMETROS!$C$14),(L64+2*M64+(C64-D64)/PARÂMETROS!$C$14)/(E64-(C64-D64)/PARÂMETROS!$C$11))","v":{"v":0.7732357176525209,"d":"7.73E-01"}},{"$f":"IF(PARÂMETROS!$J$6<PARÂMETROS!$F$6, (E64-(C64-D64)/PARÂMETROS!$C$11)/(N64+2*O64+3*P64+(C64-D64)/PARÂMETROS!$C$14),(N64+2*O64+3*P64+(C64-D64)/PARÂMETROS!$C$14)/ (E64-(C64-D64)/PARÂMETROS!$C$11))","v":{"v":0.47489717293643724,"d":"4.75E-01"}},{"$f":"IF(PARÂMETROS!$J$6<PARÂMETROS!$F$6,(F64+2*G64-(C64-D64)/PARÂMETROS!$C$11)/(K64+(C64-D64)/PARÂMETROS!$C$14),(K64+(C64-D64)/PARÂMETROS!$C$14)/(F64+2*G64-(C64-D64)/PARÂMETROS!$C$11))","v":{"v":3.7695409505877464,"d":"3.77E+00"}},{"$f":"IF(PARÂMETROS!$J$6<PARÂMETROS!$F$6,(F64+2*G64-(C64-D64)/PARÂMETROS!$C$11)/(L64+2*M64+(C64-D64)/PARÂMETROS!$C$14),(L64+2*M64+(C64-D64)/PARÂMETROS!$C$14)/(F64+2*G64-(C64-D64)/PARÂMETROS!$C$11))","v":{"v":1.4014507080363303,"d":"1.40E+00"}},{"$f":"IF(PARÂMETROS!$J$6<PARÂMETROS!$F$6,(F64+2*G64-(C64-D64)/PARÂMETROS!$C$11)/(N64+2*O64+3*P64+(C64-D64)/PARÂMETROS!$C$14),(N64+2*O64+3*P64+(C64-D64)/PARÂMETROS!$C$14)/(F64+2*G64-(C64-D64)/PARÂMETROS!$C$11))","v":{"v":0.8607271548147836,"d":"8.61E-01"}},{"$f":"IF(PARÂMETROS!$J$6<PARÂMETROS!$F$6,(H64+2*I64+3*J64-(C64-D64)/PARÂMETROS!$C$11)/(K64+(C64-D64)/PARÂMETROS!$C$14),(K64+(C64-D64)/PARÂMETROS!$C$14)/(H64+2*I64+3*J64-(C64-D64)/PARÂMETROS!$C$11))","v":{"v":4.907490268545081,"d":"4.91E+00"}},{"$f":"IF(PARÂMETROS!$J$6<PARÂMETROS!$F$6,(H64+2*I64+3*J64-(C64-D64)/PARÂMETROS!$C$11)/(L64+2*M64+(C64-D64)/PARÂMETROS!$C$14),(L64+2*M64+(C64-D64)/PARÂMETROS!$C$14)/(H64+2*I64+3*J64-(C64-D64)/PARÂMETROS!$C$11))","v":{"v":1.8245207577494416,"d":"1.82E+00"}},{"$f":"IF(PARÂMETROS!$J$6<PARÂMETROS!$F$6,(H64+2*I64+3*J64-(C64-D64)/PARÂMETROS!$C$11)/(N64+2*O64+3*P64+(C64-D64)/PARÂMETROS!$C$14),(N64+2*O64+3*P64+(C64-D64)/PARÂMETROS!$C$14)/(H64+2*I64+3*J64-(C64-D64)/PARÂMETROS!$C$11))","v":{"v":1.12056353585108,"d":"1.12E+00"}},{"$f":"Q64*PARÂMETROS!$C$11*PARÂMETROS!$D$11/PARÂMETROS!$C$14","v":{"v":41.596093040365744,"d":"41.60"}},{"$f":"R64*PARÂMETROS!$C$11*PARÂMETROS!$D$11/PARÂMETROS!$C$14","v":{"v":15.464714353050418,"d":"15.46"}},{"$f":"S64*PARÂMETROS!$C$11*PARÂMETROS!$D$11/PARÂMETROS!$C$14","v":{"v":9.497943458728745,"d":"9.50"}},{"$f":"T64*PARÂMETROS!$C$11*PARÂMETROS!$D$11/PARÂMETROS!$C$14","v":{"v":75.39081901175493,"d":"75.39"}},{"$f":"U64*PARÂMETROS!$C$11*PARÂMETROS!$D$11/PARÂMETROS!$C$14","v":{"v":28.029014160726607,"d":"28.03"}},{"$f":"V64*PARÂMETROS!$C$11*PARÂMETROS!$D$11/PARÂMETROS!$C$14","v":{"v":17.214543096295674,"d":"17.21"}},{"$f":"W64*PARÂMETROS!$C$11*PARÂMETROS!$D$11/PARÂMETROS!$C$14","v":{"v":98.14980537090163,"d":"98.15"}},{"$f":"X64*PARÂMETROS!$C$11*PARÂMETROS!$D$11/PARÂMETROS!$C$14","v":{"v":36.49041515498883,"d":"36.49"}},{"$f":"Y64*PARÂMETROS!$C$11*PARÂMETROS!$D$11/PARÂMETROS!$C$14","v":{"v":22.4112707170216,"d":"22.41"}},{"$f":"AND(B64+PARÂMETROS!$C$8>=PARÂMETROS!$C$5,B64+PARÂMETROS!$C$8<=PARÂMETROS!$D$5)","v":false},0,{"$f":"VLOOKUP('BANCO DE DADOS COMPLETA'!$N$8,'BANCO DE DADOS COMPLETA'!$A$7:$L$249,3)*-1","v":3},7,{"$f":"VLOOKUP('BANCO DE DADOS COMPLETA'!$N$10,'BANCO DE DADOS COMPLETA'!$A$7:$L$249,3)*-1","v":1},11,77,{"v":98.14980537090163,"d":"98.15"},"LIMITE","LIMITE","LIMITE","LIMITE","NADA","NADA",0]
[null,{"$f":"B64+PARÂMETROS!$C$8","v":{"v":12.864343848340681,"d":"12.86"}},{"v":1.3666463684575e-13,"d":"1.37E-13"},{"$f":"PARÂMETROS!$Q$4/C65","v":{"v":0.07317181848064144,"d":"7.32E-02"}},{"$f":"PARÂMETROS!$F$6/($C65+PARÂMETROS!$F$6)","v":{"v":0.9999999999807843,"d":"1.00E+00"}},{"$f":"$C65*PARÂMETROS!$F$6/($C65^2+$C65*PARÂMETROS!$F$6+PARÂMETROS!$F$6*PARÂMETROS!$G$6)","v":{"v":2.1610022205587255E-6,"d":"2.16E-06"}},{"$f":"PARÂMETROS!$F$6*PARÂMETROS!$G$6/($C65^2+$C65*PARÂMETROS!$F$6+PARÂMETROS!$F$6*PARÂMETROS!$G$6)","v":{"v":0.9999978389977794,"d":"1.00E+00"}},{"$f":"(PARÂMETROS!$F$6*$C65^2)/($C65^3+PARÂMETROS!$F$6*$C65^2+PARÂMETROS!$F$6*PARÂMETROS!$G$6*$C65+PARÂMETROS!$F$6*PARÂMETROS!$G$6*PARÂMETROS!$H$6)","v":{"v":5.0627233907980126E-7,"d":"5.06E-07"}},{"$f":"(PARÂMETROS!$F$6*PARÂMETROS!$G$6*$C65)/($C65^3+PARÂMETROS!$F$6*$C65^2+PARÂMETROS!$F$6*PARÂMETROS!$G$6*$C65+PARÂMETROS!$F$6*PARÂMETROS!$G$6*PARÂMETROS!$H$6)","v":{"v":0.2342761336419433,"d":"2.34E-01"}},{"$f":"(PARÂMETROS!$F$6*PARÂMETROS!$G$6*PARÂMETROS!$H$6)/($C65^3+PARÂMETROS!$F$6*$C65^2+PARÂMETROS!$F$6*PARÂMETROS!$G$6*$C65+PARÂMETROS!$F$6*PARÂMETROS!$G$6*PARÂMETROS!$H$6)","v":{"v":0.7657233600857176,"d":"7.66E-01"}},{"$f":"$C65/($C65+PARÂMETROS!$J$6)","v":{"v":0.577461164740144,"d":"5.77E-01"}},{"$f":"$C65*PARÂMETROS!$J$6/($C65^2+$C65*PARÂMETROS!$J$6+PARÂMETROS!$J$6*PARÂMETROS!$K$6)","v":{"v":0.422538835259856,"d":"4.23E-01"}},{"$f":"$C65^2/($C65^2+$C65*PARÂMETROS!$J$6+PARÂMETROS!$J$6*PARÂMETROS!$K$6)","v":{"v":0.577461164740144,"d":"5.77E-01"}},{"$f":"(PARÂMETROS!$K$6*PARÂMETROS!$J$6*$C65)/($C65^3+PARÂMETROS!$J$6*$C65^2+PARÂMETROS!$J$6*PARÂMETROS!$K$6*$C65+PARÂMETROS!$J$6*PARÂMETROS!$K$6*PARÂMETROS!$L$6)","v":{"v":0,"d":"0.00E+00"}},{"$f":"(PARÂMETROS!$J$6*$C65^2)/($C65^3+PARÂMETROS!$J$6*$C65^2+PARÂMETROS!$J$6*PARÂMETROS!$K$6*$C65+PARÂMETROS!$J$6*PARÂMETROS!$K$6*PARÂMETROS!$L$6)","v":{"v":0.42253883525985597,"d":"4.23E-01"}},{"$f":"($C65^3)/($C65^3+PARÂMETROS!$J$6*$C65^2+PARÂMETROS!$J$6*PARÂMETROS!$K$6*$C65+PARÂMETROS!$J$6*PARÂMETROS!$K$6*PARÂMETROS!$L$6)","v":{"v":0.577461164740144,"d":"5.77E-01"}},{"$f":"IF(PARÂMETROS!$J$6<PARÂMETROS!$F$6,(E65-(C65-D65)/PARÂMETROS!$C$11)/(K65+(C65-D65)/PARÂMETROS!$C$14),(K65+(C65-D65)/PARÂMETROS!$C$14)/(E65-(C65-D65)/PARÂMETROS!$C$11))","v":{"v":3.1681826981598635,"d":"3.17E+00"}},{"$f":"IF(PARÂMETROS!$J$6<PARÂMETROS!$F$6,(E65-(C65-D65)/PARÂMETROS!$C$11)/(L65+2*M65+(C65-D65)/PARÂMETROS!$C$14),(L65+2*M65+(C65-D65)/PARÂMETROS!$C$14)/(E65-(C65-D65)/PARÂMETROS!$C$11))","v":{"v":0.9544003660572189,"d":"9.54E-01"}},{"$f":"IF(PARÂMETROS!$J$6<PARÂMETROS!$F$6, (E65-(C65-D65)/PARÂMETROS!$C$11)/(N65+2*O65+3*P65+(C65-D65)/PARÂMETROS!$C$14),(N65+2*O65+3*P65+(C65-D65)/PARÂMETROS!$C$14)/ (E65-(C65-D65)/PARÂMETROS!$C$11))","v":{"v":0.5618235551248906,"d":"5.62E-01"}},{"$f":"IF(PARÂMETROS!$J$6<PARÂMETROS!$F$6,(F65+2*G65-(C65-D65)/PARÂMETROS!$C$11)/(K65+(C65-D65)/PARÂMETROS!$C$14),(K65+(C65-D65)/PARÂMETROS!$C$14)/(F65+2*G65-(C65-D65)/PARÂMETROS!$C$11))","v":{"v":5.487730790227471,"d":"5.49E+00"}},{"$f":"IF(PARÂMETROS!$J$6<PARÂMETROS!$F$6,(F65+2*G65-(C65-D65)/PARÂMETROS!$C$11)/(L65+2*M65+(C65-D65)/PARÂMETROS!$C$14),(L65+2*M65+(C65-D65)/PARÂMETROS!$C$14)/(F65+2*G65-(C65-D65)/PARÂMETROS!$C$11))","v":{"v":1.6531534870317288,"d":"1.65E+00"}},{"$f":"IF(PARÂMETROS!$J$6<PARÂMETROS!$F$6,(F65+2*G65-(C65-D65)/PARÂMETROS!$C$11)/(N65+2*O65+3*P65+(C65-D65)/PARÂMETROS!$C$14),(N65+2*O65+3*P65+(C65-D65)/PARÂMETROS!$C$14)/(F65+2*G65-(C65-D65)/PARÂMETROS!$C$11))","v":{"v":0.9731561326702096,"d":"9.73E-01"}},{"$f":"IF(PARÂMETROS!$J$6<PARÂMETROS!$F$6,(H65+2*I65+3*J65-(C65-D65)/PARÂMETROS!$C$11)/(K65+(C65-D65)/PARÂMETROS!$C$14),(K65+(C65-D65)/PARÂMETROS!$C$14)/(H65+2*I65+3*J65-(C65-D65)/PARÂMETROS!$C$11))","v":{"v":7.263870625599433,"d":"7.26E+00"}},{"$f":"IF(PARÂMETROS!$J$6<PARÂMETROS!$F$6,(H65+2*I65+3*J65-(C65-D65)/PARÂMETROS!$C$11)/(L65+2*M65+(C65-D65)/PARÂMETROS!$C$14),(L65+2*M65+(C65-D65)/PARÂMETROS!$C$14)/(H65+2*I65+3*J65-(C65-D65)/PARÂMETROS!$C$11))","v":{"v":2.1882073871847667,"d":"2.19E+00"}},{"$f":"IF(PARÂMETROS!$J$6<PARÂMETROS!$F$6,(H65+2*I65+3*J65-(C65-D65)/PARÂMETROS!$C$11)/(N65+2*O65+3*P65+(C65-D65)/PARÂMETROS!$C$14),(N65+2*O65+3*P65+(C65-D65)/PARÂMETROS!$C$14)/(H65+2*I65+3*J65-(C65-D65)/PARÂMETROS!$C$11))","v":{"v":1.2881244573464343,"d":"1.29E+00"}},{"$f":"Q65*PARÂMETROS!$C$11*PARÂMETROS!$D$11/PARÂMETROS!$C$14","v":{"v":63.36365396319727,"d":"63.36"}},{"$f":"R65*PARÂMETROS!$C$11*PARÂMETROS!$D$11/PARÂMETROS!$C$14","v":{"v":19.088007321144378,"d":"19.09"}},{"$f":"S65*PARÂMETROS!$C$11*PARÂMETROS!$D$11/PARÂMETROS!$C$14","v":{"v":11.236471102497813,"d":"11.24"}},{"$f":"T65*PARÂMETROS!$C$11*PARÂMETROS!$D$11/PARÂMETROS!$C$14","v":{"v":109.75461580454942,"d":"109.75"}},{"$f":"U65*PARÂMETROS!$C$11*PARÂMETROS!$D$11/PARÂMETROS!$C$14","v":{"v":33.063069740634575,"d":"33.06"}},{"$f":"V65*PARÂMETROS!$C$11*PARÂMETROS!$D$11/PARÂMETROS!$C$14","v":{"v":19.463122653404195,"d":"19.46"}},{"$f":"W65*PARÂMETROS!$C$11*PARÂMETROS!$D$11/PARÂMETROS!$C$14","v":{"v":145.27741251198867,"d":"145.28"}},{"$f":"X65*PARÂMETROS!$C$11*PARÂMETROS!$D$11/PARÂMETROS!$C$14","v":{"v":43.76414774369534,"d":"43.76"}},{"$f":"Y65*PARÂMETROS!$C$11*PARÂMETROS!$D$11/PARÂMETROS!$C$14","v":{"v":25.762489146928687,"d":"25.76"}},{"$f":"AND(B65+PARÂMETROS!$C$8>=PARÂMETROS!$C$5,B65+PARÂMETROS!$C$8<=PARÂMETROS!$D$5)","v":false},0,{"$f":"VLOOKUP('BANCO DE DADOS COMPLETA'!$N$8,'BANCO DE DADOS COMPLETA'!$A$7:$L$249,3)*-1","v":3},7,{"$f":"VLOOKUP('BANCO DE DADOS COMPLETA'!$N$10,'BANCO DE DADOS COMPLETA'!$A$7:$L$249,3)*-1","v":1},11,77,{"v":145.27741251198867,"d":"145.28"},"LIMITE","LIMITE","LIMITE","LIMITE","NADA","NADA",0]
[null,{"$f":"B65+PARÂMETROS!$C$8","v":{"v":13.06434384834068,"d":"13.06"}},{"v":8.622955634854455e-14,"d":"8.62E-14"},{"$f":"PARÂMETROS!$Q$4/C66","v":{"v":0.11596951698996869,"d":"1.16E-01"}},{"$f":"PARÂMETROS!$F$6/($C66+PARÂMETROS!$F$6)","v":{"v":0.9999999999878757,"d":"1.00E+00"}},{"$f":"$C66*PARÂMETROS!$F$6/($C66^2+$C66*PARÂMETROS!$F$6+PARÂMETROS!$F$6*PARÂMETROS!$G$6)","v":{"v":1.3635013098945561E-6,"d":"1.36E-06"}},{"$f":"PARÂMETROS!$F$6*PARÂMETROS!$G$6/($C66^2+$C66*PARÂMETROS!$F$6+PARÂMETROS!$F$6*PARÂMETROS!$G$6)","v":{"v":0.9999986364986901,"d":"1.00E+00"}},{"$f":"(PARÂMETROS!$F$6*$C66^2)/($C66^3+PARÂMETROS!$F$6*$C66^2+PARÂMETROS!$F$6*PARÂMETROS!$G$6*$C66+PARÂMETROS!$F$6*PARÂMETROS!$G$6*PARÂMETROS!$H$6)","v":{"v":2.206255329535462E-7,"d":"2.21E-07"}},{"$f":"(PARÂMETROS!$F$6*PARÂMETROS!$G$6*$C66)/($C66^3+PARÂMETROS!$F$6*$C66^2+PARÂMETROS!$F$6*PARÂMETROS!$G$6*$C66+PARÂMETROS!$F$6*PARÂMETROS!$G$6*PARÂMETROS!$H$6)","v":{"v":0.1618078622509022,"d":"1.62E-01"}},{"$f":"(PARÂMETROS!$F$6*PARÂMETROS!$G$6*PARÂMETROS!$H$6)/($C66^3+PARÂMETROS!$F$6*$C66^2+PARÂMETROS!$F$6*PARÂMETROS!$G$6*$C66+PARÂMETROS!$F$6*PARÂMETROS!$G$6*PARÂMETROS!$H$6)","v":{"v":0.8381919171235649,"d":"8.38E-01"}},{"$f":"$C66/($C66+PARÂMETROS!$J$6)","v":{"v":0.4630283078544125,"d":"4.63E-01"}},{"$f":"$C66*PARÂMETROS!$J$6/($C66^2+$C66*PARÂMETROS!$J$6+PARÂMETROS!$J$6*PARÂMETROS!$K$6)","v":{"v":0.5369716921455875,"d":"5.37E-01"}},{"$f":"$C66^2/($C66^2+$C66*PARÂMETROS!$J$6+PARÂMETROS!$J$6*PARÂMETROS!$K$6)","v":{"v":0.46302830785441257,"d":"4.63E-01"}},{"$f":"(PARÂMETROS!$K$6*PARÂMETROS!$J$6*$C66)/($C66^3+PARÂMETROS!$J$6*$C66^2+PARÂMETROS!$J$6*PARÂMETROS!$K$6*$C66+PARÂMETROS!$J$6*PARÂMETROS!$K$6*PARÂMETROS!$L$6)","v":{"v":0,"d":"0.00E+00"}},{"$f":"(PARÂMETROS!$J$6*$C66^2)/($C66^3+PARÂMETROS!$J$6*$C66^2+PARÂMETROS!$J$6*PARÂMETROS!$K$6*$C66+PARÂMETROS!$J$6*PARÂMETROS!$K$6*PARÂMETROS!$L$6)","v":{"v":0.5369716921455875,"d":"5.37E-01"}},{"$f":"($C66^3)/($C66^3+PARÂMETROS!$J$6*$C66^2+PARÂMETROS!$J$6*PARÂMETROS!$K$6*$C66+PARÂMETROS!$J$6*PARÂMETROS!$K$6*PARÂMETROS!$L$6)","v":{"v":0.4630283078544125,"d":"4.63E-01"}},{"$f":"IF(PARÂMETROS!$J$6<PARÂMETROS!$F$6,(E66-(C66-D66)/PARÂMETROS!$C$11)/(K66+(C66-D66)/PARÂMETROS!$C$14),(K66+(C66-D66)/PARÂMETROS!$C$14)/(E66-(C66-D66)/PARÂMETROS!$C$11))","v":{"v":6.836524943144972,"d":"6.84E+00"}},{"$f":"IF(PARÂMETROS!$J$6<PARÂMETROS!$F$6,(E66-(C66-D66)/PARÂMETROS!$C$11)/(L66+2*M66+(C66-D66)/PARÂMETROS!$C$14),(L66+2*M66+(C66-D66)/PARÂMETROS!$C$14)/(E66-(C66-D66)/PARÂMETROS!$C$11))","v":{"v":1.2832924617765384,"d":"1.28E+00"}},{"$f":"IF(PARÂMETROS!$J$6<PARÂMETROS!$F$6, (E66-(C66-D66)/PARÂMETROS!$C$11)/(N66+2*O66+3*P66+(C66-D66)/PARÂMETROS!$C$14),(N66+2*O66+3*P66+(C66-D66)/PARÂMETROS!$C$14)/ (E66-(C66-D66)/PARÂMETROS!$C$11))","v":{"v":0.7081059478151794,"d":"7.08E-01"}},{"$f":"IF(PARÂMETROS!$J$6<PARÂMETROS!$F$6,(F66+2*G66-(C66-D66)/PARÂMETROS!$C$11)/(K66+(C66-D66)/PARÂMETROS!$C$14),(K66+(C66-D66)/PARÂMETROS!$C$14)/(F66+2*G66-(C66-D66)/PARÂMETROS!$C$11))","v":{"v":11.163851000923211,"d":"1.12E+01"}},{"$f":"IF(PARÂMETROS!$J$6<PARÂMETROS!$F$6,(F66+2*G66-(C66-D66)/PARÂMETROS!$C$11)/(L66+2*M66+(C66-D66)/PARÂMETROS!$C$14),(L66+2*M66+(C66-D66)/PARÂMETROS!$C$14)/(F66+2*G66-(C66-D66)/PARÂMETROS!$C$11))","v":{"v":2.0955801306987816,"d":"2.10E+00"}},{"$f":"IF(PARÂMETROS!$J$6<PARÂMETROS!$F$6,(F66+2*G66-(C66-D66)/PARÂMETROS!$C$11)/(N66+2*O66+3*P66+(C66-D66)/PARÂMETROS!$C$14),(N66+2*O66+3*P66+(C66-D66)/PARÂMETROS!$C$14)/(F66+2*G66-(C66-D66)/PARÂMETROS!$C$11))","v":{"v":1.1563168949164377,"d":"1.16E+00"}},{"$f":"IF(PARÂMETROS!$J$6<PARÂMETROS!$F$6,(H66+2*I66+3*J66-(C66-D66)/PARÂMETROS!$C$11)/(K66+(C66-D66)/PARÂMETROS!$C$14),(K66+(C66-D66)/PARÂMETROS!$C$14)/(H66+2*I66+3*J66-(C66-D66)/PARÂMETROS!$C$11))","v":{"v":14.790990616472882,"d":"1.48E+01"}},{"$f":"IF(PARÂMETROS!$J$6<PARÂMETROS!$F$6,(H66+2*I66+3*J66-(C66-D66)/PARÂMETROS!$C$11)/(L66+2*M66+(C66-D66)/PARÂMETROS!$C$14),(L66+2*M66+(C66-D66)/PARÂMETROS!$C$14)/(H66+2*I66+3*J66-(C66-D66)/PARÂMETROS!$C$11))","v":{"v":2.7764349458506263,"d":"2.78E+00"}},{"$f":"IF(PARÂMETROS!$J$6<PARÂMETROS!$F$6,(H66+2*I66+3*J66-(C66-D66)/PARÂMETROS!$C$11)/(N66+2*O66+3*P66+(C66-D66)/PARÂMETROS!$C$14),(N66+2*O66+3*P66+(C66-D66)/PARÂMETROS!$C$14)/(H66+2*I66+3*J66-(C66-D66)/PARÂMETROS!$C$11))","v":{"v":1.5320047124387208,"d":"1.53E+00"}},{"$f":"Q66*PARÂMETROS!$C$11*PARÂMETROS!$D$11/PARÂMETROS!$C$14","v":{"v":136.73049886289945,"d":"136.73"}},{"$f":"R66*PARÂMETROS!$C$11*PARÂMETROS!$D$11/PARÂMETROS!$C$14","v":{"v":25.665849235530768,"d":"25.67"}},{"$f":"S66*PARÂMETROS!$C$11*PARÂMETROS!$D$11/PARÂMETROS!$C$14","v":{"v":14.16211895630359,"d":"14.16"}},{"$f":"T66*PARÂMETROS!$C$11*PARÂMETROS!$D$11/PARÂMETROS!$C$14","v":{"v":223.2770200184642,"d":"223.28"}},{"$f":"U66*PARÂMETROS!$C$11*PARÂMETROS!$D$11/PARÂMETROS!$C$14","v":{"v":41.91160261397563,"d":"41.91"}},{"$f":"V66*PARÂMETROS!$C$11*PARÂMETROS!$D$11/PARÂMETROS!$C$14","v":{"v":23.126337898328757,"d":"23.13"}},{"$f":"W66*PARÂMETROS!$C$11*PARÂMETROS!$D$11/PARÂMETROS!$C$14","v":{"v":295.81981232945765,"d":"295.82"}},{"$f":"X66*PARÂMETROS!$C$11*PARÂMETROS!$D$11/PARÂMETROS!$C$14","v":{"v":55.528698917012534,"d":"55.53"}},{"$f":"Y66*PARÂMETROS!$C$11*PARÂMETROS!$D$11/PARÂMETROS!$C$14","v":{"v":30.640094248774417,"d":"30.64"}},{"$f":"AND(B66+PARÂMETROS!$C$8>=PARÂMETROS!$C$5,B66+PARÂMETROS!$C$8<=PARÂMETROS!$D$5)","v":false},0,{"$f":"VLOOKUP('BANCO DE DADOS COMPLETA'!$N$8,'BANCO DE DADOS COMPLETA'!$A$7:$L$249,3)*-1","v":3},7,{"$f":"VLOOKUP('BANCO DE DADOS COMPLETA'!$N$10,'BANCO DE DADOS COMPLETA'!$A$7:$L$249,3)*-1","v":1},11,77,{"v":295.81981232945765,"d":"295.82"},"LIMITE","LIMITE","LIMITE","LIMITE","NADA","NADA",0]
[null,{"$f":"B66+PARÂMETROS!$C$8","v":{"v":13.26434384834068,"d":"13.26"}},{"v":5.4407171889382954E-14,"d":"5.44E-14"},{"$f":"PARÂMETROS!$Q$4/C67","v":{"v":0.1837992980104045,"d":"1.84E-01"}},{"$f":"PARÂMETROS!$F$6/($C67+PARÂMETROS!$F$6)","v":{"v":0.9999999999923501,"d":"1.00E+00"}},{"$f":"$C67*PARÂMETROS!$F$6/($C67^2+$C67*PARÂMETROS!$F$6+PARÂMETROS!$F$6*PARÂMETROS!$G$6)","v":{"v":8.60311598586653e-07,"d":"8.60E-07"}},{"$f":"PARÂMETROS!$F$6*PARÂMETROS!$G$6/($C67^2+$C67*PARÂMETROS!$F$6+PARÂMETROS!$F$6*PARÂMETROS!$G$6)","v":{"v":0.9999991396884015,"d":"1.00E+00"}},{"$f":"(PARÂMETROS!$F$6*$C67^2)/($C67^3+PARÂMETROS!$F$6*$C67^2+PARÂMETROS!$F$6*PARÂMETROS!$G$6*$C67+PARÂMETROS!$F$6*PARÂMETROS!$G$6*PARÂMETROS!$H$6)","v":{"v":9.3410536130789563E-8,"d":"9.34E-08"}},{"$f":"(PARÂMETROS!$F$6*PARÂMETROS!$G$6*$C67)/($C67^3+PARÂMETROS!$F$6*$C67^2+PARÂMETROS!$F$6*PARÂMETROS!$G$6*$C67+PARÂMETROS!$F$6*PARÂMETROS!$G$6*PARÂMETROS!$H$6)","v":{"v":0.10857746881720477,"d":"1.09E-01"}},{"$f":"(PARÂMETROS!$F$6*PARÂMETROS!$G$6*PARÂMETROS!$H$6)/($C67^3+PARÂMETROS!$F$6*$C67^2+PARÂMETROS!$F$6*PARÂMETROS!$G$6*$C67+PARÂMETROS!$F$6*PARÂMETROS!$G$6*PARÂMETROS!$H$6)","v":{"v":0.891422437772259,"d":"8.91E-01"}},{"$f":"$C67/($C67+PARÂMETROS!$J$6)","v":{"v":0.35236168905651716,"d":"3.52E-01"}},{"$f":"$C67*PARÂMETROS!$J$6/($C67^2+$C67*PARÂMETROS!$J$6+PARÂMETROS!$J$6*PARÂMETROS!$K$6)","v":{"v":0.6476383109434828,"d":"6.48E-01"}},{"$f":"$C67^2/($C67^2+$C67*PARÂMETROS!$J$6+PARÂMETROS!$J$6*PARÂMETROS!$K$6)","v":{"v":0.35236168905651716,"d":"3.52E-01"}},{"$f":"(PARÂMETROS!$K$6*PARÂMETROS!$J$6*$C67)/($C67^3+PARÂMETROS!$J$6*$C67^2+PARÂMETROS!$J$6*PARÂMETROS!$K$6*$C67+PARÂMETROS!$J$6*PARÂMETROS!$K$6*PARÂMETROS!$L$6)","v":{"v":0,"d":"0.00E+00"}},{"$f":"(PARÂMETROS!$J$6*$C67^2)/($C67^3+PARÂMETROS!$J$6*$C67^2+PARÂMETROS!$J$6*PARÂMETROS!$K$6*$C67+PARÂMETROS!$J$6*PARÂMETROS!$K$6*PARÂMETROS!$L$6)","v":{"v":0.6476383109434828,"d":"6.48E-01"}},{"$f":"($C67^3)/($C67^3+PARÂMETROS!$J$6*$C67^2+PARÂMETROS!$J$6*PARÂMETROS!$K$6*$C67+PARÂMETROS!$J$6*PARÂMETROS!$K$6*PARÂMETROS!$L$6)","v":{"v":0.35236168905651716,"d":"3.52E-01"}},{"$f":"IF(PARÂMETROS!$J$6<PARÂMETROS!$F$6,(E67-(C67-D67)/PARÂMETROS!$C$11)/(K67+(C67-D67)/PARÂMETROS!$C$14),(K67+(C67-D67)/PARÂMETROS!$C$14)/(E67-(C67-D67)/PARÂMETROS!$C$11))","v":{"v":-125.94396582948417,"d":"-1.26E+02"}},{"$f":"IF(PARÂMETROS!$J$6<PARÂMETROS!$F$6,(E67-(C67-D67)/PARÂMETROS!$C$11)/(L67+2*M67+(C67-D67)/PARÂMETROS!$C$14),(L67+2*M67+(C67-D67)/PARÂMETROS!$C$14)/(E67-(C67-D67)/PARÂMETROS!$C$11))","v":{"v":1.9486884750404683,"d":"1.95E+00"}},{"$f":"IF(PARÂMETROS!$J$6<PARÂMETROS!$F$6, (E67-(C67-D67)/PARÂMETROS!$C$11)/(N67+2*O67+3*P67+(C67-D67)/PARÂMETROS!$C$14),(N67+2*O67+3*P67+(C67-D67)/PARÂMETROS!$C$14)/ (E67-(C67-D67)/PARÂMETROS!$C$11))","v":{"v":0.966864255375123,"d":"9.67E-01"}},{"$f":"IF(PARÂMETROS!$J$6<PARÂMETROS!$F$6,(F67+2*G67-(C67-D67)/PARÂMETROS!$C$11)/(K67+(C67-D67)/PARÂMETROS!$C$14),(K67+(C67-D67)/PARÂMETROS!$C$14)/(F67+2*G67-(C67-D67)/PARÂMETROS!$C$11))","v":{"v":-191.5740272354322,"d":"-1.92E+02"}},{"$f":"IF(PARÂMETROS!$J$6<PARÂMETROS!$F$6,(F67+2*G67-(C67-D67)/PARÂMETROS!$C$11)/(L67+2*M67+(C67-D67)/PARÂMETROS!$C$14),(L67+2*M67+(C67-D67)/PARÂMETROS!$C$14)/(F67+2*G67-(C67-D67)/PARÂMETROS!$C$11))","v":{"v":2.964160263908251,"d":"2.96E+00"}},{"$f":"IF(PARÂMETROS!$J$6<PARÂMETROS!$F$6,(F67+2*G67-(C67-D67)/PARÂMETROS!$C$11)/(N67+2*O67+3*P67+(C67-D67)/PARÂMETROS!$C$14),(N67+2*O67+3*P67+(C67-D67)/PARÂMETROS!$C$14)/(F67+2*G67-(C67-D67)/PARÂMETROS!$C$11))","v":{"v":1.470702291866668,"d":"1.47E+00"}},{"$f":"IF(PARÂMETROS!$J$6<PARÂMETROS!$F$6,(H67+2*I67+3*J67-(C67-D67)/PARÂMETROS!$C$11)/(K67+(C67-D67)/PARÂMETROS!$C$14),(K67+(C67-D67)/PARÂMETROS!$C$14)/(H67+2*I67+3*J67-(C67-D67)/PARÂMETROS!$C$11))","v":{"v":-250.07823722823213,"d":"-2.50E+02"}},{"$f":"IF(PARÂMETROS!$J$6<PARÂMETROS!$F$6,(H67+2*I67+3*J67-(C67-D67)/PARÂMETROS!$C$11)/(L67+2*M67+(C67-D67)/PARÂMETROS!$C$14),(L67+2*M67+(C67-D67)/PARÂMETROS!$C$14)/(H67+2*I67+3*J67-(C67-D67)/PARÂMETROS!$C$11))","v":{"v":3.869376158956929,"d":"3.87E+00"}},{"$f":"IF(PARÂMETROS!$J$6<PARÂMETROS!$F$6,(H67+2*I67+3*J67-(C67-D67)/PARÂMETROS!$C$11)/(N67+2*O67+3*P67+(C67-D67)/PARÂMETROS!$C$14),(N67+2*O67+3*P67+(C67-D67)/PARÂMETROS!$C$14)/(H67+2*I67+3*J67-(C67-D67)/PARÂMETROS!$C$11))","v":{"v":1.9198355953834292,"d":"1.92E+00"}},{"$f":"Q67*PARÂMETROS!$C$11*PARÂMETROS!$D$11/PARÂMETROS!$C$14","v":{"v":-2518.8793165896836,"d":"-2518.88"}},{"$f":"R67*PARÂMETROS!$C$11*PARÂMETROS!$D$11/PARÂMETROS!$C$14","v":{"v":38.97376950080937,"d":"38.97"}},{"$f":"S67*PARÂMETROS!$C$11*PARÂMETROS!$D$11/PARÂMETROS!$C$14","v":{"v":19.33728510750246,"d":"19.34"}},{"$f":"T67*PARÂMETROS!$C$11*PARÂMETROS!$D$11/PARÂMETROS!$C$14","v":{"v":-3831.480544708644,"d":"-3831.48"}},{"$f":"U67*PARÂMETROS!$C$11*PARÂMETROS!$D$11/PARÂMETROS!$C$14","v":{"v":59.28320527816502,"d":"59.28"}},{"$f":"V67*PARÂMETROS!$C$11*PARÂMETROS!$D$11/PARÂMETROS!$C$14","v":{"v":29.414045837333358,"d":"29.41"}},{"$f":"W67*PARÂMETROS!$C$11*PARÂMETROS!$D$11/PARÂMETROS!$C$14","v":{"v":-5001.564744564643,"d":"-5001.56"}},{"$f":"X67*PARÂMETROS!$C$11*PARÂMETROS!$D$11/PARÂMETROS!$C$14","v":{"v":77.38752317913858,"d":"77.39"}},{"$f":"Y67*PARÂMETROS!$C$11*PARÂMETROS!$D$11/PARÂMETROS!$C$14","v":{"v":38.39671190766858,"d":"38.40"}},{"$f":"AND(B67+PARÂMETROS!$C$8>=PARÂMETROS!$C$5,B67+PARÂMETROS!$C$8<=PARÂMETROS!$D$5)","v":false},0,{"$f":"VLOOKUP('BANCO DE DADOS COMPLETA'!$N$8,'BANCO DE DADOS COMPLETA'!$A$7:$L$249,3)*-1","v":3},7,{"$f":"VLOOKUP('BANCO DE DADOS COMPLETA'!$N$10,'BANCO DE DADOS COMPLETA'!$A$7:$L$249,3)*-1","v":1},11,77,{"v":-5001.564744564643,"d":"-5001.56"},"LIMITE","LIMITE","LIMITE","LIMITE","NADA","NADA",0]
[null,{"$f":"B67+PARÂMETROS!$C$8","v":{"v":13.464343848340679,"d":"13.46"}},{"v":3.432860469600256e-14,"d":"3.43E-14"},{"$f":"PARÂMETROS!$Q$4/C68","v":{"v":0.29130225619582095,"d":"2.91E-01"}},{"$f":"PARÂMETROS!$F$6/($C68+PARÂMETROS!$F$6)","v":{"v":0.9999999999951733,"d":"1.00E+00"}},{"$f":"$C68*PARÂMETROS!$F$6/($C68^2+$C68*PARÂMETROS!$F$6+PARÂMETROS!$F$6*PARÂMETROS!$G$6)","v":{"v":5.4282009401060746E-7,"d":"5.43E-07"}},{"$f":"PARÂMETROS!$F$6*PARÂMETROS!$G$6/($C68^2+$C68*PARÂMETROS!$F$6+PARÂMETROS!$F$6*PARÂMETROS!$G$6)","v":{"v":0.999999457179906,"d":"1.00E+00"}},{"$f":"(PARÂMETROS!$F$6*$C68^2)/($C68^3+PARÂMETROS!$F$6*$C68^2+PARÂMETROS!$F$6*PARÂMETROS!$G$6*$C68+PARÂMETROS!$F$6*PARÂMETROS!$G$6*PARÂMETROS!$H$6)","v":{"v":3.8739695050672813E-8,"d":"3.87E-08"}},{"$f":"(PARÂMETROS!$F$6*PARÂMETROS!$G$6*$C68)/($C68^3+PARÂMETROS!$F$6*$C68^2+PARÂMETROS!$F$6*PARÂMETROS!$G$6*$C68+PARÂMETROS!$F$6*PARÂMETROS!$G$6*PARÂMETROS!$H$6)","v":{"v":0.07136742808425008,"d":"7.14E-02"}},{"$f":"(PARÂMETROS!$F$6*PARÂMETROS!$G$6*PARÂMETROS!$H$6)/($C68^3+PARÂMETROS!$F$6*$C68^2+PARÂMETROS!$F$6*PARÂMETROS!$G$6*$C68+PARÂMETROS!$F$6*PARÂMETROS!$G$6*PARÂMETROS!$H$6)","v":{"v":0.9286325331760549,"d":"9.29E-01"}},{"$f":"$C68/($C68+PARÂMETROS!$J$6)","v":{"v":0.25555692157817916,"d":"2.56E-01"}},{"$f":"$C68*PARÂMETROS!$J$6/($C68^2+$C68*PARÂMETROS!$J$6+PARÂMETROS!$J$6*PARÂMETROS!$K$6)","v":{"v":0.7444430784218208,"d":"7.44E-01"}},{"$f":"$C68^2/($C68^2+$C68*PARÂMETROS!$J$6+PARÂMETROS!$J$6*PARÂMETROS!$K$6)","v":{"v":0.25555692157817916,"d":"2.56E-01"}},{"$f":"(PARÂMETROS!$K$6*PARÂMETROS!$J$6*$C68)/($C68^3+PARÂMETROS!$J$6*$C68^2+PARÂMETROS!$J$6*PARÂMETROS!$K$6*$C68+PARÂMETROS!$J$6*PARÂMETROS!$K$6*PARÂMETROS!$L$6)","v":{"v":0,"d":"0.00E+00"}},{"$f":"(PARÂMETROS!$J$6*$C68^2)/($C68^3+PARÂMETROS!$J$6*$C68^2+PARÂMETROS!$J$6*PARÂMETROS!$K$6*$C68+PARÂMETROS!$J$6*PARÂMETROS!$K$6*PARÂMETROS!$L$6)","v":{"v":0.7444430784218209,"d":"7.44E-01"}},{"$f":"($C68^3)/($C68^3+PARÂMETROS!$J$6*$C68^2+PARÂMETROS!$J$6*PARÂMETROS!$K$6*$C68+PARÂMETROS!$J$6*PARÂMETROS!$K$6*PARÂMETROS!$L$6)","v":{"v":0.25555692157817916,"d":"2.56E-01"}},{"$f":"IF(PARÂMETROS!$J$6<PARÂMETROS!$F$6,(E68-(C68-D68)/PARÂMETROS!$C$11)/(K68+(C68-D68)/PARÂMETROS!$C$14),(K68+(C68-D68)/PARÂMETROS!$C$14)/(E68-(C68-D68)/PARÂMETROS!$C$11))","v":{"v":-7.511173755674402,"d":"-7.51E+00"}},{"$f":"IF(PARÂMETROS!$J$6<PARÂMETROS!$F$6,(E68-(C68-D68)/PARÂMETROS!$C$11)/(L68+2*M68+(C68-D68)/PARÂMETROS!$C$14),(L68+2*M68+(C68-D68)/PARÂMETROS!$C$14)/(E68-(C68-D68)/PARÂMETROS!$C$11))","v":{"v":3.650349188798179,"d":"3.65E+00"}},{"$f":"IF(PARÂMETROS!$J$6<PARÂMETROS!$F$6, (E68-(C68-D68)/PARÂMETROS!$C$11)/(N68+2*O68+3*P68+(C68-D68)/PARÂMETROS!$C$14),(N68+2*O68+3*P68+(C68-D68)/PARÂMETROS!$C$14)/ (E68-(C68-D68)/PARÂMETROS!$C$11))","v":{"v":1.4683688953043612,"d":"1.47E+00"}},{"$f":"IF(PARÂMETROS!$J$6<PARÂMETROS!$F$6,(F68+2*G68-(C68-D68)/PARÂMETROS!$C$11)/(K68+(C68-D68)/PARÂMETROS!$C$14),(K68+(C68-D68)/PARÂMETROS!$C$14)/(F68+2*G68-(C68-D68)/PARÂMETROS!$C$11))","v":{"v":-10.568831066947212,"d":"-1.06E+01"}},{"$f":"IF(PARÂMETROS!$J$6<PARÂMETROS!$F$6,(F68+2*G68-(C68-D68)/PARÂMETROS!$C$11)/(L68+2*M68+(C68-D68)/PARÂMETROS!$C$14),(L68+2*M68+(C68-D68)/PARÂMETROS!$C$14)/(F68+2*G68-(C68-D68)/PARÂMETROS!$C$11))","v":{"v":5.136337564103094,"d":"5.14E+00"}},{"$f":"IF(PARÂMETROS!$J$6<PARÂMETROS!$F$6,(F68+2*G68-(C68-D68)/PARÂMETROS!$C$11)/(N68+2*O68+3*P68+(C68-D68)/PARÂMETROS!$C$14),(N68+2*O68+3*P68+(C68-D68)/PARÂMETROS!$C$14)/(F68+2*G68-(C68-D68)/PARÂMETROS!$C$11))","v":{"v":2.0661142057468354,"d":"2.07E+00"}},{"$f":"IF(PARÂMETROS!$J$6<PARÂMETROS!$F$6,(H68+2*I68+3*J68-(C68-D68)/PARÂMETROS!$C$11)/(K68+(C68-D68)/PARÂMETROS!$C$14),(K68+(C68-D68)/PARÂMETROS!$C$14)/(H68+2*I68+3*J68-(C68-D68)/PARÂMETROS!$C$11))","v":{"v":-13.408274204096967,"d":"-1.34E+01"}},{"$f":"IF(PARÂMETROS!$J$6<PARÂMETROS!$F$6,(H68+2*I68+3*J68-(C68-D68)/PARÂMETROS!$C$11)/(L68+2*M68+(C68-D68)/PARÂMETROS!$C$14),(L68+2*M68+(C68-D68)/PARÂMETROS!$C$14)/(H68+2*I68+3*J68-(C68-D68)/PARÂMETROS!$C$11))","v":{"v":6.5162762114420465,"d":"6.52E+00"}},{"$f":"IF(PARÂMETROS!$J$6<PARÂMETROS!$F$6,(H68+2*I68+3*J68-(C68-D68)/PARÂMETROS!$C$11)/(N68+2*O68+3*P68+(C68-D68)/PARÂMETROS!$C$14),(N68+2*O68+3*P68+(C68-D68)/PARÂMETROS!$C$14)/(H68+2*I68+3*J68-(C68-D68)/PARÂMETROS!$C$11))","v":{"v":2.621200550198174,"d":"2.62E+00"}},{"$f":"Q68*PARÂMETROS!$C$11*PARÂMETROS!$D$11/PARÂMETROS!$C$14","v":{"v":-150.22347511348804,"d":"-150.22"}},{"$f":"R68*PARÂMETROS!$C$11*PARÂMETROS!$D$11/PARÂMETROS!$C$14","v":{"v":73.00698377596359,"d":"73.01"}},{"$f":"S68*PARÂMETROS!$C$11*PARÂMETROS!$D$11/PARÂMETROS!$C$14","v":{"v":29.367377906087228,"d":"29.37"}},{"$f":"T68*PARÂMETROS!$C$11*PARÂMETROS!$D$11/PARÂMETROS!$C$14","v":{"v":-211.37662133894426,"d":"-211.38"}},{"$f":"U68*PARÂMETROS!$C$11*PARÂMETROS!$D$11/PARÂMETROS!$C$14","v":{"v":102.72675128206188,"d":"102.73"}},{"$f":"V68*PARÂMETROS!$C$11*PARÂMETROS!$D$11/PARÂMETROS!$C$14","v":{"v":41.32228411493671,"d":"41.32"}},{"$f":"W68*PARÂMETROS!$C$11*PARÂMETROS!$D$11/PARÂMETROS!$C$14","v":{"v":-268.1654840819394,"d":"-268.17"}},{"$f":"X68*PARÂMETROS!$C$11*PARÂMETROS!$D$11/PARÂMETROS!$C$14","v":{"v":130.32552422884095,"d":"130.33"}},{"$f":"Y68*PARÂMETROS!$C$11*PARÂMETROS!$D$11/PARÂMETROS!$C$14","v":{"v":52.424011003963486,"d":"52.42"}},{"$f":"AND(B68+PARÂMETROS!$C$8>=PARÂMETROS!$C$5,B68+PARÂMETROS!$C$8<=PARÂMETROS!$D$5)","v":false},0,{"$f":"VLOOKUP('BANCO DE DADOS COMPLETA'!$N$8,'BANCO DE DADOS COMPLETA'!$A$7:$L$249,3)*-1","v":3},7,{"$f":"VLOOKUP('BANCO DE DADOS COMPLETA'!$N$10,'BANCO DE DADOS COMPLETA'!$A$7:$L$249,3)*-1","v":1},11,77,{"v":-268.1654840819394,"d":"-268.17"},"LIMITE","LIMITE","LIMITE","LIMITE","NADA","NADA",0]
[null,{"$f":"B68+PARÂMETROS!$C$8","v":{"v":13.664343848340678,"d":"13.66"}},{"v":2.1659885258700107E-14,"d":"2.17E-14"},{"$f":"PARÂMETROS!$Q$4/C69","v":{"v":0.461682962793319,"d":"4.62E-01"}},{"$f":"PARÂMETROS!$F$6/($C69+PARÂMETROS!$F$6)","v":{"v":0.9999999999969545,"d":"1.00E+00"}},{"$f":"$C69*PARÂMETROS!$F$6/($C69^2+$C69*PARÂMETROS!$F$6+PARÂMETROS!$F$6*PARÂMETROS!$G$6)","v":{"v":3.4249639365759085E-7,"d":"3.42E-07"}},{"$f":"PARÂMETROS!$F$6*PARÂMETROS!$G$6/($C69^2+$C69*PARÂMETROS!$F$6+PARÂMETROS!$F$6*PARÂMETROS!$G$6)","v":{"v":0.9999996575036064,"d":"1.00E+00"}},{"$f":"(PARÂMETROS!$F$6*$C69^2)/($C69^3+PARÂMETROS!$F$6*$C69^2+PARÂMETROS!$F$6*PARÂMETROS!$G$6*$C69+PARÂMETROS!$F$6*PARÂMETROS!$G$6*PARÂMETROS!$H$6)","v":{"v":1.5839731669700017E-8,"d":"1.58E-08"}},{"$f":"(PARÂMETROS!$F$6*PARÂMETROS!$G$6*$C69)/($C69^3+PARÂMETROS!$F$6*$C69^2+PARÂMETROS!$F$6*PARÂMETROS!$G$6*$C69+PARÂMETROS!$F$6*PARÂMETROS!$G$6*PARÂMETROS!$H$6)","v":{"v":0.04624786286212617,"d":"4.62E-02"}},{"$f":"(PARÂMETROS!$F$6*PARÂMETROS!$G$6*PARÂMETROS!$H$6)/($C69^3+PARÂMETROS!$F$6*$C69^2+PARÂMETROS!$F$6*PARÂMETROS!$G$6*$C69+PARÂMETROS!$F$6*PARÂMETROS!$G$6*PARÂMETROS!$H$6)","v":{"v":0.9537521212981421,"d":"9.54E-01"}},{"$f":"$C69/($C69+PARÂMETROS!$J$6)","v":{"v":0.17803637750144247,"d":"1.78E-01"}},{"$f":"$C69*PARÂMETROS!$J$6/($C69^2+$C69*PARÂMETROS!$J$6+PARÂMETROS!$J$6*PARÂMETROS!$K$6)","v":{"v":0.8219636224985575,"d":"8.22E-01"}},{"$f":"$C69^2/($C69^2+$C69*PARÂMETROS!$J$6+PARÂMETROS!$J$6*PARÂMETROS!$K$6)","v":{"v":0.17803637750144247,"d":"1.78E-01"}},{"$f":"(PARÂMETROS!$K$6*PARÂMETROS!$J$6*$C69)/($C69^3+PARÂMETROS!$J$6*$C69^2+PARÂMETROS!$J$6*PARÂMETROS!$K$6*$C69+PARÂMETROS!$J$6*PARÂMETROS!$K$6*PARÂMETROS!$L$6)","v":{"v":0,"d":"0.00E+00"}},{"$f":"(PARÂMETROS!$J$6*$C69^2)/($C69^3+PARÂMETROS!$J$6*$C69^2+PARÂMETROS!$J$6*PARÂMETROS!$K$6*$C69+PARÂMETROS!$J$6*PARÂMETROS!$K$6*PARÂMETROS!$L$6)","v":{"v":0.8219636224985576,"d":"8.22E-01"}},{"$f":"($C69^3)/($C69^3+PARÂMETROS!$J$6*$C69^2+PARÂMETROS!$J$6*PARÂMETROS!$K$6*$C69+PARÂMETROS!$J$6*PARÂMETROS!$K$6*PARÂMETROS!$L$6)","v":{"v":0.17803637750144247,"d":"1.78E-01"}},{"$f":"IF(PARÂMETROS!$J$6<PARÂMETROS!$F$6,(E69-(C69-D69)/PARÂMETROS!$C$11)/(K69+(C69-D69)/PARÂMETROS!$C$14),(K69+(C69-D69)/PARÂMETROS!$C$14)/(E69-(C69-D69)/PARÂMETROS!$C$11))","v":{"v":-4.438861739029648,"d":"-4.44E+00"}},{"$f":"IF(PARÂMETROS!$J$6<PARÂMETROS!$F$6,(E69-(C69-D69)/PARÂMETROS!$C$11)/(L69+2*M69+(C69-D69)/PARÂMETROS!$C$14),(L69+2*M69+(C69-D69)/PARÂMETROS!$C$14)/(E69-(C69-D69)/PARÂMETROS!$C$11))","v":{"v":12.990964554732292,"d":"1.30E+01"}},{"$f":"IF(PARÂMETROS!$J$6<PARÂMETROS!$F$6, (E69-(C69-D69)/PARÂMETROS!$C$11)/(N69+2*O69+3*P69+(C69-D69)/PARÂMETROS!$C$14),(N69+2*O69+3*P69+(C69-D69)/PARÂMETROS!$C$14)/ (E69-(C69-D69)/PARÂMETROS!$C$11))","v":{"v":2.636879515983036,"d":"2.64E+00"}},{"$f":"IF(PARÂMETROS!$J$6<PARÂMETROS!$F$6,(F69+2*G69-(C69-D69)/PARÂMETROS!$C$11)/(K69+(C69-D69)/PARÂMETROS!$C$14),(K69+(C69-D69)/PARÂMETROS!$C$14)/(F69+2*G69-(C69-D69)/PARÂMETROS!$C$11))","v":{"v":-5.780549667645628,"d":"-5.78E+00"}},{"$f":"IF(PARÂMETROS!$J$6<PARÂMETROS!$F$6,(F69+2*G69-(C69-D69)/PARÂMETROS!$C$11)/(L69+2*M69+(C69-D69)/PARÂMETROS!$C$14),(L69+2*M69+(C69-D69)/PARÂMETROS!$C$14)/(F69+2*G69-(C69-D69)/PARÂMETROS!$C$11))","v":{"v":16.917606416745457,"d":"1.69E+01"}},{"$f":"IF(PARÂMETROS!$J$6<PARÂMETROS!$F$6,(F69+2*G69-(C69-D69)/PARÂMETROS!$C$11)/(N69+2*O69+3*P69+(C69-D69)/PARÂMETROS!$C$14),(N69+2*O69+3*P69+(C69-D69)/PARÂMETROS!$C$14)/(F69+2*G69-(C69-D69)/PARÂMETROS!$C$11))","v":{"v":3.4339012805272446,"d":"3.43E+00"}},{"$f":"IF(PARÂMETROS!$J$6<PARÂMETROS!$F$6,(H69+2*I69+3*J69-(C69-D69)/PARÂMETROS!$C$11)/(K69+(C69-D69)/PARÂMETROS!$C$14),(K69+(C69-D69)/PARÂMETROS!$C$14)/(H69+2*I69+3*J69-(C69-D69)/PARÂMETROS!$C$11))","v":{"v":-7.060188252222233,"d":"-7.06E+00"}},{"$f":"IF(PARÂMETROS!$J$6<PARÂMETROS!$F$6,(H69+2*I69+3*J69-(C69-D69)/PARÂMETROS!$C$11)/(L69+2*M69+(C69-D69)/PARÂMETROS!$C$14),(L69+2*M69+(C69-D69)/PARÂMETROS!$C$14)/(H69+2*I69+3*J69-(C69-D69)/PARÂMETROS!$C$11))","v":{"v":20.662651987535522,"d":"2.07E+01"}},{"$f":"IF(PARÂMETROS!$J$6<PARÂMETROS!$F$6,(H69+2*I69+3*J69-(C69-D69)/PARÂMETROS!$C$11)/(N69+2*O69+3*P69+(C69-D69)/PARÂMETROS!$C$14),(N69+2*O69+3*P69+(C69-D69)/PARÂMETROS!$C$14)/(H69+2*I69+3*J69-(C69-D69)/PARÂMETROS!$C$11))","v":{"v":4.194062999884874,"d":"4.19E+00"}},{"$f":"Q69*PARÂMETROS!$C$11*PARÂMETROS!$D$11/PARÂMETROS!$C$14","v":{"v":-88.77723478059298,"d":"-88.78"}},{"$f":"R69*PARÂMETROS!$C$11*PARÂMETROS!$D$11/PARÂMETROS!$C$14","v":{"v":259.8192910946459,"d":"259.82"}},{"$f":"S69*PARÂMETROS!$C$11*PARÂMETROS!$D$11/PARÂMETROS!$C$14","v":{"v":52.73759031966072,"d":"52.74"}},{"$f":"T69*PARÂMETROS!$C$11*PARÂMETROS!$D$11/PARÂMETROS!$C$14","v":{"v":-115.61099335291256,"d":"-115.61"}},{"$f":"U69*PARÂMETROS!$C$11*PARÂMETROS!$D$11/PARÂMETROS!$C$14","v":{"v":338.3521283349092,"d":"338.35"}},{"$f":"V69*PARÂMETROS!$C$11*PARÂMETROS!$D$11/PARÂMETROS!$C$14","v":{"v":68.6780256105449,"d":"68.68"}},{"$f":"W69*PARÂMETROS!$C$11*PARÂMETROS!$D$11/PARÂMETROS!$C$14","v":{"v":-141.20376504444465,"d":"-141.20"}},{"$f":"X69*PARÂMETROS!$C$11*PARÂMETROS!$D$11/PARÂMETROS!$C$14","v":{"v":413.25303975071046,"d":"413.25"}},{"$f":"Y69*PARÂMETROS!$C$11*PARÂMETROS!$D$11/PARÂMETROS!$C$14","v":{"v":83.88125999769748,"d":"83.88"}},{"$f":"AND(B69+PARÂMETROS!$C$8>=PARÂMETROS!$C$5,B69+PARÂMETROS!$C$8<=PARÂMETROS!$D$5)","v":false},0,{"$f":"VLOOKUP('BANCO DE DADOS COMPLETA'!$N$8,'BANCO DE DADOS COMPLETA'!$A$7:$L$249,3)*-1","v":3},7,{"$f":"VLOOKUP('BANCO DE DADOS COMPLETA'!$N$10,'BANCO DE DADOS COMPLETA'!$A$7:$L$249,3)*-1","v":1},11,77,{"v":-141.20376504444465,"d":"-141.20"},"LIMITE","LIMITE","LIMITE","LIMITE","NADA","NADA",0]
[null,{"$f":"B69+PARÂMETROS!$C$8","v":{"v":13.864343848340678,"d":"13.86"}},{"v":1.3666463684575128E-14,"d":"1.37E-14"},{"$f":"PARÂMETROS!$Q$4/C70","v":{"v":0.7317181848064075,"d":"7.32E-01"}},{"$f":"PARÂMETROS!$F$6/($C70+PARÂMETROS!$F$6)","v":{"v":0.9999999999980784,"d":"1.00E+00"}},{"$f":"$C70*PARÂMETROS!$F$6/($C70^2+$C70*PARÂMETROS!$F$6+PARÂMETROS!$F$6*PARÂMETROS!$G$6)","v":{"v":2.1610064235044581E-7,"d":"2.16E-07"}},{"$f":"PARÂMETROS!$F$6*PARÂMETROS!$G$6/($C70^2+$C70*PARÂMETROS!$F$6+PARÂMETROS!$F$6*PARÂMETROS!$G$6)","v":{"v":0.9999997838993577,"d":"1.00E+00"}},{"$f":"(PARÂMETROS!$F$6*$C70^2)/($C70^3+PARÂMETROS!$F$6*$C70^2+PARÂMETROS!$F$6*PARÂMETROS!$G$6*$C70+PARÂMETROS!$F$6*PARÂMETROS!$G$6*PARÂMETROS!$H$6)","v":{"v":6.4154053262914949E-9,"d":"6.42E-09"}},{"$f":"(PARÂMETROS!$F$6*PARÂMETROS!$G$6*$C70)/($C70^3+PARÂMETROS!$F$6*$C70^2+PARÂMETROS!$F$6*PARÂMETROS!$G$6*$C70+PARÂMETROS!$F$6*PARÂMETROS!$G$6*PARÂMETROS!$H$6)","v":{"v":0.029687111848166376,"d":"2.97E-02"}},{"$f":"(PARÂMETROS!$F$6*PARÂMETROS!$G$6*PARÂMETROS!$H$6)/($C70^3+PARÂMETROS!$F$6*$C70^2+PARÂMETROS!$F$6*PARÂMETROS!$G$6*$C70+PARÂMETROS!$F$6*PARÂMETROS!$G$6*PARÂMETROS!$H$6)","v":{"v":0.9703128817364283,"d":"9.70E-01"}},{"$f":"$C70/($C70+PARÂMETROS!$J$6)","v":{"v":0.1202330330474573,"d":"1.20E-01"}},{"$f":"$C70*PARÂMETROS!$J$6/($C70^2+$C70*PARÂMETROS!$J$6+PARÂMETROS!$J$6*PARÂMETROS!$K$6)","v":{"v":0.8797669669525426,"d":"8.80E-01"}},{"$f":"$C70^2/($C70^2+$C70*PARÂMETROS!$J$6+PARÂMETROS!$J$6*PARÂMETROS!$K$6)","v":{"v":0.1202330330474573,"d":"1.20E-01"}},{"$f":"(PARÂMETROS!$K$6*PARÂMETROS!$J$6*$C70)/($C70^3+PARÂMETROS!$J$6*$C70^2+PARÂMETROS!$J$6*PARÂMETROS!$K$6*$C70+PARÂMETROS!$J$6*PARÂMETROS!$K$6*PARÂMETROS!$L$6)","v":{"v":0,"d":"0.00E+00"}},{"$f":"(PARÂMETROS!$J$6*$C70^2)/($C70^3+PARÂMETROS!$J$6*$C70^2+PARÂMETROS!$J$6*PARÂMETROS!$K$6*$C70+PARÂMETROS!$J$6*PARÂMETROS!$K$6*PARÂMETROS!$L$6)","v":{"v":0.8797669669525426,"d":"8.80E-01"}},{"$f":"($C70^3)/($C70^3+PARÂMETROS!$J$6*$C70^2+PARÂMETROS!$J$6*PARÂMETROS!$K$6*$C70+PARÂMETROS!$J$6*PARÂMETROS!$K$6*PARÂMETROS!$L$6)","v":{"v":0.1202330330474573,"d":"1.20E-01"}},{"$f":"IF(PARÂMETROS!$J$6<PARÂMETROS!$F$6,(E70-(C70-D70)/PARÂMETROS!$C$11)/(K70+(C70-D70)/PARÂMETROS!$C$14),(K70+(C70-D70)/PARÂMETROS!$C$14)/(E70-(C70-D70)/PARÂMETROS!$C$11))","v":{"v":-3.468269320967,"d":"-3.47E+00"}},{"$f":"IF(PARÂMETROS!$J$6<PARÂMETROS!$F$6,(E70-(C70-D70)/PARÂMETROS!$C$11)/(L70+2*M70+(C70-D70)/PARÂMETROS!$C$14),(L70+2*M70+(C70-D70)/PARÂMETROS!$C$14)/(E70-(C70-D70)/PARÂMETROS!$C$11))","v":{"v":-13.573850914888357,"d":"-1.36E+01"}},{"$f":"IF(PARÂMETROS!$J$6<PARÂMETROS!$F$6, (E70-(C70-D70)/PARÂMETROS!$C$11)/(N70+2*O70+3*P70+(C70-D70)/PARÂMETROS!$C$14),(N70+2*O70+3*P70+(C70-D70)/PARÂMETROS!$C$14)/ (E70-(C70-D70)/PARÂMETROS!$C$11))","v":{"v":7.092896756917571,"d":"7.09E+00"}},{"$f":"IF(PARÂMETROS!$J$6<PARÂMETROS!$F$6,(F70+2*G70-(C70-D70)/PARÂMETROS!$C$11)/(K70+(C70-D70)/PARÂMETROS!$C$14),(K70+(C70-D70)/PARÂMETROS!$C$14)/(F70+2*G70-(C70-D70)/PARÂMETROS!$C$11))","v":{"v":-4.212758079056562,"d":"-4.21E+00"}},{"$f":"IF(PARÂMETROS!$J$6<PARÂMETROS!$F$6,(F70+2*G70-(C70-D70)/PARÂMETROS!$C$11)/(L70+2*M70+(C70-D70)/PARÂMETROS!$C$14),(L70+2*M70+(C70-D70)/PARÂMETROS!$C$14)/(F70+2*G70-(C70-D70)/PARÂMETROS!$C$11))","v":{"v":-16.48757487197152,"d":"-1.65E+01"}},{"$f":"IF(PARÂMETROS!$J$6<PARÂMETROS!$F$6,(F70+2*G70-(C70-D70)/PARÂMETROS!$C$11)/(N70+2*O70+3*P70+(C70-D70)/PARÂMETROS!$C$14),(N70+2*O70+3*P70+(C70-D70)/PARÂMETROS!$C$14)/(F70+2*G70-(C70-D70)/PARÂMETROS!$C$11))","v":{"v":8.61543765819416,"d":"8.62E+00"}},{"$f":"IF(PARÂMETROS!$J$6<PARÂMETROS!$F$6,(H70+2*I70+3*J70-(C70-D70)/PARÂMETROS!$C$11)/(K70+(C70-D70)/PARÂMETROS!$C$14),(K70+(C70-D70)/PARÂMETROS!$C$14)/(H70+2*I70+3*J70-(C70-D70)/PARÂMETROS!$C$11))","v":{"v":-4.935145423554103,"d":"-4.94E+00"}},{"$f":"IF(PARÂMETROS!$J$6<PARÂMETROS!$F$6,(H70+2*I70+3*J70-(C70-D70)/PARÂMETROS!$C$11)/(L70+2*M70+(C70-D70)/PARÂMETROS!$C$14),(L70+2*M70+(C70-D70)/PARÂMETROS!$C$14)/(H70+2*I70+3*J70-(C70-D70)/PARÂMETROS!$C$11))","v":{"v":-19.314799983277982,"d":"-1.93E+01"}},{"$f":"IF(PARÂMETROS!$J$6<PARÂMETROS!$F$6,(H70+2*I70+3*J70-(C70-D70)/PARÂMETROS!$C$11)/(N70+2*O70+3*P70+(C70-D70)/PARÂMETROS!$C$14),(N70+2*O70+3*P70+(C70-D70)/PARÂMETROS!$C$14)/(H70+2*I70+3*J70-(C70-D70)/PARÂMETROS!$C$11))","v":{"v":10.092779346179428,"d":"1.01E+01"}},{"$f":"Q70*PARÂMETROS!$C$11*PARÂMETROS!$D$11/PARÂMETROS!$C$14","v":{"v":-69.36538641934,"d":"-69.37"}},{"$f":"R70*PARÂMETROS!$C$11*PARÂMETROS!$D$11/PARÂMETROS!$C$14","v":{"v":-271.4770182977672,"d":"-271.48"}},{"$f":"S70*PARÂMETROS!$C$11*PARÂMETROS!$D$11/PARÂMETROS!$C$14","v":{"v":141.85793513835142,"d":"141.86"}},{"$f":"T70*PARÂMETROS!$C$11*PARÂMETROS!$D$11/PARÂMETROS!$C$14","v":{"v":-84.25516158113125,"d":"-84.26"}},{"$f":"U70*PARÂMETROS!$C$11*PARÂMETROS!$D$11/PARÂMETROS!$C$14","v":{"v":-329.75149743943047,"d":"-329.75"}},{"$f":"V70*PARÂMETROS!$C$11*PARÂMETROS!$D$11/PARÂMETROS!$C$14","v":{"v":172.3087531638832,"d":"172.31"}},{"$f":"W70*PARÂMETROS!$C$11*PARÂMETROS!$D$11/PARÂMETROS!$C$14","v":{"v":-98.70290847108207,"d":"-98.70"}},{"$f":"X70*PARÂMETROS!$C$11*PARÂMETROS!$D$11/PARÂMETROS!$C$14","v":{"v":-386.2959996655597,"d":"-386.30"}},{"$f":"Y70*PARÂMETROS!$C$11*PARÂMETROS!$D$11/PARÂMETROS!$C$14","v":{"v":201.85558692358856,"d":"201.86"}},{"$f":"AND(B70+PARÂMETROS!$C$8>=PARÂMETROS!$C$5,B70+PARÂMETROS!$C$8<=PARÂMETROS!$D$5)","v":false},0,{"$f":"VLOOKUP('BANCO DE DADOS COMPLETA'!$N$8,'BANCO DE DADOS COMPLETA'!$A$7:$L$249,3)*-1","v":3},7,{"$f":"VLOOKUP('BANCO DE DADOS COMPLETA'!$N$10,'BANCO DE DADOS COMPLETA'!$A$7:$L$249,3)*-1","v":1},11,77,{"v":-98.70290847108207,"d":"-98.70"},"LIMITE","LIMITE","LIMITE","LIMITE","NADA","NADA",0]
[null,{"$f":"B70+PARÂMETROS!$C$8","v":{"v":14.064343848340677,"d":"14.06"}},{"v":8.622955634854536e-15,"d":"8.62E-15"},{"$f":"PARÂMETROS!$Q$4/C71","v":{"v":1.159695169899676,"d":"1.16E+00"}},{"$f":"PARÂMETROS!$F$6/($C71+PARÂMETROS!$F$6)","v":{"v":0.9999999999987875,"d":"1.00E+00"}},{"$f":"$C71*PARÂMETROS!$F$6/($C71^2+$C71*PARÂMETROS!$F$6+PARÂMETROS!$F$6*PARÂMETROS!$G$6)","v":{"v":1.3635029831188618E-7,"d":"1.36E-07"}},{"$f":"PARÂMETROS!$F$6*PARÂMETROS!$G$6/($C71^2+$C71*PARÂMETROS!$F$6+PARÂMETROS!$F$6*PARÂMETROS!$G$6)","v":{"v":0.9999998636497016,"d":"1.00E+00"}},{"$f":"(PARÂMETROS!$F$6*$C71^2)/($C71^3+PARÂMETROS!$F$6*$C71^2+PARÂMETROS!$F$6*PARÂMETROS!$G$6*$C71+PARÂMETROS!$F$6*PARÂMETROS!$G$6*PARÂMETROS!$H$6)","v":{"v":2.5823101735238048E-9,"d":"2.58E-09"}},{"$f":"(PARÂMETROS!$F$6*PARÂMETROS!$G$6*$C71)/($C71^3+PARÂMETROS!$F$6*$C71^2+PARÂMETROS!$F$6*PARÂMETROS!$G$6*$C71+PARÂMETROS!$F$6*PARÂMETROS!$G$6*PARÂMETROS!$H$6)","v":{"v":0.018938791138676456,"d":"1.89E-02"}},{"$f":"(PARÂMETROS!$F$6*PARÂMETROS!$G$6*PARÂMETROS!$H$6)/($C71^3+PARÂMETROS!$F$6*$C71^2+PARÂMETROS!$F$6*PARÂMETROS!$G$6*$C71+PARÂMETROS!$F$6*PARÂMETROS!$G$6*PARÂMETROS!$H$6)","v":{"v":0.9810612062790134,"d":"9.81E-01"}},{"$f":"$C71/($C71+PARÂMETROS!$J$6)","v":{"v":0.07938428469799098,"d":"7.94E-02"}},{"$f":"$C71*PARÂMETROS!$J$6/($C71^2+$C71*PARÂMETROS!$J$6+PARÂMETROS!$J$6*PARÂMETROS!$K$6)","v":{"v":0.920615715302009,"d":"9.21E-01"}},{"$f":"$C71^2/($C71^2+$C71*PARÂMETROS!$J$6+PARÂMETROS!$J$6*PARÂMETROS!$K$6)","v":{"v":0.07938428469799098,"d":"7.94E-02"}},{"$f":"(PARÂMETROS!$K$6*PARÂMETROS!$J$6*$C71)/($C71^3+PARÂMETROS!$J$6*$C71^2+PARÂMETROS!$J$6*PARÂMETROS!$K$6*$C71+PARÂMETROS!$J$6*PARÂMETROS!$K$6*PARÂMETROS!$L$6)","v":{"v":0,"d":"0.00E+00"}},{"$f":"(PARÂMETROS!$J$6*$C71^2)/($C71^3+PARÂMETROS!$J$6*$C71^2+PARÂMETROS!$J$6*PARÂMETROS!$K$6*$C71+PARÂMETROS!$J$6*PARÂMETROS!$K$6*PARÂMETROS!$L$6)","v":{"v":0.920615715302009,"d":"9.21E-01"}},{"$f":"($C71^3)/($C71^3+PARÂMETROS!$J$6*$C71^2+PARÂMETROS!$J$6*PARÂMETROS!$K$6*$C71+PARÂMETROS!$J$6*PARÂMETROS!$K$6*PARÂMETROS!$L$6)","v":{"v":0.079384284697991,"d":"7.94E-02"}},{"$f":"IF(PARÂMETROS!$J$6<PARÂMETROS!$F$6,(E71-(C71-D71)/PARÂMETROS!$C$11)/(K71+(C71-D71)/PARÂMETROS!$C$14),(K71+(C71-D71)/PARÂMETROS!$C$14)/(E71-(C71-D71)/PARÂMETROS!$C$11))","v":{"v":-3.035025657191602,"d":"-3.04E+00"}},{"$f":"IF(PARÂMETROS!$J$6<PARÂMETROS!$F$6,(E71-(C71-D71)/PARÂMETROS!$C$11)/(L71+2*M71+(C71-D71)/PARÂMETROS!$C$14),(L71+2*M71+(C71-D71)/PARÂMETROS!$C$14)/(E71-(C71-D71)/PARÂMETROS!$C$11))","v":{"v":-5.482615041699531,"d":"-5.48E+00"}},{"$f":"IF(PARÂMETROS!$J$6<PARÂMETROS!$F$6, (E71-(C71-D71)/PARÂMETROS!$C$11)/(N71+2*O71+3*P71+(C71-D71)/PARÂMETROS!$C$14),(N71+2*O71+3*P71+(C71-D71)/PARÂMETROS!$C$14)/ (E71-(C71-D71)/PARÂMETROS!$C$11))","v":{"v":-28.326268046139237,"d":"-2.83E+01"}},{"$f":"IF(PARÂMETROS!$J$6<PARÂMETROS!$F$6,(F71+2*G71-(C71-D71)/PARÂMETROS!$C$11)/(K71+(C71-D71)/PARÂMETROS!$C$14),(K71+(C71-D71)/PARÂMETROS!$C$14)/(F71+2*G71-(C71-D71)/PARÂMETROS!$C$11))","v":{"v":-3.481452960981043,"d":"-3.48E+00"}},{"$f":"IF(PARÂMETROS!$J$6<PARÂMETROS!$F$6,(F71+2*G71-(C71-D71)/PARÂMETROS!$C$11)/(L71+2*M71+(C71-D71)/PARÂMETROS!$C$14),(L71+2*M71+(C71-D71)/PARÂMETROS!$C$14)/(F71+2*G71-(C71-D71)/PARÂMETROS!$C$11))","v":{"v":-6.2890626066424185,"d":"-6.29E+00"}},{"$f":"IF(PARÂMETROS!$J$6<PARÂMETROS!$F$6,(F71+2*G71-(C71-D71)/PARÂMETROS!$C$11)/(N71+2*O71+3*P71+(C71-D71)/PARÂMETROS!$C$14),(N71+2*O71+3*P71+(C71-D71)/PARÂMETROS!$C$14)/(F71+2*G71-(C71-D71)/PARÂMETROS!$C$11))","v":{"v":-32.49282902406398,"d":"-3.25E+01"}},{"$f":"IF(PARÂMETROS!$J$6<PARÂMETROS!$F$6,(H71+2*I71+3*J71-(C71-D71)/PARÂMETROS!$C$11)/(K71+(C71-D71)/PARÂMETROS!$C$14),(K71+(C71-D71)/PARÂMETROS!$C$14)/(H71+2*I71+3*J71-(C71-D71)/PARÂMETROS!$C$11))","v":{"v":-3.9194255895874486,"d":"-3.92E+00"}},{"$f":"IF(PARÂMETROS!$J$6<PARÂMETROS!$F$6,(H71+2*I71+3*J71-(C71-D71)/PARÂMETROS!$C$11)/(L71+2*M71+(C71-D71)/PARÂMETROS!$C$14),(L71+2*M71+(C71-D71)/PARÂMETROS!$C$14)/(H71+2*I71+3*J71-(C71-D71)/PARÂMETROS!$C$11))","v":{"v":-7.080237243258866,"d":"-7.08E+00"}},{"$f":"IF(PARÂMETROS!$J$6<PARÂMETROS!$F$6,(H71+2*I71+3*J71-(C71-D71)/PARÂMETROS!$C$11)/(N71+2*O71+3*P71+(C71-D71)/PARÂMETROS!$C$14),(N71+2*O71+3*P71+(C71-D71)/PARÂMETROS!$C$14)/(H71+2*I71+3*J71-(C71-D71)/PARÂMETROS!$C$11))","v":{"v":-36.580481477802046,"d":"-3.66E+01"}},{"$f":"Q71*PARÂMETROS!$C$11*PARÂMETROS!$D$11/PARÂMETROS!$C$14","v":{"v":-60.70051314383205,"d":"-60.70"}},{"$f":"R71*PARÂMETROS!$C$11*PARÂMETROS!$D$11/PARÂMETROS!$C$14","v":{"v":-109.65230083399062,"d":"-109.65"}},{"$f":"S71*PARÂMETROS!$C$11*PARÂMETROS!$D$11/PARÂMETROS!$C$14","v":{"v":-566.5253609227848,"d":"-566.53"}},{"$f":"T71*PARÂMETROS!$C$11*PARÂMETROS!$D$11/PARÂMETROS!$C$14","v":{"v":-69.62905921962087,"d":"-69.63"}},{"$f":"U71*PARÂMETROS!$C$11*PARÂMETROS!$D$11/PARÂMETROS!$C$14","v":{"v":-125.78125213284838,"d":"-125.78"}},{"$f":"V71*PARÂMETROS!$C$11*PARÂMETROS!$D$11/PARÂMETROS!$C$14","v":{"v":-649.8565804812796,"d":"-649.86"}},{"$f":"W71*PARÂMETROS!$C$11*PARÂMETROS!$D$11/PARÂMETROS!$C$14","v":{"v":-78.38851179174897,"d":"-78.39"}},{"$f":"X71*PARÂMETROS!$C$11*PARÂMETROS!$D$11/PARÂMETROS!$C$14","v":{"v":-141.60474486517734,"d":"-141.60"}},{"$f":"Y71*PARÂMETROS!$C$11*PARÂMETROS!$D$11/PARÂMETROS!$C$14","v":{"v":-731.609629556041,"d":"-731.61"}},{"$f":"AND(B71+PARÂMETROS!$C$8>=PARÂMETROS!$C$5,B71+PARÂMETROS!$C$8<=PARÂMETROS!$D$5)","v":false},0,{"$f":"VLOOKUP('BANCO DE DADOS COMPLETA'!$N$8,'BANCO DE DADOS COMPLETA'!$A$7:$L$249,3)*-1","v":3},7,{"$f":"VLOOKUP('BANCO DE DADOS COMPLETA'!$N$10,'BANCO DE DADOS COMPLETA'!$A$7:$L$249,3)*-1","v":1},11,77,{"v":-78.38851179174897,"d":"-78.39"},"LIMITE","LIMITE","LIMITE","LIMITE","NADA","NADA",0]
[null,{"$f":"B71+PARÂMETROS!$C$8","v":{"v":14.264343848340676,"d":"14.26"}},{"v":5.440717188938348e-15,"d":"5.44E-15"},{"$f":"PARÂMETROS!$Q$4/C72","v":{"v":1.8379929801040271,"d":"1.84E+00"}},{"$f":"PARÂMETROS!$F$6/($C72+PARÂMETROS!$F$6)","v":{"v":0.999999999999235,"d":"1.00E+00"}},{"$f":"$C72*PARÂMETROS!$F$6/($C72^2+$C72*PARÂMETROS!$F$6+PARÂMETROS!$F$6*PARÂMETROS!$G$6)","v":{"v":8.603122647096191E-8,"d":"8.60E-08"}},{"$f":"PARÂMETROS!$F$6*PARÂMETROS!$G$6/($C72^2+$C72*PARÂMETROS!$F$6+PARÂMETROS!$F$6*PARÂMETROS!$G$6)","v":{"v":0.9999999139687735,"d":"1.00E+00"}},{"$f":"(PARÂMETROS!$F$6*$C72^2)/($C72^3+PARÂMETROS!$F$6*$C72^2+PARÂMETROS!$F$6*PARÂMETROS!$G$6*$C72+PARÂMETROS!$F$6*PARÂMETROS!$G$6*PARÂMETROS!$H$6)","v":{"v":1.0352719434917943E-9,"d":"1.04E-09"}},{"$f":"(PARÂMETROS!$F$6*PARÂMETROS!$G$6*$C72)/($C72^3+PARÂMETROS!$F$6*$C72^2+PARÂMETROS!$F$6*PARÂMETROS!$G$6*$C72+PARÂMETROS!$F$6*PARÂMETROS!$G$6*PARÂMETROS!$H$6)","v":{"v":0.012033675409422582,"d":"1.20E-02"}},{"$f":"(PARÂMETROS!$F$6*PARÂMETROS!$G$6*PARÂMETROS!$H$6)/($C72^3+PARÂMETROS!$F$6*$C72^2+PARÂMETROS!$F$6*PARÂMETROS!$G$6*$C72+PARÂMETROS!$F$6*PARÂMETROS!$G$6*PARÂMETROS!$H$6)","v":{"v":0.9879663235553056,"d":"9.88E-01"}},{"$f":"$C72/($C72+PARÂMETROS!$J$6)","v":{"v":0.0515997741099311,"d":"5.16E-02"}},{"$f":"$C72*PARÂMETROS!$J$6/($C72^2+$C72*PARÂMETROS!$J$6+PARÂMETROS!$J$6*PARÂMETROS!$K$6)","v":{"v":0.9484002258900689,"d":"9.48E-01"}},{"$f":"$C72^2/($C72^2+$C72*PARÂMETROS!$J$6+PARÂMETROS!$J$6*PARÂMETROS!$K$6)","v":{"v":0.0515997741099311,"d":"5.16E-02"}},{"$f":"(PARÂMETROS!$K$6*PARÂMETROS!$J$6*$C72)/($C72^3+PARÂMETROS!$J$6*$C72^2+PARÂMETROS!$J$6*PARÂMETROS!$K$6*$C72+PARÂMETROS!$J$6*PARÂMETROS!$K$6*PARÂMETROS!$L$6)","v":{"v":0,"d":"0.00E+00"}},{"$f":"(PARÂMETROS!$J$6*$C72^2)/($C72^3+PARÂMETROS!$J$6*$C72^2+PARÂMETROS!$J$6*PARÂMETROS!$K$6*$C72+PARÂMETROS!$J$6*PARÂMETROS!$K$6*PARÂMETROS!$L$6)","v":{"v":0.9484002258900689,"d":"9.48E-01"}},{"$f":"($C72^3)/($C72^3+PARÂMETROS!$J$6*$C72^2+PARÂMETROS!$J$6*PARÂMETROS!$K$6*$C72+PARÂMETROS!$J$6*PARÂMETROS!$K$6*PARÂMETROS!$L$6)","v":{"v":0.0515997741099311,"d":"5.16E-02"}},{"$f":"IF(PARÂMETROS!$J$6<PARÂMETROS!$F$6,(E72-(C72-D72)/PARÂMETROS!$C$11)/(K72+(C72-D72)/PARÂMETROS!$C$14),(K72+(C72-D72)/PARÂMETROS!$C$14)/(E72-(C72-D72)/PARÂMETROS!$C$11))","v":{"v":-2.811500865885791,"d":"-2.81E+00"}},{"$f":"IF(PARÂMETROS!$J$6<PARÂMETROS!$F$6,(E72-(C72-D72)/PARÂMETROS!$C$11)/(L72+2*M72+(C72-D72)/PARÂMETROS!$C$14),(L72+2*M72+(C72-D72)/PARÂMETROS!$C$14)/(E72-(C72-D72)/PARÂMETROS!$C$11))","v":{"v":-3.882799320655467,"d":"-3.88E+00"}},{"$f":"IF(PARÂMETROS!$J$6<PARÂMETROS!$F$6, (E72-(C72-D72)/PARÂMETROS!$C$11)/(N72+2*O72+3*P72+(C72-D72)/PARÂMETROS!$C$14),(N72+2*O72+3*P72+(C72-D72)/PARÂMETROS!$C$14)/ (E72-(C72-D72)/PARÂMETROS!$C$11))","v":{"v":-6.273117185880744,"d":"-6.27E+00"}},{"$f":"IF(PARÂMETROS!$J$6<PARÂMETROS!$F$6,(F72+2*G72-(C72-D72)/PARÂMETROS!$C$11)/(K72+(C72-D72)/PARÂMETROS!$C$14),(K72+(C72-D72)/PARÂMETROS!$C$14)/(F72+2*G72-(C72-D72)/PARÂMETROS!$C$11))","v":{"v":-3.087409630190542,"d":"-3.09E+00"}},{"$f":"IF(PARÂMETROS!$J$6<PARÂMETROS!$F$6,(F72+2*G72-(C72-D72)/PARÂMETROS!$C$11)/(L72+2*M72+(C72-D72)/PARÂMETROS!$C$14),(L72+2*M72+(C72-D72)/PARÂMETROS!$C$14)/(F72+2*G72-(C72-D72)/PARÂMETROS!$C$11))","v":{"v":-4.263840769229893,"d":"-4.26E+00"}},{"$f":"IF(PARÂMETROS!$J$6<PARÂMETROS!$F$6,(F72+2*G72-(C72-D72)/PARÂMETROS!$C$11)/(N72+2*O72+3*P72+(C72-D72)/PARÂMETROS!$C$14),(N72+2*O72+3*P72+(C72-D72)/PARÂMETROS!$C$14)/(F72+2*G72-(C72-D72)/PARÂMETROS!$C$11))","v":{"v":-6.888734286375552,"d":"-6.89E+00"}},{"$f":"IF(PARÂMETROS!$J$6<PARÂMETROS!$F$6,(H72+2*I72+3*J72-(C72-D72)/PARÂMETROS!$C$11)/(K72+(C72-D72)/PARÂMETROS!$C$14),(K72+(C72-D72)/PARÂMETROS!$C$14)/(H72+2*I72+3*J72-(C72-D72)/PARÂMETROS!$C$11))","v":{"v":-3.3599982445994474,"d":"-3.36E+00"}},{"$f":"IF(PARÂMETROS!$J$6<PARÂMETROS!$F$6,(H72+2*I72+3*J72-(C72-D72)/PARÂMETROS!$C$11)/(L72+2*M72+(C72-D72)/PARÂMETROS!$C$14),(L72+2*M72+(C72-D72)/PARÂMETROS!$C$14)/(H72+2*I72+3*J72-(C72-D72)/PARÂMETROS!$C$11))","v":{"v":-4.640296953073839,"d":"-4.64E+00"}},{"$f":"IF(PARÂMETROS!$J$6<PARÂMETROS!$F$6,(H72+2*I72+3*J72-(C72-D72)/PARÂMETROS!$C$11)/(N72+2*O72+3*P72+(C72-D72)/PARÂMETROS!$C$14),(N72+2*O72+3*P72+(C72-D72)/PARÂMETROS!$C$14)/(H72+2*I72+3*J72-(C72-D72)/PARÂMETROS!$C$11))","v":{"v":-7.496943354518654,"d":"-7.50E+00"}},{"$f":"Q72*PARÂMETROS!$C$11*PARÂMETROS!$D$11/PARÂMETROS!$C$14","v":{"v":-56.23001731771583,"d":"-56.23"}},{"$f":"R72*PARÂMETROS!$C$11*PARÂMETROS!$D$11/PARÂMETROS!$C$14","v":{"v":-77.65598641310935,"d":"-77.66"}},{"$f":"S72*PARÂMETROS!$C$11*PARÂMETROS!$D$11/PARÂMETROS!$C$14","v":{"v":-125.46234371761489,"d":"-125.46"}},{"$f":"T72*PARÂMETROS!$C$11*PARÂMETROS!$D$11/PARÂMETROS!$C$14","v":{"v":-61.74819260381085,"d":"-61.75"}},{"$f":"U72*PARÂMETROS!$C$11*PARÂMETROS!$D$11/PARÂMETROS!$C$14","v":{"v":-85.27681538459787,"d":"-85.28"}},{"$f":"V72*PARÂMETROS!$C$11*PARÂMETROS!$D$11/PARÂMETROS!$C$14","v":{"v":-137.77468572751107,"d":"-137.77"}},{"$f":"W72*PARÂMETROS!$C$11*PARÂMETROS!$D$11/PARÂMETROS!$C$14","v":{"v":-67.19996489198896,"d":"-67.20"}},{"$f":"X72*PARÂMETROS!$C$11*PARÂMETROS!$D$11/PARÂMETROS!$C$14","v":{"v":-92.80593906147678,"d":"-92.81"}},{"$f":"Y72*PARÂMETROS!$C$11*PARÂMETROS!$D$11/PARÂMETROS!$C$14","v":{"v":-149.9388670903731,"d":"-149.94"}},{"$f":"AND(B72+PARÂMETROS!$C$8>=PARÂMETROS!$C$5,B72+PARÂMETROS!$C$8<=PARÂMETROS!$D$5)","v":false},0,{"$f":"VLOOKUP('BANCO DE DADOS COMPLETA'!$N$8,'BANCO DE DADOS COMPLETA'!$A$7:$L$249,3)*-1","v":3},7,{"$f":"VLOOKUP('BANCO DE DADOS COMPLETA'!$N$10,'BANCO DE DADOS COMPLETA'!$A$7:$L$249,3)*-1","v":1},11,77,{"v":-67.19996489198896,"d":"-67.20"},"LIMITE","LIMITE","LIMITE","LIMITE","NADA","NADA",0]
[null,{"$f":"B72+PARÂMETROS!$C$8","v":{"v":14.464343848340675,"d":"14.46"}},{"v":3.4328604696002888E-15,"d":"3.43E-15"},{"$f":"PARÂMETROS!$Q$4/C73","v":{"v":2.9130225619581815,"d":"2.91E+00"}},{"$f":"PARÂMETROS!$F$6/($C73+PARÂMETROS!$F$6)","v":{"v":0.9999999999995173,"d":"1.00E+00"}},{"$f":"$C73*PARÂMETROS!$F$6/($C73^2+$C73*PARÂMETROS!$F$6+PARÂMETROS!$F$6*PARÂMETROS!$G$6)","v":{"v":5.4282035919903129E-8,"d":"5.43E-08"}},{"$f":"PARÂMETROS!$F$6*PARÂMETROS!$G$6/($C73^2+$C73*PARÂMETROS!$F$6+PARÂMETROS!$F$6*PARÂMETROS!$G$6)","v":{"v":0.999999945717964,"d":"1.00E+00"}},{"$f":"(PARÂMETROS!$F$6*$C73^2)/($C73^3+PARÂMETROS!$F$6*$C73^2+PARÂMETROS!$F$6*PARÂMETROS!$G$6*$C73+PARÂMETROS!$F$6*PARÂMETROS!$G$6*PARÂMETROS!$H$6)","v":{"v":4.139876786815804e-10,"d":"4.14E-10"}},{"$f":"(PARÂMETROS!$F$6*PARÂMETROS!$G$6*$C73)/($C73^3+PARÂMETROS!$F$6*$C73^2+PARÂMETROS!$F$6*PARÂMETROS!$G$6*$C73+PARÂMETROS!$F$6*PARÂMETROS!$G$6*PARÂMETROS!$H$6)","v":{"v":0.007626605177822614,"d":"7.63E-03"}},{"$f":"(PARÂMETROS!$F$6*PARÂMETROS!$G$6*PARÂMETROS!$H$6)/($C73^3+PARÂMETROS!$F$6*$C73^2+PARÂMETROS!$F$6*PARÂMETROS!$G$6*$C73+PARÂMETROS!$F$6*PARÂMETROS!$G$6*PARÂMETROS!$H$6)","v":{"v":0.9923733944081897,"d":"9.92E-01"}},{"$f":"$C73/($C73+PARÂMETROS!$J$6)","v":{"v":0.03318926358620076,"d":"3.32E-02"}},{"$f":"$C73*PARÂMETROS!$J$6/($C73^2+$C73*PARÂMETROS!$J$6+PARÂMETROS!$J$6*PARÂMETROS!$K$6)","v":{"v":0.9668107364137993,"d":"9.67E-01"}},{"$f":"$C73^2/($C73^2+$C73*PARÂMETROS!$J$6+PARÂMETROS!$J$6*PARÂMETROS!$K$6)","v":{"v":0.03318926358620076,"d":"3.32E-02"}},{"$f":"(PARÂMETROS!$K$6*PARÂMETROS!$J$6*$C73)/($C73^3+PARÂMETROS!$J$6*$C73^2+PARÂMETROS!$J$6*PARÂMETROS!$K$6*$C73+PARÂMETROS!$J$6*PARÂMETROS!$K$6*PARÂMETROS!$L$6)","v":{"v":0,"d":"0.00E+00"}},{"$f":"(PARÂMETROS!$J$6*$C73^2)/($C73^3+PARÂMETROS!$J$6*$C73^2+PARÂMETROS!$J$6*PARÂMETROS!$K$6*$C73+PARÂMETROS!$J$6*PARÂMETROS!$K$6*PARÂMETROS!$L$6)","v":{"v":0.9668107364137993,"d":"9.67E-01"}},{"$f":"($C73^3)/($C73^3+PARÂMETROS!$J$6*$C73^2+PARÂMETROS!$J$6*PARÂMETROS!$K$6*$C73+PARÂMETROS!$J$6*PARÂMETROS!$K$6*PARÂMETROS!$L$6)","v":{"v":0.03318926358620076,"d":"3.32E-02"}},{"$f":"IF(PARÂMETROS!$J$6<PARÂMETROS!$F$6,(E73-(C73-D73)/PARÂMETROS!$C$11)/(K73+(C73-D73)/PARÂMETROS!$C$14),(K73+(C73-D73)/PARÂMETROS!$C$14)/(E73-(C73-D73)/PARÂMETROS!$C$11))","v":{"v":-2.686949785231372,"d":"-2.69E+00"}},{"$f":"IF(PARÂMETROS!$J$6<PARÂMETROS!$F$6,(E73-(C73-D73)/PARÂMETROS!$C$11)/(L73+2*M73+(C73-D73)/PARÂMETROS!$C$14),(L73+2*M73+(C73-D73)/PARÂMETROS!$C$14)/(E73-(C73-D73)/PARÂMETROS!$C$11))","v":{"v":-3.2475653896919416,"d":"-3.25E+00"}},{"$f":"IF(PARÂMETROS!$J$6<PARÂMETROS!$F$6, (E73-(C73-D73)/PARÂMETROS!$C$11)/(N73+2*O73+3*P73+(C73-D73)/PARÂMETROS!$C$14),(N73+2*O73+3*P73+(C73-D73)/PARÂMETROS!$C$14)/ (E73-(C73-D73)/PARÂMETROS!$C$11))","v":{"v":-4.103797608706258,"d":"-4.10E+00"}},{"$f":"IF(PARÂMETROS!$J$6<PARÂMETROS!$F$6,(F73+2*G73-(C73-D73)/PARÂMETROS!$C$11)/(K73+(C73-D73)/PARÂMETROS!$C$14),(K73+(C73-D73)/PARÂMETROS!$C$14)/(F73+2*G73-(C73-D73)/PARÂMETROS!$C$11))","v":{"v":-2.8595762012564125,"d":"-2.86E+00"}},{"$f":"IF(PARÂMETROS!$J$6<PARÂMETROS!$F$6,(F73+2*G73-(C73-D73)/PARÂMETROS!$C$11)/(L73+2*M73+(C73-D73)/PARÂMETROS!$C$14),(L73+2*M73+(C73-D73)/PARÂMETROS!$C$14)/(F73+2*G73-(C73-D73)/PARÂMETROS!$C$11))","v":{"v":-3.4562092493989103,"d":"-3.46E+00"}},{"$f":"IF(PARÂMETROS!$J$6<PARÂMETROS!$F$6,(F73+2*G73-(C73-D73)/PARÂMETROS!$C$11)/(N73+2*O73+3*P73+(C73-D73)/PARÂMETROS!$C$14),(N73+2*O73+3*P73+(C73-D73)/PARÂMETROS!$C$14)/(F73+2*G73-(C73-D73)/PARÂMETROS!$C$11))","v":{"v":-4.367451167539733,"d":"-4.37E+00"}},{"$f":"IF(PARÂMETROS!$J$6<PARÂMETROS!$F$6,(H73+2*I73+3*J73-(C73-D73)/PARÂMETROS!$C$11)/(K73+(C73-D73)/PARÂMETROS!$C$14),(K73+(C73-D73)/PARÂMETROS!$C$14)/(H73+2*I73+3*J73-(C73-D73)/PARÂMETROS!$C$11))","v":{"v":-3.030886082289717,"d":"-3.03E+00"}},{"$f":"IF(PARÂMETROS!$J$6<PARÂMETROS!$F$6,(H73+2*I73+3*J73-(C73-D73)/PARÂMETROS!$C$11)/(L73+2*M73+(C73-D73)/PARÂMETROS!$C$14),(L73+2*M73+(C73-D73)/PARÂMETROS!$C$14)/(H73+2*I73+3*J73-(C73-D73)/PARÂMETROS!$C$11))","v":{"v":-3.6632618871571174,"d":"-3.66E+00"}},{"$f":"IF(PARÂMETROS!$J$6<PARÂMETROS!$F$6,(H73+2*I73+3*J73-(C73-D73)/PARÂMETROS!$C$11)/(N73+2*O73+3*P73+(C73-D73)/PARÂMETROS!$C$14),(N73+2*O73+3*P73+(C73-D73)/PARÂMETROS!$C$14)/(H73+2*I73+3*J73-(C73-D73)/PARÂMETROS!$C$11))","v":{"v":-4.629093973071988,"d":"-4.63E+00"}},{"$f":"Q73*PARÂMETROS!$C$11*PARÂMETROS!$D$11/PARÂMETROS!$C$14","v":{"v":-53.73899570462745,"d":"-53.74"}},{"$f":"R73*PARÂMETROS!$C$11*PARÂMETROS!$D$11/PARÂMETROS!$C$14","v":{"v":-64.95130779383884,"d":"-64.95"}},{"$f":"S73*PARÂMETROS!$C$11*PARÂMETROS!$D$11/PARÂMETROS!$C$14","v":{"v":-82.07595217412516,"d":"-82.08"}},{"$f":"T73*PARÂMETROS!$C$11*PARÂMETROS!$D$11/PARÂMETROS!$C$14","v":{"v":-57.191524025128246,"d":"-57.19"}},{"$f":"U73*PARÂMETROS!$C$11*PARÂMETROS!$D$11/PARÂMETROS!$C$14","v":{"v":-69.12418498797821,"d":"-69.12"}},{"$f":"V73*PARÂMETROS!$C$11*PARÂMETROS!$D$11/PARÂMETROS!$C$14","v":{"v":-87.34902335079467,"d":"-87.35"}},{"$f":"W73*PARÂMETROS!$C$11*PARÂMETROS!$D$11/PARÂMETROS!$C$14","v":{"v":-60.61772164579434,"d":"-60.62"}},{"$f":"X73*PARÂMETROS!$C$11*PARÂMETROS!$D$11/PARÂMETROS!$C$14","v":{"v":-73.26523774314235,"d":"-73.27"}},{"$f":"Y73*PARÂMETROS!$C$11*PARÂMETROS!$D$11/PARÂMETROS!$C$14","v":{"v":-92.58187946143977,"d":"-92.58"}},{"$f":"AND(B73+PARÂMETROS!$C$8>=PARÂMETROS!$C$5,B73+PARÂMETROS!$C$8<=PARÂMETROS!$D$5)","v":false},0,{"$f":"VLOOKUP('BANCO DE DADOS COMPLETA'!$N$8,'BANCO DE DADOS COMPLETA'!$A$7:$L$249,3)*-1","v":3},7,{"$f":"VLOOKUP('BANCO DE DADOS COMPLETA'!$N$10,'BANCO DE DADOS COMPLETA'!$A$7:$L$249,3)*-1","v":1},11,77,{"v":-60.61772164579434,"d":"-60.62"},"LIMITE","LIMITE","LIMITE","LIMITE","NADA","NADA",0]
[null,{"$f":"B73+PARÂMETROS!$C$8","v":{"v":14.664343848340675,"d":"14.66"}},{"v":2.1659885258700313E-15,"d":"2.17E-15"},{"$f":"PARÂMETROS!$Q$4/C74","v":{"v":4.6168296279331456,"d":"4.62E+00"}},{"$f":"PARÂMETROS!$F$6/($C74+PARÂMETROS!$F$6)","v":{"v":0.9999999999996955,"d":"1.00E+00"}},{"$f":"$C74*PARÂMETROS!$F$6/($C74^2+$C74*PARÂMETROS!$F$6+PARÂMETROS!$F$6*PARÂMETROS!$G$6)","v":{"v":3.4249649923102842E-8,"d":"3.42E-08"}},{"$f":"PARÂMETROS!$F$6*PARÂMETROS!$G$6/($C74^2+$C74*PARÂMETROS!$F$6+PARÂMETROS!$F$6*PARÂMETROS!$G$6)","v":{"v":0.9999999657503501,"d":"1.00E+00"}},{"$f":"(PARÂMETROS!$F$6*$C74^2)/($C74^3+PARÂMETROS!$F$6*$C74^2+PARÂMETROS!$F$6*PARÂMETROS!$G$6*$C74+PARÂMETROS!$F$6*PARÂMETROS!$G$6*PARÂMETROS!$H$6)","v":{"v":1.652766415982137E-10,"d":"1.65E-10"}},{"$f":"(PARÂMETROS!$F$6*PARÂMETROS!$G$6*$C74)/($C74^3+PARÂMETROS!$F$6*$C74^2+PARÂMETROS!$F$6*PARÂMETROS!$G$6*$C74+PARÂMETROS!$F$6*PARÂMETROS!$G$6*PARÂMETROS!$H$6)","v":{"v":4.825644533845601E-3,"d":"4.83E-03"}},{"$f":"(PARÂMETROS!$F$6*PARÂMETROS!$G$6*PARÂMETROS!$H$6)/($C74^3+PARÂMETROS!$F$6*$C74^2+PARÂMETROS!$F$6*PARÂMETROS!$G$6*$C74+PARÂMETROS!$F$6*PARÂMETROS!$G$6*PARÂMETROS!$H$6)","v":{"v":0.9951743553008777,"d":"9.95E-01"}},{"$f":"$C74/($C74+PARÂMETROS!$J$6)","v":{"v":0.02120068094208836,"d":"2.12E-02"}},{"$f":"$C74*PARÂMETROS!$J$6/($C74^2+$C74*PARÂMETROS!$J$6+PARÂMETROS!$J$6*PARÂMETROS!$K$6)","v":{"v":0.9787993190579116,"d":"9.79E-01"}},{"$f":"$C74^2/($C74^2+$C74*PARÂMETROS!$J$6+PARÂMETROS!$J$6*PARÂMETROS!$K$6)","v":{"v":0.02120068094208836,"d":"2.12E-02"}},{"$f":"(PARÂMETROS!$K$6*PARÂMETROS!$J$6*$C74)/($C74^3+PARÂMETROS!$J$6*$C74^2+PARÂMETROS!$J$6*PARÂMETROS!$K$6*$C74+PARÂMETROS!$J$6*PARÂMETROS!$K$6*PARÂMETROS!$L$6)","v":{"v":0,"d":"0.00E+00"}},{"$f":"(PARÂMETROS!$J$6*$C74^2)/($C74^3+PARÂMETROS!$J$6*$C74^2+PARÂMETROS!$J$6*PARÂMETROS!$K$6*$C74+PARÂMETROS!$J$6*PARÂMETROS!$K$6*PARÂMETROS!$L$6)","v":{"v":0.9787993190579116,"d":"9.79E-01"}},{"$f":"($C74^3)/($C74^3+PARÂMETROS!$J$6*$C74^2+PARÂMETROS!$J$6*PARÂMETROS!$K$6*$C74+PARÂMETROS!$J$6*PARÂMETROS!$K$6*PARÂMETROS!$L$6)","v":{"v":0.02120068094208836,"d":"2.12E-02"}},{"$f":"IF(PARÂMETROS!$J$6<PARÂMETROS!$F$6,(E74-(C74-D74)/PARÂMETROS!$C$11)/(K74+(C74-D74)/PARÂMETROS!$C$14),(K74+(C74-D74)/PARÂMETROS!$C$14)/(E74-(C74-D74)/PARÂMETROS!$C$11))","v":{"v":-2.6143019199262536,"d":"-2.61E+00"}},{"$f":"IF(PARÂMETROS!$J$6<PARÂMETROS!$F$6,(E74-(C74-D74)/PARÂMETROS!$C$11)/(L74+2*M74+(C74-D74)/PARÂMETROS!$C$14),(L74+2*M74+(C74-D74)/PARÂMETROS!$C$14)/(E74-(C74-D74)/PARÂMETROS!$C$11))","v":{"v":-2.9326355706929954,"d":"-2.93E+00"}},{"$f":"IF(PARÂMETROS!$J$6<PARÂMETROS!$F$6, (E74-(C74-D74)/PARÂMETROS!$C$11)/(N74+2*O74+3*P74+(C74-D74)/PARÂMETROS!$C$14),(N74+2*O74+3*P74+(C74-D74)/PARÂMETROS!$C$14)/ (E74-(C74-D74)/PARÂMETROS!$C$11))","v":{"v":-3.3392424912358725,"d":"-3.34E+00"}},{"$f":"IF(PARÂMETROS!$J$6<PARÂMETROS!$F$6,(F74+2*G74-(C74-D74)/PARÂMETROS!$C$11)/(K74+(C74-D74)/PARÂMETROS!$C$14),(K74+(C74-D74)/PARÂMETROS!$C$14)/(F74+2*G74-(C74-D74)/PARÂMETROS!$C$11))","v":{"v":-2.72285057255983,"d":"-2.72E+00"}},{"$f":"IF(PARÂMETROS!$J$6<PARÂMETROS!$F$6,(F74+2*G74-(C74-D74)/PARÂMETROS!$C$11)/(L74+2*M74+(C74-D74)/PARÂMETROS!$C$14),(L74+2*M74+(C74-D74)/PARÂMETROS!$C$14)/(F74+2*G74-(C74-D74)/PARÂMETROS!$C$11))","v":{"v":-3.0544017819472042,"d":"-3.05E+00"}},{"$f":"IF(PARÂMETROS!$J$6<PARÂMETROS!$F$6,(F74+2*G74-(C74-D74)/PARÂMETROS!$C$11)/(N74+2*O74+3*P74+(C74-D74)/PARÂMETROS!$C$14),(N74+2*O74+3*P74+(C74-D74)/PARÂMETROS!$C$14)/(F74+2*G74-(C74-D74)/PARÂMETROS!$C$11))","v":{"v":-3.477891463061845,"d":"-3.48E+00"}},{"$f":"IF(PARÂMETROS!$J$6<PARÂMETROS!$F$6,(H74+2*I74+3*J74-(C74-D74)/PARÂMETROS!$C$11)/(K74+(C74-D74)/PARÂMETROS!$C$14),(K74+(C74-D74)/PARÂMETROS!$C$14)/(H74+2*I74+3*J74-(C74-D74)/PARÂMETROS!$C$11))","v":{"v":-2.8308754153628204,"d":"-2.83E+00"}},{"$f":"IF(PARÂMETROS!$J$6<PARÂMETROS!$F$6,(H74+2*I74+3*J74-(C74-D74)/PARÂMETROS!$C$11)/(L74+2*M74+(C74-D74)/PARÂMETROS!$C$14),(L74+2*M74+(C74-D74)/PARÂMETROS!$C$14)/(H74+2*I74+3*J74-(C74-D74)/PARÂMETROS!$C$11))","v":{"v":-3.1755804010301545,"d":"-3.18E+00"}},{"$f":"IF(PARÂMETROS!$J$6<PARÂMETROS!$F$6,(H74+2*I74+3*J74-(C74-D74)/PARÂMETROS!$C$11)/(N74+2*O74+3*P74+(C74-D74)/PARÂMETROS!$C$14),(N74+2*O74+3*P74+(C74-D74)/PARÂMETROS!$C$14)/(H74+2*I74+3*J74-(C74-D74)/PARÂMETROS!$C$11))","v":{"v":-3.6158713736633703,"d":"-3.62E+00"}},{"$f":"Q74*PARÂMETROS!$C$11*PARÂMETROS!$D$11/PARÂMETROS!$C$14","v":{"v":-52.28603839852507,"d":"-52.29"}},{"$f":"R74*PARÂMETROS!$C$11*PARÂMETROS!$D$11/PARÂMETROS!$C$14","v":{"v":-58.65271141385991,"d":"-58.65"}},{"$f":"S74*PARÂMETROS!$C$11*PARÂMETROS!$D$11/PARÂMETROS!$C$14","v":{"v":-66.78484982471745,"d":"-66.78"}},{"$f":"T74*PARÂMETROS!$C$11*PARÂMETROS!$D$11/PARÂMETROS!$C$14","v":{"v":-54.4570114511966,"d":"-54.46"}},{"$f":"U74*PARÂMETROS!$C$11*PARÂMETROS!$D$11/PARÂMETROS!$C$14","v":{"v":-61.08803563894409,"d":"-61.09"}},{"$f":"V74*PARÂMETROS!$C$11*PARÂMETROS!$D$11/PARÂMETROS!$C$14","v":{"v":-69.5578292612369,"d":"-69.56"}},{"$f":"W74*PARÂMETROS!$C$11*PARÂMETROS!$D$11/PARÂMETROS!$C$14","v":{"v":-56.617508307256415,"d":"-56.62"}},{"$f":"X74*PARÂMETROS!$C$11*PARÂMETROS!$D$11/PARÂMETROS!$C$14","v":{"v":-63.51160802060309,"d":"-63.51"}},{"$f":"Y74*PARÂMETROS!$C$11*PARÂMETROS!$D$11/PARÂMETROS!$C$14","v":{"v":-72.31742747326741,"d":"-72.32"}},{"$f":"AND(B74+PARÂMETROS!$C$8>=PARÂMETROS!$C$5,B74+PARÂMETROS!$C$8<=PARÂMETROS!$D$5)","v":false},0,{"$f":"VLOOKUP('BANCO DE DADOS COMPLETA'!$N$8,'BANCO DE DADOS COMPLETA'!$A$7:$L$249,3)*-1","v":3},7,{"$f":"VLOOKUP('BANCO DE DADOS COMPLETA'!$N$10,'BANCO DE DADOS COMPLETA'!$A$7:$L$249,3)*-1","v":1},11,77,{"v":-56.617508307256415,"d":"-56.62"},"LIMITE","LIMITE","LIMITE","LIMITE","NADA",{"$f":"IF(AU73=\"NADA\",\"NADA\",IF(AU74=\"NADA\",\"NADA\",AVERAGE(AU74,AU73)))","v":"NADA"},{"$f":"IF(AV74=\"NADA\",0,1)","v":0}]
[null,{"$f":"B74+PARÂMETROS!$C$8","v":{"v":14.864343848340674,"d":"14.86"}},{"v":1.3666463684575258E-15,"d":"1.37E-15"},{"$f":"PARÂMETROS!$Q$4/C75","v":{"v":7.317181848064005,"d":"7.32E+00"}},{"$f":"PARÂMETROS!$F$6/($C75+PARÂMETROS!$F$6)","v":{"v":0.9999999999998078,"d":"1.00E+00"}},{"$f":"$C75*PARÂMETROS!$F$6/($C75^2+$C75*PARÂMETROS!$F$6+PARÂMETROS!$F$6*PARÂMETROS!$G$6)","v":{"v":2.1610068437999488E-8,"d":"2.16E-08"}},{"$f":"PARÂMETROS!$F$6*PARÂMETROS!$G$6/($C75^2+$C75*PARÂMETROS!$F$6+PARÂMETROS!$F$6*PARÂMETROS!$G$6)","v":{"v":0.9999999783899316,"d":"1.00E+00"}},{"$f":"(PARÂMETROS!$F$6*$C75^2)/($C75^3+PARÂMETROS!$F$6*$C75^2+PARÂMETROS!$F$6*PARÂMETROS!$G$6*$C75+PARÂMETROS!$F$6*PARÂMETROS!$G$6*PARÂMETROS!$H$6)","v":{"v":6.591520247098581E-11,"d":"6.59E-11"}},{"$f":"(PARÂMETROS!$F$6*PARÂMETROS!$G$6*$C75)/($C75^3+PARÂMETROS!$F$6*$C75^2+PARÂMETROS!$F$6*PARÂMETROS!$G$6*$C75+PARÂMETROS!$F$6*PARÂMETROS!$G$6*PARÂMETROS!$H$6)","v":{"v":0.003050207880445553,"d":"3.05E-03"}},{"$f":"(PARÂMETROS!$F$6*PARÂMETROS!$G$6*PARÂMETROS!$H$6)/($C75^3+PARÂMETROS!$F$6*$C75^2+PARÂMETROS!$F$6*PARÂMETROS!$G$6*$C75+PARÂMETROS!$F$6*PARÂMETROS!$G$6*PARÂMETROS!$H$6)","v":{"v":0.9969497920536392,"d":"9.97E-01"}},{"$f":"$C75/($C75+PARÂMETROS!$J$6)","v":{"v":0.013482209557272954,"d":"1.35E-02"}},{"$f":"$C75*PARÂMETROS!$J$6/($C75^2+$C75*PARÂMETROS!$J$6+PARÂMETROS!$J$6*PARÂMETROS!$K$6)","v":{"v":0.986517790442727,"d":"9.87E-01"}},{"$f":"$C75^2/($C75^2+$C75*PARÂMETROS!$J$6+PARÂMETROS!$J$6*PARÂMETROS!$K$6)","v":{"v":0.013482209557272954,"d":"1.35E-02"}},{"$f":"(PARÂMETROS!$K$6*PARÂMETROS!$J$6*$C75)/($C75^3+PARÂMETROS!$J$6*$C75^2+PARÂMETROS!$J$6*PARÂMETROS!$K$6*$C75+PARÂMETROS!$J$6*PARÂMETROS!$K$6*PARÂMETROS!$L$6)","v":{"v":0,"d":"0.00E+00"}},{"$f":"(PARÂMETROS!$J$6*$C75^2)/($C75^3+PARÂMETROS!$J$6*$C75^2+PARÂMETROS!$J$6*PARÂMETROS!$K$6*$C75+PARÂMETROS!$J$6*PARÂMETROS!$K$6*PARÂMETROS!$L$6)","v":{"v":0.986517790442727,"d":"9.87E-01"}},{"$f":"($C75^3)/($C75^3+PARÂMETROS!$J$6*$C75^2+PARÂMETROS!$J$6*PARÂMETROS!$K$6*$C75+PARÂMETROS!$J$6*PARÂMETROS!$K$6*PARÂMETROS!$L$6)","v":{"v":0.013482209557272954,"d":"1.35E-02"}},{"$f":"IF(PARÂMETROS!$J$6<PARÂMETROS!$F$6,(E75-(C75-D75)/PARÂMETROS!$C$11)/(K75+(C75-D75)/PARÂMETROS!$C$14),(K75+(C75-D75)/PARÂMETROS!$C$14)/(E75-(C75-D75)/PARÂMETROS!$C$11))","v":{"v":-2.5707006294280164,"d":"-2.57E+00"}},{"$f":"IF(PARÂMETROS!$J$6<PARÂMETROS!$F$6,(E75-(C75-D75)/PARÂMETROS!$C$11)/(L75+2*M75+(C75-D75)/PARÂMETROS!$C$14),(L75+2*M75+(C75-D75)/PARÂMETROS!$C$14)/(E75-(C75-D75)/PARÂMETROS!$C$11))","v":{"v":-2.7594329542751677,"d":"-2.76E+00"}},{"$f":"IF(PARÂMETROS!$J$6<PARÂMETROS!$F$6, (E75-(C75-D75)/PARÂMETROS!$C$11)/(N75+2*O75+3*P75+(C75-D75)/PARÂMETROS!$C$14),(N75+2*O75+3*P75+(C75-D75)/PARÂMETROS!$C$14)/ (E75-(C75-D75)/PARÂMETROS!$C$11))","v":{"v":-2.9780732257341263,"d":"-2.98E+00"}},{"$f":"IF(PARÂMETROS!$J$6<PARÂMETROS!$F$6,(F75+2*G75-(C75-D75)/PARÂMETROS!$C$11)/(K75+(C75-D75)/PARÂMETROS!$C$14),(K75+(C75-D75)/PARÂMETROS!$C$14)/(F75+2*G75-(C75-D75)/PARÂMETROS!$C$11))","v":{"v":-2.639095956981189,"d":"-2.64E+00"}},{"$f":"IF(PARÂMETROS!$J$6<PARÂMETROS!$F$6,(F75+2*G75-(C75-D75)/PARÂMETROS!$C$11)/(L75+2*M75+(C75-D75)/PARÂMETROS!$C$14),(L75+2*M75+(C75-D75)/PARÂMETROS!$C$14)/(F75+2*G75-(C75-D75)/PARÂMETROS!$C$11))","v":{"v":-2.8328496402199104,"d":"-2.83E+00"}},{"$f":"IF(PARÂMETROS!$J$6<PARÂMETROS!$F$6,(F75+2*G75-(C75-D75)/PARÂMETROS!$C$11)/(N75+2*O75+3*P75+(C75-D75)/PARÂMETROS!$C$14),(N75+2*O75+3*P75+(C75-D75)/PARÂMETROS!$C$14)/(F75+2*G75-(C75-D75)/PARÂMETROS!$C$11))","v":{"v":-3.057306992365575,"d":"-3.06E+00"}},{"$f":"IF(PARÂMETROS!$J$6<PARÂMETROS!$F$6,(H75+2*I75+3*J75-(C75-D75)/PARÂMETROS!$C$11)/(K75+(C75-D75)/PARÂMETROS!$C$14),(K75+(C75-D75)/PARÂMETROS!$C$14)/(H75+2*I75+3*J75-(C75-D75)/PARÂMETROS!$C$11))","v":{"v":-2.707282667509791,"d":"-2.71E+00"}},{"$f":"IF(PARÂMETROS!$J$6<PARÂMETROS!$F$6,(H75+2*I75+3*J75-(C75-D75)/PARÂMETROS!$C$11)/(L75+2*M75+(C75-D75)/PARÂMETROS!$C$14),(L75+2*M75+(C75-D75)/PARÂMETROS!$C$14)/(H75+2*I75+3*J75-(C75-D75)/PARÂMETROS!$C$11))","v":{"v":-2.9060423931691757,"d":"-2.91E+00"}},{"$f":"IF(PARÂMETROS!$J$6<PARÂMETROS!$F$6,(H75+2*I75+3*J75-(C75-D75)/PARÂMETROS!$C$11)/(N75+2*O75+3*P75+(C75-D75)/PARÂMETROS!$C$14),(N75+2*O75+3*P75+(C75-D75)/PARÂMETROS!$C$14)/(H75+2*I75+3*J75-(C75-D75)/PARÂMETROS!$C$11))","v":{"v":-3.136299082946459,"d":"-3.14E+00"}},{"$f":"Q75*PARÂMETROS!$C$11*PARÂMETROS!$D$11/PARÂMETROS!$C$14","v":{"v":-51.41401258856033,"d":"-51.41"}},{"$f":"R75*PARÂMETROS!$C$11*PARÂMETROS!$D$11/PARÂMETROS!$C$14","v":{"v":-55.18865908550335,"d":"-55.19"}},{"$f":"S75*PARÂMETROS!$C$11*PARÂMETROS!$D$11/PARÂMETROS!$C$14","v":{"v":-59.56146451468253,"d":"-59.56"}},{"$f":"T75*PARÂMETROS!$C$11*PARÂMETROS!$D$11/PARÂMETROS!$C$14","v":{"v":-52.78191913962379,"d":"-52.78"}},{"$f":"U75*PARÂMETROS!$C$11*PARÂMETROS!$D$11/PARÂMETROS!$C$14","v":{"v":-56.65699280439821,"d":"-56.66"}},{"$f":"V75*PARÂMETROS!$C$11*PARÂMETROS!$D$11/PARÂMETROS!$C$14","v":{"v":-61.14613984731151,"d":"-61.15"}},{"$f":"W75*PARÂMETROS!$C$11*PARÂMETROS!$D$11/PARÂMETROS!$C$14","v":{"v":-54.14565335019582,"d":"-54.15"}},{"$f":"X75*PARÂMETROS!$C$11*PARÂMETROS!$D$11/PARÂMETROS!$C$14","v":{"v":-58.12084786338352,"d":"-58.12"}},{"$f":"Y75*PARÂMETROS!$C$11*PARÂMETROS!$D$11/PARÂMETROS!$C$14","v":{"v":-62.725981658929186,"d":"-62.73"}},{"$f":"AND(B75+PARÂMETROS!$C$8>=PARÂMETROS!$C$5,B75+PARÂMETROS!$C$8<=PARÂMETROS!$D$5)","v":false},0,{"$f":"VLOOKUP('BANCO DE DADOS COMPLETA'!$N$8,'BANCO DE DADOS COMPLETA'!$A$7:$L$249,3)*-1","v":3},7,{"$f":"VLOOKUP('BANCO DE DADOS COMPLETA'!$N$10,'BANCO DE DADOS COMPLETA'!$A$7:$L$249,3)*-1","v":1},11,77,{"v":-54.14565335019582,"d":"-54.15"},"LIMITE","LIMITE","LIMITE","LIMITE",{"$f":"IF(AT74>0,IF(AT76<0,AQ75,\"NADA\"),\"NADA\")","v":"NADA"},"NADA",0]
[null,{"$f":"B75+PARÂMETROS!$C$8","v":{"v":15.064343848340673,"d":"15.06"}},{"v":8.62295563485462e-16,"d":"8.62E-16"},{"$f":"PARÂMETROS!$Q$4/C76","v":{"v":11.596951698996646,"d":"1.16E+01"}},{"$f":"PARÂMETROS!$F$6/($C76+PARÂMETROS!$F$6)","v":{"v":0.9999999999998788,"d":"1.00E+00"}},{"$f":"$C76*PARÂMETROS!$F$6/($C76^2+$C76*PARÂMETROS!$F$6+PARÂMETROS!$F$6*PARÂMETROS!$G$6)","v":{"v":1.3635031504415306E-8,"d":"1.36E-08"}},{"$f":"PARÂMETROS!$F$6*PARÂMETROS!$G$6/($C76^2+$C76*PARÂMETROS!$F$6+PARÂMETROS!$F$6*PARÂMETROS!$G$6)","v":{"v":0.9999999863649686,"d":"1.00E+00"}},{"$f":"(PARÂMETROS!$F$6*$C76^2)/($C76^3+PARÂMETROS!$F$6*$C76^2+PARÂMETROS!$F$6*PARÂMETROS!$G$6*$C76+PARÂMETROS!$F$6*PARÂMETROS!$G$6*PARÂMETROS!$H$6)","v":{"v":2.627088675596894e-11,"d":"2.63E-11"}},{"$f":"(PARÂMETROS!$F$6*PARÂMETROS!$G$6*$C76)/($C76^3+PARÂMETROS!$F$6*$C76^2+PARÂMETROS!$F$6*PARÂMETROS!$G$6*$C76+PARÂMETROS!$F$6*PARÂMETROS!$G$6*PARÂMETROS!$H$6)","v":{"v":1.9267198898115867E-3,"d":"1.93E-03"}},{"$f":"(PARÂMETROS!$F$6*PARÂMETROS!$G$6*PARÂMETROS!$H$6)/($C76^3+PARÂMETROS!$F$6*$C76^2+PARÂMETROS!$F$6*PARÂMETROS!$G$6*$C76+PARÂMETROS!$F$6*PARÂMETROS!$G$6*PARÂMETROS!$H$6)","v":{"v":0.9980732800839175,"d":"9.98E-01"}},{"$f":"$C76/($C76+PARÂMETROS!$J$6)","v":{"v":0.008549235952524102,"d":"8.55E-03"}},{"$f":"$C76*PARÂMETROS!$J$6/($C76^2+$C76*PARÂMETROS!$J$6+PARÂMETROS!$J$6*PARÂMETROS!$K$6)","v":{"v":0.9914507640474759,"d":"9.91E-01"}},{"$f":"$C76^2/($C76^2+$C76*PARÂMETROS!$J$6+PARÂMETROS!$J$6*PARÂMETROS!$K$6)","v":{"v":8.5492359525241E-3,"d":"8.55E-03"}},{"$f":"(PARÂMETROS!$K$6*PARÂMETROS!$J$6*$C76)/($C76^3+PARÂMETROS!$J$6*$C76^2+PARÂMETROS!$J$6*PARÂMETROS!$K$6*$C76+PARÂMETROS!$J$6*PARÂMETROS!$K$6*PARÂMETROS!$L$6)","v":{"v":0,"d":"0.00E+00"}},{"$f":"(PARÂMETROS!$J$6*$C76^2)/($C76^3+PARÂMETROS!$J$6*$C76^2+PARÂMETROS!$J$6*PARÂMETROS!$K$6*$C76+PARÂMETROS!$J$6*PARÂMETROS!$K$6*PARÂMETROS!$L$6)","v":{"v":0.9914507640474759,"d":"9.91E-01"}},{"$f":"($C76^3)/($C76^3+PARÂMETROS!$J$6*$C76^2+PARÂMETROS!$J$6*PARÂMETROS!$K$6*$C76+PARÂMETROS!$J$6*PARÂMETROS!$K$6*PARÂMETROS!$L$6)","v":{"v":0.008549235952524102,"d":"8.55E-03"}},{"$f":"IF(PARÂMETROS!$J$6<PARÂMETROS!$F$6,(E76-(C76-D76)/PARÂMETROS!$C$11)/(K76+(C76-D76)/PARÂMETROS!$C$14),(K76+(C76-D76)/PARÂMETROS!$C$14)/(E76-(C76-D76)/PARÂMETROS!$C$11))","v":{"v":-2.544052511889311,"d":"-2.54E+00"}},{"$f":"IF(PARÂMETROS!$J$6<PARÂMETROS!$F$6,(E76-(C76-D76)/PARÂMETROS!$C$11)/(L76+2*M76+(C76-D76)/PARÂMETROS!$C$14),(L76+2*M76+(C76-D76)/PARÂMETROS!$C$14)/(E76-(C76-D76)/PARÂMETROS!$C$11))","v":{"v":-2.6587251239786953,"d":"-2.66E+00"}},{"$f":"IF(PARÂMETROS!$J$6<PARÂMETROS!$F$6, (E76-(C76-D76)/PARÂMETROS!$C$11)/(N76+2*O76+3*P76+(C76-D76)/PARÂMETROS!$C$14),(N76+2*O76+3*P76+(C76-D76)/PARÂMETROS!$C$14)/ (E76-(C76-D76)/PARÂMETROS!$C$11))","v":{"v":-2.7842233858270866,"d":"-2.78E+00"}},{"$f":"IF(PARÂMETROS!$J$6<PARÂMETROS!$F$6,(F76+2*G76-(C76-D76)/PARÂMETROS!$C$11)/(K76+(C76-D76)/PARÂMETROS!$C$14),(K76+(C76-D76)/PARÂMETROS!$C$14)/(F76+2*G76-(C76-D76)/PARÂMETROS!$C$11))","v":{"v":-2.5871831873741953,"d":"-2.59E+00"}},{"$f":"IF(PARÂMETROS!$J$6<PARÂMETROS!$F$6,(F76+2*G76-(C76-D76)/PARÂMETROS!$C$11)/(L76+2*M76+(C76-D76)/PARÂMETROS!$C$14),(L76+2*M76+(C76-D76)/PARÂMETROS!$C$14)/(F76+2*G76-(C76-D76)/PARÂMETROS!$C$11))","v":{"v":-2.703799905253817,"d":"-2.70E+00"}},{"$f":"IF(PARÂMETROS!$J$6<PARÂMETROS!$F$6,(F76+2*G76-(C76-D76)/PARÂMETROS!$C$11)/(N76+2*O76+3*P76+(C76-D76)/PARÂMETROS!$C$14),(N76+2*O76+3*P76+(C76-D76)/PARÂMETROS!$C$14)/(F76+2*G76-(C76-D76)/PARÂMETROS!$C$11))","v":{"v":-2.8314258058912674,"d":"-2.83E+00"}},{"$f":"IF(PARÂMETROS!$J$6<PARÂMETROS!$F$6,(H76+2*I76+3*J76-(C76-D76)/PARÂMETROS!$C$11)/(K76+(C76-D76)/PARÂMETROS!$C$14),(K76+(C76-D76)/PARÂMETROS!$C$14)/(H76+2*I76+3*J76-(C76-D76)/PARÂMETROS!$C$11))","v":{"v":-2.6302307633015336,"d":"-2.63E+00"}},{"$f":"IF(PARÂMETROS!$J$6<PARÂMETROS!$F$6,(H76+2*I76+3*J76-(C76-D76)/PARÂMETROS!$C$11)/(L76+2*M76+(C76-D76)/PARÂMETROS!$C$14),(L76+2*M76+(C76-D76)/PARÂMETROS!$C$14)/(H76+2*I76+3*J76-(C76-D76)/PARÂMETROS!$C$11))","v":{"v":-2.7487878412769606,"d":"-2.75E+00"}},{"$f":"IF(PARÂMETROS!$J$6<PARÂMETROS!$F$6,(H76+2*I76+3*J76-(C76-D76)/PARÂMETROS!$C$11)/(N76+2*O76+3*P76+(C76-D76)/PARÂMETROS!$C$14),(N76+2*O76+3*P76+(C76-D76)/PARÂMETROS!$C$14)/(H76+2*I76+3*J76-(C76-D76)/PARÂMETROS!$C$11))","v":{"v":-2.8785372813973504,"d":"-2.88E+00"}},{"$f":"Q76*PARÂMETROS!$C$11*PARÂMETROS!$D$11/PARÂMETROS!$C$14","v":{"v":-50.881050237786226,"d":"-50.88"}},{"$f":"R76*PARÂMETROS!$C$11*PARÂMETROS!$D$11/PARÂMETROS!$C$14","v":{"v":-53.1745024795739,"d":"-53.17"}},{"$f":"S76*PARÂMETROS!$C$11*PARÂMETROS!$D$11/PARÂMETROS!$C$14","v":{"v":-55.68446771654173,"d":"-55.68"}},{"$f":"T76*PARÂMETROS!$C$11*PARÂMETROS!$D$11/PARÂMETROS!$C$14","v":{"v":-51.7436637474839,"d":"-51.74"}},{"$f":"U76*PARÂMETROS!$C$11*PARÂMETROS!$D$11/PARÂMETROS!$C$14","v":{"v":-54.07599810507634,"d":"-54.08"}},{"$f":"V76*PARÂMETROS!$C$11*PARÂMETROS!$D$11/PARÂMETROS!$C$14","v":{"v":-56.62851611782534,"d":"-56.63"}},{"$f":"W76*PARÂMETROS!$C$11*PARÂMETROS!$D$11/PARÂMETROS!$C$14","v":{"v":-52.60461526603068,"d":"-52.60"}},{"$f":"X76*PARÂMETROS!$C$11*PARÂMETROS!$D$11/PARÂMETROS!$C$14","v":{"v":-54.975756825539214,"d":"-54.98"}},{"$f":"Y76*PARÂMETROS!$C$11*PARÂMETROS!$D$11/PARÂMETROS!$C$14","v":{"v":-57.570745627947005,"d":"-57.57"}},{"$f":"AND(B76+PARÂMETROS!$C$8>=PARÂMETROS!$C$5,B76+PARÂMETROS!$C$8<=PARÂMETROS!$D$5)","v":false},0,{"$f":"VLOOKUP('BANCO DE DADOS COMPLETA'!$N$8,'BANCO DE DADOS COMPLETA'!$A$7:$L$249,3)*-1","v":3},7,{"$f":"VLOOKUP('BANCO DE DADOS COMPLETA'!$N$10,'BANCO DE DADOS COMPLETA'!$A$7:$L$249,3)*-1","v":1},11,77,{"v":-52.60461526603068,"d":"-52.60"},"LIMITE","LIMITE","LIMITE","LIMITE","NADA","NADA",0]
[null,{"$f":"B76+PARÂMETROS!$C$8","v":{"v":15.264343848340673,"d":"15.26"}},{"$f":"10^(-B77)","v":{"v":5.440717188938361e-16,"d":"5.44E-16"}},{"$f":"PARÂMETROS!$Q$4/C77","v":{"v":18.379929801040227,"d":"1.84E+01"}},{"$f":"PARÂMETROS!$F$6/($C77+PARÂMETROS!$F$6)","v":{"v":0.9999999999999235,"d":"1.00E+00"}},{"$f":"$C77*PARÂMETROS!$F$6/($C77^2+$C77*PARÂMETROS!$F$6+PARÂMETROS!$F$6*PARÂMETROS!$G$6)","v":{"v":8.6031233132197365E-9,"d":"8.60E-09"}},{"$f":"PARÂMETROS!$F$6*PARÂMETROS!$G$6/($C77^2+$C77*PARÂMETROS!$F$6+PARÂMETROS!$F$6*PARÂMETROS!$G$6)","v":{"v":0.9999999913968767,"d":"1.00E+00"}},{"$f":"(PARÂMETROS!$F$6*$C77^2)/($C77^3+PARÂMETROS!$F$6*$C77^2+PARÂMETROS!$F$6*PARÂMETROS!$G$6*$C77+PARÂMETROS!$F$6*PARÂMETROS!$G$6*PARÂMETROS!$H$6)","v":{"v":1.0466070208172507E-11,"d":"1.05E-11"}},{"$f":"(PARÂMETROS!$F$6*PARÂMETROS!$G$6*$C77)/($C77^3+PARÂMETROS!$F$6*$C77^2+PARÂMETROS!$F$6*PARÂMETROS!$G$6*$C77+PARÂMETROS!$F$6*PARÂMETROS!$G$6*PARÂMETROS!$H$6)","v":{"v":1.2165430782619653E-3,"d":"1.22E-03"}},{"$f":"(PARÂMETROS!$F$6*PARÂMETROS!$G$6*PARÂMETROS!$H$6)/($C77^3+PARÂMETROS!$F$6*$C77^2+PARÂMETROS!$F$6*PARÂMETROS!$G$6*$C77+PARÂMETROS!$F$6*PARÂMETROS!$G$6*PARÂMETROS!$H$6)","v":{"v":0.998783456911272,"d":"9.99E-01"}},{"$f":"$C77/($C77+PARÂMETROS!$J$6)","v":{"v":0.005411275966771856,"d":"5.41E-03"}},{"$f":"$C77*PARÂMETROS!$J$6/($C77^2+$C77*PARÂMETROS!$J$6+PARÂMETROS!$J$6*PARÂMETROS!$K$6)","v":{"v":0.9945887240332282,"d":"9.95E-01"}},{"$f":"$C77^2/($C77^2+$C77*PARÂMETROS!$J$6+PARÂMETROS!$J$6*PARÂMETROS!$K$6)","v":{"v":0.005411275966771856,"d":"5.41E-03"}},{"$f":"(PARÂMETROS!$K$6*PARÂMETROS!$J$6*$C77)/($C77^3+PARÂMETROS!$J$6*$C77^2+PARÂMETROS!$J$6*PARÂMETROS!$K$6*$C77+PARÂMETROS!$J$6*PARÂMETROS!$K$6*PARÂMETROS!$L$6)","v":{"v":0,"d":"0.00E+00"}},{"$f":"(PARÂMETROS!$J$6*$C77^2)/($C77^3+PARÂMETROS!$J$6*$C77^2+PARÂMETROS!$J$6*PARÂMETROS!$K$6*$C77+PARÂMETROS!$J$6*PARÂMETROS!$K$6*PARÂMETROS!$L$6)","v":{"v":0.9945887240332281,"d":"9.95E-01"}},{"$f":"($C77^3)/($C77^3+PARÂMETROS!$J$6*$C77^2+PARÂMETROS!$J$6*PARÂMETROS!$K$6*$C77+PARÂMETROS!$J$6*PARÂMETROS!$K$6*PARÂMETROS!$L$6)","v":{"v":0.005411275966771855,"d":"5.41E-03"}},{"$f":"IF(PARÂMETROS!$J$6<PARÂMETROS!$F$6,(E77-(C77-D77)/PARÂMETROS!$C$11)/(K77+(C77-D77)/PARÂMETROS!$C$14),(K77+(C77-D77)/PARÂMETROS!$C$14)/(E77-(C77-D77)/PARÂMETROS!$C$11))","v":{"v":-2.527575660527511,"d":"-2.53E+00"}},{"$f":"IF(PARÂMETROS!$J$6<PARÂMETROS!$F$6,(E77-(C77-D77)/PARÂMETROS!$C$11)/(L77+2*M77+(C77-D77)/PARÂMETROS!$C$14),(L77+2*M77+(C77-D77)/PARÂMETROS!$C$14)/(E77-(C77-D77)/PARÂMETROS!$C$11))","v":{"v":-2.5982682814141116,"d":"-2.60E+00"}},{"$f":"IF(PARÂMETROS!$J$6<PARÂMETROS!$F$6, (E77-(C77-D77)/PARÂMETROS!$C$11)/(N77+2*O77+3*P77+(C77-D77)/PARÂMETROS!$C$14),(N77+2*O77+3*P77+(C77-D77)/PARÂMETROS!$C$14)/ (E77-(C77-D77)/PARÂMETROS!$C$11))","v":{"v":-2.6730290215942927,"d":"-2.67E+00"}},{"$f":"IF(PARÂMETROS!$J$6<PARÂMETROS!$F$6,(F77+2*G77-(C77-D77)/PARÂMETROS!$C$11)/(K77+(C77-D77)/PARÂMETROS!$C$14),(K77+(C77-D77)/PARÂMETROS!$C$14)/(F77+2*G77-(C77-D77)/PARÂMETROS!$C$11))","v":{"v":-2.5547832513618007,"d":"-2.55E+00"}},{"$f":"IF(PARÂMETROS!$J$6<PARÂMETROS!$F$6,(F77+2*G77-(C77-D77)/PARÂMETROS!$C$11)/(L77+2*M77+(C77-D77)/PARÂMETROS!$C$14),(L77+2*M77+(C77-D77)/PARÂMETROS!$C$14)/(F77+2*G77-(C77-D77)/PARÂMETROS!$C$11))","v":{"v":-2.6262368290554017,"d":"-2.63E+00"}},{"$f":"IF(PARÂMETROS!$J$6<PARÂMETROS!$F$6,(F77+2*G77-(C77-D77)/PARÂMETROS!$C$11)/(N77+2*O77+3*P77+(C77-D77)/PARÂMETROS!$C$14),(N77+2*O77+3*P77+(C77-D77)/PARÂMETROS!$C$14)/(F77+2*G77-(C77-D77)/PARÂMETROS!$C$11))","v":{"v":-2.7018023165122145,"d":"-2.70E+00"}},{"$f":"IF(PARÂMETROS!$J$6<PARÂMETROS!$F$6,(H77+2*I77+3*J77-(C77-D77)/PARÂMETROS!$C$11)/(K77+(C77-D77)/PARÂMETROS!$C$14),(K77+(C77-D77)/PARÂMETROS!$C$14)/(H77+2*I77+3*J77-(C77-D77)/PARÂMETROS!$C$11))","v":{"v":-2.5819577434570693,"d":"-2.58E+00"}},{"$f":"IF(PARÂMETROS!$J$6<PARÂMETROS!$F$6,(H77+2*I77+3*J77-(C77-D77)/PARÂMETROS!$C$11)/(L77+2*M77+(C77-D77)/PARÂMETROS!$C$14),(L77+2*M77+(C77-D77)/PARÂMETROS!$C$14)/(H77+2*I77+3*J77-(C77-D77)/PARÂMETROS!$C$11))","v":{"v":-2.654171352234003,"d":"-2.65E+00"}},{"$f":"IF(PARÂMETROS!$J$6<PARÂMETROS!$F$6,(H77+2*I77+3*J77-(C77-D77)/PARÂMETROS!$C$11)/(N77+2*O77+3*P77+(C77-D77)/PARÂMETROS!$C$14),(N77+2*O77+3*P77+(C77-D77)/PARÂMETROS!$C$14)/(H77+2*I77+3*J77-(C77-D77)/PARÂMETROS!$C$11))","v":{"v":-2.73054060797154,"d":"-2.73E+00"}},{"$f":"Q77*PARÂMETROS!$C$11*PARÂMETROS!$D$11/PARÂMETROS!$C$14","v":{"v":-50.551513210550226,"d":"-50.55"}},{"$f":"R77*PARÂMETROS!$C$11*PARÂMETROS!$D$11/PARÂMETROS!$C$14","v":{"v":-51.965365628282235,"d":"-51.97"}},{"$f":"S77*PARÂMETROS!$C$11*PARÂMETROS!$D$11/PARÂMETROS!$C$14","v":{"v":-53.46058043188585,"d":"-53.46"}},{"$f":"T77*PARÂMETROS!$C$11*PARÂMETROS!$D$11/PARÂMETROS!$C$14","v":{"v":-51.095665027236016,"d":"-51.10"}},{"$f":"U77*PARÂMETROS!$C$11*PARÂMETROS!$D$11/PARÂMETROS!$C$14","v":{"v":-52.52473658110803,"d":"-52.52"}},{"$f":"V77*PARÂMETROS!$C$11*PARÂMETROS!$D$11/PARÂMETROS!$C$14","v":{"v":-54.03604633024429,"d":"-54.04"}},{"$f":"W77*PARÂMETROS!$C$11*PARÂMETROS!$D$11/PARÂMETROS!$C$14","v":{"v":-51.63915486914139,"d":"-51.64"}},{"$f":"X77*PARÂMETROS!$C$11*PARÂMETROS!$D$11/PARÂMETROS!$C$14","v":{"v":-53.083427044680064,"d":"-53.08"}},{"$f":"Y77*PARÂMETROS!$C$11*PARÂMETROS!$D$11/PARÂMETROS!$C$14","v":{"v":-54.61081215943081,"d":"-54.61"}},{"$f":"AND(B77+PARÂMETROS!$C$8>=PARÂMETROS!$C$5,B77+PARÂMETROS!$C$8<=PARÂMETROS!$D$5)","v":false},{"$f":"N(AI77)","v":0},{"$f":"VLOOKUP('BANCO DE DADOS COMPLETA'!$N$8,'BANCO DE DADOS COMPLETA'!$A$7:$L$249,3)*-1","v":3},{"$f":"IF(AK77=1,3,IF(AK77=2,5,IF(AK77=3,7,3)))","v":7},{"$f":"VLOOKUP('BANCO DE DADOS COMPLETA'!$N$10,'BANCO DE DADOS COMPLETA'!$A$7:$L$249,3)*-1","v":1},{"$f":"IF(AM77=1,11,IF(AM77=2,13,IF(AM77=3,17,11)))","v":11},{"$f":"AN77*AL77","v":77},{"$f":"IF(AO77=33,Z77,IF(AO77=39,AA77,IF(AO77=51,AB77,IF(AO77=55,AC77,IF(AO77=65,AD77,IF(AO77=85,AE77,IF(AO77=77,AF77,IF(AO77=91,AG77,IF(AO77=119,AH77)))))))))","v":{"v":-51.63915486914139,"d":"-51.64"}},{"$f":"IF(AP77>=0,IF(AJ77=1,AP77,\"LIMITE\"),\"LIMITE\")","v":"LIMITE"},{"$f":"IF(AJ77=1,B77,\"LIMITE\")","v":"LIMITE"},{"$f":"IF(AQ76=\"LIMITE\",\"LIMITE\",(AR77-AR76)/(AQ77-AQ76))","v":"LIMITE"},{"$f":"IF(AS76=\"LIMITE\",\"LIMITE\",(AS77-AS76)/(AQ76-AQ75))","v":"LIMITE"},"NADA","NADA",0]
[null,{"$f":"B77+PARÂMETROS!$C$8","v":{"v":15.464343848340672,"d":"15.46"}},{"v":3.4328604696002967E-16,"d":"3.43E-16"},{"$f":"PARÂMETROS!$Q$4/C78","v":{"v":29.13022561958175,"d":"2.91E+01"}},{"$f":"PARÂMETROS!$F$6/($C78+PARÂMETROS!$F$6)","v":{"v":0.9999999999999517,"d":"1.00E+00"}},{"$f":"$C78*PARÂMETROS!$F$6/($C78^2+$C78*PARÂMETROS!$F$6+PARÂMETROS!$F$6*PARÂMETROS!$G$6)","v":{"v":5.4282038571788866E-9,"d":"5.43E-09"}},{"$f":"PARÂMETROS!$F$6*PARÂMETROS!$G$6/($C78^2+$C78*PARÂMETROS!$F$6+PARÂMETROS!$F$6*PARÂMETROS!$G$6)","v":{"v":0.9999999945717962,"d":"1.00E+00"}},{"$f":"(PARÂMETROS!$F$6*$C78^2)/($C78^3+PARÂMETROS!$F$6*$C78^2+PARÂMETROS!$F$6*PARÂMETROS!$G$6*$C78+PARÂMETROS!$F$6*PARÂMETROS!$G$6*PARÂMETROS!$H$6)","v":{"v":4.168489066794731e-12,"d":"4.17E-12"}},{"$f":"(PARÂMETROS!$F$6*PARÂMETROS!$G$6*$C78)/($C78^3+PARÂMETROS!$F$6*$C78^2+PARÂMETROS!$F$6*PARÂMETROS!$G$6*$C78+PARÂMETROS!$F$6*PARÂMETROS!$G$6*PARÂMETROS!$H$6)","v":{"v":7.6793155781252188E-4,"d":"7.68E-04"}},{"$f":"(PARÂMETROS!$F$6*PARÂMETROS!$G$6*PARÂMETROS!$H$6)/($C78^3+PARÂMETROS!$F$6*$C78^2+PARÂMETROS!$F$6*PARÂMETROS!$G$6*$C78+PARÂMETROS!$F$6*PARÂMETROS!$G$6*PARÂMETROS!$H$6)","v":{"v":0.9992320684380189,"d":"9.99E-01"}},{"$f":"$C78/($C78+PARÂMETROS!$J$6)","v":{"v":0.003421116254847125,"d":"3.42E-03"}},{"$f":"$C78*PARÂMETROS!$J$6/($C78^2+$C78*PARÂMETROS!$J$6+PARÂMETROS!$J$6*PARÂMETROS!$K$6)","v":{"v":0.9965788837451529,"d":"9.97E-01"}},{"$f":"$C78^2/($C78^2+$C78*PARÂMETROS!$J$6+PARÂMETROS!$J$6*PARÂMETROS!$K$6)","v":{"v":0.003421116254847125,"d":"3.42E-03"}},{"$f":"(PARÂMETROS!$K$6*PARÂMETROS!$J$6*$C78)/($C78^3+PARÂMETROS!$J$6*$C78^2+PARÂMETROS!$J$6*PARÂMETROS!$K$6*$C78+PARÂMETROS!$J$6*PARÂMETROS!$K$6*PARÂMETROS!$L$6)","v":{"v":0,"d":"0.00E+00"}},{"$f":"(PARÂMETROS!$J$6*$C78^2)/($C78^3+PARÂMETROS!$J$6*$C78^2+PARÂMETROS!$J$6*PARÂMETROS!$K$6*$C78+PARÂMETROS!$J$6*PARÂMETROS!$K$6*PARÂMETROS!$L$6)","v":{"v":0.9965788837451529,"d":"9.97E-01"}},{"$f":"($C78^3)/($C78^3+PARÂMETROS!$J$6*$C78^2+PARÂMETROS!$J$6*PARÂMETROS!$K$6*$C78+PARÂMETROS!$J$6*PARÂMETROS!$K$6*PARÂMETROS!$L$6)","v":{"v":3.4211162548471253E-3,"d":"3.42E-03"}},{"$f":"IF(PARÂMETROS!$J$6<PARÂMETROS!$F$6,(E78-(C78-D78)/PARÂMETROS!$C$11)/(K78+(C78-D78)/PARÂMETROS!$C$14),(K78+(C78-D78)/PARÂMETROS!$C$14)/(E78-(C78-D78)/PARÂMETROS!$C$11))","v":{"v":-2.5173121216187857,"d":"-2.52E+00"}},{"$f":"IF(PARÂMETROS!$J$6<PARÂMETROS!$F$6,(E78-(C78-D78)/PARÂMETROS!$C$11)/(L78+2*M78+(C78-D78)/PARÂMETROS!$C$14),(L78+2*M78+(C78-D78)/PARÂMETROS!$C$14)/(E78-(C78-D78)/PARÂMETROS!$C$11))","v":{"v":-2.561277240246404,"d":"-2.56E+00"}},{"$f":"IF(PARÂMETROS!$J$6<PARÂMETROS!$F$6, (E78-(C78-D78)/PARÂMETROS!$C$11)/(N78+2*O78+3*P78+(C78-D78)/PARÂMETROS!$C$14),(N78+2*O78+3*P78+(C78-D78)/PARÂMETROS!$C$14)/ (E78-(C78-D78)/PARÂMETROS!$C$11))","v":{"v":-2.606805367747102,"d":"-2.61E+00"}},{"$f":"IF(PARÂMETROS!$J$6<PARÂMETROS!$F$6,(F78+2*G78-(C78-D78)/PARÂMETROS!$C$11)/(K78+(C78-D78)/PARÂMETROS!$C$14),(K78+(C78-D78)/PARÂMETROS!$C$14)/(F78+2*G78-(C78-D78)/PARÂMETROS!$C$11))","v":{"v":-2.534477431839065,"d":"-2.53E+00"}},{"$f":"IF(PARÂMETROS!$J$6<PARÂMETROS!$F$6,(F78+2*G78-(C78-D78)/PARÂMETROS!$C$11)/(L78+2*M78+(C78-D78)/PARÂMETROS!$C$14),(L78+2*M78+(C78-D78)/PARÂMETROS!$C$14)/(F78+2*G78-(C78-D78)/PARÂMETROS!$C$11))","v":{"v":-2.578742344399121,"d":"-2.58E+00"}},{"$f":"IF(PARÂMETROS!$J$6<PARÂMETROS!$F$6,(F78+2*G78-(C78-D78)/PARÂMETROS!$C$11)/(N78+2*O78+3*P78+(C78-D78)/PARÂMETROS!$C$14),(N78+2*O78+3*P78+(C78-D78)/PARÂMETROS!$C$14)/(F78+2*G78-(C78-D78)/PARÂMETROS!$C$11))","v":{"v":-2.62458092384004,"d":"-2.62E+00"}},{"$f":"IF(PARÂMETROS!$J$6<PARÂMETROS!$F$6,(H78+2*I78+3*J78-(C78-D78)/PARÂMETROS!$C$11)/(K78+(C78-D78)/PARÂMETROS!$C$14),(K78+(C78-D78)/PARÂMETROS!$C$14)/(H78+2*I78+3*J78-(C78-D78)/PARÂMETROS!$C$11))","v":{"v":-2.5516295604620636,"d":"-2.55E+00"}},{"$f":"IF(PARÂMETROS!$J$6<PARÂMETROS!$F$6,(H78+2*I78+3*J78-(C78-D78)/PARÂMETROS!$C$11)/(L78+2*M78+(C78-D78)/PARÂMETROS!$C$14),(L78+2*M78+(C78-D78)/PARÂMETROS!$C$14)/(H78+2*I78+3*J78-(C78-D78)/PARÂMETROS!$C$11))","v":{"v":-2.5961940367365877,"d":"-2.60E+00"}},{"$f":"IF(PARÂMETROS!$J$6<PARÂMETROS!$F$6,(H78+2*I78+3*J78-(C78-D78)/PARÂMETROS!$C$11)/(N78+2*O78+3*P78+(C78-D78)/PARÂMETROS!$C$14),(N78+2*O78+3*P78+(C78-D78)/PARÂMETROS!$C$14)/(H78+2*I78+3*J78-(C78-D78)/PARÂMETROS!$C$11))","v":{"v":-2.642342829715252,"d":"-2.64E+00"}},{"$f":"Q78*PARÂMETROS!$C$11*PARÂMETROS!$D$11/PARÂMETROS!$C$14","v":{"v":-50.34624243237572,"d":"-50.35"}},{"$f":"R78*PARÂMETROS!$C$11*PARÂMETROS!$D$11/PARÂMETROS!$C$14","v":{"v":-51.22554480492808,"d":"-51.23"}},{"$f":"S78*PARÂMETROS!$C$11*PARÂMETROS!$D$11/PARÂMETROS!$C$14","v":{"v":-52.13610735494204,"d":"-52.14"}},{"$f":"T78*PARÂMETROS!$C$11*PARÂMETROS!$D$11/PARÂMETROS!$C$14","v":{"v":-50.6895486367813,"d":"-50.69"}},{"$f":"U78*PARÂMETROS!$C$11*PARÂMETROS!$D$11/PARÂMETROS!$C$14","v":{"v":-51.57484688798242,"d":"-51.57"}},{"$f":"V78*PARÂMETROS!$C$11*PARÂMETROS!$D$11/PARÂMETROS!$C$14","v":{"v":-52.4916184768008,"d":"-52.49"}},{"$f":"W78*PARÂMETROS!$C$11*PARÂMETROS!$D$11/PARÂMETROS!$C$14","v":{"v":-51.032591209241275,"d":"-51.03"}},{"$f":"X78*PARÂMETROS!$C$11*PARÂMETROS!$D$11/PARÂMETROS!$C$14","v":{"v":-51.92388073473175,"d":"-51.92"}},{"$f":"Y78*PARÂMETROS!$C$11*PARÂMETROS!$D$11/PARÂMETROS!$C$14","v":{"v":-52.84685659430504,"d":"-52.85"}},{"$f":"AND(B78+PARÂMETROS!$C$8>=PARÂMETROS!$C$5,B78+PARÂMETROS!$C$8<=PARÂMETROS!$D$5)","v":false},0,{"$f":"VLOOKUP('BANCO DE DADOS COMPLETA'!$N$8,'BANCO DE DADOS COMPLETA'!$A$7:$L$249,3)*-1","v":3},7,{"$f":"VLOOKUP('BANCO DE DADOS COMPLETA'!$N$10,'BANCO DE DADOS COMPLETA'!$A$7:$L$249,3)*-1","v":1},11,77,{"v":-51.032591209241275,"d":"-51.03"},"LIMITE","LIMITE","LIMITE","LIMITE","NADA","NADA",0]
[null,{"$f":"B78+PARÂMETROS!$C$8","v":{"v":15.664343848340671,"d":"15.66"}},{"v":2.1659885258700364E-16,"d":"2.17E-16"},{"$f":"PARÂMETROS!$Q$4/C79","v":{"v":46.16829627933135,"d":"4.62E+01"}},{"$f":"PARÂMETROS!$F$6/($C79+PARÂMETROS!$F$6)","v":{"v":0.9999999999999695,"d":"1.00E+00"}},{"$f":"$C79*PARÂMETROS!$F$6/($C79^2+$C79*PARÂMETROS!$F$6+PARÂMETROS!$F$6*PARÂMETROS!$G$6)","v":{"v":3.4249650978837615E-9,"d":"3.42E-09"}},{"$f":"PARÂMETROS!$F$6*PARÂMETROS!$G$6/($C79^2+$C79*PARÂMETROS!$F$6+PARÂMETROS!$F$6*PARÂMETROS!$G$6)","v":{"v":0.9999999965750349,"d":"1.00E+00"}},{"$f":"(PARÂMETROS!$F$6*$C79^2)/($C79^3+PARÂMETROS!$F$6*$C79^2+PARÂMETROS!$F$6*PARÂMETROS!$G$6*$C79+PARÂMETROS!$F$6*PARÂMETROS!$G$6*PARÂMETROS!$H$6)","v":{"v":1.6599758241898424E-12,"d":"1.66E-12"}},{"$f":"(PARÂMETROS!$F$6*PARÂMETROS!$G$6*$C79)/($C79^3+PARÂMETROS!$F$6*$C79^2+PARÂMETROS!$F$6*PARÂMETROS!$G$6*$C79+PARÂMETROS!$F$6*PARÂMETROS!$G$6*PARÂMETROS!$H$6)","v":{"v":4.8466941153069241E-4,"d":"4.85E-04"}},{"$f":"(PARÂMETROS!$F$6*PARÂMETROS!$G$6*PARÂMETROS!$H$6)/($C79^3+PARÂMETROS!$F$6*$C79^2+PARÂMETROS!$F$6*PARÂMETROS!$G$6*$C79+PARÂMETROS!$F$6*PARÂMETROS!$G$6*PARÂMETROS!$H$6)","v":{"v":0.9995153305868093,"d":"1.00E+00"}},{"$f":"$C79/($C79+PARÂMETROS!$J$6)","v":{"v":2.1613071593619775E-3,"d":"2.16E-03"}},{"$f":"$C79*PARÂMETROS!$J$6/($C79^2+$C79*PARÂMETROS!$J$6+PARÂMETROS!$J$6*PARÂMETROS!$K$6)","v":{"v":0.9978386928406381,"d":"9.98E-01"}},{"$f":"$C79^2/($C79^2+$C79*PARÂMETROS!$J$6+PARÂMETROS!$J$6*PARÂMETROS!$K$6)","v":{"v":2.1613071593619775E-3,"d":"2.16E-03"}},{"$f":"(PARÂMETROS!$K$6*PARÂMETROS!$J$6*$C79)/($C79^3+PARÂMETROS!$J$6*$C79^2+PARÂMETROS!$J$6*PARÂMETROS!$K$6*$C79+PARÂMETROS!$J$6*PARÂMETROS!$K$6*PARÂMETROS!$L$6)","v":{"v":0,"d":"0.00E+00"}},{"$f":"(PARÂMETROS!$J$6*$C79^2)/($C79^3+PARÂMETROS!$J$6*$C79^2+PARÂMETROS!$J$6*PARÂMETROS!$K$6*$C79+PARÂMETROS!$J$6*PARÂMETROS!$K$6*PARÂMETROS!$L$6)","v":{"v":0.9978386928406381,"d":"9.98E-01"}},{"$f":"($C79^3)/($C79^3+PARÂMETROS!$J$6*$C79^2+PARÂMETROS!$J$6*PARÂMETROS!$K$6*$C79+PARÂMETROS!$J$6*PARÂMETROS!$K$6*PARÂMETROS!$L$6)","v":{"v":2.1613071593619775E-3,"d":"2.16E-03"}},{"$f":"IF(PARÂMETROS!$J$6<PARÂMETROS!$F$6,(E79-(C79-D79)/PARÂMETROS!$C$11)/(K79+(C79-D79)/PARÂMETROS!$C$14),(K79+(C79-D79)/PARÂMETROS!$C$14)/(E79-(C79-D79)/PARÂMETROS!$C$11))","v":{"v":-2.5108887145810193,"d":"-2.51E+00"}},{"$f":"IF(PARÂMETROS!$J$6<PARÂMETROS!$F$6,(E79-(C79-D79)/PARÂMETROS!$C$11)/(L79+2*M79+(C79-D79)/PARÂMETROS!$C$14),(L79+2*M79+(C79-D79)/PARÂMETROS!$C$14)/(E79-(C79-D79)/PARÂMETROS!$C$11))","v":{"v":-2.538379866386267,"d":"-2.54E+00"}},{"$f":"IF(PARÂMETROS!$J$6<PARÂMETROS!$F$6, (E79-(C79-D79)/PARÂMETROS!$C$11)/(N79+2*O79+3*P79+(C79-D79)/PARÂMETROS!$C$14),(N79+2*O79+3*P79+(C79-D79)/PARÂMETROS!$C$14)/ (E79-(C79-D79)/PARÂMETROS!$C$11))","v":{"v":-2.5664796709814723,"d":"-2.57E+00"}},{"$f":"IF(PARÂMETROS!$J$6<PARÂMETROS!$F$6,(F79+2*G79-(C79-D79)/PARÂMETROS!$C$11)/(K79+(C79-D79)/PARÂMETROS!$C$14),(K79+(C79-D79)/PARÂMETROS!$C$14)/(F79+2*G79-(C79-D79)/PARÂMETROS!$C$11))","v":{"v":-2.521718910673864,"d":"-2.52E+00"}},{"$f":"IF(PARÂMETROS!$J$6<PARÂMETROS!$F$6,(F79+2*G79-(C79-D79)/PARÂMETROS!$C$11)/(L79+2*M79+(C79-D79)/PARÂMETROS!$C$14),(L79+2*M79+(C79-D79)/PARÂMETROS!$C$14)/(F79+2*G79-(C79-D79)/PARÂMETROS!$C$11))","v":{"v":-2.5493286398430306,"d":"-2.55E+00"}},{"$f":"IF(PARÂMETROS!$J$6<PARÂMETROS!$F$6,(F79+2*G79-(C79-D79)/PARÂMETROS!$C$11)/(N79+2*O79+3*P79+(C79-D79)/PARÂMETROS!$C$14),(N79+2*O79+3*P79+(C79-D79)/PARÂMETROS!$C$14)/(F79+2*G79-(C79-D79)/PARÂMETROS!$C$11))","v":{"v":-2.5775496470993375,"d":"-2.58E+00"}},{"$f":"IF(PARÂMETROS!$J$6<PARÂMETROS!$F$6,(H79+2*I79+3*J79-(C79-D79)/PARÂMETROS!$C$11)/(K79+(C79-D79)/PARÂMETROS!$C$14),(K79+(C79-D79)/PARÂMETROS!$C$14)/(H79+2*I79+3*J79-(C79-D79)/PARÂMETROS!$C$11))","v":{"v":-2.5325438577760733,"d":"-2.53E+00"}},{"$f":"IF(PARÂMETROS!$J$6<PARÂMETROS!$F$6,(H79+2*I79+3*J79-(C79-D79)/PARÂMETROS!$C$11)/(L79+2*M79+(C79-D79)/PARÂMETROS!$C$14),(L79+2*M79+(C79-D79)/PARÂMETROS!$C$14)/(H79+2*I79+3*J79-(C79-D79)/PARÂMETROS!$C$11))","v":{"v":-2.5602721068391494,"d":"-2.56E+00"}},{"$f":"IF(PARÂMETROS!$J$6<PARÂMETROS!$F$6,(H79+2*I79+3*J79-(C79-D79)/PARÂMETROS!$C$11)/(N79+2*O79+3*P79+(C79-D79)/PARÂMETROS!$C$14),(N79+2*O79+3*P79+(C79-D79)/PARÂMETROS!$C$14)/(H79+2*I79+3*J79-(C79-D79)/PARÂMETROS!$C$11))","v":{"v":-2.588614258014165,"d":"-2.59E+00"}},{"$f":"Q79*PARÂMETROS!$C$11*PARÂMETROS!$D$11/PARÂMETROS!$C$14","v":{"v":-50.21777429162039,"d":"-50.22"}},{"$f":"R79*PARÂMETROS!$C$11*PARÂMETROS!$D$11/PARÂMETROS!$C$14","v":{"v":-50.76759732772535,"d":"-50.77"}},{"$f":"S79*PARÂMETROS!$C$11*PARÂMETROS!$D$11/PARÂMETROS!$C$14","v":{"v":-51.32959341962945,"d":"-51.33"}},{"$f":"T79*PARÂMETROS!$C$11*PARÂMETROS!$D$11/PARÂMETROS!$C$14","v":{"v":-50.43437821347728,"d":"-50.43"}},{"$f":"U79*PARÂMETROS!$C$11*PARÂMETROS!$D$11/PARÂMETROS!$C$14","v":{"v":-50.98657279686062,"d":"-50.99"}},{"$f":"V79*PARÂMETROS!$C$11*PARÂMETROS!$D$11/PARÂMETROS!$C$14","v":{"v":-51.55099294198675,"d":"-51.55"}},{"$f":"W79*PARÂMETROS!$C$11*PARÂMETROS!$D$11/PARÂMETROS!$C$14","v":{"v":-50.65087715552147,"d":"-50.65"}},{"$f":"X79*PARÂMETROS!$C$11*PARÂMETROS!$D$11/PARÂMETROS!$C$14","v":{"v":-51.205442136782985,"d":"-51.21"}},{"$f":"Y79*PARÂMETROS!$C$11*PARÂMETROS!$D$11/PARÂMETROS!$C$14","v":{"v":-51.7722851602833,"d":"-51.77"}},{"$f":"AND(B79+PARÂMETROS!$C$8>=PARÂMETROS!$C$5,B79+PARÂMETROS!$C$8<=PARÂMETROS!$D$5)","v":false},0,{"$f":"VLOOKUP('BANCO DE DADOS COMPLETA'!$N$8,'BANCO DE DADOS COMPLETA'!$A$7:$L$249,3)*-1","v":3},7,{"$f":"VLOOKUP('BANCO DE DADOS COMPLETA'!$N$10,'BANCO DE DADOS COMPLETA'!$A$7:$L$249,3)*-1","v":1},11,77,{"v":-50.65087715552147,"d":"-50.65"},"LIMITE","LIMITE","LIMITE","LIMITE","NADA","NADA",0]
[null,{"$f":"B79+PARÂMETROS!$C$8","v":{"v":15.86434384834067,"d":"15.86"}},{"v":1.3666463684575292E-16,"d":"1.37E-16"},{"$f":"PARÂMETROS!$Q$4/C80","v":{"v":73.17181848063987,"d":"7.32E+01"}},{"$f":"PARÂMETROS!$F$6/($C80+PARÂMETROS!$F$6)","v":{"v":0.9999999999999807,"d":"1.00E+00"}},{"$f":"$C80*PARÂMETROS!$F$6/($C80^2+$C80*PARÂMETROS!$F$6+PARÂMETROS!$F$6*PARÂMETROS!$G$6)","v":{"v":2.1610068858295102E-9,"d":"2.16E-09"}},{"$f":"PARÂMETROS!$F$6*PARÂMETROS!$G$6/($C80^2+$C80*PARÂMETROS!$F$6+PARÂMETROS!$F$6*PARÂMETROS!$G$6)","v":{"v":0.9999999978389931,"d":"1.00E+00"}},{"$f":"(PARÂMETROS!$F$6*$C80^2)/($C80^3+PARÂMETROS!$F$6*$C80^2+PARÂMETROS!$F$6*PARÂMETROS!$G$6*$C80+PARÂMETROS!$F$6*PARÂMETROS!$G$6*PARÂMETROS!$H$6)","v":{"v":6.609665014613144e-13,"d":"6.61E-13"}},{"$f":"(PARÂMETROS!$F$6*PARÂMETROS!$G$6*$C80)/($C80^3+PARÂMETROS!$F$6*$C80^2+PARÂMETROS!$F$6*PARÂMETROS!$G$6*$C80+PARÂMETROS!$F$6*PARÂMETROS!$G$6*PARÂMETROS!$H$6)","v":{"v":3.0586043217499829E-4,"d":"3.06E-04"}},{"$f":"(PARÂMETROS!$F$6*PARÂMETROS!$G$6*PARÂMETROS!$H$6)/($C80^3+PARÂMETROS!$F$6*$C80^2+PARÂMETROS!$F$6*PARÂMETROS!$G$6*$C80+PARÂMETROS!$F$6*PARÂMETROS!$G$6*PARÂMETROS!$H$6)","v":{"v":0.999694139567164,"d":"1.00E+00"}},{"$f":"$C80/($C80+PARÂMETROS!$J$6)","v":{"v":0.001364781195193379,"d":"1.36E-03"}},{"$f":"$C80*PARÂMETROS!$J$6/($C80^2+$C80*PARÂMETROS!$J$6+PARÂMETROS!$J$6*PARÂMETROS!$K$6)","v":{"v":0.9986352188048065,"d":"9.99E-01"}},{"$f":"$C80^2/($C80^2+$C80*PARÂMETROS!$J$6+PARÂMETROS!$J$6*PARÂMETROS!$K$6)","v":{"v":1.3647811951933788E-3,"d":"1.36E-03"}},{"$f":"(PARÂMETROS!$K$6*PARÂMETROS!$J$6*$C80)/($C80^3+PARÂMETROS!$J$6*$C80^2+PARÂMETROS!$J$6*PARÂMETROS!$K$6*$C80+PARÂMETROS!$J$6*PARÂMETROS!$K$6*PARÂMETROS!$L$6)","v":{"v":0,"d":"0.00E+00"}},{"$f":"(PARÂMETROS!$J$6*$C80^2)/($C80^3+PARÂMETROS!$J$6*$C80^2+PARÂMETROS!$J$6*PARÂMETROS!$K$6*$C80+PARÂMETROS!$J$6*PARÂMETROS!$K$6*PARÂMETROS!$L$6)","v":{"v":0.9986352188048065,"d":"9.99E-01"}},{"$f":"($C80^3)/($C80^3+PARÂMETROS!$J$6*$C80^2+PARÂMETROS!$J$6*PARÂMETROS!$K$6*$C80+PARÂMETROS!$J$6*PARÂMETROS!$K$6*PARÂMETROS!$L$6)","v":{"v":1.3647811951933788E-3,"d":"1.36E-03"}},{"$f":"IF(PARÂMETROS!$J$6<PARÂMETROS!$F$6,(E80-(C80-D80)/PARÂMETROS!$C$11)/(K80+(C80-D80)/PARÂMETROS!$C$14),(K80+(C80-D80)/PARÂMETROS!$C$14)/(E80-(C80-D80)/PARÂMETROS!$C$11))","v":{"v":-2.506856610451922,"d":"-2.51E+00"}},{"$f":"IF(PARÂMETROS!$J$6<PARÂMETROS!$F$6,(E80-(C80-D80)/PARÂMETROS!$C$11)/(L80+2*M80+(C80-D80)/PARÂMETROS!$C$14),(L80+2*M80+(C80-D80)/PARÂMETROS!$C$14)/(E80-(C80-D80)/PARÂMETROS!$C$11))","v":{"v":-2.5241045629770196,"d":"-2.52E+00"}},{"$f":"IF(PARÂMETROS!$J$6<PARÂMETROS!$F$6, (E80-(C80-D80)/PARÂMETROS!$C$11)/(N80+2*O80+3*P80+(C80-D80)/PARÂMETROS!$C$14),(N80+2*O80+3*P80+(C80-D80)/PARÂMETROS!$C$14)/ (E80-(C80-D80)/PARÂMETROS!$C$11))","v":{"v":-2.5415915023528104,"d":"-2.54E+00"}},{"$f":"IF(PARÂMETROS!$J$6<PARÂMETROS!$F$6,(F80+2*G80-(C80-D80)/PARÂMETROS!$C$11)/(K80+(C80-D80)/PARÂMETROS!$C$14),(K80+(C80-D80)/PARÂMETROS!$C$14)/(F80+2*G80-(C80-D80)/PARÂMETROS!$C$11))","v":{"v":-2.513689906005844,"d":"-2.51E+00"}},{"$f":"IF(PARÂMETROS!$J$6<PARÂMETROS!$F$6,(F80+2*G80-(C80-D80)/PARÂMETROS!$C$11)/(L80+2*M80+(C80-D80)/PARÂMETROS!$C$14),(L80+2*M80+(C80-D80)/PARÂMETROS!$C$14)/(F80+2*G80-(C80-D80)/PARÂMETROS!$C$11))","v":{"v":-2.5309848737279066,"d":"-2.53E+00"}},{"$f":"IF(PARÂMETROS!$J$6<PARÂMETROS!$F$6,(F80+2*G80-(C80-D80)/PARÂMETROS!$C$11)/(N80+2*O80+3*P80+(C80-D80)/PARÂMETROS!$C$14),(N80+2*O80+3*P80+(C80-D80)/PARÂMETROS!$C$14)/(F80+2*G80-(C80-D80)/PARÂMETROS!$C$11))","v":{"v":-2.548519479741107,"d":"-2.55E+00"}},{"$f":"IF(PARÂMETROS!$J$6<PARÂMETROS!$F$6,(H80+2*I80+3*J80-(C80-D80)/PARÂMETROS!$C$11)/(K80+(C80-D80)/PARÂMETROS!$C$14),(K80+(C80-D80)/PARÂMETROS!$C$14)/(H80+2*I80+3*J80-(C80-D80)/PARÂMETROS!$C$11))","v":{"v":-2.5205211115545545,"d":"-2.52E+00"}},{"$f":"IF(PARÂMETROS!$J$6<PARÂMETROS!$F$6,(H80+2*I80+3*J80-(C80-D80)/PARÂMETROS!$C$11)/(L80+2*M80+(C80-D80)/PARÂMETROS!$C$14),(L80+2*M80+(C80-D80)/PARÂMETROS!$C$14)/(H80+2*I80+3*J80-(C80-D80)/PARÂMETROS!$C$11))","v":{"v":-2.537863080093697,"d":"-2.54E+00"}},{"$f":"IF(PARÂMETROS!$J$6<PARÂMETROS!$F$6,(H80+2*I80+3*J80-(C80-D80)/PARÂMETROS!$C$11)/(N80+2*O80+3*P80+(C80-D80)/PARÂMETROS!$C$14),(N80+2*O80+3*P80+(C80-D80)/PARÂMETROS!$C$14)/(H80+2*I80+3*J80-(C80-D80)/PARÂMETROS!$C$11))","v":{"v":-2.5554453381651747,"d":"-2.56E+00"}},{"$f":"Q80*PARÂMETROS!$C$11*PARÂMETROS!$D$11/PARÂMETROS!$C$14","v":{"v":-50.13713220903844,"d":"-50.14"}},{"$f":"R80*PARÂMETROS!$C$11*PARÂMETROS!$D$11/PARÂMETROS!$C$14","v":{"v":-50.4820912595404,"d":"-50.48"}},{"$f":"S80*PARÂMETROS!$C$11*PARÂMETROS!$D$11/PARÂMETROS!$C$14","v":{"v":-50.831830047056215,"d":"-50.83"}},{"$f":"T80*PARÂMETROS!$C$11*PARÂMETROS!$D$11/PARÂMETROS!$C$14","v":{"v":-50.273798120116886,"d":"-50.27"}},{"$f":"U80*PARÂMETROS!$C$11*PARÂMETROS!$D$11/PARÂMETROS!$C$14","v":{"v":-50.61969747455814,"d":"-50.62"}},{"$f":"V80*PARÂMETROS!$C$11*PARÂMETROS!$D$11/PARÂMETROS!$C$14","v":{"v":-50.97038959482214,"d":"-50.97"}},{"$f":"W80*PARÂMETROS!$C$11*PARÂMETROS!$D$11/PARÂMETROS!$C$14","v":{"v":-50.41042223109109,"d":"-50.41"}},{"$f":"X80*PARÂMETROS!$C$11*PARÂMETROS!$D$11/PARÂMETROS!$C$14","v":{"v":-50.75726160187395,"d":"-50.76"}},{"$f":"Y80*PARÂMETROS!$C$11*PARÂMETROS!$D$11/PARÂMETROS!$C$14","v":{"v":-51.108906763303494,"d":"-51.11"}},{"$f":"AND(B80+PARÂMETROS!$C$8>=PARÂMETROS!$C$5,B80+PARÂMETROS!$C$8<=PARÂMETROS!$D$5)","v":false},0,{"$f":"VLOOKUP('BANCO DE DADOS COMPLETA'!$N$8,'BANCO DE DADOS COMPLETA'!$A$7:$L$249,3)*-1","v":3},7,{"$f":"VLOOKUP('BANCO DE DADOS COMPLETA'!$N$10,'BANCO DE DADOS COMPLETA'!$A$7:$L$249,3)*-1","v":1},11,77,{"v":-50.41042223109109,"d":"-50.41"},"LIMITE","LIMITE","LIMITE","LIMITE","NADA","NADA",0]
[null,{"$f":"B80+PARÂMETROS!$C$8","v":{"v":16.06434384834067,"d":"16.06"}},{"v":8.622955634854641e-17,"d":"8.62E-17"},{"$f":"PARÂMETROS!$Q$4/C81","v":{"v":115.9695169899662,"d":"1.16E+02"}},{"$f":"PARÂMETROS!$F$6/($C81+PARÂMETROS!$F$6)","v":{"v":0.9999999999999879,"d":"1.00E+00"}},{"$f":"$C81*PARÂMETROS!$F$6/($C81^2+$C81*PARÂMETROS!$F$6+PARÂMETROS!$F$6*PARÂMETROS!$G$6)","v":{"v":1.3635031671738015E-9,"d":"1.36E-09"}},{"$f":"PARÂMETROS!$F$6*PARÂMETROS!$G$6/($C81^2+$C81*PARÂMETROS!$F$6+PARÂMETROS!$F$6*PARÂMETROS!$G$6)","v":{"v":0.9999999986364968,"d":"1.00E+00"}},{"$f":"(PARÂMETROS!$F$6*$C81^2)/($C81^3+PARÂMETROS!$F$6*$C81^2+PARÂMETROS!$F$6*PARÂMETROS!$G$6*$C81+PARÂMETROS!$F$6*PARÂMETROS!$G$6*PARÂMETROS!$H$6)","v":{"v":2.6316520864415603E-13,"d":"2.63E-13"}},{"$f":"(PARÂMETROS!$F$6*PARÂMETROS!$G$6*$C81)/($C81^3+PARÂMETROS!$F$6*$C81^2+PARÂMETROS!$F$6*PARÂMETROS!$G$6*$C81+PARÂMETROS!$F$6*PARÂMETROS!$G$6*PARÂMETROS!$H$6)","v":{"v":1.9300667180026037E-4,"d":"1.93E-04"}},{"$f":"(PARÂMETROS!$F$6*PARÂMETROS!$G$6*PARÂMETROS!$H$6)/($C81^3+PARÂMETROS!$F$6*$C81^2+PARÂMETROS!$F$6*PARÂMETROS!$G$6*$C81+PARÂMETROS!$F$6*PARÂMETROS!$G$6*PARÂMETROS!$H$6)","v":{"v":0.9998069933279367,"d":"1.00E+00"}},{"$f":"$C81/($C81+PARÂMETROS!$J$6)","v":{"v":8.6155265045726554E-4,"d":"8.62E-04"}},{"$f":"$C81*PARÂMETROS!$J$6/($C81^2+$C81*PARÂMETROS!$J$6+PARÂMETROS!$J$6*PARÂMETROS!$K$6)","v":{"v":0.9991384473495427,"d":"9.99E-01"}},{"$f":"$C81^2/($C81^2+$C81*PARÂMETROS!$J$6+PARÂMETROS!$J$6*PARÂMETROS!$K$6)","v":{"v":8.6155265045726554E-4,"d":"8.62E-04"}},{"$f":"(PARÂMETROS!$K$6*PARÂMETROS!$J$6*$C81)/($C81^3+PARÂMETROS!$J$6*$C81^2+PARÂMETROS!$J$6*PARÂMETROS!$K$6*$C81+PARÂMETROS!$J$6*PARÂMETROS!$K$6*PARÂMETROS!$L$6)","v":{"v":0,"d":"0.00E+00"}},{"$f":"(PARÂMETROS!$J$6*$C81^2)/($C81^3+PARÂMETROS!$J$6*$C81^2+PARÂMETROS!$J$6*PARÂMETROS!$K$6*$C81+PARÂMETROS!$J$6*PARÂMETROS!$K$6*PARÂMETROS!$L$6)","v":{"v":0.9991384473495428,"d":"9.99E-01"}},{"$f":"($C81^3)/($C81^3+PARÂMETROS!$J$6*$C81^2+PARÂMETROS!$J$6*PARÂMETROS!$K$6*$C81+PARÂMETROS!$J$6*PARÂMETROS!$K$6*PARÂMETROS!$L$6)","v":{"v":8.6155265045726565E-4,"d":"8.62E-04"}},{"$f":"IF(PARÂMETROS!$J$6<PARÂMETROS!$F$6,(E81-(C81-D81)/PARÂMETROS!$C$11)/(K81+(C81-D81)/PARÂMETROS!$C$14),(K81+(C81-D81)/PARÂMETROS!$C$14)/(E81-(C81-D81)/PARÂMETROS!$C$11))","v":{"v":-2.5043207802800995,"d":"-2.50E+00"}},{"$f":"IF(PARÂMETROS!$J$6<PARÂMETROS!$F$6,(E81-(C81-D81)/PARÂMETROS!$C$11)/(L81+2*M81+(C81-D81)/PARÂMETROS!$C$14),(L81+2*M81+(C81-D81)/PARÂMETROS!$C$14)/(E81-(C81-D81)/PARÂMETROS!$C$11))","v":{"v":-2.51516489822716,"d":"-2.52E+00"}},{"$f":"IF(PARÂMETROS!$J$6<PARÂMETROS!$F$6, (E81-(C81-D81)/PARÂMETROS!$C$11)/(N81+2*O81+3*P81+(C81-D81)/PARÂMETROS!$C$14),(N81+2*O81+3*P81+(C81-D81)/PARÂMETROS!$C$14)/ (E81-(C81-D81)/PARÂMETROS!$C$11))","v":{"v":-2.526103338207249,"d":"-2.53E+00"}},{"$f":"IF(PARÂMETROS!$J$6<PARÂMETROS!$F$6,(F81+2*G81-(C81-D81)/PARÂMETROS!$C$11)/(K81+(C81-D81)/PARÂMETROS!$C$14),(K81+(C81-D81)/PARÂMETROS!$C$14)/(F81+2*G81-(C81-D81)/PARÂMETROS!$C$11))","v":{"v":-2.508632274106972,"d":"-2.51E+00"}},{"$f":"IF(PARÂMETROS!$J$6<PARÂMETROS!$F$6,(F81+2*G81-(C81-D81)/PARÂMETROS!$C$11)/(L81+2*M81+(C81-D81)/PARÂMETROS!$C$14),(L81+2*M81+(C81-D81)/PARÂMETROS!$C$14)/(F81+2*G81-(C81-D81)/PARÂMETROS!$C$11))","v":{"v":-2.5194950615263925,"d":"-2.52E+00"}},{"$f":"IF(PARÂMETROS!$J$6<PARÂMETROS!$F$6,(F81+2*G81-(C81-D81)/PARÂMETROS!$C$11)/(N81+2*O81+3*P81+(C81-D81)/PARÂMETROS!$C$14),(N81+2*O81+3*P81+(C81-D81)/PARÂMETROS!$C$14)/(F81+2*G81-(C81-D81)/PARÂMETROS!$C$11))","v":{"v":-2.530452333365731,"d":"-2.53E+00"}},{"$f":"IF(PARÂMETROS!$J$6<PARÂMETROS!$F$6,(H81+2*I81+3*J81-(C81-D81)/PARÂMETROS!$C$11)/(K81+(C81-D81)/PARÂMETROS!$C$14),(K81+(C81-D81)/PARÂMETROS!$C$14)/(H81+2*I81+3*J81-(C81-D81)/PARÂMETROS!$C$11))","v":{"v":-2.5129429357985256,"d":"-2.51E+00"}},{"$f":"IF(PARÂMETROS!$J$6<PARÂMETROS!$F$6,(H81+2*I81+3*J81-(C81-D81)/PARÂMETROS!$C$11)/(L81+2*M81+(C81-D81)/PARÂMETROS!$C$14),(L81+2*M81+(C81-D81)/PARÂMETROS!$C$14)/(H81+2*I81+3*J81-(C81-D81)/PARÂMETROS!$C$11))","v":{"v":-2.523824389087024,"d":"-2.52E+00"}},{"$f":"IF(PARÂMETROS!$J$6<PARÂMETROS!$F$6,(H81+2*I81+3*J81-(C81-D81)/PARÂMETROS!$C$11)/(N81+2*O81+3*P81+(C81-D81)/PARÂMETROS!$C$14),(N81+2*O81+3*P81+(C81-D81)/PARÂMETROS!$C$14)/(H81+2*I81+3*J81-(C81-D81)/PARÂMETROS!$C$11))","v":{"v":-2.5348004891509883,"d":"-2.53E+00"}},{"$f":"Q81*PARÂMETROS!$C$11*PARÂMETROS!$D$11/PARÂMETROS!$C$14","v":{"v":-50.086415605602,"d":"-50.09"}},{"$f":"R81*PARÂMETROS!$C$11*PARÂMETROS!$D$11/PARÂMETROS!$C$14","v":{"v":-50.303297964543205,"d":"-50.30"}},{"$f":"S81*PARÂMETROS!$C$11*PARÂMETROS!$D$11/PARÂMETROS!$C$14","v":{"v":-50.52206676414498,"d":"-50.52"}},{"$f":"T81*PARÂMETROS!$C$11*PARÂMETROS!$D$11/PARÂMETROS!$C$14","v":{"v":-50.172645482139444,"d":"-50.17"}},{"$f":"U81*PARÂMETROS!$C$11*PARÂMETROS!$D$11/PARÂMETROS!$C$14","v":{"v":-50.389901230527855,"d":"-50.39"}},{"$f":"V81*PARÂMETROS!$C$11*PARÂMETROS!$D$11/PARÂMETROS!$C$14","v":{"v":-50.609046667314615,"d":"-50.61"}},{"$f":"W81*PARÂMETROS!$C$11*PARÂMETROS!$D$11/PARÂMETROS!$C$14","v":{"v":-50.25885871597051,"d":"-50.26"}},{"$f":"X81*PARÂMETROS!$C$11*PARÂMETROS!$D$11/PARÂMETROS!$C$14","v":{"v":-50.476487781740474,"d":"-50.48"}},{"$f":"Y81*PARÂMETROS!$C$11*PARÂMETROS!$D$11/PARÂMETROS!$C$14","v":{"v":-50.69600978301977,"d":"-50.70"}},{"$f":"AND(B81+PARÂMETROS!$C$8>=PARÂMETROS!$C$5,B81+PARÂMETROS!$C$8<=PARÂMETROS!$D$5)","v":false},0,{"$f":"VLOOKUP('BANCO DE DADOS COMPLETA'!$N$8,'BANCO DE DADOS COMPLETA'!$A$7:$L$249,3)*-1","v":3},7,{"$f":"VLOOKUP('BANCO DE DADOS COMPLETA'!$N$10,'BANCO DE DADOS COMPLETA'!$A$7:$L$249,3)*-1","v":1},11,77,{"v":-50.25885871597051,"d":"-50.26"},"LIMITE","LIMITE","LIMITE","LIMITE","NADA","NADA",0]
[null,{"$f":"B81+PARÂMETROS!$C$8","v":{"v":16.26434384834067,"d":"16.26"}},{"v":5.440717188938413E-17,"d":"5.44E-17"},{"$f":"PARÂMETROS!$Q$4/C82","v":{"v":183.79929801040052,"d":"1.84E+02"}},{"$f":"PARÂMETROS!$F$6/($C82+PARÂMETROS!$F$6)","v":{"v":0.9999999999999923,"d":"1.00E+00"}},{"$f":"$C82*PARÂMETROS!$F$6/($C82^2+$C82*PARÂMETROS!$F$6+PARÂMETROS!$F$6*PARÂMETROS!$G$6)","v":{"v":8.603123379832176e-10,"d":"8.60E-10"}},{"$f":"PARÂMETROS!$F$6*PARÂMETROS!$G$6/($C82^2+$C82*PARÂMETROS!$F$6+PARÂMETROS!$F$6*PARÂMETROS!$G$6)","v":{"v":0.9999999991396876,"d":"1.00E+00"}},{"$f":"(PARÂMETROS!$F$6*$C82^2)/($C82^3+PARÂMETROS!$F$6*$C82^2+PARÂMETROS!$F$6*PARÂMETROS!$G$6*$C82+PARÂMETROS!$F$6*PARÂMETROS!$G$6*PARÂMETROS!$H$6)","v":{"v":1.0477541951305524E-13,"d":"1.05E-13"}},{"$f":"(PARÂMETROS!$F$6*PARÂMETROS!$G$6*$C82)/($C82^3+PARÂMETROS!$F$6*$C82^2+PARÂMETROS!$F$6*PARÂMETROS!$G$6*$C82+PARÂMETROS!$F$6*PARÂMETROS!$G$6*PARÂMETROS!$H$6)","v":{"v":1.2178765175974907E-4,"d":"1.22E-04"}},{"$f":"(PARÂMETROS!$F$6*PARÂMETROS!$G$6*PARÂMETROS!$H$6)/($C82^3+PARÂMETROS!$F$6*$C82^2+PARÂMETROS!$F$6*PARÂMETROS!$G$6*$C82+PARÂMETROS!$F$6*PARÂMETROS!$G$6*PARÂMETROS!$H$6)","v":{"v":0.9998782123481355,"d":"1.00E+00"}},{"$f":"$C82/($C82+PARÂMETROS!$J$6)","v":{"v":5.4377586582382955E-4,"d":"5.44E-04"}},{"$f":"$C82*PARÂMETROS!$J$6/($C82^2+$C82*PARÂMETROS!$J$6+PARÂMETROS!$J$6*PARÂMETROS!$K$6)","v":{"v":0.9994562241341762,"d":"9.99E-01"}},{"$f":"$C82^2/($C82^2+$C82*PARÂMETROS!$J$6+PARÂMETROS!$J$6*PARÂMETROS!$K$6)","v":{"v":5.4377586582382955E-4,"d":"5.44E-04"}},{"$f":"(PARÂMETROS!$K$6*PARÂMETROS!$J$6*$C82)/($C82^3+PARÂMETROS!$J$6*$C82^2+PARÂMETROS!$J$6*PARÂMETROS!$K$6*$C82+PARÂMETROS!$J$6*PARÂMETROS!$K$6*PARÂMETROS!$L$6)","v":{"v":0,"d":"0.00E+00"}},{"$f":"(PARÂMETROS!$J$6*$C82^2)/($C82^3+PARÂMETROS!$J$6*$C82^2+PARÂMETROS!$J$6*PARÂMETROS!$K$6*$C82+PARÂMETROS!$J$6*PARÂMETROS!$K$6*PARÂMETROS!$L$6)","v":{"v":0.9994562241341761,"d":"9.99E-01"}},{"$f":"($C82^3)/($C82^3+PARÂMETROS!$J$6*$C82^2+PARÂMETROS!$J$6*PARÂMETROS!$K$6*$C82+PARÂMETROS!$J$6*PARÂMETROS!$K$6*PARÂMETROS!$L$6)","v":{"v":5.4377586582382955E-4,"d":"5.44E-04"}},{"$f":"IF(PARÂMETROS!$J$6<PARÂMETROS!$F$6,(E82-(C82-D82)/PARÂMETROS!$C$11)/(K82+(C82-D82)/PARÂMETROS!$C$14),(K82+(C82-D82)/PARÂMETROS!$C$14)/(E82-(C82-D82)/PARÂMETROS!$C$11))","v":{"v":-2.502724060787453,"d":"-2.50E+00"}},{"$f":"IF(PARÂMETROS!$J$6<PARÂMETROS!$F$6,(E82-(C82-D82)/PARÂMETROS!$C$11)/(L82+2*M82+(C82-D82)/PARÂMETROS!$C$14),(L82+2*M82+(C82-D82)/PARÂMETROS!$C$14)/(E82-(C82-D82)/PARÂMETROS!$C$11))","v":{"v":-2.5095509493796357,"d":"-2.51E+00"}},{"$f":"IF(PARÂMETROS!$J$6<PARÂMETROS!$F$6, (E82-(C82-D82)/PARÂMETROS!$C$11)/(N82+2*O82+3*P82+(C82-D82)/PARÂMETROS!$C$14),(N82+2*O82+3*P82+(C82-D82)/PARÂMETROS!$C$14)/ (E82-(C82-D82)/PARÂMETROS!$C$11))","v":{"v":-2.5164151843884657,"d":"-2.52E+00"}},{"$f":"IF(PARÂMETROS!$J$6<PARÂMETROS!$F$6,(F82+2*G82-(C82-D82)/PARÂMETROS!$C$11)/(K82+(C82-D82)/PARÂMETROS!$C$14),(K82+(C82-D82)/PARÂMETROS!$C$14)/(F82+2*G82-(C82-D82)/PARÂMETROS!$C$11))","v":{"v":-2.50544442340372,"d":"-2.51E+00"}},{"$f":"IF(PARÂMETROS!$J$6<PARÂMETROS!$F$6,(F82+2*G82-(C82-D82)/PARÂMETROS!$C$11)/(L82+2*M82+(C82-D82)/PARÂMETROS!$C$14),(L82+2*M82+(C82-D82)/PARÂMETROS!$C$14)/(F82+2*G82-(C82-D82)/PARÂMETROS!$C$11))","v":{"v":-2.5122787325552856,"d":"-2.51E+00"}},{"$f":"IF(PARÂMETROS!$J$6<PARÂMETROS!$F$6,(F82+2*G82-(C82-D82)/PARÂMETROS!$C$11)/(N82+2*O82+3*P82+(C82-D82)/PARÂMETROS!$C$14),(N82+2*O82+3*P82+(C82-D82)/PARÂMETROS!$C$14)/(F82+2*G82-(C82-D82)/PARÂMETROS!$C$11))","v":{"v":-2.519150428717584,"d":"-2.52E+00"}},{"$f":"IF(PARÂMETROS!$J$6<PARÂMETROS!$F$6,(H82+2*I82+3*J82-(C82-D82)/PARÂMETROS!$C$11)/(K82+(C82-D82)/PARÂMETROS!$C$14),(K82+(C82-D82)/PARÂMETROS!$C$14)/(H82+2*I82+3*J82-(C82-D82)/PARÂMETROS!$C$11))","v":{"v":-2.5081644547180915,"d":"-2.51E+00"}},{"$f":"IF(PARÂMETROS!$J$6<PARÂMETROS!$F$6,(H82+2*I82+3*J82-(C82-D82)/PARÂMETROS!$C$11)/(L82+2*M82+(C82-D82)/PARÂMETROS!$C$14),(L82+2*M82+(C82-D82)/PARÂMETROS!$C$14)/(H82+2*I82+3*J82-(C82-D82)/PARÂMETROS!$C$11))","v":{"v":-2.5150061835253203,"d":"-2.52E+00"}},{"$f":"IF(PARÂMETROS!$J$6<PARÂMETROS!$F$6,(H82+2*I82+3*J82-(C82-D82)/PARÂMETROS!$C$11)/(N82+2*O82+3*P82+(C82-D82)/PARÂMETROS!$C$14),(N82+2*O82+3*P82+(C82-D82)/PARÂMETROS!$C$14)/(H82+2*I82+3*J82-(C82-D82)/PARÂMETROS!$C$11))","v":{"v":-2.5218853399324237,"d":"-2.52E+00"}},{"$f":"Q82*PARÂMETROS!$C$11*PARÂMETROS!$D$11/PARÂMETROS!$C$14","v":{"v":-50.05448121574906,"d":"-50.05"}},{"$f":"R82*PARÂMETROS!$C$11*PARÂMETROS!$D$11/PARÂMETROS!$C$14","v":{"v":-50.19101898759272,"d":"-50.19"}},{"$f":"S82*PARÂMETROS!$C$11*PARÂMETROS!$D$11/PARÂMETROS!$C$14","v":{"v":-50.32830368776931,"d":"-50.33"}},{"$f":"T82*PARÂMETROS!$C$11*PARÂMETROS!$D$11/PARÂMETROS!$C$14","v":{"v":-50.1088884680744,"d":"-50.11"}},{"$f":"U82*PARÂMETROS!$C$11*PARÂMETROS!$D$11/PARÂMETROS!$C$14","v":{"v":-50.24557465110572,"d":"-50.25"}},{"$f":"V82*PARÂMETROS!$C$11*PARÂMETROS!$D$11/PARÂMETROS!$C$14","v":{"v":-50.383008574351685,"d":"-50.38"}},{"$f":"W82*PARÂMETROS!$C$11*PARÂMETROS!$D$11/PARÂMETROS!$C$14","v":{"v":-50.16328909436183,"d":"-50.16"}},{"$f":"X82*PARÂMETROS!$C$11*PARÂMETROS!$D$11/PARÂMETROS!$C$14","v":{"v":-50.300123670506416,"d":"-50.30"}},{"$f":"Y82*PARÂMETROS!$C$11*PARÂMETROS!$D$11/PARÂMETROS!$C$14","v":{"v":-50.43770679864848,"d":"-50.44"}},{"$f":"AND(B82+PARÂMETROS!$C$8>=PARÂMETROS!$C$5,B82+PARÂMETROS!$C$8<=PARÂMETROS!$D$5)","v":false},0,{"$f":"VLOOKUP('BANCO DE DADOS COMPLETA'!$N$8,'BANCO DE DADOS COMPLETA'!$A$7:$L$249,3)*-1","v":3},7,{"$f":"VLOOKUP('BANCO DE DADOS COMPLETA'!$N$10,'BANCO DE DADOS COMPLETA'!$A$7:$L$249,3)*-1","v":1},11,77,{"v":-50.16328909436183,"d":"-50.16"},"LIMITE","LIMITE","LIMITE","LIMITE","NADA","NADA",0]
[null,{"$f":"B82+PARÂMETROS!$C$8","v":{"v":16.46434384834067,"d":"16.46"}},{"v":3.432860469600329e-17,"d":"3.43E-17"},{"$f":"PARÂMETROS!$Q$4/C83","v":{"v":291.3022561958147,"d":"2.91E+02"}},{"$f":"PARÂMETROS!$F$6/($C83+PARÂMETROS!$F$6)","v":{"v":0.9999999999999951,"d":"1.00E+00"}},{"$f":"$C83*PARÂMETROS!$F$6/($C83^2+$C83*PARÂMETROS!$F$6+PARÂMETROS!$F$6*PARÂMETROS!$G$6)","v":{"v":5.428203883697796E-10,"d":"5.43E-10"}},{"$f":"PARÂMETROS!$F$6*PARÂMETROS!$G$6/($C83^2+$C83*PARÂMETROS!$F$6+PARÂMETROS!$F$6*PARÂMETROS!$G$6)","v":{"v":0.9999999994571795,"d":"1.00E+00"}},{"$f":"(PARÂMETROS!$F$6*$C83^2)/($C83^3+PARÂMETROS!$F$6*$C83^2+PARÂMETROS!$F$6*PARÂMETROS!$G$6*$C83+PARÂMETROS!$F$6*PARÂMETROS!$G$6*PARÂMETROS!$H$6)","v":{"v":4.171372062233394e-14,"d":"4.17E-14"}},{"$f":"(PARÂMETROS!$F$6*PARÂMETROS!$G$6*$C83)/($C83^3+PARÂMETROS!$F$6*$C83^2+PARÂMETROS!$F$6*PARÂMETROS!$G$6*$C83+PARÂMETROS!$F$6*PARÂMETROS!$G$6*PARÂMETROS!$H$6)","v":{"v":7.6846267187876346E-5,"d":"7.68E-05"}},{"$f":"(PARÂMETROS!$F$6*PARÂMETROS!$G$6*PARÂMETROS!$H$6)/($C83^3+PARÂMETROS!$F$6*$C83^2+PARÂMETROS!$F$6*PARÂMETROS!$G$6*$C83+PARÂMETROS!$F$6*PARÂMETROS!$G$6*PARÂMETROS!$H$6)","v":{"v":0.9999231537327704,"d":"1.00E+00"}},{"$f":"$C83/($C83+PARÂMETROS!$J$6)","v":{"v":3.4316824209076332E-4,"d":"3.43E-04"}},{"$f":"$C83*PARÂMETROS!$J$6/($C83^2+$C83*PARÂMETROS!$J$6+PARÂMETROS!$J$6*PARÂMETROS!$K$6)","v":{"v":0.9996568317579092,"d":"1.00E+00"}},{"$f":"$C83^2/($C83^2+$C83*PARÂMETROS!$J$6+PARÂMETROS!$J$6*PARÂMETROS!$K$6)","v":{"v":3.4316824209076332E-4,"d":"3.43E-04"}},{"$f":"(PARÂMETROS!$K$6*PARÂMETROS!$J$6*$C83)/($C83^3+PARÂMETROS!$J$6*$C83^2+PARÂMETROS!$J$6*PARÂMETROS!$K$6*$C83+PARÂMETROS!$J$6*PARÂMETROS!$K$6*PARÂMETROS!$L$6)","v":{"v":0,"d":"0.00E+00"}},{"$f":"(PARÂMETROS!$J$6*$C83^2)/($C83^3+PARÂMETROS!$J$6*$C83^2+PARÂMETROS!$J$6*PARÂMETROS!$K$6*$C83+PARÂMETROS!$J$6*PARÂMETROS!$K$6*PARÂMETROS!$L$6)","v":{"v":0.9996568317579093,"d":"1.00E+00"}},{"$f":"($C83^3)/($C83^3+PARÂMETROS!$J$6*$C83^2+PARÂMETROS!$J$6*PARÂMETROS!$K$6*$C83+PARÂMETROS!$J$6*PARÂMETROS!$K$6*PARÂMETROS!$L$6)","v":{"v":3.4316824209076338E-4,"d":"3.43E-04"}},{"$f":"IF(PARÂMETROS!$J$6<PARÂMETROS!$F$6,(E83-(C83-D83)/PARÂMETROS!$C$11)/(K83+(C83-D83)/PARÂMETROS!$C$14),(K83+(C83-D83)/PARÂMETROS!$C$14)/(E83-(C83-D83)/PARÂMETROS!$C$11))","v":{"v":-2.501717903807553,"d":"-2.50E+00"}},{"$f":"IF(PARÂMETROS!$J$6<PARÂMETROS!$F$6,(E83-(C83-D83)/PARÂMETROS!$C$11)/(L83+2*M83+(C83-D83)/PARÂMETROS!$C$14),(L83+2*M83+(C83-D83)/PARÂMETROS!$C$14)/(E83-(C83-D83)/PARÂMETROS!$C$11))","v":{"v":-2.506019313660148,"d":"-2.51E+00"}},{"$f":"IF(PARÂMETROS!$J$6<PARÂMETROS!$F$6, (E83-(C83-D83)/PARÂMETROS!$C$11)/(N83+2*O83+3*P83+(C83-D83)/PARÂMETROS!$C$14),(N83+2*O83+3*P83+(C83-D83)/PARÂMETROS!$C$14)/ (E83-(C83-D83)/PARÂMETROS!$C$11))","v":{"v":-2.5103355405260555,"d":"-2.51E+00"}},{"$f":"IF(PARÂMETROS!$J$6<PARÂMETROS!$F$6,(F83+2*G83-(C83-D83)/PARÂMETROS!$C$11)/(K83+(C83-D83)/PARÂMETROS!$C$14),(K83+(C83-D83)/PARÂMETROS!$C$14)/(F83+2*G83-(C83-D83)/PARÂMETROS!$C$11))","v":{"v":-2.5034343350524417,"d":"-2.50E+00"}},{"$f":"IF(PARÂMETROS!$J$6<PARÂMETROS!$F$6,(F83+2*G83-(C83-D83)/PARÂMETROS!$C$11)/(L83+2*M83+(C83-D83)/PARÂMETROS!$C$14),(L83+2*M83+(C83-D83)/PARÂMETROS!$C$14)/(F83+2*G83-(C83-D83)/PARÂMETROS!$C$11))","v":{"v":-2.507738696106791,"d":"-2.51E+00"}},{"$f":"IF(PARÂMETROS!$J$6<PARÂMETROS!$F$6,(F83+2*G83-(C83-D83)/PARÂMETROS!$C$11)/(N83+2*O83+3*P83+(C83-D83)/PARÂMETROS!$C$14),(N83+2*O83+3*P83+(C83-D83)/PARÂMETROS!$C$14)/(F83+2*G83-(C83-D83)/PARÂMETROS!$C$11))","v":{"v":-2.512057884340422,"d":"-2.51E+00"}},{"$f":"IF(PARÂMETROS!$J$6<PARÂMETROS!$F$6,(H83+2*I83+3*J83-(C83-D83)/PARÂMETROS!$C$11)/(K83+(C83-D83)/PARÂMETROS!$C$14),(K83+(C83-D83)/PARÂMETROS!$C$14)/(H83+2*I83+3*J83-(C83-D83)/PARÂMETROS!$C$11))","v":{"v":-2.5051506343978587,"d":"-2.51E+00"}},{"$f":"IF(PARÂMETROS!$J$6<PARÂMETROS!$F$6,(H83+2*I83+3*J83-(C83-D83)/PARÂMETROS!$C$11)/(L83+2*M83+(C83-D83)/PARÂMETROS!$C$14),(L83+2*M83+(C83-D83)/PARÂMETROS!$C$14)/(H83+2*I83+3*J83-(C83-D83)/PARÂMETROS!$C$11))","v":{"v":-2.5094579464271773,"d":"-2.51E+00"}},{"$f":"IF(PARÂMETROS!$J$6<PARÂMETROS!$F$6,(H83+2*I83+3*J83-(C83-D83)/PARÂMETROS!$C$11)/(N83+2*O83+3*P83+(C83-D83)/PARÂMETROS!$C$14),(N83+2*O83+3*P83+(C83-D83)/PARÂMETROS!$C$14)/(H83+2*I83+3*J83-(C83-D83)/PARÂMETROS!$C$11))","v":{"v":-2.5137800958009646,"d":"-2.51E+00"}},{"$f":"Q83*PARÂMETROS!$C$11*PARÂMETROS!$D$11/PARÂMETROS!$C$14","v":{"v":-50.034358076151065,"d":"-50.03"}},{"$f":"R83*PARÂMETROS!$C$11*PARÂMETROS!$D$11/PARÂMETROS!$C$14","v":{"v":-50.12038627320295,"d":"-50.12"}},{"$f":"S83*PARÂMETROS!$C$11*PARÂMETROS!$D$11/PARÂMETROS!$C$14","v":{"v":-50.206710810521116,"d":"-50.21"}},{"$f":"T83*PARÂMETROS!$C$11*PARÂMETROS!$D$11/PARÂMETROS!$C$14","v":{"v":-50.06868670104884,"d":"-50.07"}},{"$f":"U83*PARÂMETROS!$C$11*PARÂMETROS!$D$11/PARÂMETROS!$C$14","v":{"v":-50.15477392213582,"d":"-50.15"}},{"$f":"V83*PARÂMETROS!$C$11*PARÂMETROS!$D$11/PARÂMETROS!$C$14","v":{"v":-50.24115768680845,"d":"-50.24"}},{"$f":"W83*PARÂMETROS!$C$11*PARÂMETROS!$D$11/PARÂMETROS!$C$14","v":{"v":-50.10301268795717,"d":"-50.10"}},{"$f":"X83*PARÂMETROS!$C$11*PARÂMETROS!$D$11/PARÂMETROS!$C$14","v":{"v":-50.189158928543556,"d":"-50.19"}},{"$f":"Y83*PARÂMETROS!$C$11*PARÂMETROS!$D$11/PARÂMETROS!$C$14","v":{"v":-50.2756019160193,"d":"-50.28"}},{"$f":"AND(B83+PARÂMETROS!$C$8>=PARÂMETROS!$C$5,B83+PARÂMETROS!$C$8<=PARÂMETROS!$D$5)","v":false},0,{"$f":"VLOOKUP('BANCO DE DADOS COMPLETA'!$N$8,'BANCO DE DADOS COMPLETA'!$A$7:$L$249,3)*-1","v":3},7,{"$f":"VLOOKUP('BANCO DE DADOS COMPLETA'!$N$10,'BANCO DE DADOS COMPLETA'!$A$7:$L$249,3)*-1","v":1},11,77,{"v":-50.10301268795717,"d":"-50.10"},"LIMITE","LIMITE","LIMITE","LIMITE","NADA","NADA",0]
[null,{"$f":"B83+PARÂMETROS!$C$8","v":{"v":16.664343848340668,"d":"16.66"}},{"v":2.1659885258700573E-17,"d":"2.17E-17"},{"$f":"PARÂMETROS!$Q$4/C84","v":{"v":461.68296279330906,"d":"4.62E+02"}},{"$f":"PARÂMETROS!$F$6/($C84+PARÂMETROS!$F$6)","v":{"v":0.999999999999997,"d":"1.00E+00"}},{"$f":"$C84*PARÂMETROS!$F$6/($C84^2+$C84*PARÂMETROS!$F$6+PARÂMETROS!$F$6*PARÂMETROS!$G$6)","v":{"v":3.424965108441142e-10,"d":"3.42E-10"}},{"$f":"PARÂMETROS!$F$6*PARÂMETROS!$G$6/($C84^2+$C84*PARÂMETROS!$F$6+PARÂMETROS!$F$6*PARÂMETROS!$G$6)","v":{"v":0.9999999996575035,"d":"1.00E+00"}},{"$f":"(PARÂMETROS!$F$6*$C84^2)/($C84^3+PARÂMETROS!$F$6*$C84^2+PARÂMETROS!$F$6*PARÂMETROS!$G$6*$C84+PARÂMETROS!$F$6*PARÂMETROS!$G$6*PARÂMETROS!$H$6)","v":{"v":1.6607002257336255E-14,"d":"1.66E-14"}},{"$f":"(PARÂMETROS!$F$6*PARÂMETROS!$G$6*$C84)/($C84^3+PARÂMETROS!$F$6*$C84^2+PARÂMETROS!$F$6*PARÂMETROS!$G$6*$C84+PARÂMETROS!$F$6*PARÂMETROS!$G$6*PARÂMETROS!$H$6)","v":{"v":4.84880917785671e-05,"d":"4.85E-05"}},{"$f":"(PARÂMETROS!$F$6*PARÂMETROS!$G$6*PARÂMETROS!$H$6)/($C84^3+PARÂMETROS!$F$6*$C84^2+PARÂMETROS!$F$6*PARÂMETROS!$G$6*$C84+PARÂMETROS!$F$6*PARÂMETROS!$G$6*PARÂMETROS!$H$6)","v":{"v":0.9999515119082049,"d":"1.00E+00"}},{"$f":"$C84/($C84+PARÂMETROS!$J$6)","v":{"v":2.1655194768361197E-4,"d":"2.17E-04"}},{"$f":"$C84*PARÂMETROS!$J$6/($C84^2+$C84*PARÂMETROS!$J$6+PARÂMETROS!$J$6*PARÂMETROS!$K$6)","v":{"v":0.9997834480523163,"d":"1.00E+00"}},{"$f":"$C84^2/($C84^2+$C84*PARÂMETROS!$J$6+PARÂMETROS!$J$6*PARÂMETROS!$K$6)","v":{"v":2.1655194768361197E-4,"d":"2.17E-04"}},{"$f":"(PARÂMETROS!$K$6*PARÂMETROS!$J$6*$C84)/($C84^3+PARÂMETROS!$J$6*$C84^2+PARÂMETROS!$J$6*PARÂMETROS!$K$6*$C84+PARÂMETROS!$J$6*PARÂMETROS!$K$6*PARÂMETROS!$L$6)","v":{"v":0,"d":"0.00E+00"}},{"$f":"(PARÂMETROS!$J$6*$C84^2)/($C84^3+PARÂMETROS!$J$6*$C84^2+PARÂMETROS!$J$6*PARÂMETROS!$K$6*$C84+PARÂMETROS!$J$6*PARÂMETROS!$K$6*PARÂMETROS!$L$6)","v":{"v":0.9997834480523164,"d":"1.00E+00"}},{"$f":"($C84^3)/($C84^3+PARÂMETROS!$J$6*$C84^2+PARÂMETROS!$J$6*PARÂMETROS!$K$6*$C84+PARÂMETROS!$J$6*PARÂMETROS!$K$6*PARÂMETROS!$L$6)","v":{"v":2.16551947683612E-4,"d":"2.17E-04"}},{"$f":"IF(PARÂMETROS!$J$6<PARÂMETROS!$F$6,(E84-(C84-D84)/PARÂMETROS!$C$11)/(K84+(C84-D84)/PARÂMETROS!$C$14),(K84+(C84-D84)/PARÂMETROS!$C$14)/(E84-(C84-D84)/PARÂMETROS!$C$11))","v":{"v":-2.501083580828354,"d":"-2.50E+00"}},{"$f":"IF(PARÂMETROS!$J$6<PARÂMETROS!$F$6,(E84-(C84-D84)/PARÂMETROS!$C$11)/(L84+2*M84+(C84-D84)/PARÂMETROS!$C$14),(L84+2*M84+(C84-D84)/PARÂMETROS!$C$14)/(E84-(C84-D84)/PARÂMETROS!$C$11))","v":{"v":-2.503795177276845,"d":"-2.50E+00"}},{"$f":"IF(PARÂMETROS!$J$6<PARÂMETROS!$F$6, (E84-(C84-D84)/PARÂMETROS!$C$11)/(N84+2*O84+3*P84+(C84-D84)/PARÂMETROS!$C$14),(N84+2*O84+3*P84+(C84-D84)/PARÂMETROS!$C$14)/ (E84-(C84-D84)/PARÂMETROS!$C$11))","v":{"v":-2.5065126597626,"d":"-2.51E+00"}},{"$f":"IF(PARÂMETROS!$J$6<PARÂMETROS!$F$6,(F84+2*G84-(C84-D84)/PARÂMETROS!$C$11)/(K84+(C84-D84)/PARÂMETROS!$C$14),(K84+(C84-D84)/PARÂMETROS!$C$14)/(F84+2*G84-(C84-D84)/PARÂMETROS!$C$11))","v":{"v":-2.5021665753449067,"d":"-2.50E+00"}},{"$f":"IF(PARÂMETROS!$J$6<PARÂMETROS!$F$6,(F84+2*G84-(C84-D84)/PARÂMETROS!$C$11)/(L84+2*M84+(C84-D84)/PARÂMETROS!$C$14),(L84+2*M84+(C84-D84)/PARÂMETROS!$C$14)/(F84+2*G84-(C84-D84)/PARÂMETROS!$C$11))","v":{"v":-2.504879345942118,"d":"-2.50E+00"}},{"$f":"IF(PARÂMETROS!$J$6<PARÂMETROS!$F$6,(F84+2*G84-(C84-D84)/PARÂMETROS!$C$11)/(N84+2*O84+3*P84+(C84-D84)/PARÂMETROS!$C$14),(N84+2*O84+3*P84+(C84-D84)/PARÂMETROS!$C$14)/(F84+2*G84-(C84-D84)/PARÂMETROS!$C$11))","v":{"v":-2.507598005125306,"d":"-2.51E+00"}},{"$f":"IF(PARÂMETROS!$J$6<PARÂMETROS!$F$6,(H84+2*I84+3*J84-(C84-D84)/PARÂMETROS!$C$11)/(K84+(C84-D84)/PARÂMETROS!$C$14),(K84+(C84-D84)/PARÂMETROS!$C$14)/(H84+2*I84+3*J84-(C84-D84)/PARÂMETROS!$C$11))","v":{"v":-2.5032495173498637,"d":"-2.50E+00"}},{"$f":"IF(PARÂMETROS!$J$6<PARÂMETROS!$F$6,(H84+2*I84+3*J84-(C84-D84)/PARÂMETROS!$C$11)/(L84+2*M84+(C84-D84)/PARÂMETROS!$C$14),(L84+2*M84+(C84-D84)/PARÂMETROS!$C$14)/(H84+2*I84+3*J84-(C84-D84)/PARÂMETROS!$C$11))","v":{"v":-2.505963462038863,"d":"-2.51E+00"}},{"$f":"IF(PARÂMETROS!$J$6<PARÂMETROS!$F$6,(H84+2*I84+3*J84-(C84-D84)/PARÂMETROS!$C$11)/(N84+2*O84+3*P84+(C84-D84)/PARÂMETROS!$C$14),(N84+2*O84+3*P84+(C84-D84)/PARÂMETROS!$C$14)/(H84+2*I84+3*J84-(C84-D84)/PARÂMETROS!$C$11))","v":{"v":-2.5086832978624303,"d":"-2.51E+00"}},{"$f":"Q84*PARÂMETROS!$C$11*PARÂMETROS!$D$11/PARÂMETROS!$C$14","v":{"v":-50.021671616567076,"d":"-50.02"}},{"$f":"R84*PARÂMETROS!$C$11*PARÂMETROS!$D$11/PARÂMETROS!$C$14","v":{"v":-50.0759035455369,"d":"-50.08"}},{"$f":"S84*PARÂMETROS!$C$11*PARÂMETROS!$D$11/PARÂMETROS!$C$14","v":{"v":-50.130253195252,"d":"-50.13"}},{"$f":"T84*PARÂMETROS!$C$11*PARÂMETROS!$D$11/PARÂMETROS!$C$14","v":{"v":-50.043331506898134,"d":"-50.04"}},{"$f":"U84*PARÂMETROS!$C$11*PARÂMETROS!$D$11/PARÂMETROS!$C$14","v":{"v":-50.09758691884236,"d":"-50.10"}},{"$f":"V84*PARÂMETROS!$C$11*PARÂMETROS!$D$11/PARÂMETROS!$C$14","v":{"v":-50.15196010250612,"d":"-50.15"}},{"$f":"W84*PARÂMETROS!$C$11*PARÂMETROS!$D$11/PARÂMETROS!$C$14","v":{"v":-50.06499034699728,"d":"-50.06"}},{"$f":"X84*PARÂMETROS!$C$11*PARÂMETROS!$D$11/PARÂMETROS!$C$14","v":{"v":-50.119269240777264,"d":"-50.12"}},{"$f":"Y84*PARÂMETROS!$C$11*PARÂMETROS!$D$11/PARÂMETROS!$C$14","v":{"v":-50.1736659572486,"d":"-50.17"}},{"$f":"AND(B84+PARÂMETROS!$C$8>=PARÂMETROS!$C$5,B84+PARÂMETROS!$C$8<=PARÂMETROS!$D$5)","v":false},0,{"$f":"VLOOKUP('BANCO DE DADOS COMPLETA'!$N$8,'BANCO DE DADOS COMPLETA'!$A$7:$L$249,3)*-1","v":3},7,{"$f":"VLOOKUP('BANCO DE DADOS COMPLETA'!$N$10,'BANCO DE DADOS COMPLETA'!$A$7:$L$249,3)*-1","v":1},11,77,{"v":-50.06499034699728,"d":"-50.06"},"LIMITE","LIMITE","LIMITE","LIMITE","NADA","NADA",0]
[null,{"$f":"B84+PARÂMETROS!$C$8","v":{"v":16.864343848340667,"d":"16.86"}},{"v":1.3666463684575423E-17,"d":"1.37E-17"},{"$f":"PARÂMETROS!$Q$4/C85","v":{"v":731.7181848063917,"d":"7.32E+02"}},{"$f":"PARÂMETROS!$F$6/($C85+PARÂMETROS!$F$6)","v":{"v":0.999999999999998,"d":"1.00E+00"}},{"$f":"$C85*PARÂMETROS!$F$6/($C85^2+$C85*PARÂMETROS!$F$6+PARÂMETROS!$F$6*PARÂMETROS!$G$6)","v":{"v":2.1610068900324863E-10,"d":"2.16E-10"}},{"$f":"PARÂMETROS!$F$6*PARÂMETROS!$G$6/($C85^2+$C85*PARÂMETROS!$F$6+PARÂMETROS!$F$6*PARÂMETROS!$G$6)","v":{"v":0.9999999997838993,"d":"1.00E+00"}},{"$f":"(PARÂMETROS!$F$6*$C85^2)/($C85^3+PARÂMETROS!$F$6*$C85^2+PARÂMETROS!$F$6*PARÂMETROS!$G$6*$C85+PARÂMETROS!$F$6*PARÂMETROS!$G$6*PARÂMETROS!$H$6)","v":{"v":6.6114849871075245E-15,"d":"6.61E-15"}},{"$f":"(PARÂMETROS!$F$6*PARÂMETROS!$G$6*$C85)/($C85^3+PARÂMETROS!$F$6*$C85^2+PARÂMETROS!$F$6*PARÂMETROS!$G$6*$C85+PARÂMETROS!$F$6*PARÂMETROS!$G$6*PARÂMETROS!$H$6)","v":{"v":3.0594465090203335E-5,"d":"3.06E-05"}},{"$f":"(PARÂMETROS!$F$6*PARÂMETROS!$G$6*PARÂMETROS!$H$6)/($C85^3+PARÂMETROS!$F$6*$C85^2+PARÂMETROS!$F$6*PARÂMETROS!$G$6*$C85+PARÂMETROS!$F$6*PARÂMETROS!$G$6*PARÂMETROS!$H$6)","v":{"v":0.9999694055349032,"d":"1.00E+00"}},{"$f":"$C85/($C85+PARÂMETROS!$J$6)","v":{"v":1.3664596217495713E-4,"d":"1.37E-04"}},{"$f":"$C85*PARÂMETROS!$J$6/($C85^2+$C85*PARÂMETROS!$J$6+PARÂMETROS!$J$6*PARÂMETROS!$K$6)","v":{"v":0.9998633540378251,"d":"1.00E+00"}},{"$f":"$C85^2/($C85^2+$C85*PARÂMETROS!$J$6+PARÂMETROS!$J$6*PARÂMETROS!$K$6)","v":{"v":1.3664596217495716E-4,"d":"1.37E-04"}},{"$f":"(PARÂMETROS!$K$6*PARÂMETROS!$J$6*$C85)/($C85^3+PARÂMETROS!$J$6*$C85^2+PARÂMETROS!$J$6*PARÂMETROS!$K$6*$C85+PARÂMETROS!$J$6*PARÂMETROS!$K$6*PARÂMETROS!$L$6)","v":{"v":0,"d":"0.00E+00"}},{"$f":"(PARÂMETROS!$J$6*$C85^2)/($C85^3+PARÂMETROS!$J$6*$C85^2+PARÂMETROS!$J$6*PARÂMETROS!$K$6*$C85+PARÂMETROS!$J$6*PARÂMETROS!$K$6*PARÂMETROS!$L$6)","v":{"v":0.9998633540378251,"d":"1.00E+00"}},{"$f":"($C85^3)/($C85^3+PARÂMETROS!$J$6*$C85^2+PARÂMETROS!$J$6*PARÂMETROS!$K$6*$C85+PARÂMETROS!$J$6*PARÂMETROS!$K$6*PARÂMETROS!$L$6)","v":{"v":1.3664596217495716E-4,"d":"1.37E-04"}},{"$f":"IF(PARÂMETROS!$J$6<PARÂMETROS!$F$6,(E85-(C85-D85)/PARÂMETROS!$C$11)/(K85+(C85-D85)/PARÂMETROS!$C$14),(K85+(C85-D85)/PARÂMETROS!$C$14)/(E85-(C85-D85)/PARÂMETROS!$C$11))","v":{"v":-2.5006835566814396,"d":"-2.50E+00"}},{"$f":"IF(PARÂMETROS!$J$6<PARÂMETROS!$F$6,(E85-(C85-D85)/PARÂMETROS!$C$11)/(L85+2*M85+(C85-D85)/PARÂMETROS!$C$14),(L85+2*M85+(C85-D85)/PARÂMETROS!$C$14)/(E85-(C85-D85)/PARÂMETROS!$C$11))","v":{"v":-2.5023935003359457,"d":"-2.50E+00"}},{"$f":"IF(PARÂMETROS!$J$6<PARÂMETROS!$F$6, (E85-(C85-D85)/PARÂMETROS!$C$11)/(N85+2*O85+3*P85+(C85-D85)/PARÂMETROS!$C$14),(N85+2*O85+3*P85+(C85-D85)/PARÂMETROS!$C$14)/ (E85-(C85-D85)/PARÂMETROS!$C$11))","v":{"v":-2.504105784077027,"d":"-2.50E+00"}},{"$f":"IF(PARÂMETROS!$J$6<PARÂMETROS!$F$6,(F85+2*G85-(C85-D85)/PARÂMETROS!$C$11)/(K85+(C85-D85)/PARÂMETROS!$C$14),(K85+(C85-D85)/PARÂMETROS!$C$14)/(F85+2*G85-(C85-D85)/PARÂMETROS!$C$11))","v":{"v":-2.501366879929325,"d":"-2.50E+00"}},{"$f":"IF(PARÂMETROS!$J$6<PARÂMETROS!$F$6,(F85+2*G85-(C85-D85)/PARÂMETROS!$C$11)/(L85+2*M85+(C85-D85)/PARÂMETROS!$C$14),(L85+2*M85+(C85-D85)/PARÂMETROS!$C$14)/(F85+2*G85-(C85-D85)/PARÂMETROS!$C$11))","v":{"v":-2.503077290833775,"d":"-2.50E+00"}},{"$f":"IF(PARÂMETROS!$J$6<PARÂMETROS!$F$6,(F85+2*G85-(C85-D85)/PARÂMETROS!$C$11)/(N85+2*O85+3*P85+(C85-D85)/PARÂMETROS!$C$14),(N85+2*O85+3*P85+(C85-D85)/PARÂMETROS!$C$14)/(F85+2*G85-(C85-D85)/PARÂMETROS!$C$11))","v":{"v":-2.5047900424642395,"d":"-2.50E+00"}},{"$f":"IF(PARÂMETROS!$J$6<PARÂMETROS!$F$6,(H85+2*I85+3*J85-(C85-D85)/PARÂMETROS!$C$11)/(K85+(C85-D85)/PARÂMETROS!$C$14),(K85+(C85-D85)/PARÂMETROS!$C$14)/(H85+2*I85+3*J85-(C85-D85)/PARÂMETROS!$C$11))","v":{"v":-2.502050182271596,"d":"-2.50E+00"}},{"$f":"IF(PARÂMETROS!$J$6<PARÂMETROS!$F$6,(H85+2*I85+3*J85-(C85-D85)/PARÂMETROS!$C$11)/(L85+2*M85+(C85-D85)/PARÂMETROS!$C$14),(L85+2*M85+(C85-D85)/PARÂMETROS!$C$14)/(H85+2*I85+3*J85-(C85-D85)/PARÂMETROS!$C$11))","v":{"v":-2.503761060411695,"d":"-2.50E+00"}},{"$f":"IF(PARÂMETROS!$J$6<PARÂMETROS!$F$6,(H85+2*I85+3*J85-(C85-D85)/PARÂMETROS!$C$11)/(N85+2*O85+3*P85+(C85-D85)/PARÂMETROS!$C$14),(N85+2*O85+3*P85+(C85-D85)/PARÂMETROS!$C$14)/(H85+2*I85+3*J85-(C85-D85)/PARÂMETROS!$C$11))","v":{"v":-2.5054742799172285,"d":"-2.51E+00"}},{"$f":"Q85*PARÂMETROS!$C$11*PARÂMETROS!$D$11/PARÂMETROS!$C$14","v":{"v":-50.01367113362879,"d":"-50.01"}},{"$f":"R85*PARÂMETROS!$C$11*PARÂMETROS!$D$11/PARÂMETROS!$C$14","v":{"v":-50.04787000671892,"d":"-50.05"}},{"$f":"S85*PARÂMETROS!$C$11*PARÂMETROS!$D$11/PARÂMETROS!$C$14","v":{"v":-50.08211568154054,"d":"-50.08"}},{"$f":"T85*PARÂMETROS!$C$11*PARÂMETROS!$D$11/PARÂMETROS!$C$14","v":{"v":-50.0273375985865,"d":"-50.03"}},{"$f":"U85*PARÂMETROS!$C$11*PARÂMETROS!$D$11/PARÂMETROS!$C$14","v":{"v":-50.061545816675505,"d":"-50.06"}},{"$f":"V85*PARÂMETROS!$C$11*PARÂMETROS!$D$11/PARÂMETROS!$C$14","v":{"v":-50.095800849284785,"d":"-50.10"}},{"$f":"W85*PARÂMETROS!$C$11*PARÂMETROS!$D$11/PARÂMETROS!$C$14","v":{"v":-50.04100364543193,"d":"-50.04"}},{"$f":"X85*PARÂMETROS!$C$11*PARÂMETROS!$D$11/PARÂMETROS!$C$14","v":{"v":-50.0752212082339,"d":"-50.08"}},{"$f":"Y85*PARÂMETROS!$C$11*PARÂMETROS!$D$11/PARÂMETROS!$C$14","v":{"v":-50.10948559834457,"d":"-50.11"}},{"$f":"AND(B85+PARÂMETROS!$C$8>=PARÂMETROS!$C$5,B85+PARÂMETROS!$C$8<=PARÂMETROS!$D$5)","v":false},0,{"$f":"VLOOKUP('BANCO DE DADOS COMPLETA'!$N$8,'BANCO DE DADOS COMPLETA'!$A$7:$L$249,3)*-1","v":3},7,{"$f":"VLOOKUP('BANCO DE DADOS COMPLETA'!$N$10,'BANCO DE DADOS COMPLETA'!$A$7:$L$249,3)*-1","v":1},11,77,{"v":-50.04100364543193,"d":"-50.04"},"LIMITE","LIMITE","LIMITE","LIMITE","NADA","NADA",0]
[null,{"$f":"B85+PARÂMETROS!$C$8","v":{"v":17.064343848340666,"d":"17.06"}},{"v":8.622955634854723e-18,"d":"8.62E-18"},{"$f":"PARÂMETROS!$Q$4/C86","v":{"v":1159.6951698996509,"d":"1.16E+03"}},{"$f":"PARÂMETROS!$F$6/($C86+PARÂMETROS!$F$6)","v":{"v":0.9999999999999988,"d":"1.00E+00"}},{"$f":"$C86*PARÂMETROS!$F$6/($C86^2+$C86*PARÂMETROS!$F$6+PARÂMETROS!$F$6*PARÂMETROS!$G$6)","v":{"v":1.3635031688470412E-10,"d":"1.36E-10"}},{"$f":"PARÂMETROS!$F$6*PARÂMETROS!$G$6/($C86^2+$C86*PARÂMETROS!$F$6+PARÂMETROS!$F$6*PARÂMETROS!$G$6)","v":{"v":0.9999999998636496,"d":"1.00E+00"}},{"$f":"(PARÂMETROS!$F$6*$C86^2)/($C86^3+PARÂMETROS!$F$6*$C86^2+PARÂMETROS!$F$6*PARÂMETROS!$G$6*$C86+PARÂMETROS!$F$6*PARÂMETROS!$G$6*PARÂMETROS!$H$6)","v":{"v":2.6321092996324597E-15,"d":"2.63E-15"}},{"$f":"(PARÂMETROS!$F$6*PARÂMETROS!$G$6*$C86)/($C86^3+PARÂMETROS!$F$6*$C86^2+PARÂMETROS!$F$6*PARÂMETROS!$G$6*$C86+PARÂMETROS!$F$6*PARÂMETROS!$G$6*PARÂMETROS!$H$6)","v":{"v":1.9304020404288787E-5,"d":"1.93E-05"}},{"$f":"(PARÂMETROS!$F$6*PARÂMETROS!$G$6*PARÂMETROS!$H$6)/($C86^3+PARÂMETROS!$F$6*$C86^2+PARÂMETROS!$F$6*PARÂMETROS!$G$6*$C86+PARÂMETROS!$F$6*PARÂMETROS!$G$6*PARÂMETROS!$H$6)","v":{"v":0.999980695979593,"d":"1.00E+00"}},{"$f":"$C86/($C86+PARÂMETROS!$J$6)","v":{"v":8.6222121453266879E-5,"d":"8.62E-05"}},{"$f":"$C86*PARÂMETROS!$J$6/($C86^2+$C86*PARÂMETROS!$J$6+PARÂMETROS!$J$6*PARÂMETROS!$K$6)","v":{"v":0.9999137778785467,"d":"1.00E+00"}},{"$f":"$C86^2/($C86^2+$C86*PARÂMETROS!$J$6+PARÂMETROS!$J$6*PARÂMETROS!$K$6)","v":{"v":8.6222121453266879E-5,"d":"8.62E-05"}},{"$f":"(PARÂMETROS!$K$6*PARÂMETROS!$J$6*$C86)/($C86^3+PARÂMETROS!$J$6*$C86^2+PARÂMETROS!$J$6*PARÂMETROS!$K$6*$C86+PARÂMETROS!$J$6*PARÂMETROS!$K$6*PARÂMETROS!$L$6)","v":{"v":0,"d":"0.00E+00"}},{"$f":"(PARÂMETROS!$J$6*$C86^2)/($C86^3+PARÂMETROS!$J$6*$C86^2+PARÂMETROS!$J$6*PARÂMETROS!$K$6*$C86+PARÂMETROS!$J$6*PARÂMETROS!$K$6*PARÂMETROS!$L$6)","v":{"v":0.9999137778785467,"d":"1.00E+00"}},{"$f":"($C86^3)/($C86^3+PARÂMETROS!$J$6*$C86^2+PARÂMETROS!$J$6*PARÂMETROS!$K$6*$C86+PARÂMETROS!$J$6*PARÂMETROS!$K$6*PARÂMETROS!$L$6)","v":{"v":8.6222121453266893E-5,"d":"8.62E-05"}},{"$f":"IF(PARÂMETROS!$J$6<PARÂMETROS!$F$6,(E86-(C86-D86)/PARÂMETROS!$C$11)/(K86+(C86-D86)/PARÂMETROS!$C$14),(K86+(C86-D86)/PARÂMETROS!$C$14)/(E86-(C86-D86)/PARÂMETROS!$C$11))","v":{"v":-2.5004312407339646,"d":"-2.50E+00"}},{"$f":"IF(PARÂMETROS!$J$6<PARÂMETROS!$F$6,(E86-(C86-D86)/PARÂMETROS!$C$11)/(L86+2*M86+(C86-D86)/PARÂMETROS!$C$14),(L86+2*M86+(C86-D86)/PARÂMETROS!$C$14)/(E86-(C86-D86)/PARÂMETROS!$C$11))","v":{"v":-2.5015097611585895,"d":"-2.50E+00"}},{"$f":"IF(PARÂMETROS!$J$6<PARÂMETROS!$F$6, (E86-(C86-D86)/PARÂMETROS!$C$11)/(N86+2*O86+3*P86+(C86-D86)/PARÂMETROS!$C$14),(N86+2*O86+3*P86+(C86-D86)/PARÂMETROS!$C$14)/ (E86-(C86-D86)/PARÂMETROS!$C$11))","v":{"v":-2.502589212389256,"d":"-2.50E+00"}},{"$f":"IF(PARÂMETROS!$J$6<PARÂMETROS!$F$6,(F86+2*G86-(C86-D86)/PARÂMETROS!$C$11)/(K86+(C86-D86)/PARÂMETROS!$C$14),(K86+(C86-D86)/PARÂMETROS!$C$14)/(F86+2*G86-(C86-D86)/PARÂMETROS!$C$11))","v":{"v":-2.5008623885316763,"d":"-2.50E+00"}},{"$f":"IF(PARÂMETROS!$J$6<PARÂMETROS!$F$6,(F86+2*G86-(C86-D86)/PARÂMETROS!$C$11)/(L86+2*M86+(C86-D86)/PARÂMETROS!$C$14),(L86+2*M86+(C86-D86)/PARÂMETROS!$C$14)/(F86+2*G86-(C86-D86)/PARÂMETROS!$C$11))","v":{"v":-2.501941094924905,"d":"-2.50E+00"}},{"$f":"IF(PARÂMETROS!$J$6<PARÂMETROS!$F$6,(F86+2*G86-(C86-D86)/PARÂMETROS!$C$11)/(N86+2*O86+3*P86+(C86-D86)/PARÂMETROS!$C$14),(N86+2*O86+3*P86+(C86-D86)/PARÂMETROS!$C$14)/(F86+2*G86-(C86-D86)/PARÂMETROS!$C$11))","v":{"v":-2.503020732284673,"d":"-2.50E+00"}},{"$f":"IF(PARÂMETROS!$J$6<PARÂMETROS!$F$6,(H86+2*I86+3*J86-(C86-D86)/PARÂMETROS!$C$11)/(K86+(C86-D86)/PARÂMETROS!$C$14),(K86+(C86-D86)/PARÂMETROS!$C$14)/(H86+2*I86+3*J86-(C86-D86)/PARÂMETROS!$C$11))","v":{"v":-2.5012935280066197,"d":"-2.50E+00"}},{"$f":"IF(PARÂMETROS!$J$6<PARÂMETROS!$F$6,(H86+2*I86+3*J86-(C86-D86)/PARÂMETROS!$C$11)/(L86+2*M86+(C86-D86)/PARÂMETROS!$C$14),(L86+2*M86+(C86-D86)/PARÂMETROS!$C$14)/(H86+2*I86+3*J86-(C86-D86)/PARÂMETROS!$C$11))","v":{"v":-2.5023724203648614,"d":"-2.50E+00"}},{"$f":"IF(PARÂMETROS!$J$6<PARÂMETROS!$F$6,(H86+2*I86+3*J86-(C86-D86)/PARÂMETROS!$C$11)/(N86+2*O86+3*P86+(C86-D86)/PARÂMETROS!$C$14),(N86+2*O86+3*P86+(C86-D86)/PARÂMETROS!$C$14)/(H86+2*I86+3*J86-(C86-D86)/PARÂMETROS!$C$11))","v":{"v":-2.5034522438501385,"d":"-2.50E+00"}},{"$f":"Q86*PARÂMETROS!$C$11*PARÂMETROS!$D$11/PARÂMETROS!$C$14","v":{"v":-50.008624814679294,"d":"-50.01"}},{"$f":"R86*PARÂMETROS!$C$11*PARÂMETROS!$D$11/PARÂMETROS!$C$14","v":{"v":-50.030195223171795,"d":"-50.03"}},{"$f":"S86*PARÂMETROS!$C$11*PARÂMETROS!$D$11/PARÂMETROS!$C$14","v":{"v":-50.05178424778512,"d":"-50.05"}},{"$f":"T86*PARÂMETROS!$C$11*PARÂMETROS!$D$11/PARÂMETROS!$C$14","v":{"v":-50.01724777063353,"d":"-50.02"}},{"$f":"U86*PARÂMETROS!$C$11*PARÂMETROS!$D$11/PARÂMETROS!$C$14","v":{"v":-50.0388218984981,"d":"-50.04"}},{"$f":"V86*PARÂMETROS!$C$11*PARÂMETROS!$D$11/PARÂMETROS!$C$14","v":{"v":-50.06041464569346,"d":"-50.06"}},{"$f":"W86*PARÂMETROS!$C$11*PARÂMETROS!$D$11/PARÂMETROS!$C$14","v":{"v":-50.025870560132404,"d":"-50.03"}},{"$f":"X86*PARÂMETROS!$C$11*PARÂMETROS!$D$11/PARÂMETROS!$C$14","v":{"v":-50.04744840729723,"d":"-50.05"}},{"$f":"Y86*PARÂMETROS!$C$11*PARÂMETROS!$D$11/PARÂMETROS!$C$14","v":{"v":-50.069044877002774,"d":"-50.07"}},{"$f":"AND(B86+PARÂMETROS!$C$8>=PARÂMETROS!$C$5,B86+PARÂMETROS!$C$8<=PARÂMETROS!$D$5)","v":false},0,{"$f":"VLOOKUP('BANCO DE DADOS COMPLETA'!$N$8,'BANCO DE DADOS COMPLETA'!$A$7:$L$249,3)*-1","v":3},7,{"$f":"VLOOKUP('BANCO DE DADOS COMPLETA'!$N$10,'BANCO DE DADOS COMPLETA'!$A$7:$L$249,3)*-1","v":1},11,77,{"v":-50.025870560132404,"d":"-50.03"},"LIMITE","LIMITE","LIMITE","LIMITE","NADA","NADA",0]
[null,{"$f":"B86+PARÂMETROS!$C$8","v":{"v":17.264343848340665,"d":"17.26"}},{"v":5.440717188938465e-18,"d":"5.44E-18"},{"$f":"PARÂMETROS!$Q$4/C87","v":{"v":1837.9929801039875,"d":"1.84E+03"}},{"$f":"PARÂMETROS!$F$6/($C87+PARÂMETROS!$F$6)","v":{"v":0.9999999999999992,"d":"1.00E+00"}},{"$f":"$C87*PARÂMETROS!$F$6/($C87^2+$C87*PARÂMETROS!$F$6+PARÂMETROS!$F$6*PARÂMETROS!$G$6)","v":{"v":8.603123386493495e-11,"d":"8.60E-11"}},{"$f":"PARÂMETROS!$F$6*PARÂMETROS!$G$6/($C87^2+$C87*PARÂMETROS!$F$6+PARÂMETROS!$F$6*PARÂMETROS!$G$6)","v":{"v":0.9999999999139688,"d":"1.00E+00"}},{"$f":"(PARÂMETROS!$F$6*$C87^2)/($C87^3+PARÂMETROS!$F$6*$C87^2+PARÂMETROS!$F$6*PARÂMETROS!$G$6*$C87+PARÂMETROS!$F$6*PARÂMETROS!$G$6*PARÂMETROS!$H$6)","v":{"v":1.047869050890635E-15,"d":"1.05E-15"}},{"$f":"(PARÂMETROS!$F$6*PARÂMETROS!$G$6*$C87)/($C87^3+PARÂMETROS!$F$6*$C87^2+PARÂMETROS!$F$6*PARÂMETROS!$G$6*$C87+PARÂMETROS!$F$6*PARÂMETROS!$G$6*PARÂMETROS!$H$6)","v":{"v":1.2180100223200233E-5,"d":"1.22E-05"}},{"$f":"(PARÂMETROS!$F$6*PARÂMETROS!$G$6*PARÂMETROS!$H$6)/($C87^3+PARÂMETROS!$F$6*$C87^2+PARÂMETROS!$F$6*PARÂMETROS!$G$6*$C87+PARÂMETROS!$F$6*PARÂMETROS!$G$6*PARÂMETROS!$H$6)","v":{"v":0.9999878198997758,"d":"1.00E+00"}},{"$f":"$C87/($C87+PARÂMETROS!$J$6)","v":{"v":5.440421191007576E-5,"d":"5.44E-05"}},{"$f":"$C87*PARÂMETROS!$J$6/($C87^2+$C87*PARÂMETROS!$J$6+PARÂMETROS!$J$6*PARÂMETROS!$K$6)","v":{"v":0.9999455957880898,"d":"1.00E+00"}},{"$f":"$C87^2/($C87^2+$C87*PARÂMETROS!$J$6+PARÂMETROS!$J$6*PARÂMETROS!$K$6)","v":{"v":5.4404211910075746E-5,"d":"5.44E-05"}},{"$f":"(PARÂMETROS!$K$6*PARÂMETROS!$J$6*$C87)/($C87^3+PARÂMETROS!$J$6*$C87^2+PARÂMETROS!$J$6*PARÂMETROS!$K$6*$C87+PARÂMETROS!$J$6*PARÂMETROS!$K$6*PARÂMETROS!$L$6)","v":{"v":0,"d":"0.00E+00"}},{"$f":"(PARÂMETROS!$J$6*$C87^2)/($C87^3+PARÂMETROS!$J$6*$C87^2+PARÂMETROS!$J$6*PARÂMETROS!$K$6*$C87+PARÂMETROS!$J$6*PARÂMETROS!$K$6*PARÂMETROS!$L$6)","v":{"v":0.99994559578809,"d":"1.00E+00"}},{"$f":"($C87^3)/($C87^3+PARÂMETROS!$J$6*$C87^2+PARÂMETROS!$J$6*PARÂMETROS!$K$6*$C87+PARÂMETROS!$J$6*PARÂMETROS!$K$6*PARÂMETROS!$L$6)","v":{"v":5.440421191007576E-5,"d":"5.44E-05"}},{"$f":"IF(PARÂMETROS!$J$6<PARÂMETROS!$F$6,(E87-(C87-D87)/PARÂMETROS!$C$11)/(K87+(C87-D87)/PARÂMETROS!$C$14),(K87+(C87-D87)/PARÂMETROS!$C$14)/(E87-(C87-D87)/PARÂMETROS!$C$11))","v":{"v":-2.500272072863215,"d":"-2.50E+00"}},{"$f":"IF(PARÂMETROS!$J$6<PARÂMETROS!$F$6,(E87-(C87-D87)/PARÂMETROS!$C$11)/(L87+2*M87+(C87-D87)/PARÂMETROS!$C$14),(L87+2*M87+(C87-D87)/PARÂMETROS!$C$14)/(E87-(C87-D87)/PARÂMETROS!$C$11))","v":{"v":-2.5009524216147336,"d":"-2.50E+00"}},{"$f":"IF(PARÂMETROS!$J$6<PARÂMETROS!$F$6, (E87-(C87-D87)/PARÂMETROS!$C$11)/(N87+2*O87+3*P87+(C87-D87)/PARÂMETROS!$C$14),(N87+2*O87+3*P87+(C87-D87)/PARÂMETROS!$C$14)/ (E87-(C87-D87)/PARÂMETROS!$C$11))","v":{"v":-2.501633140726275,"d":"-2.50E+00"}},{"$f":"IF(PARÂMETROS!$J$6<PARÂMETROS!$F$6,(F87+2*G87-(C87-D87)/PARÂMETROS!$C$11)/(K87+(C87-D87)/PARÂMETROS!$C$14),(K87+(C87-D87)/PARÂMETROS!$C$14)/(F87+2*G87-(C87-D87)/PARÂMETROS!$C$11))","v":{"v":-2.5005441087266647,"d":"-2.50E+00"}},{"$f":"IF(PARÂMETROS!$J$6<PARÂMETROS!$F$6,(F87+2*G87-(C87-D87)/PARÂMETROS!$C$11)/(L87+2*M87+(C87-D87)/PARÂMETROS!$C$14),(L87+2*M87+(C87-D87)/PARÂMETROS!$C$14)/(F87+2*G87-(C87-D87)/PARÂMETROS!$C$11))","v":{"v":-2.5012245315018315,"d":"-2.50E+00"}},{"$f":"IF(PARÂMETROS!$J$6<PARÂMETROS!$F$6,(F87+2*G87-(C87-D87)/PARÂMETROS!$C$11)/(N87+2*O87+3*P87+(C87-D87)/PARÂMETROS!$C$14),(N87+2*O87+3*P87+(C87-D87)/PARÂMETROS!$C$14)/(F87+2*G87-(C87-D87)/PARÂMETROS!$C$11))","v":{"v":-2.5019053246773173,"d":"-2.50E+00"}},{"$f":"IF(PARÂMETROS!$J$6<PARÂMETROS!$F$6,(H87+2*I87+3*J87-(C87-D87)/PARÂMETROS!$C$11)/(K87+(C87-D87)/PARÂMETROS!$C$14),(K87+(C87-D87)/PARÂMETROS!$C$14)/(H87+2*I87+3*J87-(C87-D87)/PARÂMETROS!$C$11))","v":{"v":-2.5008161412767365,"d":"-2.50E+00"}},{"$f":"IF(PARÂMETROS!$J$6<PARÂMETROS!$F$6,(H87+2*I87+3*J87-(C87-D87)/PARÂMETROS!$C$11)/(L87+2*M87+(C87-D87)/PARÂMETROS!$C$14),(L87+2*M87+(C87-D87)/PARÂMETROS!$C$14)/(H87+2*I87+3*J87-(C87-D87)/PARÂMETROS!$C$11))","v":{"v":-2.5014966380746504,"d":"-2.50E+00"}},{"$f":"IF(PARÂMETROS!$J$6<PARÂMETROS!$F$6,(H87+2*I87+3*J87-(C87-D87)/PARÂMETROS!$C$11)/(N87+2*O87+3*P87+(C87-D87)/PARÂMETROS!$C$14),(N87+2*O87+3*P87+(C87-D87)/PARÂMETROS!$C$14)/(H87+2*I87+3*J87-(C87-D87)/PARÂMETROS!$C$11))","v":{"v":-2.502177505313178,"d":"-2.50E+00"}},{"$f":"Q87*PARÂMETROS!$C$11*PARÂMETROS!$D$11/PARÂMETROS!$C$14","v":{"v":-50.0054414572643,"d":"-50.01"}},{"$f":"R87*PARÂMETROS!$C$11*PARÂMETROS!$D$11/PARÂMETROS!$C$14","v":{"v":-50.019048432294674,"d":"-50.02"}},{"$f":"S87*PARÂMETROS!$C$11*PARÂMETROS!$D$11/PARÂMETROS!$C$14","v":{"v":-50.03266281452551,"d":"-50.03"}},{"$f":"T87*PARÂMETROS!$C$11*PARÂMETROS!$D$11/PARÂMETROS!$C$14","v":{"v":-50.0108821745333,"d":"-50.01"}},{"$f":"U87*PARÂMETROS!$C$11*PARÂMETROS!$D$11/PARÂMETROS!$C$14","v":{"v":-50.02449063003663,"d":"-50.02"}},{"$f":"V87*PARÂMETROS!$C$11*PARÂMETROS!$D$11/PARÂMETROS!$C$14","v":{"v":-50.03810649354635,"d":"-50.04"}},{"$f":"W87*PARÂMETROS!$C$11*PARÂMETROS!$D$11/PARÂMETROS!$C$14","v":{"v":-50.01632282553473,"d":"-50.02"}},{"$f":"X87*PARÂMETROS!$C$11*PARÂMETROS!$D$11/PARÂMETROS!$C$14","v":{"v":-50.029932761493015,"d":"-50.03"}},{"$f":"Y87*PARÂMETROS!$C$11*PARÂMETROS!$D$11/PARÂMETROS!$C$14","v":{"v":-50.04355010626357,"d":"-50.04"}},{"$f":"AND(B87+PARÂMETROS!$C$8>=PARÂMETROS!$C$5,B87+PARÂMETROS!$C$8<=PARÂMETROS!$D$5)","v":false},0,{"$f":"VLOOKUP('BANCO DE DADOS COMPLETA'!$N$8,'BANCO DE DADOS COMPLETA'!$A$7:$L$249,3)*-1","v":3},7,{"$f":"VLOOKUP('BANCO DE DADOS COMPLETA'!$N$10,'BANCO DE DADOS COMPLETA'!$A$7:$L$249,3)*-1","v":1},11,77,{"v":-50.01632282553473,"d":"-50.02"},"LIMITE","LIMITE","LIMITE","LIMITE","NADA","NADA",0]
[null,{"$f":"B87+PARÂMETROS!$C$8","v":{"v":17.464343848340665,"d":"17.46"}},{"v":3.4328604696003626E-18,"d":"3.43E-18"},{"$f":"PARÂMETROS!$Q$4/C88","v":{"v":2913.0225619581192,"d":"2.91E+03"}},{"$f":"PARÂMETROS!$F$6/($C88+PARÂMETROS!$F$6)","v":{"v":0.9999999999999996,"d":"1.00E+00"}},{"$f":"$C88*PARÂMETROS!$F$6/($C88^2+$C88*PARÂMETROS!$F$6+PARÂMETROS!$F$6*PARÂMETROS!$G$6)","v":{"v":5.4282038863497343E-11,"d":"5.43E-11"}},{"$f":"PARÂMETROS!$F$6*PARÂMETROS!$G$6/($C88^2+$C88*PARÂMETROS!$F$6+PARÂMETROS!$F$6*PARÂMETROS!$G$6)","v":{"v":0.999999999945718,"d":"1.00E+00"}},{"$f":"(PARÂMETROS!$F$6*$C88^2)/($C88^3+PARÂMETROS!$F$6*$C88^2+PARÂMETROS!$F$6*PARÂMETROS!$G$6*$C88+PARÂMETROS!$F$6*PARÂMETROS!$G$6*PARÂMETROS!$H$6)","v":{"v":4.171660581122918E-16,"d":"4.17E-16"}},{"$f":"(PARÂMETROS!$F$6*PARÂMETROS!$G$6*$C88)/($C88^3+PARÂMETROS!$F$6*$C88^2+PARÂMETROS!$F$6*PARÂMETROS!$G$6*$C88+PARÂMETROS!$F$6*PARÂMETROS!$G$6*PARÂMETROS!$H$6)","v":{"v":7.6851582369389583E-6,"d":"7.69E-06"}},{"$f":"(PARÂMETROS!$F$6*PARÂMETROS!$G$6*PARÂMETROS!$H$6)/($C88^3+PARÂMETROS!$F$6*$C88^2+PARÂMETROS!$F$6*PARÂMETROS!$G$6*$C88+PARÂMETROS!$F$6*PARÂMETROS!$G$6*PARÂMETROS!$H$6)","v":{"v":0.9999923148417627,"d":"1.00E+00"}},{"$f":"$C88/($C88+PARÂMETROS!$J$6)","v":{"v":3.4327426283356513E-5,"d":"3.43E-05"}},{"$f":"$C88*PARÂMETROS!$J$6/($C88^2+$C88*PARÂMETROS!$J$6+PARÂMETROS!$J$6*PARÂMETROS!$K$6)","v":{"v":0.9999656725737167,"d":"1.00E+00"}},{"$f":"$C88^2/($C88^2+$C88*PARÂMETROS!$J$6+PARÂMETROS!$J$6*PARÂMETROS!$K$6)","v":{"v":3.4327426283356513E-5,"d":"3.43E-05"}},{"$f":"(PARÂMETROS!$K$6*PARÂMETROS!$J$6*$C88)/($C88^3+PARÂMETROS!$J$6*$C88^2+PARÂMETROS!$J$6*PARÂMETROS!$K$6*$C88+PARÂMETROS!$J$6*PARÂMETROS!$K$6*PARÂMETROS!$L$6)","v":{"v":0,"d":"0.00E+00"}},{"$f":"(PARÂMETROS!$J$6*$C88^2)/($C88^3+PARÂMETROS!$J$6*$C88^2+PARÂMETROS!$J$6*PARÂMETROS!$K$6*$C88+PARÂMETROS!$J$6*PARÂMETROS!$K$6*PARÂMETROS!$L$6)","v":{"v":0.9999656725737167,"d":"1.00E+00"}},{"$f":"($C88^3)/($C88^3+PARÂMETROS!$J$6*$C88^2+PARÂMETROS!$J$6*PARÂMETROS!$K$6*$C88+PARÂMETROS!$J$6*PARÂMETROS!$K$6*PARÂMETROS!$L$6)","v":{"v":3.4327426283356513E-5,"d":"3.43E-05"}},{"$f":"IF(PARÂMETROS!$J$6<PARÂMETROS!$F$6,(E88-(C88-D88)/PARÂMETROS!$C$11)/(K88+(C88-D88)/PARÂMETROS!$C$14),(K88+(C88-D88)/PARÂMETROS!$C$14)/(E88-(C88-D88)/PARÂMETROS!$C$11))","v":{"v":-2.5001716577546493,"d":"-2.50E+00"}},{"$f":"IF(PARÂMETROS!$J$6<PARÂMETROS!$F$6,(E88-(C88-D88)/PARÂMETROS!$C$11)/(L88+2*M88+(C88-D88)/PARÂMETROS!$C$14),(L88+2*M88+(C88-D88)/PARÂMETROS!$C$14)/(E88-(C88-D88)/PARÂMETROS!$C$11))","v":{"v":-2.5006008684507557,"d":"-2.50E+00"}},{"$f":"IF(PARÂMETROS!$J$6<PARÂMETROS!$F$6, (E88-(C88-D88)/PARÂMETROS!$C$11)/(N88+2*O88+3*P88+(C88-D88)/PARÂMETROS!$C$14),(N88+2*O88+3*P88+(C88-D88)/PARÂMETROS!$C$14)/ (E88-(C88-D88)/PARÂMETROS!$C$11))","v":{"v":-2.501030226539504,"d":"-2.50E+00"}},{"$f":"IF(PARÂMETROS!$J$6<PARÂMETROS!$F$6,(F88+2*G88-(C88-D88)/PARÂMETROS!$C$11)/(K88+(C88-D88)/PARÂMETROS!$C$14),(K88+(C88-D88)/PARÂMETROS!$C$14)/(F88+2*G88-(C88-D88)/PARÂMETROS!$C$11))","v":{"v":-2.500343300779131,"d":"-2.50E+00"}},{"$f":"IF(PARÂMETROS!$J$6<PARÂMETROS!$F$6,(F88+2*G88-(C88-D88)/PARÂMETROS!$C$11)/(L88+2*M88+(C88-D88)/PARÂMETROS!$C$14),(L88+2*M88+(C88-D88)/PARÂMETROS!$C$14)/(F88+2*G88-(C88-D88)/PARÂMETROS!$C$11))","v":{"v":-2.5007725409416235,"d":"-2.50E+00"}},{"$f":"IF(PARÂMETROS!$J$6<PARÂMETROS!$F$6,(F88+2*G88-(C88-D88)/PARÂMETROS!$C$11)/(N88+2*O88+3*P88+(C88-D88)/PARÂMETROS!$C$14),(N88+2*O88+3*P88+(C88-D88)/PARÂMETROS!$C$14)/(F88+2*G88-(C88-D88)/PARÂMETROS!$C$11))","v":{"v":-2.5012019285068763,"d":"-2.50E+00"}},{"$f":"IF(PARÂMETROS!$J$6<PARÂMETROS!$F$6,(H88+2*I88+3*J88-(C88-D88)/PARÂMETROS!$C$11)/(K88+(C88-D88)/PARÂMETROS!$C$14),(K88+(C88-D88)/PARÂMETROS!$C$14)/(H88+2*I88+3*J88-(C88-D88)/PARÂMETROS!$C$11))","v":{"v":-2.500514942484528,"d":"-2.50E+00"}},{"$f":"IF(PARÂMETROS!$J$6<PARÂMETROS!$F$6,(H88+2*I88+3*J88-(C88-D88)/PARÂMETROS!$C$11)/(L88+2*M88+(C88-D88)/PARÂMETROS!$C$14),(L88+2*M88+(C88-D88)/PARÂMETROS!$C$14)/(H88+2*I88+3*J88-(C88-D88)/PARÂMETROS!$C$11))","v":{"v":-2.5009442121131795,"d":"-2.50E+00"}},{"$f":"IF(PARÂMETROS!$J$6<PARÂMETROS!$F$6,(H88+2*I88+3*J88-(C88-D88)/PARÂMETROS!$C$11)/(N88+2*O88+3*P88+(C88-D88)/PARÂMETROS!$C$14),(N88+2*O88+3*P88+(C88-D88)/PARÂMETROS!$C$14)/(H88+2*I88+3*J88-(C88-D88)/PARÂMETROS!$C$11))","v":{"v":-2.50137362915471,"d":"-2.50E+00"}},{"$f":"Q88*PARÂMETROS!$C$11*PARÂMETROS!$D$11/PARÂMETROS!$C$14","v":{"v":-50.00343315509299,"d":"-50.00"}},{"$f":"R88*PARÂMETROS!$C$11*PARÂMETROS!$D$11/PARÂMETROS!$C$14","v":{"v":-50.01201736901512,"d":"-50.01"}},{"$f":"S88*PARÂMETROS!$C$11*PARÂMETROS!$D$11/PARÂMETROS!$C$14","v":{"v":-50.02060453079008,"d":"-50.02"}},{"$f":"T88*PARÂMETROS!$C$11*PARÂMETROS!$D$11/PARÂMETROS!$C$14","v":{"v":-50.00686601558262,"d":"-50.01"}},{"$f":"U88*PARÂMETROS!$C$11*PARÂMETROS!$D$11/PARÂMETROS!$C$14","v":{"v":-50.01545081883248,"d":"-50.02"}},{"$f":"V88*PARÂMETROS!$C$11*PARÂMETROS!$D$11/PARÂMETROS!$C$14","v":{"v":-50.02403857013753,"d":"-50.02"}},{"$f":"W88*PARÂMETROS!$C$11*PARÂMETROS!$D$11/PARÂMETROS!$C$14","v":{"v":-50.01029884969056,"d":"-50.01"}},{"$f":"X88*PARÂMETROS!$C$11*PARÂMETROS!$D$11/PARÂMETROS!$C$14","v":{"v":-50.018884242263596,"d":"-50.02"}},{"$f":"Y88*PARÂMETROS!$C$11*PARÂMETROS!$D$11/PARÂMETROS!$C$14","v":{"v":-50.0274725830942,"d":"-50.03"}},{"$f":"AND(B88+PARÂMETROS!$C$8>=PARÂMETROS!$C$5,B88+PARÂMETROS!$C$8<=PARÂMETROS!$D$5)","v":false},0,{"$f":"VLOOKUP('BANCO DE DADOS COMPLETA'!$N$8,'BANCO DE DADOS COMPLETA'!$A$7:$L$249,3)*-1","v":3},7,{"$f":"VLOOKUP('BANCO DE DADOS COMPLETA'!$N$10,'BANCO DE DADOS COMPLETA'!$A$7:$L$249,3)*-1","v":1},11,77,{"v":-50.01029884969056,"d":"-50.01"},"LIMITE","LIMITE","LIMITE","LIMITE","NADA","NADA",0]
[null,{"$f":"B88+PARÂMETROS!$C$8","v":{"v":17.664343848340664,"d":"17.66"}},{"v":2.165988525870078E-18,"d":"2.17E-18"},{"$f":"PARÂMETROS!$Q$4/C89","v":{"v":4616.829627933046,"d":"4.62E+03"}},{"$f":"PARÂMETROS!$F$6/($C89+PARÂMETROS!$F$6)","v":{"v":0.9999999999999998,"d":"1.00E+00"}},{"$f":"$C89*PARÂMETROS!$F$6/($C89^2+$C89*PARÂMETROS!$F$6+PARÂMETROS!$F$6*PARÂMETROS!$G$6)","v":{"v":3.4249651094969094E-11,"d":"3.42E-11"}},{"$f":"PARÂMETROS!$F$6*PARÂMETROS!$G$6/($C89^2+$C89*PARÂMETROS!$F$6+PARÂMETROS!$F$6*PARÂMETROS!$G$6)","v":{"v":0.9999999999657504,"d":"1.00E+00"}},{"$f":"(PARÂMETROS!$F$6*$C89^2)/($C89^3+PARÂMETROS!$F$6*$C89^2+PARÂMETROS!$F$6*PARÂMETROS!$G$6*$C89+PARÂMETROS!$F$6*PARÂMETROS!$G$6*PARÂMETROS!$H$6)","v":{"v":1.660772700662904E-16,"d":"1.66E-16"}},{"$f":"(PARÂMETROS!$F$6*PARÂMETROS!$G$6*$C89)/($C89^3+PARÂMETROS!$F$6*$C89^2+PARÂMETROS!$F$6*PARÂMETROS!$G$6*$C89+PARÂMETROS!$F$6*PARÂMETROS!$G$6*PARÂMETROS!$H$6)","v":{"v":4.8490207856452375E-6,"d":"4.85E-06"}},{"$f":"(PARÂMETROS!$F$6*PARÂMETROS!$G$6*PARÂMETROS!$H$6)/($C89^3+PARÂMETROS!$F$6*$C89^2+PARÂMETROS!$F$6*PARÂMETROS!$G$6*$C89+PARÂMETROS!$F$6*PARÂMETROS!$G$6*PARÂMETROS!$H$6)","v":{"v":0.9999951509792141,"d":"1.00E+00"}},{"$f":"$C89/($C89+PARÂMETROS!$J$6)","v":{"v":2.1659416118232886E-5,"d":"2.17E-05"}},{"$f":"$C89*PARÂMETROS!$J$6/($C89^2+$C89*PARÂMETROS!$J$6+PARÂMETROS!$J$6*PARÂMETROS!$K$6)","v":{"v":0.9999783405838818,"d":"1.00E+00"}},{"$f":"$C89^2/($C89^2+$C89*PARÂMETROS!$J$6+PARÂMETROS!$J$6*PARÂMETROS!$K$6)","v":{"v":2.1659416118232892E-5,"d":"2.17E-05"}},{"$f":"(PARÂMETROS!$K$6*PARÂMETROS!$J$6*$C89)/($C89^3+PARÂMETROS!$J$6*$C89^2+PARÂMETROS!$J$6*PARÂMETROS!$K$6*$C89+PARÂMETROS!$J$6*PARÂMETROS!$K$6*PARÂMETROS!$L$6)","v":{"v":0,"d":"0.00E+00"}},{"$f":"(PARÂMETROS!$J$6*$C89^2)/($C89^3+PARÂMETROS!$J$6*$C89^2+PARÂMETROS!$J$6*PARÂMETROS!$K$6*$C89+PARÂMETROS!$J$6*PARÂMETROS!$K$6*PARÂMETROS!$L$6)","v":{"v":0.9999783405838818,"d":"1.00E+00"}},{"$f":"($C89^3)/($C89^3+PARÂMETROS!$J$6*$C89^2+PARÂMETROS!$J$6*PARÂMETROS!$K$6*$C89+PARÂMETROS!$J$6*PARÂMETROS!$K$6*PARÂMETROS!$L$6)","v":{"v":2.1659416118232886E-5,"d":"2.17E-05"}},{"$f":"IF(PARÂMETROS!$J$6<PARÂMETROS!$F$6,(E89-(C89-D89)/PARÂMETROS!$C$11)/(K89+(C89-D89)/PARÂMETROS!$C$14),(K89+(C89-D89)/PARÂMETROS!$C$14)/(E89-(C89-D89)/PARÂMETROS!$C$11))","v":{"v":-2.5001083052908033,"d":"-2.50E+00"}},{"$f":"IF(PARÂMETROS!$J$6<PARÂMETROS!$F$6,(E89-(C89-D89)/PARÂMETROS!$C$11)/(L89+2*M89+(C89-D89)/PARÂMETROS!$C$14),(L89+2*M89+(C89-D89)/PARÂMETROS!$C$14)/(E89-(C89-D89)/PARÂMETROS!$C$11))","v":{"v":-2.500379094912934,"d":"-2.50E+00"}},{"$f":"IF(PARÂMETROS!$J$6<PARÂMETROS!$F$6, (E89-(C89-D89)/PARÂMETROS!$C$11)/(N89+2*O89+3*P89+(C89-D89)/PARÂMETROS!$C$14),(N89+2*O89+3*P89+(C89-D89)/PARÂMETROS!$C$14)/ (E89-(C89-D89)/PARÂMETROS!$C$11))","v":{"v":-2.500649943200493,"d":"-2.50E+00"}},{"$f":"IF(PARÂMETROS!$J$6<PARÂMETROS!$F$6,(F89+2*G89-(C89-D89)/PARÂMETROS!$C$11)/(K89+(C89-D89)/PARÂMETROS!$C$14),(K89+(C89-D89)/PARÂMETROS!$C$14)/(F89+2*G89-(C89-D89)/PARÂMETROS!$C$11))","v":{"v":-2.5002166047173473,"d":"-2.50E+00"}},{"$f":"IF(PARÂMETROS!$J$6<PARÂMETROS!$F$6,(F89+2*G89-(C89-D89)/PARÂMETROS!$C$11)/(L89+2*M89+(C89-D89)/PARÂMETROS!$C$14),(L89+2*M89+(C89-D89)/PARÂMETROS!$C$14)/(F89+2*G89-(C89-D89)/PARÂMETROS!$C$11))","v":{"v":-2.500487406069514,"d":"-2.50E+00"}},{"$f":"IF(PARÂMETROS!$J$6<PARÂMETROS!$F$6,(F89+2*G89-(C89-D89)/PARÂMETROS!$C$11)/(N89+2*O89+3*P89+(C89-D89)/PARÂMETROS!$C$14),(N89+2*O89+3*P89+(C89-D89)/PARÂMETROS!$C$14)/(F89+2*G89-(C89-D89)/PARÂMETROS!$C$11))","v":{"v":-2.5007582660896506,"d":"-2.50E+00"}},{"$f":"IF(PARÂMETROS!$J$6<PARÂMETROS!$F$6,(H89+2*I89+3*J89-(C89-D89)/PARÂMETROS!$C$11)/(K89+(C89-D89)/PARÂMETROS!$C$14),(K89+(C89-D89)/PARÂMETROS!$C$14)/(H89+2*I89+3*J89-(C89-D89)/PARÂMETROS!$C$11))","v":{"v":-2.5003249036187523,"d":"-2.50E+00"}},{"$f":"IF(PARÂMETROS!$J$6<PARÂMETROS!$F$6,(H89+2*I89+3*J89-(C89-D89)/PARÂMETROS!$C$11)/(L89+2*M89+(C89-D89)/PARÂMETROS!$C$14),(L89+2*M89+(C89-D89)/PARÂMETROS!$C$14)/(H89+2*I89+3*J89-(C89-D89)/PARÂMETROS!$C$11))","v":{"v":-2.5005957167008983,"d":"-2.50E+00"}},{"$f":"IF(PARÂMETROS!$J$6<PARÂMETROS!$F$6,(H89+2*I89+3*J89-(C89-D89)/PARÂMETROS!$C$11)/(N89+2*O89+3*P89+(C89-D89)/PARÂMETROS!$C$14),(N89+2*O89+3*P89+(C89-D89)/PARÂMETROS!$C$14)/(H89+2*I89+3*J89-(C89-D89)/PARÂMETROS!$C$11))","v":{"v":-2.500866588453555,"d":"-2.50E+00"}},{"$f":"Q89*PARÂMETROS!$C$11*PARÂMETROS!$D$11/PARÂMETROS!$C$14","v":{"v":-50.00216610581607,"d":"-50.00"}},{"$f":"R89*PARÂMETROS!$C$11*PARÂMETROS!$D$11/PARÂMETROS!$C$14","v":{"v":-50.00758189825868,"d":"-50.01"}},{"$f":"S89*PARÂMETROS!$C$11*PARÂMETROS!$D$11/PARÂMETROS!$C$14","v":{"v":-50.01299886400986,"d":"-50.01"}},{"$f":"T89*PARÂMETROS!$C$11*PARÂMETROS!$D$11/PARÂMETROS!$C$14","v":{"v":-50.00433209434695,"d":"-50.00"}},{"$f":"U89*PARÂMETROS!$C$11*PARÂMETROS!$D$11/PARÂMETROS!$C$14","v":{"v":-50.00974812139029,"d":"-50.01"}},{"$f":"V89*PARÂMETROS!$C$11*PARÂMETROS!$D$11/PARÂMETROS!$C$14","v":{"v":-50.015165321793006,"d":"-50.02"}},{"$f":"W89*PARÂMETROS!$C$11*PARÂMETROS!$D$11/PARÂMETROS!$C$14","v":{"v":-50.00649807237505,"d":"-50.01"}},{"$f":"X89*PARÂMETROS!$C$11*PARÂMETROS!$D$11/PARÂMETROS!$C$14","v":{"v":-50.01191433401797,"d":"-50.01"}},{"$f":"Y89*PARÂMETROS!$C$11*PARÂMETROS!$D$11/PARÂMETROS!$C$14","v":{"v":-50.017331769071106,"d":"-50.02"}},{"$f":"AND(B89+PARÂMETROS!$C$8>=PARÂMETROS!$C$5,B89+PARÂMETROS!$C$8<=PARÂMETROS!$D$5)","v":false},0,{"$f":"VLOOKUP('BANCO DE DADOS COMPLETA'!$N$8,'BANCO DE DADOS COMPLETA'!$A$7:$L$249,3)*-1","v":3},7,{"$f":"VLOOKUP('BANCO DE DADOS COMPLETA'!$N$10,'BANCO DE DADOS COMPLETA'!$A$7:$L$249,3)*-1","v":1},11,77,{"v":-50.00649807237505,"d":"-50.01"},"LIMITE","LIMITE","LIMITE","LIMITE","NADA","NADA",0]
[null,{"$f":"B89+PARÂMETROS!$C$8","v":{"v":17.864343848340663,"d":"17.86"}},{"v":1.3666463684575555E-18,"d":"1.37E-18"},{"$f":"PARÂMETROS!$Q$4/C90","v":{"v":7317.181848063846,"d":"7.32E+03"}},{"$f":"PARÂMETROS!$F$6/($C90+PARÂMETROS!$F$6)","v":{"v":0.9999999999999998,"d":"1.00E+00"}},{"$f":"$C90*PARÂMETROS!$F$6/($C90^2+$C90*PARÂMETROS!$F$6+PARÂMETROS!$F$6*PARÂMETROS!$G$6)","v":{"v":2.161006890452803E-11,"d":"2.16E-11"}},{"$f":"PARÂMETROS!$F$6*PARÂMETROS!$G$6/($C90^2+$C90*PARÂMETROS!$F$6+PARÂMETROS!$F$6*PARÂMETROS!$G$6)","v":{"v":0.99999999997839,"d":"1.00E+00"}},{"$f":"(PARÂMETROS!$F$6*$C90^2)/($C90^3+PARÂMETROS!$F$6*$C90^2+PARÂMETROS!$F$6*PARÂMETROS!$G$6*$C90+PARÂMETROS!$F$6*PARÂMETROS!$G$6*PARÂMETROS!$H$6)","v":{"v":6.611667039482482E-17,"d":"6.61E-17"}},{"$f":"(PARÂMETROS!$F$6*PARÂMETROS!$G$6*$C90)/($C90^3+PARÂMETROS!$F$6*$C90^2+PARÂMETROS!$F$6*PARÂMETROS!$G$6*$C90+PARÂMETROS!$F$6*PARÂMETROS!$G$6*PARÂMETROS!$H$6)","v":{"v":3.0595307532565237E-6,"d":"3.06E-06"}},{"$f":"(PARÂMETROS!$F$6*PARÂMETROS!$G$6*PARÂMETROS!$H$6)/($C90^3+PARÂMETROS!$F$6*$C90^2+PARÂMETROS!$F$6*PARÂMETROS!$G$6*$C90+PARÂMETROS!$F$6*PARÂMETROS!$G$6*PARÂMETROS!$H$6)","v":{"v":0.9999969404692467,"d":"1.00E+00"}},{"$f":"$C90/($C90+PARÂMETROS!$J$6)","v":{"v":1.3666276914898393E-5,"d":"1.37E-05"}},{"$f":"$C90*PARÂMETROS!$J$6/($C90^2+$C90*PARÂMETROS!$J$6+PARÂMETROS!$J$6*PARÂMETROS!$K$6)","v":{"v":0.9999863337230851,"d":"1.00E+00"}},{"$f":"$C90^2/($C90^2+$C90*PARÂMETROS!$J$6+PARÂMETROS!$J$6*PARÂMETROS!$K$6)","v":{"v":1.3666276914898393E-5,"d":"1.37E-05"}},{"$f":"(PARÂMETROS!$K$6*PARÂMETROS!$J$6*$C90)/($C90^3+PARÂMETROS!$J$6*$C90^2+PARÂMETROS!$J$6*PARÂMETROS!$K$6*$C90+PARÂMETROS!$J$6*PARÂMETROS!$K$6*PARÂMETROS!$L$6)","v":{"v":0,"d":"0.00E+00"}},{"$f":"(PARÂMETROS!$J$6*$C90^2)/($C90^3+PARÂMETROS!$J$6*$C90^2+PARÂMETROS!$J$6*PARÂMETROS!$K$6*$C90+PARÂMETROS!$J$6*PARÂMETROS!$K$6*PARÂMETROS!$L$6)","v":{"v":0.9999863337230851,"d":"1.00E+00"}},{"$f":"($C90^3)/($C90^3+PARÂMETROS!$J$6*$C90^2+PARÂMETROS!$J$6*PARÂMETROS!$K$6*$C90+PARÂMETROS!$J$6*PARÂMETROS!$K$6*PARÂMETROS!$L$6)","v":{"v":1.3666276914898393E-5,"d":"1.37E-05"}},{"$f":"IF(PARÂMETROS!$J$6<PARÂMETROS!$F$6,(E90-(C90-D90)/PARÂMETROS!$C$11)/(K90+(C90-D90)/PARÂMETROS!$C$14),(K90+(C90-D90)/PARÂMETROS!$C$14)/(E90-(C90-D90)/PARÂMETROS!$C$11))","v":{"v":-2.5000683346531076,"d":"-2.50E+00"}},{"$f":"IF(PARÂMETROS!$J$6<PARÂMETROS!$F$6,(E90-(C90-D90)/PARÂMETROS!$C$11)/(L90+2*M90+(C90-D90)/PARÂMETROS!$C$14),(L90+2*M90+(C90-D90)/PARÂMETROS!$C$14)/(E90-(C90-D90)/PARÂMETROS!$C$11))","v":{"v":-2.5002391817931704,"d":"-2.50E+00"}},{"$f":"IF(PARÂMETROS!$J$6<PARÂMETROS!$F$6, (E90-(C90-D90)/PARÂMETROS!$C$11)/(N90+2*O90+3*P90+(C90-D90)/PARÂMETROS!$C$14),(N90+2*O90+3*P90+(C90-D90)/PARÂMETROS!$C$14)/ (E90-(C90-D90)/PARÂMETROS!$C$11))","v":{"v":-2.5004100522851878,"d":"-2.50E+00"}},{"$f":"IF(PARÂMETROS!$J$6<PARÂMETROS!$F$6,(F90+2*G90-(C90-D90)/PARÂMETROS!$C$11)/(K90+(C90-D90)/PARÂMETROS!$C$14),(K90+(C90-D90)/PARÂMETROS!$C$14)/(F90+2*G90-(C90-D90)/PARÂMETROS!$C$11))","v":{"v":-2.5001366669715925,"d":"-2.50E+00"}},{"$f":"IF(PARÂMETROS!$J$6<PARÂMETROS!$F$6,(F90+2*G90-(C90-D90)/PARÂMETROS!$C$11)/(L90+2*M90+(C90-D90)/PARÂMETROS!$C$14),(L90+2*M90+(C90-D90)/PARÂMETROS!$C$14)/(F90+2*G90-(C90-D90)/PARÂMETROS!$C$11))","v":{"v":-2.5003075187812804,"d":"-2.50E+00"}},{"$f":"IF(PARÂMETROS!$J$6<PARÂMETROS!$F$6,(F90+2*G90-(C90-D90)/PARÂMETROS!$C$11)/(N90+2*O90+3*P90+(C90-D90)/PARÂMETROS!$C$14),(N90+2*O90+3*P90+(C90-D90)/PARÂMETROS!$C$14)/(F90+2*G90-(C90-D90)/PARÂMETROS!$C$11))","v":{"v":-2.5004783939435606,"d":"-2.50E+00"}},{"$f":"IF(PARÂMETROS!$J$6<PARÂMETROS!$F$6,(H90+2*I90+3*J90-(C90-D90)/PARÂMETROS!$C$11)/(K90+(C90-D90)/PARÂMETROS!$C$14),(K90+(C90-D90)/PARÂMETROS!$C$14)/(H90+2*I90+3*J90-(C90-D90)/PARÂMETROS!$C$11))","v":{"v":-2.500204999081016,"d":"-2.50E+00"}},{"$f":"IF(PARÂMETROS!$J$6<PARÂMETROS!$F$6,(H90+2*I90+3*J90-(C90-D90)/PARÂMETROS!$C$11)/(L90+2*M90+(C90-D90)/PARÂMETROS!$C$14),(L90+2*M90+(C90-D90)/PARÂMETROS!$C$14)/(H90+2*I90+3*J90-(C90-D90)/PARÂMETROS!$C$11))","v":{"v":-2.5003758555603146,"d":"-2.50E+00"}},{"$f":"IF(PARÂMETROS!$J$6<PARÂMETROS!$F$6,(H90+2*I90+3*J90-(C90-D90)/PARÂMETROS!$C$11)/(N90+2*O90+3*P90+(C90-D90)/PARÂMETROS!$C$14),(N90+2*O90+3*P90+(C90-D90)/PARÂMETROS!$C$14)/(H90+2*I90+3*J90-(C90-D90)/PARÂMETROS!$C$11))","v":{"v":-2.5005467353928434,"d":"-2.50E+00"}},{"$f":"Q90*PARÂMETROS!$C$11*PARÂMETROS!$D$11/PARÂMETROS!$C$14","v":{"v":-50.00136669306215,"d":"-50.00"}},{"$f":"R90*PARÂMETROS!$C$11*PARÂMETROS!$D$11/PARÂMETROS!$C$14","v":{"v":-50.00478363586341,"d":"-50.00"}},{"$f":"S90*PARÂMETROS!$C$11*PARÂMETROS!$D$11/PARÂMETROS!$C$14","v":{"v":-50.00820104570376,"d":"-50.01"}},{"$f":"T90*PARÂMETROS!$C$11*PARÂMETROS!$D$11/PARÂMETROS!$C$14","v":{"v":-50.00273333943185,"d":"-50.00"}},{"$f":"U90*PARÂMETROS!$C$11*PARÂMETROS!$D$11/PARÂMETROS!$C$14","v":{"v":-50.006150375625616,"d":"-50.01"}},{"$f":"V90*PARÂMETROS!$C$11*PARÂMETROS!$D$11/PARÂMETROS!$C$14","v":{"v":-50.009567878871216,"d":"-50.01"}},{"$f":"W90*PARÂMETROS!$C$11*PARÂMETROS!$D$11/PARÂMETROS!$C$14","v":{"v":-50.00409998162032,"d":"-50.00"}},{"$f":"X90*PARÂMETROS!$C$11*PARÂMETROS!$D$11/PARÂMETROS!$C$14","v":{"v":-50.00751711120629,"d":"-50.01"}},{"$f":"Y90*PARÂMETROS!$C$11*PARÂMETROS!$D$11/PARÂMETROS!$C$14","v":{"v":-50.01093470785687,"d":"-50.01"}},{"$f":"AND(B90+PARÂMETROS!$C$8>=PARÂMETROS!$C$5,B90+PARÂMETROS!$C$8<=PARÂMETROS!$D$5)","v":false},0,{"$f":"VLOOKUP('BANCO DE DADOS COMPLETA'!$N$8,'BANCO DE DADOS COMPLETA'!$A$7:$L$249,3)*-1","v":3},7,{"$f":"VLOOKUP('BANCO DE DADOS COMPLETA'!$N$10,'BANCO DE DADOS COMPLETA'!$A$7:$L$249,3)*-1","v":1},11,77,{"v":-50.00409998162032,"d":"-50.00"},"LIMITE","LIMITE","LIMITE","LIMITE","NADA","NADA",0]
[null,{"$f":"B90+PARÂMETROS!$C$8","v":{"v":18.064343848340663,"d":"18.06"}},{"v":8.622955634854805e-19,"d":"8.62E-19"},{"$f":"PARÂMETROS!$Q$4/C91","v":{"v":11596.951698996398,"d":"1.16E+04"}},{"$f":"PARÂMETROS!$F$6/($C91+PARÂMETROS!$F$6)","v":{"v":0.9999999999999999,"d":"1.00E+00"}},{"$f":"$C91*PARÂMETROS!$F$6/($C91^2+$C91*PARÂMETROS!$F$6+PARÂMETROS!$F$6*PARÂMETROS!$G$6)","v":{"v":1.3635031690143769E-11,"d":"1.36E-11"}},{"$f":"PARÂMETROS!$F$6*PARÂMETROS!$G$6/($C91^2+$C91*PARÂMETROS!$F$6+PARÂMETROS!$F$6*PARÂMETROS!$G$6)","v":{"v":0.9999999999863649,"d":"1.00E+00"}},{"$f":"(PARÂMETROS!$F$6*$C91^2)/($C91^3+PARÂMETROS!$F$6*$C91^2+PARÂMETROS!$F$6*PARÂMETROS!$G$6*$C91+PARÂMETROS!$F$6*PARÂMETROS!$G$6*PARÂMETROS!$H$6)","v":{"v":2.632155029689477e-17,"d":"2.63E-17"}},{"$f":"(PARÂMETROS!$F$6*PARÂMETROS!$G$6*$C91)/($C91^3+PARÂMETROS!$F$6*$C91^2+PARÂMETROS!$F$6*PARÂMETROS!$G$6*$C91+PARÂMETROS!$F$6*PARÂMETROS!$G$6*PARÂMETROS!$H$6)","v":{"v":1.9304355790799292E-6,"d":"1.93E-06"}},{"$f":"(PARÂMETROS!$F$6*PARÂMETROS!$G$6*PARÂMETROS!$H$6)/($C91^3+PARÂMETROS!$F$6*$C91^2+PARÂMETROS!$F$6*PARÂMETROS!$G$6*$C91+PARÂMETROS!$F$6*PARÂMETROS!$G$6*PARÂMETROS!$H$6)","v":{"v":0.9999980695644208,"d":"1.00E+00"}},{"$f":"$C91/($C91+PARÂMETROS!$J$6)","v":{"v":8.6228812801320812E-6,"d":"8.62E-06"}},{"$f":"$C91*PARÂMETROS!$J$6/($C91^2+$C91*PARÂMETROS!$J$6+PARÂMETROS!$J$6*PARÂMETROS!$K$6)","v":{"v":0.9999913771187199,"d":"1.00E+00"}},{"$f":"$C91^2/($C91^2+$C91*PARÂMETROS!$J$6+PARÂMETROS!$J$6*PARÂMETROS!$K$6)","v":{"v":8.6228812801320812E-6,"d":"8.62E-06"}},{"$f":"(PARÂMETROS!$K$6*PARÂMETROS!$J$6*$C91)/($C91^3+PARÂMETROS!$J$6*$C91^2+PARÂMETROS!$J$6*PARÂMETROS!$K$6*$C91+PARÂMETROS!$J$6*PARÂMETROS!$K$6*PARÂMETROS!$L$6)","v":{"v":0,"d":"0.00E+00"}},{"$f":"(PARÂMETROS!$J$6*$C91^2)/($C91^3+PARÂMETROS!$J$6*$C91^2+PARÂMETROS!$J$6*PARÂMETROS!$K$6*$C91+PARÂMETROS!$J$6*PARÂMETROS!$K$6*PARÂMETROS!$L$6)","v":{"v":0.9999913771187199,"d":"1.00E+00"}},{"$f":"($C91^3)/($C91^3+PARÂMETROS!$J$6*$C91^2+PARÂMETROS!$J$6*PARÂMETROS!$K$6*$C91+PARÂMETROS!$J$6*PARÂMETROS!$K$6*PARÂMETROS!$L$6)","v":{"v":8.6228812801320812E-6,"d":"8.62E-06"}},{"$f":"IF(PARÂMETROS!$J$6<PARÂMETROS!$F$6,(E91-(C91-D91)/PARÂMETROS!$C$11)/(K91+(C91-D91)/PARÂMETROS!$C$14),(K91+(C91-D91)/PARÂMETROS!$C$14)/(E91-(C91-D91)/PARÂMETROS!$C$11))","v":{"v":-2.5000431157076246,"d":"-2.50E+00"}},{"$f":"IF(PARÂMETROS!$J$6<PARÂMETROS!$F$6,(E91-(C91-D91)/PARÂMETROS!$C$11)/(L91+2*M91+(C91-D91)/PARÂMETROS!$C$14),(L91+2*M91+(C91-D91)/PARÂMETROS!$C$14)/(E91-(C91-D91)/PARÂMETROS!$C$11))","v":{"v":-2.5001509091595153,"d":"-2.50E+00"}},{"$f":"IF(PARÂMETROS!$J$6<PARÂMETROS!$F$6, (E91-(C91-D91)/PARÂMETROS!$C$11)/(N91+2*O91+3*P91+(C91-D91)/PARÂMETROS!$C$14),(N91+2*O91+3*P91+(C91-D91)/PARÂMETROS!$C$14)/ (E91-(C91-D91)/PARÂMETROS!$C$11))","v":{"v":-2.500258711907189,"d":"-2.50E+00"}},{"$f":"IF(PARÂMETROS!$J$6<PARÂMETROS!$F$6,(F91+2*G91-(C91-D91)/PARÂMETROS!$C$11)/(K91+(C91-D91)/PARÂMETROS!$C$14),(K91+(C91-D91)/PARÂMETROS!$C$14)/(F91+2*G91-(C91-D91)/PARÂMETROS!$C$11))","v":{"v":-2.500086230485814,"d":"-2.50E+00"}},{"$f":"IF(PARÂMETROS!$J$6<PARÂMETROS!$F$6,(F91+2*G91-(C91-D91)/PARÂMETROS!$C$11)/(L91+2*M91+(C91-D91)/PARÂMETROS!$C$14),(L91+2*M91+(C91-D91)/PARÂMETROS!$C$14)/(F91+2*G91-(C91-D91)/PARÂMETROS!$C$11))","v":{"v":-2.5001940257966693,"d":"-2.50E+00"}},{"$f":"IF(PARÂMETROS!$J$6<PARÂMETROS!$F$6,(F91+2*G91-(C91-D91)/PARÂMETROS!$C$11)/(N91+2*O91+3*P91+(C91-D91)/PARÂMETROS!$C$14),(N91+2*O91+3*P91+(C91-D91)/PARÂMETROS!$C$14)/(F91+2*G91-(C91-D91)/PARÂMETROS!$C$11))","v":{"v":-2.500301830403467,"d":"-2.50E+00"}},{"$f":"IF(PARÂMETROS!$J$6<PARÂMETROS!$F$6,(H91+2*I91+3*J91-(C91-D91)/PARÂMETROS!$C$11)/(K91+(C91-D91)/PARÂMETROS!$C$14),(K91+(C91-D91)/PARÂMETROS!$C$14)/(H91+2*I91+3*J91-(C91-D91)/PARÂMETROS!$C$11))","v":{"v":-2.500129345180775,"d":"-2.50E+00"}},{"$f":"IF(PARÂMETROS!$J$6<PARÂMETROS!$F$6,(H91+2*I91+3*J91-(C91-D91)/PARÂMETROS!$C$11)/(L91+2*M91+(C91-D91)/PARÂMETROS!$C$14),(L91+2*M91+(C91-D91)/PARÂMETROS!$C$14)/(H91+2*I91+3*J91-(C91-D91)/PARÂMETROS!$C$11))","v":{"v":-2.5002371423505902,"d":"-2.50E+00"}},{"$f":"IF(PARÂMETROS!$J$6<PARÂMETROS!$F$6,(H91+2*I91+3*J91-(C91-D91)/PARÂMETROS!$C$11)/(N91+2*O91+3*P91+(C91-D91)/PARÂMETROS!$C$14),(N91+2*O91+3*P91+(C91-D91)/PARÂMETROS!$C$14)/(H91+2*I91+3*J91-(C91-D91)/PARÂMETROS!$C$11))","v":{"v":-2.5003449488165095,"d":"-2.50E+00"}},{"$f":"Q91*PARÂMETROS!$C$11*PARÂMETROS!$D$11/PARÂMETROS!$C$14","v":{"v":-50.00086231415249,"d":"-50.00"}},{"$f":"R91*PARÂMETROS!$C$11*PARÂMETROS!$D$11/PARÂMETROS!$C$14","v":{"v":-50.003018183190306,"d":"-50.00"}},{"$f":"S91*PARÂMETROS!$C$11*PARÂMETROS!$D$11/PARÂMETROS!$C$14","v":{"v":-50.00517423814378,"d":"-50.01"}},{"$f":"T91*PARÂMETROS!$C$11*PARÂMETROS!$D$11/PARÂMETROS!$C$14","v":{"v":-50.00172460971628,"d":"-50.00"}},{"$f":"U91*PARÂMETROS!$C$11*PARÂMETROS!$D$11/PARÂMETROS!$C$14","v":{"v":-50.00388051593339,"d":"-50.00"}},{"$f":"V91*PARÂMETROS!$C$11*PARÂMETROS!$D$11/PARÂMETROS!$C$14","v":{"v":-50.00603660806935,"d":"-50.01"}},{"$f":"W91*PARÂMETROS!$C$11*PARÂMETROS!$D$11/PARÂMETROS!$C$14","v":{"v":-50.002586903615494,"d":"-50.00"}},{"$f":"X91*PARÂMETROS!$C$11*PARÂMETROS!$D$11/PARÂMETROS!$C$14","v":{"v":-50.004742847011805,"d":"-50.00"}},{"$f":"Y91*PARÂMETROS!$C$11*PARÂMETROS!$D$11/PARÂMETROS!$C$14","v":{"v":-50.00689897633019,"d":"-50.01"}},{"$f":"AND(B91+PARÂMETROS!$C$8>=PARÂMETROS!$C$5,B91+PARÂMETROS!$C$8<=PARÂMETROS!$D$5)","v":false},0,{"$f":"VLOOKUP('BANCO DE DADOS COMPLETA'!$N$8,'BANCO DE DADOS COMPLETA'!$A$7:$L$249,3)*-1","v":3},7,{"$f":"VLOOKUP('BANCO DE DADOS COMPLETA'!$N$10,'BANCO DE DADOS COMPLETA'!$A$7:$L$249,3)*-1","v":1},11,77,{"v":-50.002586903615494,"d":"-50.00"},"LIMITE","LIMITE","LIMITE","LIMITE","NADA","NADA",0]
[null,{"$f":"B91+PARÂMETROS!$C$8","v":{"v":18.264343848340662,"d":"18.26"}},{"v":5.440717188938517E-19,"d":"5.44E-19"},{"$f":"PARÂMETROS!$Q$4/C92","v":{"v":18379.9298010397,"d":"1.84E+04"}},{"$f":"PARÂMETROS!$F$6/($C92+PARÂMETROS!$F$6)","v":{"v":0.9999999999999999,"d":"1.00E+00"}},{"$f":"$C92*PARÂMETROS!$F$6/($C92^2+$C92*PARÂMETROS!$F$6+PARÂMETROS!$F$6*PARÂMETROS!$G$6)","v":{"v":8.603123387159701e-12,"d":"8.60E-12"}},{"$f":"PARÂMETROS!$F$6*PARÂMETROS!$G$6/($C92^2+$C92*PARÂMETROS!$F$6+PARÂMETROS!$F$6*PARÂMETROS!$G$6)","v":{"v":0.9999999999913969,"d":"1.00E+00"}},{"$f":"(PARÂMETROS!$F$6*$C92^2)/($C92^3+PARÂMETROS!$F$6*$C92^2+PARÂMETROS!$F$6*PARÂMETROS!$G$6*$C92+PARÂMETROS!$F$6*PARÂMETROS!$G$6*PARÂMETROS!$H$6)","v":{"v":1.0478805378516315E-17,"d":"1.05E-17"}},{"$f":"(PARÂMETROS!$F$6*PARÂMETROS!$G$6*$C92)/($C92^3+PARÂMETROS!$F$6*$C92^2+PARÂMETROS!$F$6*PARÂMETROS!$G$6*$C92+PARÂMETROS!$F$6*PARÂMETROS!$G$6*PARÂMETROS!$H$6)","v":{"v":1.2180233744021328E-6,"d":"1.22E-06"}},{"$f":"(PARÂMETROS!$F$6*PARÂMETROS!$G$6*PARÂMETROS!$H$6)/($C92^3+PARÂMETROS!$F$6*$C92^2+PARÂMETROS!$F$6*PARÂMETROS!$G$6*$C92+PARÂMETROS!$F$6*PARÂMETROS!$G$6*PARÂMETROS!$H$6)","v":{"v":0.9999987819766256,"d":"1.00E+00"}},{"$f":"$C92/($C92+PARÂMETROS!$J$6)","v":{"v":5.4406875876960386E-6,"d":"5.44E-06"}},{"$f":"$C92*PARÂMETROS!$J$6/($C92^2+$C92*PARÂMETROS!$J$6+PARÂMETROS!$J$6*PARÂMETROS!$K$6)","v":{"v":0.9999945593124123,"d":"1.00E+00"}},{"$f":"$C92^2/($C92^2+$C92*PARÂMETROS!$J$6+PARÂMETROS!$J$6*PARÂMETROS!$K$6)","v":{"v":5.4406875876960386E-6,"d":"5.44E-06"}},{"$f":"(PARÂMETROS!$K$6*PARÂMETROS!$J$6*$C92)/($C92^3+PARÂMETROS!$J$6*$C92^2+PARÂMETROS!$J$6*PARÂMETROS!$K$6*$C92+PARÂMETROS!$J$6*PARÂMETROS!$K$6*PARÂMETROS!$L$6)","v":{"v":0,"d":"0.00E+00"}},{"$f":"(PARÂMETROS!$J$6*$C92^2)/($C92^3+PARÂMETROS!$J$6*$C92^2+PARÂMETROS!$J$6*PARÂMETROS!$K$6*$C92+PARÂMETROS!$J$6*PARÂMETROS!$K$6*PARÂMETROS!$L$6)","v":{"v":0.9999945593124123,"d":"1.00E+00"}},{"$f":"($C92^3)/($C92^3+PARÂMETROS!$J$6*$C92^2+PARÂMETROS!$J$6*PARÂMETROS!$K$6*$C92+PARÂMETROS!$J$6*PARÂMETROS!$K$6*PARÂMETROS!$L$6)","v":{"v":5.4406875876960394E-6,"d":"5.44E-06"}},{"$f":"IF(PARÂMETROS!$J$6<PARÂMETROS!$F$6,(E92-(C92-D92)/PARÂMETROS!$C$11)/(K92+(C92-D92)/PARÂMETROS!$C$14),(K92+(C92-D92)/PARÂMETROS!$C$14)/(E92-(C92-D92)/PARÂMETROS!$C$11))","v":{"v":-2.500027203955964,"d":"-2.50E+00"}},{"$f":"IF(PARÂMETROS!$J$6<PARÂMETROS!$F$6,(E92-(C92-D92)/PARÂMETROS!$C$11)/(L92+2*M92+(C92-D92)/PARÂMETROS!$C$14),(L92+2*M92+(C92-D92)/PARÂMETROS!$C$14)/(E92-(C92-D92)/PARÂMETROS!$C$11))","v":{"v":-2.5000952155110387,"d":"-2.50E+00"}},{"$f":"IF(PARÂMETROS!$J$6<PARÂMETROS!$F$6, (E92-(C92-D92)/PARÂMETROS!$C$11)/(N92+2*O92+3*P92+(C92-D92)/PARÂMETROS!$C$14),(N92+2*O92+3*P92+(C92-D92)/PARÂMETROS!$C$14)/ (E92-(C92-D92)/PARÂMETROS!$C$11))","v":{"v":-2.5001632307666317,"d":"-2.50E+00"}},{"$f":"IF(PARÂMETROS!$J$6<PARÂMETROS!$F$6,(F92+2*G92-(C92-D92)/PARÂMETROS!$C$11)/(K92+(C92-D92)/PARÂMETROS!$C$14),(K92+(C92-D92)/PARÂMETROS!$C$14)/(F92+2*G92-(C92-D92)/PARÂMETROS!$C$11))","v":{"v":-2.500054407541912,"d":"-2.50E+00"}},{"$f":"IF(PARÂMETROS!$J$6<PARÂMETROS!$F$6,(F92+2*G92-(C92-D92)/PARÂMETROS!$C$11)/(L92+2*M92+(C92-D92)/PARÂMETROS!$C$14),(L92+2*M92+(C92-D92)/PARÂMETROS!$C$14)/(F92+2*G92-(C92-D92)/PARÂMETROS!$C$11))","v":{"v":-2.5001224198370426,"d":"-2.50E+00"}},{"$f":"IF(PARÂMETROS!$J$6<PARÂMETROS!$F$6,(F92+2*G92-(C92-D92)/PARÂMETROS!$C$11)/(N92+2*O92+3*P92+(C92-D92)/PARÂMETROS!$C$14),(N92+2*O92+3*P92+(C92-D92)/PARÂMETROS!$C$14)/(F92+2*G92-(C92-D92)/PARÂMETROS!$C$11))","v":{"v":-2.5001904358327307,"d":"-2.50E+00"}},{"$f":"IF(PARÂMETROS!$J$6<PARÂMETROS!$F$6,(H92+2*I92+3*J92-(C92-D92)/PARÂMETROS!$C$11)/(K92+(C92-D92)/PARÂMETROS!$C$14),(K92+(C92-D92)/PARÂMETROS!$C$14)/(H92+2*I92+3*J92-(C92-D92)/PARÂMETROS!$C$11))","v":{"v":-2.5000816110947266,"d":"-2.50E+00"}},{"$f":"IF(PARÂMETROS!$J$6<PARÂMETROS!$F$6,(H92+2*I92+3*J92-(C92-D92)/PARÂMETROS!$C$11)/(L92+2*M92+(C92-D92)/PARÂMETROS!$C$14),(L92+2*M92+(C92-D92)/PARÂMETROS!$C$14)/(H92+2*I92+3*J92-(C92-D92)/PARÂMETROS!$C$11))","v":{"v":-2.5001496241299113,"d":"-2.50E+00"}},{"$f":"IF(PARÂMETROS!$J$6<PARÂMETROS!$F$6,(H92+2*I92+3*J92-(C92-D92)/PARÂMETROS!$C$11)/(N92+2*O92+3*P92+(C92-D92)/PARÂMETROS!$C$14),(N92+2*O92+3*P92+(C92-D92)/PARÂMETROS!$C$14)/(H92+2*I92+3*J92-(C92-D92)/PARÂMETROS!$C$11))","v":{"v":-2.500217640865694,"d":"-2.50E+00"}},{"$f":"Q92*PARÂMETROS!$C$11*PARÂMETROS!$D$11/PARÂMETROS!$C$14","v":{"v":-50.00054407911928,"d":"-50.00"}},{"$f":"R92*PARÂMETROS!$C$11*PARÂMETROS!$D$11/PARÂMETROS!$C$14","v":{"v":-50.00190431022078,"d":"-50.00"}},{"$f":"S92*PARÂMETROS!$C$11*PARÂMETROS!$D$11/PARÂMETROS!$C$14","v":{"v":-50.00326461533263,"d":"-50.00"}},{"$f":"T92*PARÂMETROS!$C$11*PARÂMETROS!$D$11/PARÂMETROS!$C$14","v":{"v":-50.00108815083825,"d":"-50.00"}},{"$f":"U92*PARÂMETROS!$C$11*PARÂMETROS!$D$11/PARÂMETROS!$C$14","v":{"v":-50.00244839674085,"d":"-50.00"}},{"$f":"V92*PARÂMETROS!$C$11*PARÂMETROS!$D$11/PARÂMETROS!$C$14","v":{"v":-50.00380871665462,"d":"-50.00"}},{"$f":"W92*PARÂMETROS!$C$11*PARÂMETROS!$D$11/PARÂMETROS!$C$14","v":{"v":-50.00163222189453,"d":"-50.00"}},{"$f":"X92*PARÂMETROS!$C$11*PARÂMETROS!$D$11/PARÂMETROS!$C$14","v":{"v":-50.00299248259823,"d":"-50.00"}},{"$f":"Y92*PARÂMETROS!$C$11*PARÂMETROS!$D$11/PARÂMETROS!$C$14","v":{"v":-50.00435281731388,"d":"-50.00"}},{"$f":"AND(B92+PARÂMETROS!$C$8>=PARÂMETROS!$C$5,B92+PARÂMETROS!$C$8<=PARÂMETROS!$D$5)","v":false},0,{"$f":"VLOOKUP('BANCO DE DADOS COMPLETA'!$N$8,'BANCO DE DADOS COMPLETA'!$A$7:$L$249,3)*-1","v":3},7,{"$f":"VLOOKUP('BANCO DE DADOS COMPLETA'!$N$10,'BANCO DE DADOS COMPLETA'!$A$7:$L$249,3)*-1","v":1},11,77,{"v":-50.00163222189453,"d":"-50.00"},"LIMITE","LIMITE","LIMITE","LIMITE","NADA","NADA",0]
[null,{"$f":"B92+PARÂMETROS!$C$8","v":{"v":18.46434384834066,"d":"18.46"}},{"v":3.432860469600395e-19,"d":"3.43E-19"},{"$f":"PARÂMETROS!$Q$4/C93","v":{"v":29130.225619580913,"d":"2.91E+04"}},{"$f":"PARÂMETROS!$F$6/($C93+PARÂMETROS!$F$6)","v":{"v":1,"d":"1.00E+00"}},{"$f":"$C93*PARÂMETROS!$F$6/($C93^2+$C93*PARÂMETROS!$F$6+PARÂMETROS!$F$6*PARÂMETROS!$G$6)","v":{"v":5.428203886614975E-12,"d":"5.43E-12"}},{"$f":"PARÂMETROS!$F$6*PARÂMETROS!$G$6/($C93^2+$C93*PARÂMETROS!$F$6+PARÂMETROS!$F$6*PARÂMETROS!$G$6)","v":{"v":0.9999999999945719,"d":"1.00E+00"}},{"$f":"(PARÂMETROS!$F$6*$C93^2)/($C93^3+PARÂMETROS!$F$6*$C93^2+PARÂMETROS!$F$6*PARÂMETROS!$G$6*$C93+PARÂMETROS!$F$6*PARÂMETROS!$G$6*PARÂMETROS!$H$6)","v":{"v":4.1716894352070825E-18,"d":"4.17E-18"}},{"$f":"(PARÂMETROS!$F$6*PARÂMETROS!$G$6*$C93)/($C93^3+PARÂMETROS!$F$6*$C93^2+PARÂMETROS!$F$6*PARÂMETROS!$G$6*$C93+PARÂMETROS!$F$6*PARÂMETROS!$G$6*PARÂMETROS!$H$6)","v":{"v":7.6852113927981083E-7,"d":"7.69E-07"}},{"$f":"(PARÂMETROS!$F$6*PARÂMETROS!$G$6*PARÂMETROS!$H$6)/($C93^3+PARÂMETROS!$F$6*$C93^2+PARÂMETROS!$F$6*PARÂMETROS!$G$6*$C93+PARÂMETROS!$F$6*PARÂMETROS!$G$6*PARÂMETROS!$H$6)","v":{"v":0.9999992314788607,"d":"1.00E+00"}},{"$f":"$C93/($C93+PARÂMETROS!$J$6)","v":{"v":3.4328486851098461E-6,"d":"3.43E-06"}},{"$f":"$C93*PARÂMETROS!$J$6/($C93^2+$C93*PARÂMETROS!$J$6+PARÂMETROS!$J$6*PARÂMETROS!$K$6)","v":{"v":0.9999965671513149,"d":"1.00E+00"}},{"$f":"$C93^2/($C93^2+$C93*PARÂMETROS!$J$6+PARÂMETROS!$J$6*PARÂMETROS!$K$6)","v":{"v":3.4328486851098465E-6,"d":"3.43E-06"}},{"$f":"(PARÂMETROS!$K$6*PARÂMETROS!$J$6*$C93)/($C93^3+PARÂMETROS!$J$6*$C93^2+PARÂMETROS!$J$6*PARÂMETROS!$K$6*$C93+PARÂMETROS!$J$6*PARÂMETROS!$K$6*PARÂMETROS!$L$6)","v":{"v":0,"d":"0.00E+00"}},{"$f":"(PARÂMETROS!$J$6*$C93^2)/($C93^3+PARÂMETROS!$J$6*$C93^2+PARÂMETROS!$J$6*PARÂMETROS!$K$6*$C93+PARÂMETROS!$J$6*PARÂMETROS!$K$6*PARÂMETROS!$L$6)","v":{"v":0.9999965671513149,"d":"1.00E+00"}},{"$f":"($C93^3)/($C93^3+PARÂMETROS!$J$6*$C93^2+PARÂMETROS!$J$6*PARÂMETROS!$K$6*$C93+PARÂMETROS!$J$6*PARÂMETROS!$K$6*PARÂMETROS!$L$6)","v":{"v":3.4328486851098461E-6,"d":"3.43E-06"}},{"$f":"IF(PARÂMETROS!$J$6<PARÂMETROS!$F$6,(E93-(C93-D93)/PARÂMETROS!$C$11)/(K93+(C93-D93)/PARÂMETROS!$C$14),(K93+(C93-D93)/PARÂMETROS!$C$14)/(E93-(C93-D93)/PARÂMETROS!$C$11))","v":{"v":-2.500017164449655,"d":"-2.50E+00"}},{"$f":"IF(PARÂMETROS!$J$6<PARÂMETROS!$F$6,(E93-(C93-D93)/PARÂMETROS!$C$11)/(L93+2*M93+(C93-D93)/PARÂMETROS!$C$14),(L93+2*M93+(C93-D93)/PARÂMETROS!$C$14)/(E93-(C93-D93)/PARÂMETROS!$C$11))","v":{"v":-2.5000600762366942,"d":"-2.50E+00"}},{"$f":"IF(PARÂMETROS!$J$6<PARÂMETROS!$F$6, (E93-(C93-D93)/PARÂMETROS!$C$11)/(N93+2*O93+3*P93+(C93-D93)/PARÂMETROS!$C$14),(N93+2*O93+3*P93+(C93-D93)/PARÂMETROS!$C$14)/ (E93-(C93-D93)/PARÂMETROS!$C$11))","v":{"v":-2.500102989496886,"d":"-2.50E+00"}},{"$f":"IF(PARÂMETROS!$J$6<PARÂMETROS!$F$6,(F93+2*G93-(C93-D93)/PARÂMETROS!$C$11)/(K93+(C93-D93)/PARÂMETROS!$C$14),(K93+(C93-D93)/PARÂMETROS!$C$14)/(F93+2*G93-(C93-D93)/PARÂMETROS!$C$11))","v":{"v":-2.5000343287520037,"d":"-2.50E+00"}},{"$f":"IF(PARÂMETROS!$J$6<PARÂMETROS!$F$6,(F93+2*G93-(C93-D93)/PARÂMETROS!$C$11)/(L93+2*M93+(C93-D93)/PARÂMETROS!$C$14),(L93+2*M93+(C93-D93)/PARÂMETROS!$C$14)/(F93+2*G93-(C93-D93)/PARÂMETROS!$C$11))","v":{"v":-2.5000772408336616,"d":"-2.50E+00"}},{"$f":"IF(PARÂMETROS!$J$6<PARÂMETROS!$F$6,(F93+2*G93-(C93-D93)/PARÂMETROS!$C$11)/(N93+2*O93+3*P93+(C93-D93)/PARÂMETROS!$C$14),(N93+2*O93+3*P93+(C93-D93)/PARÂMETROS!$C$14)/(F93+2*G93-(C93-D93)/PARÂMETROS!$C$11))","v":{"v":-2.5001201543884815,"d":"-2.50E+00"}},{"$f":"IF(PARÂMETROS!$J$6<PARÂMETROS!$F$6,(H93+2*I93+3*J93-(C93-D93)/PARÂMETROS!$C$11)/(K93+(C93-D93)/PARÂMETROS!$C$14),(K93+(C93-D93)/PARÂMETROS!$C$14)/(H93+2*I93+3*J93-(C93-D93)/PARÂMETROS!$C$11))","v":{"v":-2.5000514930411617,"d":"-2.50E+00"}},{"$f":"IF(PARÂMETROS!$J$6<PARÂMETROS!$F$6,(H93+2*I93+3*J93-(C93-D93)/PARÂMETROS!$C$11)/(L93+2*M93+(C93-D93)/PARÂMETROS!$C$14),(L93+2*M93+(C93-D93)/PARÂMETROS!$C$14)/(H93+2*I93+3*J93-(C93-D93)/PARÂMETROS!$C$11))","v":{"v":-2.5000944054174377,"d":"-2.50E+00"}},{"$f":"IF(PARÂMETROS!$J$6<PARÂMETROS!$F$6,(H93+2*I93+3*J93-(C93-D93)/PARÂMETROS!$C$11)/(N93+2*O93+3*P93+(C93-D93)/PARÂMETROS!$C$14),(N93+2*O93+3*P93+(C93-D93)/PARÂMETROS!$C$14)/(H93+2*I93+3*J93-(C93-D93)/PARÂMETROS!$C$11))","v":{"v":-2.500137319266886,"d":"-2.50E+00"}},{"$f":"Q93*PARÂMETROS!$C$11*PARÂMETROS!$D$11/PARÂMETROS!$C$14","v":{"v":-50.0003432889931,"d":"-50.00"}},{"$f":"R93*PARÂMETROS!$C$11*PARÂMETROS!$D$11/PARÂMETROS!$C$14","v":{"v":-50.00120152473389,"d":"-50.00"}},{"$f":"S93*PARÂMETROS!$C$11*PARÂMETROS!$D$11/PARÂMETROS!$C$14","v":{"v":-50.00205978993771,"d":"-50.00"}},{"$f":"T93*PARÂMETROS!$C$11*PARÂMETROS!$D$11/PARÂMETROS!$C$14","v":{"v":-50.00068657504008,"d":"-50.00"}},{"$f":"U93*PARÂMETROS!$C$11*PARÂMETROS!$D$11/PARÂMETROS!$C$14","v":{"v":-50.00154481667324,"d":"-50.00"}},{"$f":"V93*PARÂMETROS!$C$11*PARÂMETROS!$D$11/PARÂMETROS!$C$14","v":{"v":-50.00240308776963,"d":"-50.00"}},{"$f":"W93*PARÂMETROS!$C$11*PARÂMETROS!$D$11/PARÂMETROS!$C$14","v":{"v":-50.00102986082323,"d":"-50.00"}},{"$f":"X93*PARÂMETROS!$C$11*PARÂMETROS!$D$11/PARÂMETROS!$C$14","v":{"v":-50.00188810834876,"d":"-50.00"}},{"$f":"Y93*PARÂMETROS!$C$11*PARÂMETROS!$D$11/PARÂMETROS!$C$14","v":{"v":-50.002746385337716,"d":"-50.00"}},{"$f":"AND(B93+PARÂMETROS!$C$8>=PARÂMETROS!$C$5,B93+PARÂMETROS!$C$8<=PARÂMETROS!$D$5)","v":false},0,{"$f":"VLOOKUP('BANCO DE DADOS COMPLETA'!$N$8,'BANCO DE DADOS COMPLETA'!$A$7:$L$249,3)*-1","v":3},7,{"$f":"VLOOKUP('BANCO DE DADOS COMPLETA'!$N$10,'BANCO DE DADOS COMPLETA'!$A$7:$L$249,3)*-1","v":1},11,77,{"v":-50.00102986082323,"d":"-50.00"},"LIMITE","LIMITE","LIMITE","LIMITE","NADA","NADA",0]
[null,{"$f":"B93+PARÂMETROS!$C$8","v":{"v":18.66434384834066,"d":"18.66"}},{"v":2.1659885258700986E-19,"d":"2.17E-19"},{"$f":"PARÂMETROS!$Q$4/C94","v":{"v":46168.296279330025,"d":"4.62E+04"}},{"$f":"PARÂMETROS!$F$6/($C94+PARÂMETROS!$F$6)","v":{"v":1,"d":"1.00E+00"}},{"$f":"$C94*PARÂMETROS!$F$6/($C94^2+$C94*PARÂMETROS!$F$6+PARÂMETROS!$F$6*PARÂMETROS!$G$6)","v":{"v":3.424965109602516e-12,"d":"3.42E-12"}},{"$f":"PARÂMETROS!$F$6*PARÂMETROS!$G$6/($C94^2+$C94*PARÂMETROS!$F$6+PARÂMETROS!$F$6*PARÂMETROS!$G$6)","v":{"v":0.9999999999965751,"d":"1.00E+00"}},{"$f":"(PARÂMETROS!$F$6*$C94^2)/($C94^3+PARÂMETROS!$F$6*$C94^2+PARÂMETROS!$F$6*PARÂMETROS!$G$6*$C94+PARÂMETROS!$F$6*PARÂMETROS!$G$6*PARÂMETROS!$H$6)","v":{"v":1.6607799485037776E-18,"d":"1.66E-18"}},{"$f":"(PARÂMETROS!$F$6*PARÂMETROS!$G$6*$C94)/($C94^3+PARÂMETROS!$F$6*$C94^2+PARÂMETROS!$F$6*PARÂMETROS!$G$6*$C94+PARÂMETROS!$F$6*PARÂMETROS!$G$6*PARÂMETROS!$H$6)","v":{"v":4.8490419474399592E-7,"d":"4.85E-07"}},{"$f":"(PARÂMETROS!$F$6*PARÂMETROS!$G$6*PARÂMETROS!$H$6)/($C94^3+PARÂMETROS!$F$6*$C94^2+PARÂMETROS!$F$6*PARÂMETROS!$G$6*$C94+PARÂMETROS!$F$6*PARÂMETROS!$G$6*PARÂMETROS!$H$6)","v":{"v":0.9999995150958053,"d":"1.00E+00"}},{"$f":"$C94/($C94+PARÂMETROS!$J$6)","v":{"v":2.165983834373966E-6,"d":"2.17E-06"}},{"$f":"$C94*PARÂMETROS!$J$6/($C94^2+$C94*PARÂMETROS!$J$6+PARÂMETROS!$J$6*PARÂMETROS!$K$6)","v":{"v":0.9999978340161657,"d":"1.00E+00"}},{"$f":"$C94^2/($C94^2+$C94*PARÂMETROS!$J$6+PARÂMETROS!$J$6*PARÂMETROS!$K$6)","v":{"v":2.165983834373966E-6,"d":"2.17E-06"}},{"$f":"(PARÂMETROS!$K$6*PARÂMETROS!$J$6*$C94)/($C94^3+PARÂMETROS!$J$6*$C94^2+PARÂMETROS!$J$6*PARÂMETROS!$K$6*$C94+PARÂMETROS!$J$6*PARÂMETROS!$K$6*PARÂMETROS!$L$6)","v":{"v":0,"d":"0.00E+00"}},{"$f":"(PARÂMETROS!$J$6*$C94^2)/($C94^3+PARÂMETROS!$J$6*$C94^2+PARÂMETROS!$J$6*PARÂMETROS!$K$6*$C94+PARÂMETROS!$J$6*PARÂMETROS!$K$6*PARÂMETROS!$L$6)","v":{"v":0.9999978340161656,"d":"1.00E+00"}},{"$f":"($C94^3)/($C94^3+PARÂMETROS!$J$6*$C94^2+PARÂMETROS!$J$6*PARÂMETROS!$K$6*$C94+PARÂMETROS!$J$6*PARÂMETROS!$K$6*PARÂMETROS!$L$6)","v":{"v":2.165983834373966E-6,"d":"2.17E-06"}},{"$f":"IF(PARÂMETROS!$J$6<PARÂMETROS!$F$6,(E94-(C94-D94)/PARÂMETROS!$C$11)/(K94+(C94-D94)/PARÂMETROS!$C$14),(K94+(C94-D94)/PARÂMETROS!$C$14)/(E94-(C94-D94)/PARÂMETROS!$C$11))","v":{"v":-2.500010830001273,"d":"-2.50E+00"}},{"$f":"IF(PARÂMETROS!$J$6<PARÂMETROS!$F$6,(E94-(C94-D94)/PARÂMETROS!$C$11)/(L94+2*M94+(C94-D94)/PARÂMETROS!$C$14),(L94+2*M94+(C94-D94)/PARÂMETROS!$C$14)/(E94-(C94-D94)/PARÂMETROS!$C$11))","v":{"v":-2.500037905268359,"d":"-2.50E+00"}},{"$f":"IF(PARÂMETROS!$J$6<PARÂMETROS!$F$6, (E94-(C94-D94)/PARÂMETROS!$C$11)/(N94+2*O94+3*P94+(C94-D94)/PARÂMETROS!$C$14),(N94+2*O94+3*P94+(C94-D94)/PARÂMETROS!$C$14)/ (E94-(C94-D94)/PARÂMETROS!$C$11))","v":{"v":-2.5000649811219047,"d":"-2.50E+00"}},{"$f":"IF(PARÂMETROS!$J$6<PARÂMETROS!$F$6,(F94+2*G94-(C94-D94)/PARÂMETROS!$C$11)/(K94+(C94-D94)/PARÂMETROS!$C$14),(K94+(C94-D94)/PARÂMETROS!$C$14)/(F94+2*G94-(C94-D94)/PARÂMETROS!$C$11))","v":{"v":-2.5000216599439025,"d":"-2.50E+00"}},{"$f":"IF(PARÂMETROS!$J$6<PARÂMETROS!$F$6,(F94+2*G94-(C94-D94)/PARÂMETROS!$C$11)/(L94+2*M94+(C94-D94)/PARÂMETROS!$C$14),(L94+2*M94+(C94-D94)/PARÂMETROS!$C$14)/(F94+2*G94-(C94-D94)/PARÂMETROS!$C$11))","v":{"v":-2.5000487353282774,"d":"-2.50E+00"}},{"$f":"IF(PARÂMETROS!$J$6<PARÂMETROS!$F$6,(F94+2*G94-(C94-D94)/PARÂMETROS!$C$11)/(N94+2*O94+3*P94+(C94-D94)/PARÂMETROS!$C$14),(N94+2*O94+3*P94+(C94-D94)/PARÂMETROS!$C$14)/(F94+2*G94-(C94-D94)/PARÂMETROS!$C$11))","v":{"v":-2.500075811299115,"d":"-2.50E+00"}},{"$f":"IF(PARÂMETROS!$J$6<PARÂMETROS!$F$6,(H94+2*I94+3*J94-(C94-D94)/PARÂMETROS!$C$11)/(K94+(C94-D94)/PARÂMETROS!$C$14),(K94+(C94-D94)/PARÂMETROS!$C$14)/(H94+2*I94+3*J94-(C94-D94)/PARÂMETROS!$C$11))","v":{"v":-2.500032489881281,"d":"-2.50E+00"}},{"$f":"IF(PARÂMETROS!$J$6<PARÂMETROS!$F$6,(H94+2*I94+3*J94-(C94-D94)/PARÂMETROS!$C$11)/(L94+2*M94+(C94-D94)/PARÂMETROS!$C$14),(L94+2*M94+(C94-D94)/PARÂMETROS!$C$14)/(H94+2*I94+3*J94-(C94-D94)/PARÂMETROS!$C$11))","v":{"v":-2.5000595653829447,"d":"-2.50E+00"}},{"$f":"IF(PARÂMETROS!$J$6<PARÂMETROS!$F$6,(H94+2*I94+3*J94-(C94-D94)/PARÂMETROS!$C$11)/(N94+2*O94+3*P94+(C94-D94)/PARÂMETROS!$C$14),(N94+2*O94+3*P94+(C94-D94)/PARÂMETROS!$C$14)/(H94+2*I94+3*J94-(C94-D94)/PARÂMETROS!$C$11))","v":{"v":-2.500086641471073,"d":"-2.50E+00"}},{"$f":"Q94*PARÂMETROS!$C$11*PARÂMETROS!$D$11/PARÂMETROS!$C$14","v":{"v":-50.00021660002546,"d":"-50.00"}},{"$f":"R94*PARÂMETROS!$C$11*PARÂMETROS!$D$11/PARÂMETROS!$C$14","v":{"v":-50.00075810536718,"d":"-50.00"}},{"$f":"S94*PARÂMETROS!$C$11*PARÂMETROS!$D$11/PARÂMETROS!$C$14","v":{"v":-50.0012996224381,"d":"-50.00"}},{"$f":"T94*PARÂMETROS!$C$11*PARÂMETROS!$D$11/PARÂMETROS!$C$14","v":{"v":-50.00043319887805,"d":"-50.00"}},{"$f":"U94*PARÂMETROS!$C$11*PARÂMETROS!$D$11/PARÂMETROS!$C$14","v":{"v":-50.00097470656555,"d":"-50.00"}},{"$f":"V94*PARÂMETROS!$C$11*PARÂMETROS!$D$11/PARÂMETROS!$C$14","v":{"v":-50.0015162259823,"d":"-50.00"}},{"$f":"W94*PARÂMETROS!$C$11*PARÂMETROS!$D$11/PARÂMETROS!$C$14","v":{"v":-50.00064979762562,"d":"-50.00"}},{"$f":"X94*PARÂMETROS!$C$11*PARÂMETROS!$D$11/PARÂMETROS!$C$14","v":{"v":-50.0011913076589,"d":"-50.00"}},{"$f":"Y94*PARÂMETROS!$C$11*PARÂMETROS!$D$11/PARÂMETROS!$C$14","v":{"v":-50.001732829421464,"d":"-50.00"}},{"$f":"AND(B94+PARÂMETROS!$C$8>=PARÂMETROS!$C$5,B94+PARÂMETROS!$C$8<=PARÂMETROS!$D$5)","v":false},0,{"$f":"VLOOKUP('BANCO DE DADOS COMPLETA'!$N$8,'BANCO DE DADOS COMPLETA'!$A$7:$L$249,3)*-1","v":3},7,{"$f":"VLOOKUP('BANCO DE DADOS COMPLETA'!$N$10,'BANCO DE DADOS COMPLETA'!$A$7:$L$249,3)*-1","v":1},11,77,{"v":-50.00064979762562,"d":"-50.00"},"LIMITE","LIMITE","LIMITE","LIMITE","NADA","NADA",0]
[null,{"$f":"B94+PARÂMETROS!$C$8","v":{"v":18.86434384834066,"d":"18.86"}},{"v":1.3666463684575686E-19,"d":"1.37E-19"},{"$f":"PARÂMETROS!$Q$4/C95","v":{"v":73171.81848063777,"d":"7.32E+04"}},{"$f":"PARÂMETROS!$F$6/($C95+PARÂMETROS!$F$6)","v":{"v":1,"d":"1.00E+00"}},{"$f":"$C95*PARÂMETROS!$F$6/($C95^2+$C95*PARÂMETROS!$F$6+PARÂMETROS!$F$6*PARÂMETROS!$G$6)","v":{"v":2.161006890494853e-12,"d":"2.16E-12"}},{"$f":"PARÂMETROS!$F$6*PARÂMETROS!$G$6/($C95^2+$C95*PARÂMETROS!$F$6+PARÂMETROS!$F$6*PARÂMETROS!$G$6)","v":{"v":0.999999999997839,"d":"1.00E+00"}},{"$f":"(PARÂMETROS!$F$6*$C95^2)/($C95^3+PARÂMETROS!$F$6*$C95^2+PARÂMETROS!$F$6*PARÂMETROS!$G$6*$C95+PARÂMETROS!$F$6*PARÂMETROS!$G$6*PARÂMETROS!$H$6)","v":{"v":6.611685245271511e-19,"d":"6.61E-19"}},{"$f":"(PARÂMETROS!$F$6*PARÂMETROS!$G$6*$C95)/($C95^3+PARÂMETROS!$F$6*$C95^2+PARÂMETROS!$F$6*PARÂMETROS!$G$6*$C95+PARÂMETROS!$F$6*PARÂMETROS!$G$6*PARÂMETROS!$H$6)","v":{"v":3.0595391779353379E-7,"d":"3.06E-07"}},{"$f":"(PARÂMETROS!$F$6*PARÂMETROS!$G$6*PARÂMETROS!$H$6)/($C95^3+PARÂMETROS!$F$6*$C95^2+PARÂMETROS!$F$6*PARÂMETROS!$G$6*$C95+PARÂMETROS!$F$6*PARÂMETROS!$G$6*PARÂMETROS!$H$6)","v":{"v":0.9999996940460822,"d":"1.00E+00"}},{"$f":"$C95/($C95+PARÂMETROS!$J$6)","v":{"v":1.3666445007378246E-6,"d":"1.37E-06"}},{"$f":"$C95*PARÂMETROS!$J$6/($C95^2+$C95*PARÂMETROS!$J$6+PARÂMETROS!$J$6*PARÂMETROS!$K$6)","v":{"v":0.9999986333554992,"d":"1.00E+00"}},{"$f":"$C95^2/($C95^2+$C95*PARÂMETROS!$J$6+PARÂMETROS!$J$6*PARÂMETROS!$K$6)","v":{"v":1.3666445007378246E-6,"d":"1.37E-06"}},{"$f":"(PARÂMETROS!$K$6*PARÂMETROS!$J$6*$C95)/($C95^3+PARÂMETROS!$J$6*$C95^2+PARÂMETROS!$J$6*PARÂMETROS!$K$6*$C95+PARÂMETROS!$J$6*PARÂMETROS!$K$6*PARÂMETROS!$L$6)","v":{"v":0,"d":"0.00E+00"}},{"$f":"(PARÂMETROS!$J$6*$C95^2)/($C95^3+PARÂMETROS!$J$6*$C95^2+PARÂMETROS!$J$6*PARÂMETROS!$K$6*$C95+PARÂMETROS!$J$6*PARÂMETROS!$K$6*PARÂMETROS!$L$6)","v":{"v":0.9999986333554993,"d":"1.00E+00"}},{"$f":"($C95^3)/($C95^3+PARÂMETROS!$J$6*$C95^2+PARÂMETROS!$J$6*PARÂMETROS!$K$6*$C95+PARÂMETROS!$J$6*PARÂMETROS!$K$6*PARÂMETROS!$L$6)","v":{"v":1.3666445007378244E-6,"d":"1.37E-06"}},{"$f":"IF(PARÂMETROS!$J$6<PARÂMETROS!$F$6,(E95-(C95-D95)/PARÂMETROS!$C$11)/(K95+(C95-D95)/PARÂMETROS!$C$14),(K95+(C95-D95)/PARÂMETROS!$C$14)/(E95-(C95-D95)/PARÂMETROS!$C$11))","v":{"v":-2.500006833255189,"d":"-2.50E+00"}},{"$f":"IF(PARÂMETROS!$J$6<PARÂMETROS!$F$6,(E95-(C95-D95)/PARÂMETROS!$C$11)/(L95+2*M95+(C95-D95)/PARÂMETROS!$C$14),(L95+2*M95+(C95-D95)/PARÂMETROS!$C$14)/(E95-(C95-D95)/PARÂMETROS!$C$11))","v":{"v":-2.500023916498222,"d":"-2.50E+00"}},{"$f":"IF(PARÂMETROS!$J$6<PARÂMETROS!$F$6, (E95-(C95-D95)/PARÂMETROS!$C$11)/(N95+2*O95+3*P95+(C95-D95)/PARÂMETROS!$C$14),(N95+2*O95+3*P95+(C95-D95)/PARÂMETROS!$C$14)/ (E95-(C95-D95)/PARÂMETROS!$C$11))","v":{"v":-2.5000409999747255,"d":"-2.50E+00"}},{"$f":"IF(PARÂMETROS!$J$6<PARÂMETROS!$F$6,(F95+2*G95-(C95-D95)/PARÂMETROS!$C$11)/(K95+(C95-D95)/PARÂMETROS!$C$14),(K95+(C95-D95)/PARÂMETROS!$C$14)/(F95+2*G95-(C95-D95)/PARÂMETROS!$C$11))","v":{"v":-2.5000136664870314,"d":"-2.50E+00"}},{"$f":"IF(PARÂMETROS!$J$6<PARÂMETROS!$F$6,(F95+2*G95-(C95-D95)/PARÂMETROS!$C$11)/(L95+2*M95+(C95-D95)/PARÂMETROS!$C$14),(L95+2*M95+(C95-D95)/PARÂMETROS!$C$14)/(F95+2*G95-(C95-D95)/PARÂMETROS!$C$11))","v":{"v":-2.5000307497767573,"d":"-2.50E+00"}},{"$f":"IF(PARÂMETROS!$J$6<PARÂMETROS!$F$6,(F95+2*G95-(C95-D95)/PARÂMETROS!$C$11)/(N95+2*O95+3*P95+(C95-D95)/PARÂMETROS!$C$14),(N95+2*O95+3*P95+(C95-D95)/PARÂMETROS!$C$14)/(F95+2*G95-(C95-D95)/PARÂMETROS!$C$11))","v":{"v":-2.500047833299955,"d":"-2.50E+00"}},{"$f":"IF(PARÂMETROS!$J$6<PARÂMETROS!$F$6,(H95+2*I95+3*J95-(C95-D95)/PARÂMETROS!$C$11)/(K95+(C95-D95)/PARÂMETROS!$C$14),(K95+(C95-D95)/PARÂMETROS!$C$14)/(H95+2*I95+3*J95-(C95-D95)/PARÂMETROS!$C$11))","v":{"v":-2.500020499716783,"d":"-2.50E+00"}},{"$f":"IF(PARÂMETROS!$J$6<PARÂMETROS!$F$6,(H95+2*I95+3*J95-(C95-D95)/PARÂMETROS!$C$11)/(L95+2*M95+(C95-D95)/PARÂMETROS!$C$14),(L95+2*M95+(C95-D95)/PARÂMETROS!$C$14)/(H95+2*I95+3*J95-(C95-D95)/PARÂMETROS!$C$11))","v":{"v":-2.5000375830532025,"d":"-2.50E+00"}},{"$f":"IF(PARÂMETROS!$J$6<PARÂMETROS!$F$6,(H95+2*I95+3*J95-(C95-D95)/PARÂMETROS!$C$11)/(N95+2*O95+3*P95+(C95-D95)/PARÂMETROS!$C$14),(N95+2*O95+3*P95+(C95-D95)/PARÂMETROS!$C$14)/(H95+2*I95+3*J95-(C95-D95)/PARÂMETROS!$C$11))","v":{"v":-2.500054666623094,"d":"-2.50E+00"}},{"$f":"Q95*PARÂMETROS!$C$11*PARÂMETROS!$D$11/PARÂMETROS!$C$14","v":{"v":-50.00013666510378,"d":"-50.00"}},{"$f":"R95*PARÂMETROS!$C$11*PARÂMETROS!$D$11/PARÂMETROS!$C$14","v":{"v":-50.00047832996444,"d":"-50.00"}},{"$f":"S95*PARÂMETROS!$C$11*PARÂMETROS!$D$11/PARÂMETROS!$C$14","v":{"v":-50.00081999949452,"d":"-50.00"}},{"$f":"T95*PARÂMETROS!$C$11*PARÂMETROS!$D$11/PARÂMETROS!$C$14","v":{"v":-50.00027332974063,"d":"-50.00"}},{"$f":"U95*PARÂMETROS!$C$11*PARÂMETROS!$D$11/PARÂMETROS!$C$14","v":{"v":-50.00061499553515,"d":"-50.00"}},{"$f":"V95*PARÂMETROS!$C$11*PARÂMETROS!$D$11/PARÂMETROS!$C$14","v":{"v":-50.000956665999105,"d":"-50.00"}},{"$f":"W95*PARÂMETROS!$C$11*PARÂMETROS!$D$11/PARÂMETROS!$C$14","v":{"v":-50.00040999433567,"d":"-50.00"}},{"$f":"X95*PARÂMETROS!$C$11*PARÂMETROS!$D$11/PARÂMETROS!$C$14","v":{"v":-50.000751661064044,"d":"-50.00"}},{"$f":"Y95*PARÂMETROS!$C$11*PARÂMETROS!$D$11/PARÂMETROS!$C$14","v":{"v":-50.001093332461885,"d":"-50.00"}},{"$f":"AND(B95+PARÂMETROS!$C$8>=PARÂMETROS!$C$5,B95+PARÂMETROS!$C$8<=PARÂMETROS!$D$5)","v":false},0,{"$f":"VLOOKUP('BANCO DE DADOS COMPLETA'!$N$8,'BANCO DE DADOS COMPLETA'!$A$7:$L$249,3)*-1","v":3},7,{"$f":"VLOOKUP('BANCO DE DADOS COMPLETA'!$N$10,'BANCO DE DADOS COMPLETA'!$A$7:$L$249,3)*-1","v":1},11,77,{"v":-50.00040999433567,"d":"-50.00"},"LIMITE","LIMITE","LIMITE","LIMITE","NADA","NADA",0]
[null,{"$f":"B95+PARÂMETROS!$C$8","v":{"v":19.06434384834066,"d":"19.06"}},{"v":8.622955634854888E-20,"d":"8.62E-20"},{"$f":"PARÂMETROS!$Q$4/C96","v":{"v":115969.51698996287,"d":"1.16E+05"}},{"$f":"PARÂMETROS!$F$6/($C96+PARÂMETROS!$F$6)","v":{"v":1,"d":"1.00E+00"}},{"$f":"$C96*PARÂMETROS!$F$6/($C96^2+$C96*PARÂMETROS!$F$6+PARÂMETROS!$F$6*PARÂMETROS!$G$6)","v":{"v":1.3635031690311223E-12,"d":"1.36E-12"}},{"$f":"PARÂMETROS!$F$6*PARÂMETROS!$G$6/($C96^2+$C96*PARÂMETROS!$F$6+PARÂMETROS!$F$6*PARÂMETROS!$G$6)","v":{"v":0.9999999999986365,"d":"1.00E+00"}},{"$f":"(PARÂMETROS!$F$6*$C96^2)/($C96^3+PARÂMETROS!$F$6*$C96^2+PARÂMETROS!$F$6*PARÂMETROS!$G$6*$C96+PARÂMETROS!$F$6*PARÂMETROS!$G$6*PARÂMETROS!$H$6)","v":{"v":2.6321596027826195E-19,"d":"2.63E-19"}},{"$f":"(PARÂMETROS!$F$6*PARÂMETROS!$G$6*$C96)/($C96^3+PARÂMETROS!$F$6*$C96^2+PARÂMETROS!$F$6*PARÂMETROS!$G$6*$C96+PARÂMETROS!$F$6*PARÂMETROS!$G$6*PARÂMETROS!$H$6)","v":{"v":1.9304389330091473E-7,"d":"1.93E-07"}},{"$f":"(PARÂMETROS!$F$6*PARÂMETROS!$G$6*PARÂMETROS!$H$6)/($C96^3+PARÂMETROS!$F$6*$C96^2+PARÂMETROS!$F$6*PARÂMETROS!$G$6*$C96+PARÂMETROS!$F$6*PARÂMETROS!$G$6*PARÂMETROS!$H$6)","v":{"v":0.9999998069561067,"d":"1.00E+00"}},{"$f":"$C96/($C96+PARÂMETROS!$J$6)","v":{"v":8.6229481993249109E-7,"d":"8.62E-07"}},{"$f":"$C96*PARÂMETROS!$J$6/($C96^2+$C96*PARÂMETROS!$J$6+PARÂMETROS!$J$6*PARÂMETROS!$K$6)","v":{"v":0.99999913770518,"d":"1.00E+00"}},{"$f":"$C96^2/($C96^2+$C96*PARÂMETROS!$J$6+PARÂMETROS!$J$6*PARÂMETROS!$K$6)","v":{"v":8.6229481993249109E-7,"d":"8.62E-07"}},{"$f":"(PARÂMETROS!$K$6*PARÂMETROS!$J$6*$C96)/($C96^3+PARÂMETROS!$J$6*$C96^2+PARÂMETROS!$J$6*PARÂMETROS!$K$6*$C96+PARÂMETROS!$J$6*PARÂMETROS!$K$6*PARÂMETROS!$L$6)","v":{"v":0,"d":"0.00E+00"}},{"$f":"(PARÂMETROS!$J$6*$C96^2)/($C96^3+PARÂMETROS!$J$6*$C96^2+PARÂMETROS!$J$6*PARÂMETROS!$K$6*$C96+PARÂMETROS!$J$6*PARÂMETROS!$K$6*PARÂMETROS!$L$6)","v":{"v":0.99999913770518,"d":"1.00E+00"}},{"$f":"($C96^3)/($C96^3+PARÂMETROS!$J$6*$C96^2+PARÂMETROS!$J$6*PARÂMETROS!$K$6*$C96+PARÂMETROS!$J$6*PARÂMETROS!$K$6*PARÂMETROS!$L$6)","v":{"v":8.6229481993249109E-7,"d":"8.62E-07"}},{"$f":"IF(PARÂMETROS!$J$6<PARÂMETROS!$F$6,(E96-(C96-D96)/PARÂMETROS!$C$11)/(K96+(C96-D96)/PARÂMETROS!$C$14),(K96+(C96-D96)/PARÂMETROS!$C$14)/(E96-(C96-D96)/PARÂMETROS!$C$11))","v":{"v":-2.5000043114871113,"d":"-2.50E+00"}},{"$f":"IF(PARÂMETROS!$J$6<PARÂMETROS!$F$6,(E96-(C96-D96)/PARÂMETROS!$C$11)/(L96+2*M96+(C96-D96)/PARÂMETROS!$C$14),(L96+2*M96+(C96-D96)/PARÂMETROS!$C$14)/(E96-(C96-D96)/PARÂMETROS!$C$11))","v":{"v":-2.500015090246716,"d":"-2.50E+00"}},{"$f":"IF(PARÂMETROS!$J$6<PARÂMETROS!$F$6, (E96-(C96-D96)/PARÂMETROS!$C$11)/(N96+2*O96+3*P96+(C96-D96)/PARÂMETROS!$C$14),(N96+2*O96+3*P96+(C96-D96)/PARÂMETROS!$C$14)/ (E96-(C96-D96)/PARÂMETROS!$C$11))","v":{"v":-2.5000258690992667,"d":"-2.50E+00"}},{"$f":"IF(PARÂMETROS!$J$6<PARÂMETROS!$F$6,(F96+2*G96-(C96-D96)/PARÂMETROS!$C$11)/(K96+(C96-D96)/PARÂMETROS!$C$14),(K96+(C96-D96)/PARÂMETROS!$C$14)/(F96+2*G96-(C96-D96)/PARÂMETROS!$C$11))","v":{"v":-2.5000086229649288,"d":"-2.50E+00"}},{"$f":"IF(PARÂMETROS!$J$6<PARÂMETROS!$F$6,(F96+2*G96-(C96-D96)/PARÂMETROS!$C$11)/(L96+2*M96+(C96-D96)/PARÂMETROS!$C$14),(L96+2*M96+(C96-D96)/PARÂMETROS!$C$14)/(F96+2*G96-(C96-D96)/PARÂMETROS!$C$11))","v":{"v":-2.5000194017431228,"d":"-2.50E+00"}},{"$f":"IF(PARÂMETROS!$J$6<PARÂMETROS!$F$6,(F96+2*G96-(C96-D96)/PARÂMETROS!$C$11)/(N96+2*O96+3*P96+(C96-D96)/PARÂMETROS!$C$14),(N96+2*O96+3*P96+(C96-D96)/PARÂMETROS!$C$14)/(F96+2*G96-(C96-D96)/PARÂMETROS!$C$11))","v":{"v":-2.500030180614262,"d":"-2.50E+00"}},{"$f":"IF(PARÂMETROS!$J$6<PARÂMETROS!$F$6,(H96+2*I96+3*J96-(C96-D96)/PARÂMETROS!$C$11)/(K96+(C96-D96)/PARÂMETROS!$C$14),(K96+(C96-D96)/PARÂMETROS!$C$14)/(H96+2*I96+3*J96-(C96-D96)/PARÂMETROS!$C$11))","v":{"v":-2.500012934441914,"d":"-2.50E+00"}},{"$f":"IF(PARÂMETROS!$J$6<PARÂMETROS!$F$6,(H96+2*I96+3*J96-(C96-D96)/PARÂMETROS!$C$11)/(L96+2*M96+(C96-D96)/PARÂMETROS!$C$14),(L96+2*M96+(C96-D96)/PARÂMETROS!$C$14)/(H96+2*I96+3*J96-(C96-D96)/PARÂMETROS!$C$11))","v":{"v":-2.5000237132386967,"d":"-2.50E+00"}},{"$f":"IF(PARÂMETROS!$J$6<PARÂMETROS!$F$6,(H96+2*I96+3*J96-(C96-D96)/PARÂMETROS!$C$11)/(N96+2*O96+3*P96+(C96-D96)/PARÂMETROS!$C$14),(N96+2*O96+3*P96+(C96-D96)/PARÂMETROS!$C$14)/(H96+2*I96+3*J96-(C96-D96)/PARÂMETROS!$C$11))","v":{"v":-2.5000344921284254,"d":"-2.50E+00"}},{"$f":"Q96*PARÂMETROS!$C$11*PARÂMETROS!$D$11/PARÂMETROS!$C$14","v":{"v":-50.00008622974222,"d":"-50.00"}},{"$f":"R96*PARÂMETROS!$C$11*PARÂMETROS!$D$11/PARÂMETROS!$C$14","v":{"v":-50.000301804934324,"d":"-50.00"}},{"$f":"S96*PARÂMETROS!$C$11*PARÂMETROS!$D$11/PARÂMETROS!$C$14","v":{"v":-50.00051738198533,"d":"-50.00"}},{"$f":"T96*PARÂMETROS!$C$11*PARÂMETROS!$D$11/PARÂMETROS!$C$14","v":{"v":-50.000172459298575,"d":"-50.00"}},{"$f":"U96*PARÂMETROS!$C$11*PARÂMETROS!$D$11/PARÂMETROS!$C$14","v":{"v":-50.00038803486245,"d":"-50.00"}},{"$f":"V96*PARÂMETROS!$C$11*PARÂMETROS!$D$11/PARÂMETROS!$C$14","v":{"v":-50.000603612285246,"d":"-50.00"}},{"$f":"W96*PARÂMETROS!$C$11*PARÂMETROS!$D$11/PARÂMETROS!$C$14","v":{"v":-50.00025868883829,"d":"-50.00"}},{"$f":"X96*PARÂMETROS!$C$11*PARÂMETROS!$D$11/PARÂMETROS!$C$14","v":{"v":-50.00047426477393,"d":"-50.00"}},{"$f":"Y96*PARÂMETROS!$C$11*PARÂMETROS!$D$11/PARÂMETROS!$C$14","v":{"v":-50.00068984256851,"d":"-50.00"}},{"$f":"AND(B96+PARÂMETROS!$C$8>=PARÂMETROS!$C$5,B96+PARÂMETROS!$C$8<=PARÂMETROS!$D$5)","v":false},0,{"$f":"VLOOKUP('BANCO DE DADOS COMPLETA'!$N$8,'BANCO DE DADOS COMPLETA'!$A$7:$L$249,3)*-1","v":3},7,{"$f":"VLOOKUP('BANCO DE DADOS COMPLETA'!$N$10,'BANCO DE DADOS COMPLETA'!$A$7:$L$249,3)*-1","v":1},11,77,{"v":-50.00025868883829,"d":"-50.00"},"LIMITE","LIMITE","LIMITE","LIMITE","NADA","NADA",0]
[null,{"$f":"B96+PARÂMETROS!$C$8","v":{"v":19.26434384834066,"d":"19.26"}},{"v":5.440717188938569e-20,"d":"5.44E-20"},{"$f":"PARÂMETROS!$Q$4/C97","v":{"v":183799.29801039526,"d":"1.84E+05"}},{"$f":"PARÂMETROS!$F$6/($C97+PARÂMETROS!$F$6)","v":{"v":1,"d":"1.00E+00"}},{"$f":"$C97*PARÂMETROS!$F$6/($C97^2+$C97*PARÂMETROS!$F$6+PARÂMETROS!$F$6*PARÂMETROS!$G$6)","v":{"v":8.603123387226394e-13,"d":"8.60E-13"}},{"$f":"PARÂMETROS!$F$6*PARÂMETROS!$G$6/($C97^2+$C97*PARÂMETROS!$F$6+PARÂMETROS!$F$6*PARÂMETROS!$G$6)","v":{"v":0.9999999999991397,"d":"1.00E+00"}},{"$f":"(PARÂMETROS!$F$6*$C97^2)/($C97^3+PARÂMETROS!$F$6*$C97^2+PARÂMETROS!$F$6*PARÂMETROS!$G$6*$C97+PARÂMETROS!$F$6*PARÂMETROS!$G$6*PARÂMETROS!$H$6)","v":{"v":1.0478816865616005E-19,"d":"1.05E-19"}},{"$f":"(PARÂMETROS!$F$6*PARÂMETROS!$G$6*$C97)/($C97^3+PARÂMETROS!$F$6*$C97^2+PARÂMETROS!$F$6*PARÂMETROS!$G$6*$C97+PARÂMETROS!$F$6*PARÂMETROS!$G$6*PARÂMETROS!$H$6)","v":{"v":1.2180247096264549E-7,"d":"1.22E-07"}},{"$f":"(PARÂMETROS!$F$6*PARÂMETROS!$G$6*PARÂMETROS!$H$6)/($C97^3+PARÂMETROS!$F$6*$C97^2+PARÂMETROS!$F$6*PARÂMETROS!$G$6*$C97+PARÂMETROS!$F$6*PARÂMETROS!$G$6*PARÂMETROS!$H$6)","v":{"v":0.999999878197529,"d":"1.00E+00"}},{"$f":"$C97/($C97+PARÂMETROS!$J$6)","v":{"v":5.4407142287998263E-7,"d":"5.44E-07"}},{"$f":"$C97*PARÂMETROS!$J$6/($C97^2+$C97*PARÂMETROS!$J$6+PARÂMETROS!$J$6*PARÂMETROS!$K$6)","v":{"v":0.9999994559285771,"d":"1.00E+00"}},{"$f":"$C97^2/($C97^2+$C97*PARÂMETROS!$J$6+PARÂMETROS!$J$6*PARÂMETROS!$K$6)","v":{"v":5.4407142287998253E-7,"d":"5.44E-07"}},{"$f":"(PARÂMETROS!$K$6*PARÂMETROS!$J$6*$C97)/($C97^3+PARÂMETROS!$J$6*$C97^2+PARÂMETROS!$J$6*PARÂMETROS!$K$6*$C97+PARÂMETROS!$J$6*PARÂMETROS!$K$6*PARÂMETROS!$L$6)","v":{"v":0,"d":"0.00E+00"}},{"$f":"(PARÂMETROS!$J$6*$C97^2)/($C97^3+PARÂMETROS!$J$6*$C97^2+PARÂMETROS!$J$6*PARÂMETROS!$K$6*$C97+PARÂMETROS!$J$6*PARÂMETROS!$K$6*PARÂMETROS!$L$6)","v":{"v":0.9999994559285771,"d":"1.00E+00"}},{"$f":"($C97^3)/($C97^3+PARÂMETROS!$J$6*$C97^2+PARÂMETROS!$J$6*PARÂMETROS!$K$6*$C97+PARÂMETROS!$J$6*PARÂMETROS!$K$6*PARÂMETROS!$L$6)","v":{"v":5.4407142287998263E-7,"d":"5.44E-07"}},{"$f":"IF(PARÂMETROS!$J$6<PARÂMETROS!$F$6,(E97-(C97-D97)/PARÂMETROS!$C$11)/(K97+(C97-D97)/PARÂMETROS!$C$14),(K97+(C97-D97)/PARÂMETROS!$C$14)/(E97-(C97-D97)/PARÂMETROS!$C$11))","v":{"v":-2.5000027203622945,"d":"-2.50E+00"}},{"$f":"IF(PARÂMETROS!$J$6<PARÂMETROS!$F$6,(E97-(C97-D97)/PARÂMETROS!$C$11)/(L97+2*M97+(C97-D97)/PARÂMETROS!$C$14),(L97+2*M97+(C97-D97)/PARÂMETROS!$C$14)/(E97-(C97-D97)/PARÂMETROS!$C$11))","v":{"v":-2.500009521284682,"d":"-2.50E+00"}},{"$f":"IF(PARÂMETROS!$J$6<PARÂMETROS!$F$6, (E97-(C97-D97)/PARÂMETROS!$C$11)/(N97+2*O97+3*P97+(C97-D97)/PARÂMETROS!$C$14),(N97+2*O97+3*P97+(C97-D97)/PARÂMETROS!$C$14)/ (E97-(C97-D97)/PARÂMETROS!$C$11))","v":{"v":-2.500016322244072,"d":"-2.50E+00"}},{"$f":"IF(PARÂMETROS!$J$6<PARÂMETROS!$F$6,(F97+2*G97-(C97-D97)/PARÂMETROS!$C$11)/(K97+(C97-D97)/PARÂMETROS!$C$14),(K97+(C97-D97)/PARÂMETROS!$C$14)/(F97+2*G97-(C97-D97)/PARÂMETROS!$C$11))","v":{"v":-2.500005440720889,"d":"-2.50E+00"}},{"$f":"IF(PARÂMETROS!$J$6<PARÂMETROS!$F$6,(F97+2*G97-(C97-D97)/PARÂMETROS!$C$11)/(L97+2*M97+(C97-D97)/PARÂMETROS!$C$14),(L97+2*M97+(C97-D97)/PARÂMETROS!$C$14)/(F97+2*G97-(C97-D97)/PARÂMETROS!$C$11))","v":{"v":-2.500012241650677,"d":"-2.50E+00"}},{"$f":"IF(PARÂMETROS!$J$6<PARÂMETROS!$F$6,(F97+2*G97-(C97-D97)/PARÂMETROS!$C$11)/(N97+2*O97+3*P97+(C97-D97)/PARÂMETROS!$C$14),(N97+2*O97+3*P97+(C97-D97)/PARÂMETROS!$C$14)/(F97+2*G97-(C97-D97)/PARÂMETROS!$C$11))","v":{"v":-2.500019042617467,"d":"-2.50E+00"}},{"$f":"IF(PARÂMETROS!$J$6<PARÂMETROS!$F$6,(H97+2*I97+3*J97-(C97-D97)/PARÂMETROS!$C$11)/(K97+(C97-D97)/PARÂMETROS!$C$14),(K97+(C97-D97)/PARÂMETROS!$C$14)/(H97+2*I97+3*J97-(C97-D97)/PARÂMETROS!$C$11))","v":{"v":-2.5000081610791525,"d":"-2.50E+00"}},{"$f":"IF(PARÂMETROS!$J$6<PARÂMETROS!$F$6,(H97+2*I97+3*J97-(C97-D97)/PARÂMETROS!$C$11)/(L97+2*M97+(C97-D97)/PARÂMETROS!$C$14),(L97+2*M97+(C97-D97)/PARÂMETROS!$C$14)/(H97+2*I97+3*J97-(C97-D97)/PARÂMETROS!$C$11))","v":{"v":-2.5000149620163405,"d":"-2.50E+00"}},{"$f":"IF(PARÂMETROS!$J$6<PARÂMETROS!$F$6,(H97+2*I97+3*J97-(C97-D97)/PARÂMETROS!$C$11)/(N97+2*O97+3*P97+(C97-D97)/PARÂMETROS!$C$14),(N97+2*O97+3*P97+(C97-D97)/PARÂMETROS!$C$14)/(H97+2*I97+3*J97-(C97-D97)/PARÂMETROS!$C$11))","v":{"v":-2.500021762990531,"d":"-2.50E+00"}},{"$f":"Q97*PARÂMETROS!$C$11*PARÂMETROS!$D$11/PARÂMETROS!$C$14","v":{"v":-50.0000544072459,"d":"-50.00"}},{"$f":"R97*PARÂMETROS!$C$11*PARÂMETROS!$D$11/PARÂMETROS!$C$14","v":{"v":-50.000190425693646,"d":"-50.00"}},{"$f":"S97*PARÂMETROS!$C$11*PARÂMETROS!$D$11/PARÂMETROS!$C$14","v":{"v":-50.00032644488144,"d":"-50.00"}},{"$f":"T97*PARÂMETROS!$C$11*PARÂMETROS!$D$11/PARÂMETROS!$C$14","v":{"v":-50.00010881441778,"d":"-50.00"}},{"$f":"U97*PARÂMETROS!$C$11*PARÂMETROS!$D$11/PARÂMETROS!$C$14","v":{"v":-50.00024483301354,"d":"-50.00"}},{"$f":"V97*PARÂMETROS!$C$11*PARÂMETROS!$D$11/PARÂMETROS!$C$14","v":{"v":-50.00038085234934,"d":"-50.00"}},{"$f":"W97*PARÂMETROS!$C$11*PARÂMETROS!$D$11/PARÂMETROS!$C$14","v":{"v":-50.00016322158305,"d":"-50.00"}},{"$f":"X97*PARÂMETROS!$C$11*PARÂMETROS!$D$11/PARÂMETROS!$C$14","v":{"v":-50.00029924032682,"d":"-50.00"}},{"$f":"Y97*PARÂMETROS!$C$11*PARÂMETROS!$D$11/PARÂMETROS!$C$14","v":{"v":-50.00043525981063,"d":"-50.00"}},{"$f":"AND(B97+PARÂMETROS!$C$8>=PARÂMETROS!$C$5,B97+PARÂMETROS!$C$8<=PARÂMETROS!$D$5)","v":false},0,{"$f":"VLOOKUP('BANCO DE DADOS COMPLETA'!$N$8,'BANCO DE DADOS COMPLETA'!$A$7:$L$249,3)*-1","v":3},7,{"$f":"VLOOKUP('BANCO DE DADOS COMPLETA'!$N$10,'BANCO DE DADOS COMPLETA'!$A$7:$L$249,3)*-1","v":1},11,77,{"v":-50.00016322158305,"d":"-50.00"},"LIMITE","LIMITE","LIMITE","LIMITE","NADA","NADA",0]
[null,{"$f":"B97+PARÂMETROS!$C$8","v":{"v":19.464343848340658,"d":"19.46"}},{"v":3.4328604696004277E-20,"d":"3.43E-20"},{"$f":"PARÂMETROS!$Q$4/C98","v":{"v":291302.2561958064,"d":"2.91E+05"}},{"$f":"PARÂMETROS!$F$6/($C98+PARÂMETROS!$F$6)","v":{"v":1,"d":"1.00E+00"}},{"$f":"$C98*PARÂMETROS!$F$6/($C98^2+$C98*PARÂMETROS!$F$6+PARÂMETROS!$F$6*PARÂMETROS!$G$6)","v":{"v":5.428203886641545e-13,"d":"5.43E-13"}},{"$f":"PARÂMETROS!$F$6*PARÂMETROS!$G$6/($C98^2+$C98*PARÂMETROS!$F$6+PARÂMETROS!$F$6*PARÂMETROS!$G$6)","v":{"v":0.9999999999994571,"d":"1.00E+00"}},{"$f":"(PARÂMETROS!$F$6*$C98^2)/($C98^3+PARÂMETROS!$F$6*$C98^2+PARÂMETROS!$F$6*PARÂMETROS!$G$6*$C98+PARÂMETROS!$F$6*PARÂMETROS!$G$6*PARÂMETROS!$H$6)","v":{"v":4.171692320637523e-20,"d":"4.17E-20"}},{"$f":"(PARÂMETROS!$F$6*PARÂMETROS!$G$6*$C98)/($C98^3+PARÂMETROS!$F$6*$C98^2+PARÂMETROS!$F$6*PARÂMETROS!$G$6*$C98+PARÂMETROS!$F$6*PARÂMETROS!$G$6*PARÂMETROS!$H$6)","v":{"v":7.68521670842453e-08,"d":"7.69E-08"}},{"$f":"(PARÂMETROS!$F$6*PARÂMETROS!$G$6*PARÂMETROS!$H$6)/($C98^3+PARÂMETROS!$F$6*$C98^2+PARÂMETROS!$F$6*PARÂMETROS!$G$6*$C98+PARÂMETROS!$F$6*PARÂMETROS!$G$6*PARÂMETROS!$H$6)","v":{"v":0.9999999231478329,"d":"1.00E+00"}},{"$f":"$C98/($C98+PARÂMETROS!$J$6)","v":{"v":3.4328592911477318E-7,"d":"3.43E-07"}},{"$f":"$C98*PARÂMETROS!$J$6/($C98^2+$C98*PARÂMETROS!$J$6+PARÂMETROS!$J$6*PARÂMETROS!$K$6)","v":{"v":0.9999996567140709,"d":"1.00E+00"}},{"$f":"$C98^2/($C98^2+$C98*PARÂMETROS!$J$6+PARÂMETROS!$J$6*PARÂMETROS!$K$6)","v":{"v":3.4328592911477318E-7,"d":"3.43E-07"}},{"$f":"(PARÂMETROS!$K$6*PARÂMETROS!$J$6*$C98)/($C98^3+PARÂMETROS!$J$6*$C98^2+PARÂMETROS!$J$6*PARÂMETROS!$K$6*$C98+PARÂMETROS!$J$6*PARÂMETROS!$K$6*PARÂMETROS!$L$6)","v":{"v":0,"d":"0.00E+00"}},{"$f":"(PARÂMETROS!$J$6*$C98^2)/($C98^3+PARÂMETROS!$J$6*$C98^2+PARÂMETROS!$J$6*PARÂMETROS!$K$6*$C98+PARÂMETROS!$J$6*PARÂMETROS!$K$6*PARÂMETROS!$L$6)","v":{"v":0.9999996567140709,"d":"1.00E+00"}},{"$f":"($C98^3)/($C98^3+PARÂMETROS!$J$6*$C98^2+PARÂMETROS!$J$6*PARÂMETROS!$K$6*$C98+PARÂMETROS!$J$6*PARÂMETROS!$K$6*PARÂMETROS!$L$6)","v":{"v":3.4328592911477323E-7,"d":"3.43E-07"}},{"$f":"IF(PARÂMETROS!$J$6<PARÂMETROS!$F$6,(E98-(C98-D98)/PARÂMETROS!$C$11)/(K98+(C98-D98)/PARÂMETROS!$C$14),(K98+(C98-D98)/PARÂMETROS!$C$14)/(E98-(C98-D98)/PARÂMETROS!$C$11))","v":{"v":-2.500001716431708,"d":"-2.50E+00"}},{"$f":"IF(PARÂMETROS!$J$6<PARÂMETROS!$F$6,(E98-(C98-D98)/PARÂMETROS!$C$11)/(L98+2*M98+(C98-D98)/PARÂMETROS!$C$14),(L98+2*M98+(C98-D98)/PARÂMETROS!$C$14)/(E98-(C98-D98)/PARÂMETROS!$C$11))","v":{"v":-2.500006007517606,"d":"-2.50E+00"}},{"$f":"IF(PARÂMETROS!$J$6<PARÂMETROS!$F$6, (E98-(C98-D98)/PARÂMETROS!$C$11)/(N98+2*O98+3*P98+(C98-D98)/PARÂMETROS!$C$14),(N98+2*O98+3*P98+(C98-D98)/PARÂMETROS!$C$14)/ (E98-(C98-D98)/PARÂMETROS!$C$11))","v":{"v":-2.5000102986182355,"d":"-2.50E+00"}},{"$f":"IF(PARÂMETROS!$J$6<PARÂMETROS!$F$6,(F98+2*G98-(C98-D98)/PARÂMETROS!$C$11)/(K98+(C98-D98)/PARÂMETROS!$C$14),(K98+(C98-D98)/PARÂMETROS!$C$14)/(F98+2*G98-(C98-D98)/PARÂMETROS!$C$11))","v":{"v":-2.5000034328619423,"d":"-2.50E+00"}},{"$f":"IF(PARÂMETROS!$J$6<PARÂMETROS!$F$6,(F98+2*G98-(C98-D98)/PARÂMETROS!$C$11)/(L98+2*M98+(C98-D98)/PARÂMETROS!$C$14),(L98+2*M98+(C98-D98)/PARÂMETROS!$C$14)/(F98+2*G98-(C98-D98)/PARÂMETROS!$C$11))","v":{"v":-2.500007723950787,"d":"-2.50E+00"}},{"$f":"IF(PARÂMETROS!$J$6<PARÂMETROS!$F$6,(F98+2*G98-(C98-D98)/PARÂMETROS!$C$11)/(N98+2*O98+3*P98+(C98-D98)/PARÂMETROS!$C$14),(N98+2*O98+3*P98+(C98-D98)/PARÂMETROS!$C$14)/(F98+2*G98-(C98-D98)/PARÂMETROS!$C$11))","v":{"v":-2.5000120150543625,"d":"-2.50E+00"}},{"$f":"IF(PARÂMETROS!$J$6<PARÂMETROS!$F$6,(H98+2*I98+3*J98-(C98-D98)/PARÂMETROS!$C$11)/(K98+(C98-D98)/PARÂMETROS!$C$14),(K98+(C98-D98)/PARÂMETROS!$C$14)/(H98+2*I98+3*J98-(C98-D98)/PARÂMETROS!$C$11))","v":{"v":-2.500005149292045,"d":"-2.50E+00"}},{"$f":"IF(PARÂMETROS!$J$6<PARÂMETROS!$F$6,(H98+2*I98+3*J98-(C98-D98)/PARÂMETROS!$C$11)/(L98+2*M98+(C98-D98)/PARÂMETROS!$C$14),(L98+2*M98+(C98-D98)/PARÂMETROS!$C$14)/(H98+2*I98+3*J98-(C98-D98)/PARÂMETROS!$C$11))","v":{"v":-2.500009440383836,"d":"-2.50E+00"}},{"$f":"IF(PARÂMETROS!$J$6<PARÂMETROS!$F$6,(H98+2*I98+3*J98-(C98-D98)/PARÂMETROS!$C$11)/(N98+2*O98+3*P98+(C98-D98)/PARÂMETROS!$C$14),(N98+2*O98+3*P98+(C98-D98)/PARÂMETROS!$C$14)/(H98+2*I98+3*J98-(C98-D98)/PARÂMETROS!$C$11))","v":{"v":-2.5000137314903577,"d":"-2.50E+00"}},{"$f":"Q98*PARÂMETROS!$C$11*PARÂMETROS!$D$11/PARÂMETROS!$C$14","v":{"v":-50.00003432863416,"d":"-50.00"}},{"$f":"R98*PARÂMETROS!$C$11*PARÂMETROS!$D$11/PARÂMETROS!$C$14","v":{"v":-50.000120150352124,"d":"-50.00"}},{"$f":"S98*PARÂMETROS!$C$11*PARÂMETROS!$D$11/PARÂMETROS!$C$14","v":{"v":-50.00020597236471,"d":"-50.00"}},{"$f":"T98*PARÂMETROS!$C$11*PARÂMETROS!$D$11/PARÂMETROS!$C$14","v":{"v":-50.00006865723885,"d":"-50.00"}},{"$f":"U98*PARÂMETROS!$C$11*PARÂMETROS!$D$11/PARÂMETROS!$C$14","v":{"v":-50.00015447901575,"d":"-50.00"}},{"$f":"V98*PARÂMETROS!$C$11*PARÂMETROS!$D$11/PARÂMETROS!$C$14","v":{"v":-50.00024030108725,"d":"-50.00"}},{"$f":"W98*PARÂMETROS!$C$11*PARÂMETROS!$D$11/PARÂMETROS!$C$14","v":{"v":-50.00010298584091,"d":"-50.00"}},{"$f":"X98*PARÂMETROS!$C$11*PARÂMETROS!$D$11/PARÂMETROS!$C$14","v":{"v":-50.00018880767673,"d":"-50.00"}},{"$f":"Y98*PARÂMETROS!$C$11*PARÂMETROS!$D$11/PARÂMETROS!$C$14","v":{"v":-50.00027462980715,"d":"-50.00"}},{"$f":"AND(B98+PARÂMETROS!$C$8>=PARÂMETROS!$C$5,B98+PARÂMETROS!$C$8<=PARÂMETROS!$D$5)","v":false},0,{"$f":"VLOOKUP('BANCO DE DADOS COMPLETA'!$N$8,'BANCO DE DADOS COMPLETA'!$A$7:$L$249,3)*-1","v":3},7,{"$f":"VLOOKUP('BANCO DE DADOS COMPLETA'!$N$10,'BANCO DE DADOS COMPLETA'!$A$7:$L$249,3)*-1","v":1},11,77,{"v":-50.00010298584091,"d":"-50.00"},"LIMITE","LIMITE","LIMITE","LIMITE","NADA","NADA",0]
[null,{"$f":"B98+PARÂMETROS!$C$8","v":{"v":19.664343848340657,"d":"19.66"}},{"v":2.1659885258701037E-20,"d":"2.17E-20"},{"$f":"PARÂMETROS!$Q$4/C99","v":{"v":461682.9627932992,"d":"4.62E+05"}},{"$f":"PARÂMETROS!$F$6/($C99+PARÂMETROS!$F$6)","v":{"v":1,"d":"1.00E+00"}},{"$f":"$C99*PARÂMETROS!$F$6/($C99^2+$C99*PARÂMETROS!$F$6+PARÂMETROS!$F$6*PARÂMETROS!$G$6)","v":{"v":3.424965109613081e-13,"d":"3.42E-13"}},{"$f":"PARÂMETROS!$F$6*PARÂMETROS!$G$6/($C99^2+$C99*PARÂMETROS!$F$6+PARÂMETROS!$F$6*PARÂMETROS!$G$6)","v":{"v":0.9999999999996575,"d":"1.00E+00"}},{"$f":"(PARÂMETROS!$F$6*$C99^2)/($C99^3+PARÂMETROS!$F$6*$C99^2+PARÂMETROS!$F$6*PARÂMETROS!$G$6*$C99+PARÂMETROS!$F$6*PARÂMETROS!$G$6*PARÂMETROS!$H$6)","v":{"v":1.660780673291349e-20,"d":"1.66E-20"}},{"$f":"(PARÂMETROS!$F$6*PARÂMETROS!$G$6*$C99)/($C99^3+PARÂMETROS!$F$6*$C99^2+PARÂMETROS!$F$6*PARÂMETROS!$G$6*$C99+PARÂMETROS!$F$6*PARÂMETROS!$G$6*PARÂMETROS!$H$6)","v":{"v":4.8490440636295962E-8,"d":"4.85E-08"}},{"$f":"(PARÂMETROS!$F$6*PARÂMETROS!$G$6*PARÂMETROS!$H$6)/($C99^3+PARÂMETROS!$F$6*$C99^2+PARÂMETROS!$F$6*PARÂMETROS!$G$6*$C99+PARÂMETROS!$F$6*PARÂMETROS!$G$6*PARÂMETROS!$H$6)","v":{"v":0.9999999515095593,"d":"1.00E+00"}},{"$f":"$C99/($C99+PARÂMETROS!$J$6)","v":{"v":2.1659880567195759E-7,"d":"2.17E-07"}},{"$f":"$C99*PARÂMETROS!$J$6/($C99^2+$C99*PARÂMETROS!$J$6+PARÂMETROS!$J$6*PARÂMETROS!$K$6)","v":{"v":0.9999997834011943,"d":"1.00E+00"}},{"$f":"$C99^2/($C99^2+$C99*PARÂMETROS!$J$6+PARÂMETROS!$J$6*PARÂMETROS!$K$6)","v":{"v":2.1659880567195756E-7,"d":"2.17E-07"}},{"$f":"(PARÂMETROS!$K$6*PARÂMETROS!$J$6*$C99)/($C99^3+PARÂMETROS!$J$6*$C99^2+PARÂMETROS!$J$6*PARÂMETROS!$K$6*$C99+PARÂMETROS!$J$6*PARÂMETROS!$K$6*PARÂMETROS!$L$6)","v":{"v":0,"d":"0.00E+00"}},{"$f":"(PARÂMETROS!$J$6*$C99^2)/($C99^3+PARÂMETROS!$J$6*$C99^2+PARÂMETROS!$J$6*PARÂMETROS!$K$6*$C99+PARÂMETROS!$J$6*PARÂMETROS!$K$6*PARÂMETROS!$L$6)","v":{"v":0.9999997834011943,"d":"1.00E+00"}},{"$f":"($C99^3)/($C99^3+PARÂMETROS!$J$6*$C99^2+PARÂMETROS!$J$6*PARÂMETROS!$K$6*$C99+PARÂMETROS!$J$6*PARÂMETROS!$K$6*PARÂMETROS!$L$6)","v":{"v":2.1659880567195754E-7,"d":"2.17E-07"}},{"$f":"IF(PARÂMETROS!$J$6<PARÂMETROS!$F$6,(E99-(C99-D99)/PARÂMETROS!$C$11)/(K99+(C99-D99)/PARÂMETROS!$C$14),(K99+(C99-D99)/PARÂMETROS!$C$14)/(E99-(C99-D99)/PARÂMETROS!$C$11))","v":{"v":-2.5000010829948494,"d":"-2.50E+00"}},{"$f":"IF(PARÂMETROS!$J$6<PARÂMETROS!$F$6,(E99-(C99-D99)/PARÂMETROS!$C$11)/(L99+2*M99+(C99-D99)/PARÂMETROS!$C$14),(L99+2*M99+(C99-D99)/PARÂMETROS!$C$14)/(E99-(C99-D99)/PARÂMETROS!$C$11))","v":{"v":-2.500003790484612,"d":"-2.50E+00"}},{"$f":"IF(PARÂMETROS!$J$6<PARÂMETROS!$F$6, (E99-(C99-D99)/PARÂMETROS!$C$11)/(N99+2*O99+3*P99+(C99-D99)/PARÂMETROS!$C$14),(N99+2*O99+3*P99+(C99-D99)/PARÂMETROS!$C$14)/ (E99-(C99-D99)/PARÂMETROS!$C$11))","v":{"v":-2.5000064979802388,"d":"-2.50E+00"}},{"$f":"IF(PARÂMETROS!$J$6<PARÂMETROS!$F$6,(F99+2*G99-(C99-D99)/PARÂMETROS!$C$11)/(K99+(C99-D99)/PARÂMETROS!$C$14),(K99+(C99-D99)/PARÂMETROS!$C$14)/(F99+2*G99-(C99-D99)/PARÂMETROS!$C$11))","v":{"v":-2.5000021659891125,"d":"-2.50E+00"}},{"$f":"IF(PARÂMETROS!$J$6<PARÂMETROS!$F$6,(F99+2*G99-(C99-D99)/PARÂMETROS!$C$11)/(L99+2*M99+(C99-D99)/PARÂMETROS!$C$14),(L99+2*M99+(C99-D99)/PARÂMETROS!$C$14)/(F99+2*G99-(C99-D99)/PARÂMETROS!$C$11))","v":{"v":-2.500004873480048,"d":"-2.50E+00"}},{"$f":"IF(PARÂMETROS!$J$6<PARÂMETROS!$F$6,(F99+2*G99-(C99-D99)/PARÂMETROS!$C$11)/(N99+2*O99+3*P99+(C99-D99)/PARÂMETROS!$C$14),(N99+2*O99+3*P99+(C99-D99)/PARÂMETROS!$C$14)/(F99+2*G99-(C99-D99)/PARÂMETROS!$C$11))","v":{"v":-2.5000075809768476,"d":"-2.50E+00"}},{"$f":"IF(PARÂMETROS!$J$6<PARÂMETROS!$F$6,(H99+2*I99+3*J99-(C99-D99)/PARÂMETROS!$C$11)/(K99+(C99-D99)/PARÂMETROS!$C$14),(K99+(C99-D99)/PARÂMETROS!$C$14)/(H99+2*I99+3*J99-(C99-D99)/PARÂMETROS!$C$11))","v":{"v":-2.500003248983323,"d":"-2.50E+00"}},{"$f":"IF(PARÂMETROS!$J$6<PARÂMETROS!$F$6,(H99+2*I99+3*J99-(C99-D99)/PARÂMETROS!$C$11)/(L99+2*M99+(C99-D99)/PARÂMETROS!$C$14),(L99+2*M99+(C99-D99)/PARÂMETROS!$C$14)/(H99+2*I99+3*J99-(C99-D99)/PARÂMETROS!$C$11))","v":{"v":-2.500005956475431,"d":"-2.50E+00"}},{"$f":"IF(PARÂMETROS!$J$6<PARÂMETROS!$F$6,(H99+2*I99+3*J99-(C99-D99)/PARÂMETROS!$C$11)/(N99+2*O99+3*P99+(C99-D99)/PARÂMETROS!$C$14),(N99+2*O99+3*P99+(C99-D99)/PARÂMETROS!$C$14)/(H99+2*I99+3*J99-(C99-D99)/PARÂMETROS!$C$11))","v":{"v":-2.5000086639734036,"d":"-2.50E+00"}},{"$f":"Q99*PARÂMETROS!$C$11*PARÂMETROS!$D$11/PARÂMETROS!$C$14","v":{"v":-50.00002165989699,"d":"-50.00"}},{"$f":"R99*PARÂMETROS!$C$11*PARÂMETROS!$D$11/PARÂMETROS!$C$14","v":{"v":-50.00007580969225,"d":"-50.00"}},{"$f":"S99*PARÂMETROS!$C$11*PARÂMETROS!$D$11/PARÂMETROS!$C$14","v":{"v":-50.00012995960478,"d":"-50.00"}},{"$f":"T99*PARÂMETROS!$C$11*PARÂMETROS!$D$11/PARÂMETROS!$C$14","v":{"v":-50.00004331978225,"d":"-50.00"}},{"$f":"U99*PARÂMETROS!$C$11*PARÂMETROS!$D$11/PARÂMETROS!$C$14","v":{"v":-50.00009746960096,"d":"-50.00"}},{"$f":"V99*PARÂMETROS!$C$11*PARÂMETROS!$D$11/PARÂMETROS!$C$14","v":{"v":-50.00015161953696,"d":"-50.00"}},{"$f":"W99*PARÂMETROS!$C$11*PARÂMETROS!$D$11/PARÂMETROS!$C$14","v":{"v":-50.00006497966646,"d":"-50.00"}},{"$f":"X99*PARÂMETROS!$C$11*PARÂMETROS!$D$11/PARÂMETROS!$C$14","v":{"v":-50.000119129508626,"d":"-50.00"}},{"$f":"Y99*PARÂMETROS!$C$11*PARÂMETROS!$D$11/PARÂMETROS!$C$14","v":{"v":-50.00017327946807,"d":"-50.00"}},{"$f":"AND(B99+PARÂMETROS!$C$8>=PARÂMETROS!$C$5,B99+PARÂMETROS!$C$8<=PARÂMETROS!$D$5)","v":false},0,{"$f":"VLOOKUP('BANCO DE DADOS COMPLETA'!$N$8,'BANCO DE DADOS COMPLETA'!$A$7:$L$249,3)*-1","v":3},7,{"$f":"VLOOKUP('BANCO DE DADOS COMPLETA'!$N$10,'BANCO DE DADOS COMPLETA'!$A$7:$L$249,3)*-1","v":1},11,77,{"v":-50.00006497966646,"d":"-50.00"},"LIMITE","LIMITE","LIMITE","LIMITE","NADA","NADA",0]
[null,{"$f":"B99+PARÂMETROS!$C$8","v":{"v":19.864343848340656,"d":"19.86"}},{"v":1.3666463684575716E-20,"d":"1.37E-20"},{"$f":"PARÂMETROS!$Q$4/C100","v":{"v":731718.184806376,"d":"7.32E+05"}},{"$f":"PARÂMETROS!$F$6/($C100+PARÂMETROS!$F$6)","v":{"v":1,"d":"1.00E+00"}},{"$f":"$C100*PARÂMETROS!$F$6/($C100^2+$C100*PARÂMETROS!$F$6+PARÂMETROS!$F$6*PARÂMETROS!$G$6)","v":{"v":2.161006890499061E-13,"d":"2.16E-13"}},{"$f":"PARÂMETROS!$F$6*PARÂMETROS!$G$6/($C100^2+$C100*PARÂMETROS!$F$6+PARÂMETROS!$F$6*PARÂMETROS!$G$6)","v":{"v":0.999999999999784,"d":"1.00E+00"}},{"$f":"(PARÂMETROS!$F$6*$C100^2)/($C100^3+PARÂMETROS!$F$6*$C100^2+PARÂMETROS!$F$6*PARÂMETROS!$G$6*$C100+PARÂMETROS!$F$6*PARÂMETROS!$G$6*PARÂMETROS!$H$6)","v":{"v":6.611687065855947e-21,"d":"6.61E-21"}},{"$f":"(PARÂMETROS!$F$6*PARÂMETROS!$G$6*$C100)/($C100^3+PARÂMETROS!$F$6*$C100^2+PARÂMETROS!$F$6*PARÂMETROS!$G$6*$C100+PARÂMETROS!$F$6*PARÂMETROS!$G$6*PARÂMETROS!$H$6)","v":{"v":3.0595400204057753E-8,"d":"3.06E-08"}},{"$f":"(PARÂMETROS!$F$6*PARÂMETROS!$G$6*PARÂMETROS!$H$6)/($C100^3+PARÂMETROS!$F$6*$C100^2+PARÂMETROS!$F$6*PARÂMETROS!$G$6*$C100+PARÂMETROS!$F$6*PARÂMETROS!$G$6*PARÂMETROS!$H$6)","v":{"v":0.9999999694045999,"d":"1.00E+00"}},{"$f":"$C100/($C100+PARÂMETROS!$J$6)","v":{"v":1.3666461816853674E-7,"d":"1.37E-07"}},{"$f":"$C100*PARÂMETROS!$J$6/($C100^2+$C100*PARÂMETROS!$J$6+PARÂMETROS!$J$6*PARÂMETROS!$K$6)","v":{"v":0.9999998633353818,"d":"1.00E+00"}},{"$f":"$C100^2/($C100^2+$C100*PARÂMETROS!$J$6+PARÂMETROS!$J$6*PARÂMETROS!$K$6)","v":{"v":1.3666461816853672E-7,"d":"1.37E-07"}},{"$f":"(PARÂMETROS!$K$6*PARÂMETROS!$J$6*$C100)/($C100^3+PARÂMETROS!$J$6*$C100^2+PARÂMETROS!$J$6*PARÂMETROS!$K$6*$C100+PARÂMETROS!$J$6*PARÂMETROS!$K$6*PARÂMETROS!$L$6)","v":{"v":0,"d":"0.00E+00"}},{"$f":"(PARÂMETROS!$J$6*$C100^2)/($C100^3+PARÂMETROS!$J$6*$C100^2+PARÂMETROS!$J$6*PARÂMETROS!$K$6*$C100+PARÂMETROS!$J$6*PARÂMETROS!$K$6*PARÂMETROS!$L$6)","v":{"v":0.9999998633353818,"d":"1.00E+00"}},{"$f":"($C100^3)/($C100^3+PARÂMETROS!$J$6*$C100^2+PARÂMETROS!$J$6*PARÂMETROS!$K$6*$C100+PARÂMETROS!$J$6*PARÂMETROS!$K$6*PARÂMETROS!$L$6)","v":{"v":1.3666461816853674E-7,"d":"1.37E-07"}},{"$f":"IF(PARÂMETROS!$J$6<PARÂMETROS!$F$6,(E100-(C100-D100)/PARÂMETROS!$C$11)/(K100+(C100-D100)/PARÂMETROS!$C$14),(K100+(C100-D100)/PARÂMETROS!$C$14)/(E100-(C100-D100)/PARÂMETROS!$C$11))","v":{"v":-2.5000006833234174,"d":"-2.50E+00"}},{"$f":"IF(PARÂMETROS!$J$6<PARÂMETROS!$F$6,(E100-(C100-D100)/PARÂMETROS!$C$11)/(L100+2*M100+(C100-D100)/PARÂMETROS!$C$14),(L100+2*M100+(C100-D100)/PARÂMETROS!$C$14)/(E100-(C100-D100)/PARÂMETROS!$C$11))","v":{"v":-2.5000023916330125,"d":"-2.50E+00"}},{"$f":"IF(PARÂMETROS!$J$6<PARÂMETROS!$F$6, (E100-(C100-D100)/PARÂMETROS!$C$11)/(N100+2*O100+3*P100+(C100-D100)/PARÂMETROS!$C$14),(N100+2*O100+3*P100+(C100-D100)/PARÂMETROS!$C$14)/ (E100-(C100-D100)/PARÂMETROS!$C$11))","v":{"v":-2.5000040999449418,"d":"-2.50E+00"}},{"$f":"IF(PARÂMETROS!$J$6<PARÂMETROS!$F$6,(F100+2*G100-(C100-D100)/PARÂMETROS!$C$11)/(K100+(C100-D100)/PARÂMETROS!$C$14),(K100+(C100-D100)/PARÂMETROS!$C$14)/(F100+2*G100-(C100-D100)/PARÂMETROS!$C$11))","v":{"v":-2.5000013666466017,"d":"-2.50E+00"}},{"$f":"IF(PARÂMETROS!$J$6<PARÂMETROS!$F$6,(F100+2*G100-(C100-D100)/PARÂMETROS!$C$11)/(L100+2*M100+(C100-D100)/PARÂMETROS!$C$14),(L100+2*M100+(C100-D100)/PARÂMETROS!$C$14)/(F100+2*G100-(C100-D100)/PARÂMETROS!$C$11))","v":{"v":-2.5000030749566635,"d":"-2.50E+00"}},{"$f":"IF(PARÂMETROS!$J$6<PARÂMETROS!$F$6,(F100+2*G100-(C100-D100)/PARÂMETROS!$C$11)/(N100+2*O100+3*P100+(C100-D100)/PARÂMETROS!$C$14),(N100+2*O100+3*P100+(C100-D100)/PARÂMETROS!$C$14)/(F100+2*G100-(C100-D100)/PARÂMETROS!$C$11))","v":{"v":-2.50000478326906,"d":"-2.50E+00"}},{"$f":"IF(PARÂMETROS!$J$6<PARÂMETROS!$F$6,(H100+2*I100+3*J100-(C100-D100)/PARÂMETROS!$C$11)/(K100+(C100-D100)/PARÂMETROS!$C$14),(K100+(C100-D100)/PARÂMETROS!$C$14)/(H100+2*I100+3*J100-(C100-D100)/PARÂMETROS!$C$11))","v":{"v":-2.500002049969765,"d":"-2.50E+00"}},{"$f":"IF(PARÂMETROS!$J$6<PARÂMETROS!$F$6,(H100+2*I100+3*J100-(C100-D100)/PARÂMETROS!$C$11)/(L100+2*M100+(C100-D100)/PARÂMETROS!$C$14),(L100+2*M100+(C100-D100)/PARÂMETROS!$C$14)/(H100+2*I100+3*J100-(C100-D100)/PARÂMETROS!$C$11))","v":{"v":-2.5000037582802936,"d":"-2.50E+00"}},{"$f":"IF(PARÂMETROS!$J$6<PARÂMETROS!$F$6,(H100+2*I100+3*J100-(C100-D100)/PARÂMETROS!$C$11)/(N100+2*O100+3*P100+(C100-D100)/PARÂMETROS!$C$14),(N100+2*O100+3*P100+(C100-D100)/PARÂMETROS!$C$14)/(H100+2*I100+3*J100-(C100-D100)/PARÂMETROS!$C$11))","v":{"v":-2.5000054665931573,"d":"-2.50E+00"}},{"$f":"Q100*PARÂMETROS!$C$11*PARÂMETROS!$D$11/PARÂMETROS!$C$14","v":{"v":-50.00001366646835,"d":"-50.00"}},{"$f":"R100*PARÂMETROS!$C$11*PARÂMETROS!$D$11/PARÂMETROS!$C$14","v":{"v":-50.00004783266026,"d":"-50.00"}},{"$f":"S100*PARÂMETROS!$C$11*PARÂMETROS!$D$11/PARÂMETROS!$C$14","v":{"v":-50.000081998898835,"d":"-50.00"}},{"$f":"T100*PARÂMETROS!$C$11*PARÂMETROS!$D$11/PARÂMETROS!$C$14","v":{"v":-50.00002733293204,"d":"-50.00"}},{"$f":"U100*PARÂMETROS!$C$11*PARÂMETROS!$D$11/PARÂMETROS!$C$14","v":{"v":-50.000061499133274,"d":"-50.00"}},{"$f":"V100*PARÂMETROS!$C$11*PARÂMETROS!$D$11/PARÂMETROS!$C$14","v":{"v":-50.0000956653812,"d":"-50.00"}},{"$f":"W100*PARÂMETROS!$C$11*PARÂMETROS!$D$11/PARÂMETROS!$C$14","v":{"v":-50.0000409993953,"d":"-50.00"}},{"$f":"X100*PARÂMETROS!$C$11*PARÂMETROS!$D$11/PARÂMETROS!$C$14","v":{"v":-50.00007516560587,"d":"-50.00"}},{"$f":"Y100*PARÂMETROS!$C$11*PARÂMETROS!$D$11/PARÂMETROS!$C$14","v":{"v":-50.00010933186315,"d":"-50.00"}},{"$f":"AND(B100+PARÂMETROS!$C$8>=PARÂMETROS!$C$5,B100+PARÂMETROS!$C$8<=PARÂMETROS!$D$5)","v":false},0,{"$f":"VLOOKUP('BANCO DE DADOS COMPLETA'!$N$8,'BANCO DE DADOS COMPLETA'!$A$7:$L$249,3)*-1","v":3},7,{"$f":"VLOOKUP('BANCO DE DADOS COMPLETA'!$N$10,'BANCO DE DADOS COMPLETA'!$A$7:$L$249,3)*-1","v":1},11,77,{"v":-50.0000409993953,"d":"-50.00"},"LIMITE","LIMITE","LIMITE","LIMITE","NADA","NADA",0]
[null,{"$f":"B100+PARÂMETROS!$C$8","v":{"v":20.064343848340656,"d":"20.06"}},{"v":8.62295563485491e-21,"d":"8.62E-21"},{"$f":"PARÂMETROS!$Q$4/C101","v":{"v":1159695.169899626,"d":"1.16E+06"}},{"$f":"PARÂMETROS!$F$6/($C101+PARÂMETROS!$F$6)","v":{"v":1,"d":"1.00E+00"}},{"$f":"$C101*PARÂMETROS!$F$6/($C101^2+$C101*PARÂMETROS!$F$6+PARÂMETROS!$F$6*PARÂMETROS!$G$6)","v":{"v":1.363503169032799E-13,"d":"1.36E-13"}},{"$f":"PARÂMETROS!$F$6*PARÂMETROS!$G$6/($C101^2+$C101*PARÂMETROS!$F$6+PARÂMETROS!$F$6*PARÂMETROS!$G$6)","v":{"v":0.9999999999998637,"d":"1.00E+00"}},{"$f":"(PARÂMETROS!$F$6*$C101^2)/($C101^3+PARÂMETROS!$F$6*$C101^2+PARÂMETROS!$F$6*PARÂMETROS!$G$6*$C101+PARÂMETROS!$F$6*PARÂMETROS!$G$6*PARÂMETROS!$H$6)","v":{"v":2.632160060092816E-21,"d":"2.63E-21"}},{"$f":"(PARÂMETROS!$F$6*PARÂMETROS!$G$6*$C101)/($C101^3+PARÂMETROS!$F$6*$C101^2+PARÂMETROS!$F$6*PARÂMETROS!$G$6*$C101+PARÂMETROS!$F$6*PARÂMETROS!$G$6*PARÂMETROS!$H$6)","v":{"v":1.9304392684027132E-8,"d":"1.93E-08"}},{"$f":"(PARÂMETROS!$F$6*PARÂMETROS!$G$6*PARÂMETROS!$H$6)/($C101^3+PARÂMETROS!$F$6*$C101^2+PARÂMETROS!$F$6*PARÂMETROS!$G$6*$C101+PARÂMETROS!$F$6*PARÂMETROS!$G$6*PARÂMETROS!$H$6)","v":{"v":0.9999999806956074,"d":"1.00E+00"}},{"$f":"$C101/($C101+PARÂMETROS!$J$6)","v":{"v":8.6229548913013346E-8,"d":"8.62E-08"}},{"$f":"$C101*PARÂMETROS!$J$6/($C101^2+$C101*PARÂMETROS!$J$6+PARÂMETROS!$J$6*PARÂMETROS!$K$6)","v":{"v":0.9999999137704512,"d":"1.00E+00"}},{"$f":"$C101^2/($C101^2+$C101*PARÂMETROS!$J$6+PARÂMETROS!$J$6*PARÂMETROS!$K$6)","v":{"v":8.622954891301336E-8,"d":"8.62E-08"}},{"$f":"(PARÂMETROS!$K$6*PARÂMETROS!$J$6*$C101)/($C101^3+PARÂMETROS!$J$6*$C101^2+PARÂMETROS!$J$6*PARÂMETROS!$K$6*$C101+PARÂMETROS!$J$6*PARÂMETROS!$K$6*PARÂMETROS!$L$6)","v":{"v":0,"d":"0.00E+00"}},{"$f":"(PARÂMETROS!$J$6*$C101^2)/($C101^3+PARÂMETROS!$J$6*$C101^2+PARÂMETROS!$J$6*PARÂMETROS!$K$6*$C101+PARÂMETROS!$J$6*PARÂMETROS!$K$6*PARÂMETROS!$L$6)","v":{"v":0.999999913770451,"d":"1.00E+00"}},{"$f":"($C101^3)/($C101^3+PARÂMETROS!$J$6*$C101^2+PARÂMETROS!$J$6*PARÂMETROS!$K$6*$C101+PARÂMETROS!$J$6*PARÂMETROS!$K$6*PARÂMETROS!$L$6)","v":{"v":8.6229548913013333E-8,"d":"8.62E-08"}},{"$f":"IF(PARÂMETROS!$J$6<PARÂMETROS!$F$6,(E101-(C101-D101)/PARÂMETROS!$C$11)/(K101+(C101-D101)/PARÂMETROS!$C$14),(K101+(C101-D101)/PARÂMETROS!$C$14)/(E101-(C101-D101)/PARÂMETROS!$C$11))","v":{"v":-2.5000004311478743,"d":"-2.50E+00"}},{"$f":"IF(PARÂMETROS!$J$6<PARÂMETROS!$F$6,(E101-(C101-D101)/PARÂMETROS!$C$11)/(L101+2*M101+(C101-D101)/PARÂMETROS!$C$14),(L101+2*M101+(C101-D101)/PARÂMETROS!$C$14)/(E101-(C101-D101)/PARÂMETROS!$C$11))","v":{"v":-2.5000015090179795,"d":"-2.50E+00"}},{"$f":"IF(PARÂMETROS!$J$6<PARÂMETROS!$F$6, (E101-(C101-D101)/PARÂMETROS!$C$11)/(N101+2*O101+3*P101+(C101-D101)/PARÂMETROS!$C$14),(N101+2*O101+3*P101+(C101-D101)/PARÂMETROS!$C$14)/ (E101-(C101-D101)/PARÂMETROS!$C$11))","v":{"v":-2.5000025868890137,"d":"-2.50E+00"}},{"$f":"IF(PARÂMETROS!$J$6<PARÂMETROS!$F$6,(F101+2*G101-(C101-D101)/PARÂMETROS!$C$11)/(K101+(C101-D101)/PARÂMETROS!$C$14),(K101+(C101-D101)/PARÂMETROS!$C$14)/(F101+2*G101-(C101-D101)/PARÂMETROS!$C$11))","v":{"v":-2.500000862295656,"d":"-2.50E+00"}},{"$f":"IF(PARÂMETROS!$J$6<PARÂMETROS!$F$6,(F101+2*G101-(C101-D101)/PARÂMETROS!$C$11)/(L101+2*M101+(C101-D101)/PARÂMETROS!$C$14),(L101+2*M101+(C101-D101)/PARÂMETROS!$C$14)/(F101+2*G101-(C101-D101)/PARÂMETROS!$C$11))","v":{"v":-2.500001940165947,"d":"-2.50E+00"}},{"$f":"IF(PARÂMETROS!$J$6<PARÂMETROS!$F$6,(F101+2*G101-(C101-D101)/PARÂMETROS!$C$11)/(N101+2*O101+3*P101+(C101-D101)/PARÂMETROS!$C$14),(N101+2*O101+3*P101+(C101-D101)/PARÂMETROS!$C$14)/(F101+2*G101-(C101-D101)/PARÂMETROS!$C$11))","v":{"v":-2.5000030180371673,"d":"-2.50E+00"}},{"$f":"IF(PARÂMETROS!$J$6<PARÂMETROS!$F$6,(H101+2*I101+3*J101-(C101-D101)/PARÂMETROS!$C$11)/(K101+(C101-D101)/PARÂMETROS!$C$14),(K101+(C101-D101)/PARÂMETROS!$C$14)/(H101+2*I101+3*J101-(C101-D101)/PARÂMETROS!$C$11))","v":{"v":-2.5000012934434297,"d":"-2.50E+00"}},{"$f":"IF(PARÂMETROS!$J$6<PARÂMETROS!$F$6,(H101+2*I101+3*J101-(C101-D101)/PARÂMETROS!$C$11)/(L101+2*M101+(C101-D101)/PARÂMETROS!$C$14),(L101+2*M101+(C101-D101)/PARÂMETROS!$C$14)/(H101+2*I101+3*J101-(C101-D101)/PARÂMETROS!$C$11))","v":{"v":-2.500002371313906,"d":"-2.50E+00"}},{"$f":"IF(PARÂMETROS!$J$6<PARÂMETROS!$F$6,(H101+2*I101+3*J101-(C101-D101)/PARÂMETROS!$C$11)/(N101+2*O101+3*P101+(C101-D101)/PARÂMETROS!$C$14),(N101+2*O101+3*P101+(C101-D101)/PARÂMETROS!$C$14)/(H101+2*I101+3*J101-(C101-D101)/PARÂMETROS!$C$11))","v":{"v":-2.5000034491853125,"d":"-2.50E+00"}},{"$f":"Q101*PARÂMETROS!$C$11*PARÂMETROS!$D$11/PARÂMETROS!$C$14","v":{"v":-50.000008622957495,"d":"-50.00"}},{"$f":"R101*PARÂMETROS!$C$11*PARÂMETROS!$D$11/PARÂMETROS!$C$14","v":{"v":-50.00003018035959,"d":"-50.00"}},{"$f":"S101*PARÂMETROS!$C$11*PARÂMETROS!$D$11/PARÂMETROS!$C$14","v":{"v":-50.00005173778027,"d":"-50.00"}},{"$f":"T101*PARÂMETROS!$C$11*PARÂMETROS!$D$11/PARÂMETROS!$C$14","v":{"v":-50.00001724591313,"d":"-50.00"}},{"$f":"U101*PARÂMETROS!$C$11*PARÂMETROS!$D$11/PARÂMETROS!$C$14","v":{"v":-50.000038803318944,"d":"-50.00"}},{"$f":"V101*PARÂMETROS!$C$11*PARÂMETROS!$D$11/PARÂMETROS!$C$14","v":{"v":-50.00006036074335,"d":"-50.00"}},{"$f":"W101*PARÂMETROS!$C$11*PARÂMETROS!$D$11/PARÂMETROS!$C$14","v":{"v":-50.00002586886859,"d":"-50.00"}},{"$f":"X101*PARÂMETROS!$C$11*PARÂMETROS!$D$11/PARÂMETROS!$C$14","v":{"v":-50.00004742627813,"d":"-50.00"}},{"$f":"Y101*PARÂMETROS!$C$11*PARÂMETROS!$D$11/PARÂMETROS!$C$14","v":{"v":-50.00006898370625,"d":"-50.00"}},{"$f":"AND(B101+PARÂMETROS!$C$8>=PARÂMETROS!$C$5,B101+PARÂMETROS!$C$8<=PARÂMETROS!$D$5)","v":false},0,{"$f":"VLOOKUP('BANCO DE DADOS COMPLETA'!$N$8,'BANCO DE DADOS COMPLETA'!$A$7:$L$249,3)*-1","v":3},7,{"$f":"VLOOKUP('BANCO DE DADOS COMPLETA'!$N$10,'BANCO DE DADOS COMPLETA'!$A$7:$L$249,3)*-1","v":1},11,77,{"v":-50.00002586886859,"d":"-50.00"},"LIMITE","LIMITE","LIMITE","LIMITE","NADA","NADA",0]
[null,{"$f":"B101+PARÂMETROS!$C$8","v":{"v":20.264343848340655,"d":"20.26"}},{"v":5.440717188938583e-21,"d":"5.44E-21"},{"$f":"PARÂMETROS!$Q$4/C102","v":{"v":1837992.980103948,"d":"1.84E+06"}},{"$f":"PARÂMETROS!$F$6/($C102+PARÂMETROS!$F$6)","v":{"v":1,"d":"1.00E+00"}},{"$f":"$C102*PARÂMETROS!$F$6/($C102^2+$C102*PARÂMETROS!$F$6+PARÂMETROS!$F$6*PARÂMETROS!$G$6)","v":{"v":8.603123387233078e-14,"d":"8.60E-14"}},{"$f":"PARÂMETROS!$F$6*PARÂMETROS!$G$6/($C102^2+$C102*PARÂMETROS!$F$6+PARÂMETROS!$F$6*PARÂMETROS!$G$6)","v":{"v":0.9999999999999141,"d":"1.00E+00"}},{"$f":"(PARÂMETROS!$F$6*$C102^2)/($C102^3+PARÂMETROS!$F$6*$C102^2+PARÂMETROS!$F$6*PARÂMETROS!$G$6*$C102+PARÂMETROS!$F$6*PARÂMETROS!$G$6*PARÂMETROS!$H$6)","v":{"v":1.0478818014327395E-21,"d":"1.05E-21"}},{"$f":"(PARÂMETROS!$F$6*PARÂMETROS!$G$6*$C102)/($C102^3+PARÂMETROS!$F$6*$C102^2+PARÂMETROS!$F$6*PARÂMETROS!$G$6*$C102+PARÂMETROS!$F$6*PARÂMETROS!$G$6*PARÂMETROS!$H$6)","v":{"v":1.21802484314905E-8,"d":"1.22E-08"}},{"$f":"(PARÂMETROS!$F$6*PARÂMETROS!$G$6*PARÂMETROS!$H$6)/($C102^3+PARÂMETROS!$F$6*$C102^2+PARÂMETROS!$F$6*PARÂMETROS!$G$6*$C102+PARÂMETROS!$F$6*PARÂMETROS!$G$6*PARÂMETROS!$H$6)","v":{"v":0.9999999878197516,"d":"1.00E+00"}},{"$f":"$C102/($C102+PARÂMETROS!$J$6)","v":{"v":5.4407168929245634E-8,"d":"5.44E-08"}},{"$f":"$C102*PARÂMETROS!$J$6/($C102^2+$C102*PARÂMETROS!$J$6+PARÂMETROS!$J$6*PARÂMETROS!$K$6)","v":{"v":0.999999945592831,"d":"1.00E+00"}},{"$f":"$C102^2/($C102^2+$C102*PARÂMETROS!$J$6+PARÂMETROS!$J$6*PARÂMETROS!$K$6)","v":{"v":5.4407168929245634E-8,"d":"5.44E-08"}},{"$f":"(PARÂMETROS!$K$6*PARÂMETROS!$J$6*$C102)/($C102^3+PARÂMETROS!$J$6*$C102^2+PARÂMETROS!$J$6*PARÂMETROS!$K$6*$C102+PARÂMETROS!$J$6*PARÂMETROS!$K$6*PARÂMETROS!$L$6)","v":{"v":0,"d":"0.00E+00"}},{"$f":"(PARÂMETROS!$J$6*$C102^2)/($C102^3+PARÂMETROS!$J$6*$C102^2+PARÂMETROS!$J$6*PARÂMETROS!$K$6*$C102+PARÂMETROS!$J$6*PARÂMETROS!$K$6*PARÂMETROS!$L$6)","v":{"v":0.999999945592831,"d":"1.00E+00"}},{"$f":"($C102^3)/($C102^3+PARÂMETROS!$J$6*$C102^2+PARÂMETROS!$J$6*PARÂMETROS!$K$6*$C102+PARÂMETROS!$J$6*PARÂMETROS!$K$6*PARÂMETROS!$L$6)","v":{"v":5.4407168929245634E-8,"d":"5.44E-08"}},{"$f":"IF(PARÂMETROS!$J$6<PARÂMETROS!$F$6,(E102-(C102-D102)/PARÂMETROS!$C$11)/(K102+(C102-D102)/PARÂMETROS!$C$14),(K102+(C102-D102)/PARÂMETROS!$C$14)/(E102-(C102-D102)/PARÂMETROS!$C$11))","v":{"v":-2.5000002720358965,"d":"-2.50E+00"}},{"$f":"IF(PARÂMETROS!$J$6<PARÂMETROS!$F$6,(E102-(C102-D102)/PARÂMETROS!$C$11)/(L102+2*M102+(C102-D102)/PARÂMETROS!$C$14),(L102+2*M102+(C102-D102)/PARÂMETROS!$C$14)/(E102-(C102-D102)/PARÂMETROS!$C$11))","v":{"v":-2.500000952125804,"d":"-2.50E+00"}},{"$f":"IF(PARÂMETROS!$J$6<PARÂMETROS!$F$6, (E102-(C102-D102)/PARÂMETROS!$C$11)/(N102+2*O102+3*P102+(C102-D102)/PARÂMETROS!$C$14),(N102+2*O102+3*P102+(C102-D102)/PARÂMETROS!$C$14)/ (E102-(C102-D102)/PARÂMETROS!$C$11))","v":{"v":-2.500001632216082,"d":"-2.50E+00"}},{"$f":"IF(PARÂMETROS!$J$6<PARÂMETROS!$F$6,(F102+2*G102-(C102-D102)/PARÂMETROS!$C$11)/(K102+(C102-D102)/PARÂMETROS!$C$14),(K102+(C102-D102)/PARÂMETROS!$C$14)/(F102+2*G102-(C102-D102)/PARÂMETROS!$C$11))","v":{"v":-2.500000544071756,"d":"-2.50E+00"}},{"$f":"IF(PARÂMETROS!$J$6<PARÂMETROS!$F$6,(F102+2*G102-(C102-D102)/PARÂMETROS!$C$11)/(L102+2*M102+(C102-D102)/PARÂMETROS!$C$14),(L102+2*M102+(C102-D102)/PARÂMETROS!$C$14)/(F102+2*G102-(C102-D102)/PARÂMETROS!$C$11))","v":{"v":-2.5000012241617378,"d":"-2.50E+00"}},{"$f":"IF(PARÂMETROS!$J$6<PARÂMETROS!$F$6,(F102+2*G102-(C102-D102)/PARÂMETROS!$C$11)/(N102+2*O102+3*P102+(C102-D102)/PARÂMETROS!$C$14),(N102+2*O102+3*P102+(C102-D102)/PARÂMETROS!$C$14)/(F102+2*G102-(C102-D102)/PARÂMETROS!$C$11))","v":{"v":-2.5000019042520893,"d":"-2.50E+00"}},{"$f":"IF(PARÂMETROS!$J$6<PARÂMETROS!$F$6,(H102+2*I102+3*J102-(C102-D102)/PARÂMETROS!$C$11)/(K102+(C102-D102)/PARÂMETROS!$C$14),(K102+(C102-D102)/PARÂMETROS!$C$14)/(H102+2*I102+3*J102-(C102-D102)/PARÂMETROS!$C$11))","v":{"v":-2.5000008161076117,"d":"-2.50E+00"}},{"$f":"IF(PARÂMETROS!$J$6<PARÂMETROS!$F$6,(H102+2*I102+3*J102-(C102-D102)/PARÂMETROS!$C$11)/(L102+2*M102+(C102-D102)/PARÂMETROS!$C$14),(L102+2*M102+(C102-D102)/PARÂMETROS!$C$14)/(H102+2*I102+3*J102-(C102-D102)/PARÂMETROS!$C$11))","v":{"v":-2.5000014961976675,"d":"-2.50E+00"}},{"$f":"IF(PARÂMETROS!$J$6<PARÂMETROS!$F$6,(H102+2*I102+3*J102-(C102-D102)/PARÂMETROS!$C$11)/(N102+2*O102+3*P102+(C102-D102)/PARÂMETROS!$C$14),(N102+2*O102+3*P102+(C102-D102)/PARÂMETROS!$C$14)/(H102+2*I102+3*J102-(C102-D102)/PARÂMETROS!$C$11))","v":{"v":-2.5000021762880933,"d":"-2.50E+00"}},{"$f":"Q102*PARÂMETROS!$C$11*PARÂMETROS!$D$11/PARÂMETROS!$C$14","v":{"v":-50.000005440717935,"d":"-50.00"}},{"$f":"R102*PARÂMETROS!$C$11*PARÂMETROS!$D$11/PARÂMETROS!$C$14","v":{"v":-50.00001904251609,"d":"-50.00"}},{"$f":"S102*PARÂMETROS!$C$11*PARÂMETROS!$D$11/PARÂMETROS!$C$14","v":{"v":-50.000032644321635,"d":"-50.00"}},{"$f":"T102*PARÂMETROS!$C$11*PARÂMETROS!$D$11/PARÂMETROS!$C$14","v":{"v":-50.00001088143512,"d":"-50.00"}},{"$f":"U102*PARÂMETROS!$C$11*PARÂMETROS!$D$11/PARÂMETROS!$C$14","v":{"v":-50.00002448323476,"d":"-50.00"}},{"$f":"V102*PARÂMETROS!$C$11*PARÂMETROS!$D$11/PARÂMETROS!$C$14","v":{"v":-50.00003808504179,"d":"-50.00"}},{"$f":"W102*PARÂMETROS!$C$11*PARÂMETROS!$D$11/PARÂMETROS!$C$14","v":{"v":-50.00001632215224,"d":"-50.00"}},{"$f":"X102*PARÂMETROS!$C$11*PARÂMETROS!$D$11/PARÂMETROS!$C$14","v":{"v":-50.00002992395335,"d":"-50.00"}},{"$f":"Y102*PARÂMETROS!$C$11*PARÂMETROS!$D$11/PARÂMETROS!$C$14","v":{"v":-50.000043525761875,"d":"-50.00"}},{"$f":"AND(B102+PARÂMETROS!$C$8>=PARÂMETROS!$C$5,B102+PARÂMETROS!$C$8<=PARÂMETROS!$D$5)","v":false},0,{"$f":"VLOOKUP('BANCO DE DADOS COMPLETA'!$N$8,'BANCO DE DADOS COMPLETA'!$A$7:$L$249,3)*-1","v":3},7,{"$f":"VLOOKUP('BANCO DE DADOS COMPLETA'!$N$10,'BANCO DE DADOS COMPLETA'!$A$7:$L$249,3)*-1","v":1},11,77,{"v":-50.00001632215224,"d":"-50.00"},"LIMITE","LIMITE","LIMITE","LIMITE","NADA","NADA",0]
[null,{"$f":"B102+PARÂMETROS!$C$8","v":{"v":20.464343848340654,"d":"20.46"}},{"v":3.432860469600436e-21,"d":"3.43E-21"},{"$f":"PARÂMETROS!$Q$4/C103","v":{"v":2913022.5619580564,"d":"2.91E+06"}},{"$f":"PARÂMETROS!$F$6/($C103+PARÂMETROS!$F$6)","v":{"v":1,"d":"1.00E+00"}},{"$f":"$C103*PARÂMETROS!$F$6/($C103^2+$C103*PARÂMETROS!$F$6+PARÂMETROS!$F$6*PARÂMETROS!$G$6)","v":{"v":5.42820388664421e-14,"d":"5.43E-14"}},{"$f":"PARÂMETROS!$F$6*PARÂMETROS!$G$6/($C103^2+$C103*PARÂMETROS!$F$6+PARÂMETROS!$F$6*PARÂMETROS!$G$6)","v":{"v":0.9999999999999457,"d":"1.00E+00"}},{"$f":"(PARÂMETROS!$F$6*$C103^2)/($C103^3+PARÂMETROS!$F$6*$C103^2+PARÂMETROS!$F$6*PARÂMETROS!$G$6*$C103+PARÂMETROS!$F$6*PARÂMETROS!$G$6*PARÂMETROS!$H$6)","v":{"v":4.1716926091807987E-22,"d":"4.17E-22"}},{"$f":"(PARÂMETROS!$F$6*PARÂMETROS!$G$6*$C103)/($C103^3+PARÂMETROS!$F$6*$C103^2+PARÂMETROS!$F$6*PARÂMETROS!$G$6*$C103+PARÂMETROS!$F$6*PARÂMETROS!$G$6*PARÂMETROS!$H$6)","v":{"v":7.68521723998759e-09,"d":"7.69E-09"}},{"$f":"(PARÂMETROS!$F$6*PARÂMETROS!$G$6*PARÂMETROS!$H$6)/($C103^3+PARÂMETROS!$F$6*$C103^2+PARÂMETROS!$F$6*PARÂMETROS!$G$6*$C103+PARÂMETROS!$F$6*PARÂMETROS!$G$6*PARÂMETROS!$H$6)","v":{"v":0.9999999923147828,"d":"1.00E+00"}},{"$f":"$C103/($C103+PARÂMETROS!$J$6)","v":{"v":3.4328603517551304E-8,"d":"3.43E-08"}},{"$f":"$C103*PARÂMETROS!$J$6/($C103^2+$C103*PARÂMETROS!$J$6+PARÂMETROS!$J$6*PARÂMETROS!$K$6)","v":{"v":0.9999999656713965,"d":"1.00E+00"}},{"$f":"$C103^2/($C103^2+$C103*PARÂMETROS!$J$6+PARÂMETROS!$J$6*PARÂMETROS!$K$6)","v":{"v":3.43286035175513e-08,"d":"3.43E-08"}},{"$f":"(PARÂMETROS!$K$6*PARÂMETROS!$J$6*$C103)/($C103^3+PARÂMETROS!$J$6*$C103^2+PARÂMETROS!$J$6*PARÂMETROS!$K$6*$C103+PARÂMETROS!$J$6*PARÂMETROS!$K$6*PARÂMETROS!$L$6)","v":{"v":0,"d":"0.00E+00"}},{"$f":"(PARÂMETROS!$J$6*$C103^2)/($C103^3+PARÂMETROS!$J$6*$C103^2+PARÂMETROS!$J$6*PARÂMETROS!$K$6*$C103+PARÂMETROS!$J$6*PARÂMETROS!$K$6*PARÂMETROS!$L$6)","v":{"v":0.9999999656713965,"d":"1.00E+00"}},{"$f":"($C103^3)/($C103^3+PARÂMETROS!$J$6*$C103^2+PARÂMETROS!$J$6*PARÂMETROS!$K$6*$C103+PARÂMETROS!$J$6*PARÂMETROS!$K$6*PARÂMETROS!$L$6)","v":{"v":3.4328603517551304E-8,"d":"3.43E-08"}},{"$f":"IF(PARÂMETROS!$J$6<PARÂMETROS!$F$6,(E103-(C103-D103)/PARÂMETROS!$C$11)/(K103+(C103-D103)/PARÂMETROS!$C$14),(K103+(C103-D103)/PARÂMETROS!$C$14)/(E103-(C103-D103)/PARÂMETROS!$C$11))","v":{"v":-2.500000171643038,"d":"-2.50E+00"}},{"$f":"IF(PARÂMETROS!$J$6<PARÂMETROS!$F$6,(E103-(C103-D103)/PARÂMETROS!$C$11)/(L103+2*M103+(C103-D103)/PARÂMETROS!$C$14),(L103+2*M103+(C103-D103)/PARÂMETROS!$C$14)/(E103-(C103-D103)/PARÂMETROS!$C$11))","v":{"v":-2.5000006007507,"d":"-2.50E+00"}},{"$f":"IF(PARÂMETROS!$J$6<PARÂMETROS!$F$6, (E103-(C103-D103)/PARÂMETROS!$C$11)/(N103+2*O103+3*P103+(C103-D103)/PARÂMETROS!$C$14),(N103+2*O103+3*P103+(C103-D103)/PARÂMETROS!$C$14)/ (E103-(C103-D103)/PARÂMETROS!$C$11))","v":{"v":-2.500001029858509,"d":"-2.50E+00"}},{"$f":"IF(PARÂMETROS!$J$6<PARÂMETROS!$F$6,(F103+2*G103-(C103-D103)/PARÂMETROS!$C$11)/(K103+(C103-D103)/PARÂMETROS!$C$14),(K103+(C103-D103)/PARÂMETROS!$C$14)/(F103+2*G103-(C103-D103)/PARÂMETROS!$C$11))","v":{"v":-2.500000343286062,"d":"-2.50E+00"}},{"$f":"IF(PARÂMETROS!$J$6<PARÂMETROS!$F$6,(F103+2*G103-(C103-D103)/PARÂMETROS!$C$11)/(L103+2*M103+(C103-D103)/PARÂMETROS!$C$14),(L103+2*M103+(C103-D103)/PARÂMETROS!$C$14)/(F103+2*G103-(C103-D103)/PARÂMETROS!$C$11))","v":{"v":-2.500000772393753,"d":"-2.50E+00"}},{"$f":"IF(PARÂMETROS!$J$6<PARÂMETROS!$F$6,(F103+2*G103-(C103-D103)/PARÂMETROS!$C$11)/(N103+2*O103+3*P103+(C103-D103)/PARÂMETROS!$C$14),(N103+2*O103+3*P103+(C103-D103)/PARÂMETROS!$C$14)/(F103+2*G103-(C103-D103)/PARÂMETROS!$C$11))","v":{"v":-2.5000012015015916,"d":"-2.50E+00"}},{"$f":"IF(PARÂMETROS!$J$6<PARÂMETROS!$F$6,(H103+2*I103+3*J103-(C103-D103)/PARÂMETROS!$C$11)/(K103+(C103-D103)/PARÂMETROS!$C$14),(K103+(C103-D103)/PARÂMETROS!$C$14)/(H103+2*I103+3*J103-(C103-D103)/PARÂMETROS!$C$11))","v":{"v":-2.500000514929084,"d":"-2.50E+00"}},{"$f":"IF(PARÂMETROS!$J$6<PARÂMETROS!$F$6,(H103+2*I103+3*J103-(C103-D103)/PARÂMETROS!$C$11)/(L103+2*M103+(C103-D103)/PARÂMETROS!$C$14),(L103+2*M103+(C103-D103)/PARÂMETROS!$C$14)/(H103+2*I103+3*J103-(C103-D103)/PARÂMETROS!$C$11))","v":{"v":-2.5000009440368047,"d":"-2.50E+00"}},{"$f":"IF(PARÂMETROS!$J$6<PARÂMETROS!$F$6,(H103+2*I103+3*J103-(C103-D103)/PARÂMETROS!$C$11)/(N103+2*O103+3*P103+(C103-D103)/PARÂMETROS!$C$14),(N103+2*O103+3*P103+(C103-D103)/PARÂMETROS!$C$14)/(H103+2*I103+3*J103-(C103-D103)/PARÂMETROS!$C$11))","v":{"v":-2.5000013731446726,"d":"-2.50E+00"}},{"$f":"Q103*PARÂMETROS!$C$11*PARÂMETROS!$D$11/PARÂMETROS!$C$14","v":{"v":-50.000003432860765,"d":"-50.00"}},{"$f":"R103*PARÂMETROS!$C$11*PARÂMETROS!$D$11/PARÂMETROS!$C$14","v":{"v":-50.00001201501399,"d":"-50.00"}},{"$f":"S103*PARÂMETROS!$C$11*PARÂMETROS!$D$11/PARÂMETROS!$C$14","v":{"v":-50.00002059717018,"d":"-50.00"}},{"$f":"T103*PARÂMETROS!$C$11*PARÂMETROS!$D$11/PARÂMETROS!$C$14","v":{"v":-50.00000686572123,"d":"-50.00"}},{"$f":"U103*PARÂMETROS!$C$11*PARÂMETROS!$D$11/PARÂMETROS!$C$14","v":{"v":-50.00001544787506,"d":"-50.00"}},{"$f":"V103*PARÂMETROS!$C$11*PARÂMETROS!$D$11/PARÂMETROS!$C$14","v":{"v":-50.00002403003183,"d":"-50.00"}},{"$f":"W103*PARÂMETROS!$C$11*PARÂMETROS!$D$11/PARÂMETROS!$C$14","v":{"v":-50.00001029858168,"d":"-50.00"}},{"$f":"X103*PARÂMETROS!$C$11*PARÂMETROS!$D$11/PARÂMETROS!$C$14","v":{"v":-50.0000188807361,"d":"-50.00"}},{"$f":"Y103*PARÂMETROS!$C$11*PARÂMETROS!$D$11/PARÂMETROS!$C$14","v":{"v":-50.000027462893456,"d":"-50.00"}},{"$f":"AND(B103+PARÂMETROS!$C$8>=PARÂMETROS!$C$5,B103+PARÂMETROS!$C$8<=PARÂMETROS!$D$5)","v":false},0,{"$f":"VLOOKUP('BANCO DE DADOS COMPLETA'!$N$8,'BANCO DE DADOS COMPLETA'!$A$7:$L$249,3)*-1","v":3},7,{"$f":"VLOOKUP('BANCO DE DADOS COMPLETA'!$N$10,'BANCO DE DADOS COMPLETA'!$A$7:$L$249,3)*-1","v":1},11,77,{"v":-50.00001029858168,"d":"-50.00"},"LIMITE","LIMITE","LIMITE","LIMITE","NADA","NADA",0]
[null,{"$f":"B103+PARÂMETROS!$C$8","v":{"v":20.664343848340653,"d":"20.66"}},{"v":2.1659885258701245E-21,"d":"2.17E-21"},{"$f":"PARÂMETROS!$Q$4/C104","v":{"v":4616829.627932947,"d":"4.62E+06"}},{"$f":"PARÂMETROS!$F$6/($C104+PARÂMETROS!$F$6)","v":{"v":1,"d":"1.00E+00"}},{"$f":"$C104*PARÂMETROS!$F$6/($C104^2+$C104*PARÂMETROS!$F$6+PARÂMETROS!$F$6*PARÂMETROS!$G$6)","v":{"v":3.4249651096141696E-14,"d":"3.42E-14"}},{"$f":"PARÂMETROS!$F$6*PARÂMETROS!$G$6/($C104^2+$C104*PARÂMETROS!$F$6+PARÂMETROS!$F$6*PARÂMETROS!$G$6)","v":{"v":0.9999999999999657,"d":"1.00E+00"}},{"$f":"(PARÂMETROS!$F$6*$C104^2)/($C104^3+PARÂMETROS!$F$6*$C104^2+PARÂMETROS!$F$6*PARÂMETROS!$G$6*$C104+PARÂMETROS!$F$6*PARÂMETROS!$G$6*PARÂMETROS!$H$6)","v":{"v":1.660780745770172e-22,"d":"1.66E-22"}},{"$f":"(PARÂMETROS!$F$6*PARÂMETROS!$G$6*$C104)/($C104^3+PARÂMETROS!$F$6*$C104^2+PARÂMETROS!$F$6*PARÂMETROS!$G$6*$C104+PARÂMETROS!$F$6*PARÂMETROS!$G$6*PARÂMETROS!$H$6)","v":{"v":4.8490442752487073E-9,"d":"4.85E-09"}},{"$f":"(PARÂMETROS!$F$6*PARÂMETROS!$G$6*PARÂMETROS!$H$6)/($C104^3+PARÂMETROS!$F$6*$C104^2+PARÂMETROS!$F$6*PARÂMETROS!$G$6*$C104+PARÂMETROS!$F$6*PARÂMETROS!$G$6*PARÂMETROS!$H$6)","v":{"v":0.9999999951509557,"d":"1.00E+00"}},{"$f":"$C104/($C104+PARÂMETROS!$J$6)","v":{"v":2.1659884789550624E-8,"d":"2.17E-08"}},{"$f":"$C104*PARÂMETROS!$J$6/($C104^2+$C104*PARÂMETROS!$J$6+PARÂMETROS!$J$6*PARÂMETROS!$K$6)","v":{"v":0.9999999783401152,"d":"1.00E+00"}},{"$f":"$C104^2/($C104^2+$C104*PARÂMETROS!$J$6+PARÂMETROS!$J$6*PARÂMETROS!$K$6)","v":{"v":2.1659884789550627E-8,"d":"2.17E-08"}},{"$f":"(PARÂMETROS!$K$6*PARÂMETROS!$J$6*$C104)/($C104^3+PARÂMETROS!$J$6*$C104^2+PARÂMETROS!$J$6*PARÂMETROS!$K$6*$C104+PARÂMETROS!$J$6*PARÂMETROS!$K$6*PARÂMETROS!$L$6)","v":{"v":0,"d":"0.00E+00"}},{"$f":"(PARÂMETROS!$J$6*$C104^2)/($C104^3+PARÂMETROS!$J$6*$C104^2+PARÂMETROS!$J$6*PARÂMETROS!$K$6*$C104+PARÂMETROS!$J$6*PARÂMETROS!$K$6*PARÂMETROS!$L$6)","v":{"v":0.9999999783401152,"d":"1.00E+00"}},{"$f":"($C104^3)/($C104^3+PARÂMETROS!$J$6*$C104^2+PARÂMETROS!$J$6*PARÂMETROS!$K$6*$C104+PARÂMETROS!$J$6*PARÂMETROS!$K$6*PARÂMETROS!$L$6)","v":{"v":2.1659884789550627E-8,"d":"2.17E-08"}},{"$f":"IF(PARÂMETROS!$J$6<PARÂMETROS!$F$6,(E104-(C104-D104)/PARÂMETROS!$C$11)/(K104+(C104-D104)/PARÂMETROS!$C$14),(K104+(C104-D104)/PARÂMETROS!$C$14)/(E104-(C104-D104)/PARÂMETROS!$C$11))","v":{"v":-2.5000001082994325,"d":"-2.50E+00"}},{"$f":"IF(PARÂMETROS!$J$6<PARÂMETROS!$F$6,(E104-(C104-D104)/PARÂMETROS!$C$11)/(L104+2*M104+(C104-D104)/PARÂMETROS!$C$14),(L104+2*M104+(C104-D104)/PARÂMETROS!$C$14)/(E104-(C104-D104)/PARÂMETROS!$C$11))","v":{"v":-2.500000379048039,"d":"-2.50E+00"}},{"$f":"IF(PARÂMETROS!$J$6<PARÂMETROS!$F$6, (E104-(C104-D104)/PARÂMETROS!$C$11)/(N104+2*O104+3*P104+(C104-D104)/PARÂMETROS!$C$14),(N104+2*O104+3*P104+(C104-D104)/PARÂMETROS!$C$14)/ (E104-(C104-D104)/PARÂMETROS!$C$11))","v":{"v":-2.5000006497967044,"d":"-2.50E+00"}},{"$f":"IF(PARÂMETROS!$J$6<PARÂMETROS!$F$6,(F104+2*G104-(C104-D104)/PARÂMETROS!$C$11)/(K104+(C104-D104)/PARÂMETROS!$C$14),(K104+(C104-D104)/PARÂMETROS!$C$14)/(F104+2*G104-(C104-D104)/PARÂMETROS!$C$11))","v":{"v":-2.500000216598859,"d":"-2.50E+00"}},{"$f":"IF(PARÂMETROS!$J$6<PARÂMETROS!$F$6,(F104+2*G104-(C104-D104)/PARÂMETROS!$C$11)/(L104+2*M104+(C104-D104)/PARÂMETROS!$C$14),(L104+2*M104+(C104-D104)/PARÂMETROS!$C$14)/(F104+2*G104-(C104-D104)/PARÂMETROS!$C$11))","v":{"v":-2.500000487347477,"d":"-2.50E+00"}},{"$f":"IF(PARÂMETROS!$J$6<PARÂMETROS!$F$6,(F104+2*G104-(C104-D104)/PARÂMETROS!$C$11)/(N104+2*O104+3*P104+(C104-D104)/PARÂMETROS!$C$14),(N104+2*O104+3*P104+(C104-D104)/PARÂMETROS!$C$14)/(F104+2*G104-(C104-D104)/PARÂMETROS!$C$11))","v":{"v":-2.5000007580961543,"d":"-2.50E+00"}},{"$f":"IF(PARÂMETROS!$J$6<PARÂMETROS!$F$6,(H104+2*I104+3*J104-(C104-D104)/PARÂMETROS!$C$11)/(K104+(C104-D104)/PARÂMETROS!$C$14),(K104+(C104-D104)/PARÂMETROS!$C$14)/(H104+2*I104+3*J104-(C104-D104)/PARÂMETROS!$C$11))","v":{"v":-2.5000003248982847,"d":"-2.50E+00"}},{"$f":"IF(PARÂMETROS!$J$6<PARÂMETROS!$F$6,(H104+2*I104+3*J104-(C104-D104)/PARÂMETROS!$C$11)/(L104+2*M104+(C104-D104)/PARÂMETROS!$C$14),(L104+2*M104+(C104-D104)/PARÂMETROS!$C$14)/(H104+2*I104+3*J104-(C104-D104)/PARÂMETROS!$C$11))","v":{"v":-2.500000595646915,"d":"-2.50E+00"}},{"$f":"IF(PARÂMETROS!$J$6<PARÂMETROS!$F$6,(H104+2*I104+3*J104-(C104-D104)/PARÂMETROS!$C$11)/(N104+2*O104+3*P104+(C104-D104)/PARÂMETROS!$C$14),(N104+2*O104+3*P104+(C104-D104)/PARÂMETROS!$C$14)/(H104+2*I104+3*J104-(C104-D104)/PARÂMETROS!$C$11))","v":{"v":-2.5000008663956037,"d":"-2.50E+00"}},{"$f":"Q104*PARÂMETROS!$C$11*PARÂMETROS!$D$11/PARÂMETROS!$C$14","v":{"v":-50.000002165988654,"d":"-50.00"}},{"$f":"R104*PARÂMETROS!$C$11*PARÂMETROS!$D$11/PARÂMETROS!$C$14","v":{"v":-50.000007580960784,"d":"-50.00"}},{"$f":"S104*PARÂMETROS!$C$11*PARÂMETROS!$D$11/PARÂMETROS!$C$14","v":{"v":-50.00001299593409,"d":"-50.00"}},{"$f":"T104*PARÂMETROS!$C$11*PARÂMETROS!$D$11/PARÂMETROS!$C$14","v":{"v":-50.00000433197718,"d":"-50.00"}},{"$f":"U104*PARÂMETROS!$C$11*PARÂMETROS!$D$11/PARÂMETROS!$C$14","v":{"v":-50.000009746949544,"d":"-50.00"}},{"$f":"V104*PARÂMETROS!$C$11*PARÂMETROS!$D$11/PARÂMETROS!$C$14","v":{"v":-50.00001516192308,"d":"-50.00"}},{"$f":"W104*PARÂMETROS!$C$11*PARÂMETROS!$D$11/PARÂMETROS!$C$14","v":{"v":-50.0000064979657,"d":"-50.00"}},{"$f":"X104*PARÂMETROS!$C$11*PARÂMETROS!$D$11/PARÂMETROS!$C$14","v":{"v":-50.000011912938305,"d":"-50.00"}},{"$f":"Y104*PARÂMETROS!$C$11*PARÂMETROS!$D$11/PARÂMETROS!$C$14","v":{"v":-50.00001732791207,"d":"-50.00"}},{"$f":"AND(B104+PARÂMETROS!$C$8>=PARÂMETROS!$C$5,B104+PARÂMETROS!$C$8<=PARÂMETROS!$D$5)","v":false},0,{"$f":"VLOOKUP('BANCO DE DADOS COMPLETA'!$N$8,'BANCO DE DADOS COMPLETA'!$A$7:$L$249,3)*-1","v":3},7,{"$f":"VLOOKUP('BANCO DE DADOS COMPLETA'!$N$10,'BANCO DE DADOS COMPLETA'!$A$7:$L$249,3)*-1","v":1},11,77,{"v":-50.0000064979657,"d":"-50.00"},"LIMITE","LIMITE","LIMITE","LIMITE","NADA","NADA",0]
[null,{"$f":"B104+PARÂMETROS!$C$8","v":{"v":20.864343848340653,"d":"20.86"}},{"v":1.3666463684575847E-21,"d":"1.37E-21"},{"$f":"PARÂMETROS!$Q$4/C105","v":{"v":7317181.84806369,"d":"7.32E+06"}},{"$f":"PARÂMETROS!$F$6/($C105+PARÂMETROS!$F$6)","v":{"v":1,"d":"1.00E+00"}},{"$f":"$C105*PARÂMETROS!$F$6/($C105^2+$C105*PARÂMETROS!$F$6+PARÂMETROS!$F$6*PARÂMETROS!$G$6)","v":{"v":2.1610068904995022E-14,"d":"2.16E-14"}},{"$f":"PARÂMETROS!$F$6*PARÂMETROS!$G$6/($C105^2+$C105*PARÂMETROS!$F$6+PARÂMETROS!$F$6*PARÂMETROS!$G$6)","v":{"v":0.9999999999999784,"d":"1.00E+00"}},{"$f":"(PARÂMETROS!$F$6*$C105^2)/($C105^3+PARÂMETROS!$F$6*$C105^2+PARÂMETROS!$F$6*PARÂMETROS!$G$6*$C105+PARÂMETROS!$F$6*PARÂMETROS!$G$6*PARÂMETROS!$H$6)","v":{"v":6.61168724791457e-23,"d":"6.61E-23"}},{"$f":"(PARÂMETROS!$F$6*PARÂMETROS!$G$6*$C105)/($C105^3+PARÂMETROS!$F$6*$C105^2+PARÂMETROS!$F$6*PARÂMETROS!$G$6*$C105+PARÂMETROS!$F$6*PARÂMETROS!$G$6*PARÂMETROS!$H$6)","v":{"v":3.0595401046528732E-9,"d":"3.06E-09"}},{"$f":"(PARÂMETROS!$F$6*PARÂMETROS!$G$6*PARÂMETROS!$H$6)/($C105^3+PARÂMETROS!$F$6*$C105^2+PARÂMETROS!$F$6*PARÂMETROS!$G$6*$C105+PARÂMETROS!$F$6*PARÂMETROS!$G$6*PARÂMETROS!$H$6)","v":{"v":0.9999999969404599,"d":"1.00E+00"}},{"$f":"$C105/($C105+PARÂMETROS!$J$6)","v":{"v":1.3666463497803619E-8,"d":"1.37E-08"}},{"$f":"$C105*PARÂMETROS!$J$6/($C105^2+$C105*PARÂMETROS!$J$6+PARÂMETROS!$J$6*PARÂMETROS!$K$6)","v":{"v":0.9999999863335365,"d":"1.00E+00"}},{"$f":"$C105^2/($C105^2+$C105*PARÂMETROS!$J$6+PARÂMETROS!$J$6*PARÂMETROS!$K$6)","v":{"v":1.3666463497803622E-8,"d":"1.37E-08"}},{"$f":"(PARÂMETROS!$K$6*PARÂMETROS!$J$6*$C105)/($C105^3+PARÂMETROS!$J$6*$C105^2+PARÂMETROS!$J$6*PARÂMETROS!$K$6*$C105+PARÂMETROS!$J$6*PARÂMETROS!$K$6*PARÂMETROS!$L$6)","v":{"v":0,"d":"0.00E+00"}},{"$f":"(PARÂMETROS!$J$6*$C105^2)/($C105^3+PARÂMETROS!$J$6*$C105^2+PARÂMETROS!$J$6*PARÂMETROS!$K$6*$C105+PARÂMETROS!$J$6*PARÂMETROS!$K$6*PARÂMETROS!$L$6)","v":{"v":0.9999999863335365,"d":"1.00E+00"}},{"$f":"($C105^3)/($C105^3+PARÂMETROS!$J$6*$C105^2+PARÂMETROS!$J$6*PARÂMETROS!$K$6*$C105+PARÂMETROS!$J$6*PARÂMETROS!$K$6*PARÂMETROS!$L$6)","v":{"v":1.3666463497803617E-8,"d":"1.37E-08"}},{"$f":"IF(PARÂMETROS!$J$6<PARÂMETROS!$F$6,(E105-(C105-D105)/PARÂMETROS!$C$11)/(K105+(C105-D105)/PARÂMETROS!$C$14),(K105+(C105-D105)/PARÂMETROS!$C$14)/(E105-(C105-D105)/PARÂMETROS!$C$11))","v":{"v":-2.5000000683323207,"d":"-2.50E+00"}},{"$f":"IF(PARÂMETROS!$J$6<PARÂMETROS!$F$6,(E105-(C105-D105)/PARÂMETROS!$C$11)/(L105+2*M105+(C105-D105)/PARÂMETROS!$C$14),(L105+2*M105+(C105-D105)/PARÂMETROS!$C$14)/(E105-(C105-D105)/PARÂMETROS!$C$11))","v":{"v":-2.500000239163133,"d":"-2.50E+00"}},{"$f":"IF(PARÂMETROS!$J$6<PARÂMETROS!$F$6, (E105-(C105-D105)/PARÂMETROS!$C$11)/(N105+2*O105+3*P105+(C105-D105)/PARÂMETROS!$C$14),(N105+2*O105+3*P105+(C105-D105)/PARÂMETROS!$C$14)/ (E105-(C105-D105)/PARÂMETROS!$C$11))","v":{"v":-2.5000004099939686,"d":"-2.50E+00"}},{"$f":"IF(PARÂMETROS!$J$6<PARÂMETROS!$F$6,(F105+2*G105-(C105-D105)/PARÂMETROS!$C$11)/(K105+(C105-D105)/PARÂMETROS!$C$14),(K105+(C105-D105)/PARÂMETROS!$C$14)/(F105+2*G105-(C105-D105)/PARÂMETROS!$C$11))","v":{"v":-2.500000136664639,"d":"-2.50E+00"}},{"$f":"IF(PARÂMETROS!$J$6<PARÂMETROS!$F$6,(F105+2*G105-(C105-D105)/PARÂMETROS!$C$11)/(L105+2*M105+(C105-D105)/PARÂMETROS!$C$14),(L105+2*M105+(C105-D105)/PARÂMETROS!$C$14)/(F105+2*G105-(C105-D105)/PARÂMETROS!$C$11))","v":{"v":-2.500000307495456,"d":"-2.50E+00"}},{"$f":"IF(PARÂMETROS!$J$6<PARÂMETROS!$F$6,(F105+2*G105-(C105-D105)/PARÂMETROS!$C$11)/(N105+2*O105+3*P105+(C105-D105)/PARÂMETROS!$C$14),(N105+2*O105+3*P105+(C105-D105)/PARÂMETROS!$C$14)/(F105+2*G105-(C105-D105)/PARÂMETROS!$C$11))","v":{"v":-2.5000004783262963,"d":"-2.50E+00"}},{"$f":"IF(PARÂMETROS!$J$6<PARÂMETROS!$F$6,(H105+2*I105+3*J105-(C105-D105)/PARÂMETROS!$C$11)/(K105+(C105-D105)/PARÂMETROS!$C$14),(K105+(C105-D105)/PARÂMETROS!$C$14)/(H105+2*I105+3*J105-(C105-D105)/PARÂMETROS!$C$11))","v":{"v":-2.5000002049969576,"d":"-2.50E+00"}},{"$f":"IF(PARÂMETROS!$J$6<PARÂMETROS!$F$6,(H105+2*I105+3*J105-(C105-D105)/PARÂMETROS!$C$11)/(L105+2*M105+(C105-D105)/PARÂMETROS!$C$14),(L105+2*M105+(C105-D105)/PARÂMETROS!$C$14)/(H105+2*I105+3*J105-(C105-D105)/PARÂMETROS!$C$11))","v":{"v":-2.500000375827779,"d":"-2.50E+00"}},{"$f":"IF(PARÂMETROS!$J$6<PARÂMETROS!$F$6,(H105+2*I105+3*J105-(C105-D105)/PARÂMETROS!$C$11)/(N105+2*O105+3*P105+(C105-D105)/PARÂMETROS!$C$14),(N105+2*O105+3*P105+(C105-D105)/PARÂMETROS!$C$14)/(H105+2*I105+3*J105-(C105-D105)/PARÂMETROS!$C$11))","v":{"v":-2.500000546658624,"d":"-2.50E+00"}},{"$f":"Q105*PARÂMETROS!$C$11*PARÂMETROS!$D$11/PARÂMETROS!$C$14","v":{"v":-50.000001366646416,"d":"-50.00"}},{"$f":"R105*PARÂMETROS!$C$11*PARÂMETROS!$D$11/PARÂMETROS!$C$14","v":{"v":-50.00000478326266,"d":"-50.00"}},{"$f":"S105*PARÂMETROS!$C$11*PARÂMETROS!$D$11/PARÂMETROS!$C$14","v":{"v":-50.000008199879375,"d":"-50.00"}},{"$f":"T105*PARÂMETROS!$C$11*PARÂMETROS!$D$11/PARÂMETROS!$C$14","v":{"v":-50.00000273329278,"d":"-50.00"}},{"$f":"U105*PARÂMETROS!$C$11*PARÂMETROS!$D$11/PARÂMETROS!$C$14","v":{"v":-50.000006149909126,"d":"-50.00"}},{"$f":"V105*PARÂMETROS!$C$11*PARÂMETROS!$D$11/PARÂMETROS!$C$14","v":{"v":-50.000009566525925,"d":"-50.00"}},{"$f":"W105*PARÂMETROS!$C$11*PARÂMETROS!$D$11/PARÂMETROS!$C$14","v":{"v":-50.000004099939154,"d":"-50.00"}},{"$f":"X105*PARÂMETROS!$C$11*PARÂMETROS!$D$11/PARÂMETROS!$C$14","v":{"v":-50.00000751655559,"d":"-50.00"}},{"$f":"Y105*PARÂMETROS!$C$11*PARÂMETROS!$D$11/PARÂMETROS!$C$14","v":{"v":-50.00001093317249,"d":"-50.00"}},{"$f":"AND(B105+PARÂMETROS!$C$8>=PARÂMETROS!$C$5,B105+PARÂMETROS!$C$8<=PARÂMETROS!$D$5)","v":false},0,{"$f":"VLOOKUP('BANCO DE DADOS COMPLETA'!$N$8,'BANCO DE DADOS COMPLETA'!$A$7:$L$249,3)*-1","v":3},7,{"$f":"VLOOKUP('BANCO DE DADOS COMPLETA'!$N$10,'BANCO DE DADOS COMPLETA'!$A$7:$L$249,3)*-1","v":1},11,77,{"v":-50.000004099939154,"d":"-50.00"},"LIMITE","LIMITE","LIMITE","LIMITE","NADA","NADA",0]
[null,{"$f":"B105+PARÂMETROS!$C$8","v":{"v":21.064343848340652,"d":"21.06"}},{"v":8.622955634854992e-22,"d":"8.62E-22"},{"$f":"PARÂMETROS!$Q$4/C106","v":{"v":11596951.698996147,"d":"1.16E+07"}},{"$f":"PARÂMETROS!$F$6/($C106+PARÂMETROS!$F$6)","v":{"v":1,"d":"1.00E+00"}},{"$f":"$C106*PARÂMETROS!$F$6/($C106^2+$C106*PARÂMETROS!$F$6+PARÂMETROS!$F$6*PARÂMETROS!$G$6)","v":{"v":1.3635031690329792E-14,"d":"1.36E-14"}},{"$f":"PARÂMETROS!$F$6*PARÂMETROS!$G$6/($C106^2+$C106*PARÂMETROS!$F$6+PARÂMETROS!$F$6*PARÂMETROS!$G$6)","v":{"v":0.9999999999999863,"d":"1.00E+00"}},{"$f":"(PARÂMETROS!$F$6*$C106^2)/($C106^3+PARÂMETROS!$F$6*$C106^2+PARÂMETROS!$F$6*PARÂMETROS!$G$6*$C106+PARÂMETROS!$F$6*PARÂMETROS!$G$6*PARÂMETROS!$H$6)","v":{"v":2.6321601058238934E-23,"d":"2.63E-23"}},{"$f":"(PARÂMETROS!$F$6*PARÂMETROS!$G$6*$C106)/($C106^3+PARÂMETROS!$F$6*$C106^2+PARÂMETROS!$F$6*PARÂMETROS!$G$6*$C106+PARÂMETROS!$F$6*PARÂMETROS!$G$6*PARÂMETROS!$H$6)","v":{"v":1.9304393019420939E-9,"d":"1.93E-09"}},{"$f":"(PARÂMETROS!$F$6*PARÂMETROS!$G$6*PARÂMETROS!$H$6)/($C106^3+PARÂMETROS!$F$6*$C106^2+PARÂMETROS!$F$6*PARÂMETROS!$G$6*$C106+PARÂMETROS!$F$6*PARÂMETROS!$G$6*PARÂMETROS!$H$6)","v":{"v":0.9999999980695607,"d":"1.00E+00"}},{"$f":"$C106/($C106+PARÂMETROS!$J$6)","v":{"v":8.6229555604996289E-9,"d":"8.62E-09"}},{"$f":"$C106*PARÂMETROS!$J$6/($C106^2+$C106*PARÂMETROS!$J$6+PARÂMETROS!$J$6*PARÂMETROS!$K$6)","v":{"v":0.9999999913770444,"d":"1.00E+00"}},{"$f":"$C106^2/($C106^2+$C106*PARÂMETROS!$J$6+PARÂMETROS!$J$6*PARÂMETROS!$K$6)","v":{"v":8.6229555604996289E-9,"d":"8.62E-09"}},{"$f":"(PARÂMETROS!$K$6*PARÂMETROS!$J$6*$C106)/($C106^3+PARÂMETROS!$J$6*$C106^2+PARÂMETROS!$J$6*PARÂMETROS!$K$6*$C106+PARÂMETROS!$J$6*PARÂMETROS!$K$6*PARÂMETROS!$L$6)","v":{"v":0,"d":"0.00E+00"}},{"$f":"(PARÂMETROS!$J$6*$C106^2)/($C106^3+PARÂMETROS!$J$6*$C106^2+PARÂMETROS!$J$6*PARÂMETROS!$K$6*$C106+PARÂMETROS!$J$6*PARÂMETROS!$K$6*PARÂMETROS!$L$6)","v":{"v":0.9999999913770444,"d":"1.00E+00"}},{"$f":"($C106^3)/($C106^3+PARÂMETROS!$J$6*$C106^2+PARÂMETROS!$J$6*PARÂMETROS!$K$6*$C106+PARÂMETROS!$J$6*PARÂMETROS!$K$6*PARÂMETROS!$L$6)","v":{"v":8.6229555604996273E-9,"d":"8.62E-09"}},{"$f":"IF(PARÂMETROS!$J$6<PARÂMETROS!$F$6,(E106-(C106-D106)/PARÂMETROS!$C$11)/(K106+(C106-D106)/PARÂMETROS!$C$14),(K106+(C106-D106)/PARÂMETROS!$C$14)/(E106-(C106-D106)/PARÂMETROS!$C$11))","v":{"v":-2.500000043114779,"d":"-2.50E+00"}},{"$f":"IF(PARÂMETROS!$J$6<PARÂMETROS!$F$6,(E106-(C106-D106)/PARÂMETROS!$C$11)/(L106+2*M106+(C106-D106)/PARÂMETROS!$C$14),(L106+2*M106+(C106-D106)/PARÂMETROS!$C$14)/(E106-(C106-D106)/PARÂMETROS!$C$11))","v":{"v":-2.5000001509017307,"d":"-2.50E+00"}},{"$f":"IF(PARÂMETROS!$J$6<PARÂMETROS!$F$6, (E106-(C106-D106)/PARÂMETROS!$C$11)/(N106+2*O106+3*P106+(C106-D106)/PARÂMETROS!$C$14),(N106+2*O106+3*P106+(C106-D106)/PARÂMETROS!$C$14)/ (E106-(C106-D106)/PARÂMETROS!$C$11))","v":{"v":-2.500000258688692,"d":"-2.50E+00"}},{"$f":"IF(PARÂMETROS!$J$6<PARÂMETROS!$F$6,(F106+2*G106-(C106-D106)/PARÂMETROS!$C$11)/(K106+(C106-D106)/PARÂMETROS!$C$14),(K106+(C106-D106)/PARÂMETROS!$C$14)/(F106+2*G106-(C106-D106)/PARÂMETROS!$C$11))","v":{"v":-2.500000086229557,"d":"-2.50E+00"}},{"$f":"IF(PARÂMETROS!$J$6<PARÂMETROS!$F$6,(F106+2*G106-(C106-D106)/PARÂMETROS!$C$11)/(L106+2*M106+(C106-D106)/PARÂMETROS!$C$14),(L106+2*M106+(C106-D106)/PARÂMETROS!$C$14)/(F106+2*G106-(C106-D106)/PARÂMETROS!$C$11))","v":{"v":-2.500000194016511,"d":"-2.50E+00"}},{"$f":"IF(PARÂMETROS!$J$6<PARÂMETROS!$F$6,(F106+2*G106-(C106-D106)/PARÂMETROS!$C$11)/(N106+2*O106+3*P106+(C106-D106)/PARÂMETROS!$C$14),(N106+2*O106+3*P106+(C106-D106)/PARÂMETROS!$C$14)/(F106+2*G106-(C106-D106)/PARÂMETROS!$C$11))","v":{"v":-2.5000003018034738,"d":"-2.50E+00"}},{"$f":"IF(PARÂMETROS!$J$6<PARÂMETROS!$F$6,(H106+2*I106+3*J106-(C106-D106)/PARÂMETROS!$C$11)/(K106+(C106-D106)/PARÂMETROS!$C$14),(K106+(C106-D106)/PARÂMETROS!$C$14)/(H106+2*I106+3*J106-(C106-D106)/PARÂMETROS!$C$11))","v":{"v":-2.5000001293443352,"d":"-2.50E+00"}},{"$f":"IF(PARÂMETROS!$J$6<PARÂMETROS!$F$6,(H106+2*I106+3*J106-(C106-D106)/PARÂMETROS!$C$11)/(L106+2*M106+(C106-D106)/PARÂMETROS!$C$14),(L106+2*M106+(C106-D106)/PARÂMETROS!$C$14)/(H106+2*I106+3*J106-(C106-D106)/PARÂMETROS!$C$11))","v":{"v":-2.5000002371312906,"d":"-2.50E+00"}},{"$f":"IF(PARÂMETROS!$J$6<PARÂMETROS!$F$6,(H106+2*I106+3*J106-(C106-D106)/PARÂMETROS!$C$11)/(N106+2*O106+3*P106+(C106-D106)/PARÂMETROS!$C$14),(N106+2*O106+3*P106+(C106-D106)/PARÂMETROS!$C$14)/(H106+2*I106+3*J106-(C106-D106)/PARÂMETROS!$C$11))","v":{"v":-2.5000003449182557,"d":"-2.50E+00"}},{"$f":"Q106*PARÂMETROS!$C$11*PARÂMETROS!$D$11/PARÂMETROS!$C$14","v":{"v":-50.00000086229558,"d":"-50.00"}},{"$f":"R106*PARÂMETROS!$C$11*PARÂMETROS!$D$11/PARÂMETROS!$C$14","v":{"v":-50.00000301803461,"d":"-50.00"}},{"$f":"S106*PARÂMETROS!$C$11*PARÂMETROS!$D$11/PARÂMETROS!$C$14","v":{"v":-50.00000517377384,"d":"-50.00"}},{"$f":"T106*PARÂMETROS!$C$11*PARÂMETROS!$D$11/PARÂMETROS!$C$14","v":{"v":-50.00000172459114,"d":"-50.00"}},{"$f":"U106*PARÂMETROS!$C$11*PARÂMETROS!$D$11/PARÂMETROS!$C$14","v":{"v":-50.000003880330226,"d":"-50.00"}},{"$f":"V106*PARÂMETROS!$C$11*PARÂMETROS!$D$11/PARÂMETROS!$C$14","v":{"v":-50.00000603606948,"d":"-50.00"}},{"$f":"W106*PARÂMETROS!$C$11*PARÂMETROS!$D$11/PARÂMETROS!$C$14","v":{"v":-50.00000258688671,"d":"-50.00"}},{"$f":"X106*PARÂMETROS!$C$11*PARÂMETROS!$D$11/PARÂMETROS!$C$14","v":{"v":-50.00000474262581,"d":"-50.00"}},{"$f":"Y106*PARÂMETROS!$C$11*PARÂMETROS!$D$11/PARÂMETROS!$C$14","v":{"v":-50.000006898365115,"d":"-50.00"}},{"$f":"AND(B106+PARÂMETROS!$C$8>=PARÂMETROS!$C$5,B106+PARÂMETROS!$C$8<=PARÂMETROS!$D$5)","v":false},0,{"$f":"VLOOKUP('BANCO DE DADOS COMPLETA'!$N$8,'BANCO DE DADOS COMPLETA'!$A$7:$L$249,3)*-1","v":3},7,{"$f":"VLOOKUP('BANCO DE DADOS COMPLETA'!$N$10,'BANCO DE DADOS COMPLETA'!$A$7:$L$249,3)*-1","v":1},11,77,{"v":-50.00000258688671,"d":"-50.00"},"LIMITE","LIMITE","LIMITE","LIMITE","NADA",{"$f":"IF(AU105=\"NADA\",\"NADA\",IF(AU106=\"NADA\",\"NADA\",AVERAGE(AU106,AU105)))","v":"NADA"},{"$f":"IF(AV106=\"NADA\",0,1)","v":0}]
[null,{"$f":"B106+PARÂMETROS!$C$8","v":{"v":21.26434384834065,"d":"21.26"}},{"v":5.440717188938634e-22,"d":"5.44E-22"},{"$f":"PARÂMETROS!$Q$4/C107","v":{"v":18379929.801039305,"d":"1.84E+07"}},{"$f":"PARÂMETROS!$F$6/($C107+PARÂMETROS!$F$6)","v":{"v":1,"d":"1.00E+00"}},{"$f":"$C107*PARÂMETROS!$F$6/($C107^2+$C107*PARÂMETROS!$F$6+PARÂMETROS!$F$6*PARÂMETROS!$G$6)","v":{"v":8.603123387233825e-15,"d":"8.60E-15"}},{"$f":"PARÂMETROS!$F$6*PARÂMETROS!$G$6/($C107^2+$C107*PARÂMETROS!$F$6+PARÂMETROS!$F$6*PARÂMETROS!$G$6)","v":{"v":0.9999999999999913,"d":"1.00E+00"}},{"$f":"(PARÂMETROS!$F$6*$C107^2)/($C107^3+PARÂMETROS!$F$6*$C107^2+PARÂMETROS!$F$6*PARÂMETROS!$G$6*$C107+PARÂMETROS!$F$6*PARÂMETROS!$G$6*PARÂMETROS!$H$6)","v":{"v":1.047881812919874E-23,"d":"1.05E-23"}},{"$f":"(PARÂMETROS!$F$6*PARÂMETROS!$G$6*$C107)/($C107^3+PARÂMETROS!$F$6*$C107^2+PARÂMETROS!$F$6*PARÂMETROS!$G$6*$C107+PARÂMETROS!$F$6*PARÂMETROS!$G$6*PARÂMETROS!$H$6)","v":{"v":1.2180248565013222E-9,"d":"1.22E-09"}},{"$f":"(PARÂMETROS!$F$6*PARÂMETROS!$G$6*PARÂMETROS!$H$6)/($C107^3+PARÂMETROS!$F$6*$C107^2+PARÂMETROS!$F$6*PARÂMETROS!$G$6*$C107+PARÂMETROS!$F$6*PARÂMETROS!$G$6*PARÂMETROS!$H$6)","v":{"v":0.9999999987819751,"d":"1.00E+00"}},{"$f":"$C107/($C107+PARÂMETROS!$J$6)","v":{"v":5.44071715933723e-09,"d":"5.44E-09"}},{"$f":"$C107*PARÂMETROS!$J$6/($C107^2+$C107*PARÂMETROS!$J$6+PARÂMETROS!$J$6*PARÂMETROS!$K$6)","v":{"v":0.9999999945592828,"d":"1.00E+00"}},{"$f":"$C107^2/($C107^2+$C107*PARÂMETROS!$J$6+PARÂMETROS!$J$6*PARÂMETROS!$K$6)","v":{"v":5.440717159337231E-9,"d":"5.44E-09"}},{"$f":"(PARÂMETROS!$K$6*PARÂMETROS!$J$6*$C107)/($C107^3+PARÂMETROS!$J$6*$C107^2+PARÂMETROS!$J$6*PARÂMETROS!$K$6*$C107+PARÂMETROS!$J$6*PARÂMETROS!$K$6*PARÂMETROS!$L$6)","v":{"v":0,"d":"0.00E+00"}},{"$f":"(PARÂMETROS!$J$6*$C107^2)/($C107^3+PARÂMETROS!$J$6*$C107^2+PARÂMETROS!$J$6*PARÂMETROS!$K$6*$C107+PARÂMETROS!$J$6*PARÂMETROS!$K$6*PARÂMETROS!$L$6)","v":{"v":0.9999999945592828,"d":"1.00E+00"}},{"$f":"($C107^3)/($C107^3+PARÂMETROS!$J$6*$C107^2+PARÂMETROS!$J$6*PARÂMETROS!$K$6*$C107+PARÂMETROS!$J$6*PARÂMETROS!$K$6*PARÂMETROS!$L$6)","v":{"v":5.44071715933723e-09,"d":"5.44E-09"}},{"$f":"IF(PARÂMETROS!$J$6<PARÂMETROS!$F$6,(E107-(C107-D107)/PARÂMETROS!$C$11)/(K107+(C107-D107)/PARÂMETROS!$C$14),(K107+(C107-D107)/PARÂMETROS!$C$14)/(E107-(C107-D107)/PARÂMETROS!$C$11))","v":{"v":-2.500000027203586,"d":"-2.50E+00"}},{"$f":"IF(PARÂMETROS!$J$6<PARÂMETROS!$F$6,(E107-(C107-D107)/PARÂMETROS!$C$11)/(L107+2*M107+(C107-D107)/PARÂMETROS!$C$14),(L107+2*M107+(C107-D107)/PARÂMETROS!$C$14)/(E107-(C107-D107)/PARÂMETROS!$C$11))","v":{"v":-2.5000000952125534,"d":"-2.50E+00"}},{"$f":"IF(PARÂMETROS!$J$6<PARÂMETROS!$F$6, (E107-(C107-D107)/PARÂMETROS!$C$11)/(N107+2*O107+3*P107+(C107-D107)/PARÂMETROS!$C$14),(N107+2*O107+3*P107+(C107-D107)/PARÂMETROS!$C$14)/ (E107-(C107-D107)/PARÂMETROS!$C$11))","v":{"v":-2.5000001632215247,"d":"-2.50E+00"}},{"$f":"IF(PARÂMETROS!$J$6<PARÂMETROS!$F$6,(F107+2*G107-(C107-D107)/PARÂMETROS!$C$11)/(K107+(C107-D107)/PARÂMETROS!$C$14),(K107+(C107-D107)/PARÂMETROS!$C$14)/(F107+2*G107-(C107-D107)/PARÂMETROS!$C$11))","v":{"v":-2.500000054407172,"d":"-2.50E+00"}},{"$f":"IF(PARÂMETROS!$J$6<PARÂMETROS!$F$6,(F107+2*G107-(C107-D107)/PARÂMETROS!$C$11)/(L107+2*M107+(C107-D107)/PARÂMETROS!$C$14),(L107+2*M107+(C107-D107)/PARÂMETROS!$C$14)/(F107+2*G107-(C107-D107)/PARÂMETROS!$C$11))","v":{"v":-2.5000001224161403,"d":"-2.50E+00"}},{"$f":"IF(PARÂMETROS!$J$6<PARÂMETROS!$F$6,(F107+2*G107-(C107-D107)/PARÂMETROS!$C$11)/(N107+2*O107+3*P107+(C107-D107)/PARÂMETROS!$C$14),(N107+2*O107+3*P107+(C107-D107)/PARÂMETROS!$C$14)/(F107+2*G107-(C107-D107)/PARÂMETROS!$C$11))","v":{"v":-2.500000190425112,"d":"-2.50E+00"}},{"$f":"IF(PARÂMETROS!$J$6<PARÂMETROS!$F$6,(H107+2*I107+3*J107-(C107-D107)/PARÂMETROS!$C$11)/(K107+(C107-D107)/PARÂMETROS!$C$14),(K107+(C107-D107)/PARÂMETROS!$C$14)/(H107+2*I107+3*J107-(C107-D107)/PARÂMETROS!$C$11))","v":{"v":-2.500000081610758,"d":"-2.50E+00"}},{"$f":"IF(PARÂMETROS!$J$6<PARÂMETROS!$F$6,(H107+2*I107+3*J107-(C107-D107)/PARÂMETROS!$C$11)/(L107+2*M107+(C107-D107)/PARÂMETROS!$C$14),(L107+2*M107+(C107-D107)/PARÂMETROS!$C$14)/(H107+2*I107+3*J107-(C107-D107)/PARÂMETROS!$C$11))","v":{"v":-2.500000149619727,"d":"-2.50E+00"}},{"$f":"IF(PARÂMETROS!$J$6<PARÂMETROS!$F$6,(H107+2*I107+3*J107-(C107-D107)/PARÂMETROS!$C$11)/(N107+2*O107+3*P107+(C107-D107)/PARÂMETROS!$C$14),(N107+2*O107+3*P107+(C107-D107)/PARÂMETROS!$C$14)/(H107+2*I107+3*J107-(C107-D107)/PARÂMETROS!$C$11))","v":{"v":-2.5000002176286995,"d":"-2.50E+00"}},{"$f":"Q107*PARÂMETROS!$C$11*PARÂMETROS!$D$11/PARÂMETROS!$C$14","v":{"v":-50.000000544071725,"d":"-50.00"}},{"$f":"R107*PARÂMETROS!$C$11*PARÂMETROS!$D$11/PARÂMETROS!$C$14","v":{"v":-50.000001904251064,"d":"-50.00"}},{"$f":"S107*PARÂMETROS!$C$11*PARÂMETROS!$D$11/PARÂMETROS!$C$14","v":{"v":-50.00000326443049,"d":"-50.00"}},{"$f":"T107*PARÂMETROS!$C$11*PARÂMETROS!$D$11/PARÂMETROS!$C$14","v":{"v":-50.00000108814344,"d":"-50.00"}},{"$f":"U107*PARÂMETROS!$C$11*PARÂMETROS!$D$11/PARÂMETROS!$C$14","v":{"v":-50.00000244832281,"d":"-50.00"}},{"$f":"V107*PARÂMETROS!$C$11*PARÂMETROS!$D$11/PARÂMETROS!$C$14","v":{"v":-50.00000380850225,"d":"-50.00"}},{"$f":"W107*PARÂMETROS!$C$11*PARÂMETROS!$D$11/PARÂMETROS!$C$14","v":{"v":-50.00000163221516,"d":"-50.00"}},{"$f":"X107*PARÂMETROS!$C$11*PARÂMETROS!$D$11/PARÂMETROS!$C$14","v":{"v":-50.00000299239454,"d":"-50.00"}},{"$f":"Y107*PARÂMETROS!$C$11*PARÂMETROS!$D$11/PARÂMETROS!$C$14","v":{"v":-50.00000435257399,"d":"-50.00"}},{"$f":"AND(B107+PARÂMETROS!$C$8>=PARÂMETROS!$C$5,B107+PARÂMETROS!$C$8<=PARÂMETROS!$D$5)","v":false},0,{"$f":"VLOOKUP('BANCO DE DADOS COMPLETA'!$N$8,'BANCO DE DADOS COMPLETA'!$A$7:$L$249,3)*-1","v":3},7,{"$f":"VLOOKUP('BANCO DE DADOS COMPLETA'!$N$10,'BANCO DE DADOS COMPLETA'!$A$7:$L$249,3)*-1","v":1},11,77,{"v":-50.00000163221516,"d":"-50.00"},"LIMITE","LIMITE","LIMITE","LIMITE","NADA","NADA",0]
[null,{"$f":"B107+PARÂMETROS!$C$8","v":{"v":21.46434384834065,"d":"21.46"}},{"v":3.4328604696004693E-22,"d":"3.43E-22"},{"$f":"PARÂMETROS!$Q$4/C108","v":{"v":29130225.619580287,"d":"2.91E+07"}},{"$f":"PARÂMETROS!$F$6/($C108+PARÂMETROS!$F$6)","v":{"v":1,"d":"1.00E+00"}},{"$f":"$C108*PARÂMETROS!$F$6/($C108^2+$C108*PARÂMETROS!$F$6+PARÂMETROS!$F$6*PARÂMETROS!$G$6)","v":{"v":5.4282038866445275E-15,"d":"5.43E-15"}},{"$f":"PARÂMETROS!$F$6*PARÂMETROS!$G$6/($C108^2+$C108*PARÂMETROS!$F$6+PARÂMETROS!$F$6*PARÂMETROS!$G$6)","v":{"v":0.9999999999999946,"d":"1.00E+00"}},{"$f":"(PARÂMETROS!$F$6*$C108^2)/($C108^3+PARÂMETROS!$F$6*$C108^2+PARÂMETROS!$F$6*PARÂMETROS!$G$6*$C108+PARÂMETROS!$F$6*PARÂMETROS!$G$6*PARÂMETROS!$H$6)","v":{"v":4.171692638035207e-24,"d":"4.17E-24"}},{"$f":"(PARÂMETROS!$F$6*PARÂMETROS!$G$6*$C108)/($C108^3+PARÂMETROS!$F$6*$C108^2+PARÂMETROS!$F$6*PARÂMETROS!$G$6*$C108+PARÂMETROS!$F$6*PARÂMETROS!$G$6*PARÂMETROS!$H$6)","v":{"v":7.685217293143971e-10,"d":"7.69E-10"}},{"$f":"(PARÂMETROS!$F$6*PARÂMETROS!$G$6*PARÂMETROS!$H$6)/($C108^3+PARÂMETROS!$F$6*$C108^2+PARÂMETROS!$F$6*PARÂMETROS!$G$6*$C108+PARÂMETROS!$F$6*PARÂMETROS!$G$6*PARÂMETROS!$H$6)","v":{"v":0.9999999992314782,"d":"1.00E+00"}},{"$f":"$C108/($C108+PARÂMETROS!$J$6)","v":{"v":3.432860457815938E-9,"d":"3.43E-09"}},{"$f":"$C108*PARÂMETROS!$J$6/($C108^2+$C108*PARÂMETROS!$J$6+PARÂMETROS!$J$6*PARÂMETROS!$K$6)","v":{"v":0.9999999965671394,"d":"1.00E+00"}},{"$f":"$C108^2/($C108^2+$C108*PARÂMETROS!$J$6+PARÂMETROS!$J$6*PARÂMETROS!$K$6)","v":{"v":3.432860457815938E-9,"d":"3.43E-09"}},{"$f":"(PARÂMETROS!$K$6*PARÂMETROS!$J$6*$C108)/($C108^3+PARÂMETROS!$J$6*$C108^2+PARÂMETROS!$J$6*PARÂMETROS!$K$6*$C108+PARÂMETROS!$J$6*PARÂMETROS!$K$6*PARÂMETROS!$L$6)","v":{"v":0,"d":"0.00E+00"}},{"$f":"(PARÂMETROS!$J$6*$C108^2)/($C108^3+PARÂMETROS!$J$6*$C108^2+PARÂMETROS!$J$6*PARÂMETROS!$K$6*$C108+PARÂMETROS!$J$6*PARÂMETROS!$K$6*PARÂMETROS!$L$6)","v":{"v":0.9999999965671396,"d":"1.00E+00"}},{"$f":"($C108^3)/($C108^3+PARÂMETROS!$J$6*$C108^2+PARÂMETROS!$J$6*PARÂMETROS!$K$6*$C108+PARÂMETROS!$J$6*PARÂMETROS!$K$6*PARÂMETROS!$L$6)","v":{"v":3.4328604578159384E-9,"d":"3.43E-09"}},{"$f":"IF(PARÂMETROS!$J$6<PARÂMETROS!$F$6,(E108-(C108-D108)/PARÂMETROS!$C$11)/(K108+(C108-D108)/PARÂMETROS!$C$14),(K108+(C108-D108)/PARÂMETROS!$C$14)/(E108-(C108-D108)/PARÂMETROS!$C$11))","v":{"v":-2.5000000171643024,"d":"-2.50E+00"}},{"$f":"IF(PARÂMETROS!$J$6<PARÂMETROS!$F$6,(E108-(C108-D108)/PARÂMETROS!$C$11)/(L108+2*M108+(C108-D108)/PARÂMETROS!$C$14),(L108+2*M108+(C108-D108)/PARÂMETROS!$C$14)/(E108-(C108-D108)/PARÂMETROS!$C$11))","v":{"v":-2.500000060075059,"d":"-2.50E+00"}},{"$f":"IF(PARÂMETROS!$J$6<PARÂMETROS!$F$6, (E108-(C108-D108)/PARÂMETROS!$C$11)/(N108+2*O108+3*P108+(C108-D108)/PARÂMETROS!$C$14),(N108+2*O108+3*P108+(C108-D108)/PARÂMETROS!$C$14)/ (E108-(C108-D108)/PARÂMETROS!$C$11))","v":{"v":-2.5000001029858177,"d":"-2.50E+00"}},{"$f":"IF(PARÂMETROS!$J$6<PARÂMETROS!$F$6,(F108+2*G108-(C108-D108)/PARÂMETROS!$C$11)/(K108+(C108-D108)/PARÂMETROS!$C$14),(K108+(C108-D108)/PARÂMETROS!$C$14)/(F108+2*G108-(C108-D108)/PARÂMETROS!$C$11))","v":{"v":-2.500000034328605,"d":"-2.50E+00"}},{"$f":"IF(PARÂMETROS!$J$6<PARÂMETROS!$F$6,(F108+2*G108-(C108-D108)/PARÂMETROS!$C$11)/(L108+2*M108+(C108-D108)/PARÂMETROS!$C$14),(L108+2*M108+(C108-D108)/PARÂMETROS!$C$14)/(F108+2*G108-(C108-D108)/PARÂMETROS!$C$11))","v":{"v":-2.500000077239362,"d":"-2.50E+00"}},{"$f":"IF(PARÂMETROS!$J$6<PARÂMETROS!$F$6,(F108+2*G108-(C108-D108)/PARÂMETROS!$C$11)/(N108+2*O108+3*P108+(C108-D108)/PARÂMETROS!$C$14),(N108+2*O108+3*P108+(C108-D108)/PARÂMETROS!$C$14)/(F108+2*G108-(C108-D108)/PARÂMETROS!$C$11))","v":{"v":-2.5000001201501205,"d":"-2.50E+00"}},{"$f":"IF(PARÂMETROS!$J$6<PARÂMETROS!$F$6,(H108+2*I108+3*J108-(C108-D108)/PARÂMETROS!$C$11)/(K108+(C108-D108)/PARÂMETROS!$C$14),(K108+(C108-D108)/PARÂMETROS!$C$14)/(H108+2*I108+3*J108-(C108-D108)/PARÂMETROS!$C$11))","v":{"v":-2.500000051492907,"d":"-2.50E+00"}},{"$f":"IF(PARÂMETROS!$J$6<PARÂMETROS!$F$6,(H108+2*I108+3*J108-(C108-D108)/PARÂMETROS!$C$11)/(L108+2*M108+(C108-D108)/PARÂMETROS!$C$14),(L108+2*M108+(C108-D108)/PARÂMETROS!$C$14)/(H108+2*I108+3*J108-(C108-D108)/PARÂMETROS!$C$11))","v":{"v":-2.5000000944036644,"d":"-2.50E+00"}},{"$f":"IF(PARÂMETROS!$J$6<PARÂMETROS!$F$6,(H108+2*I108+3*J108-(C108-D108)/PARÂMETROS!$C$11)/(N108+2*O108+3*P108+(C108-D108)/PARÂMETROS!$C$14),(N108+2*O108+3*P108+(C108-D108)/PARÂMETROS!$C$14)/(H108+2*I108+3*J108-(C108-D108)/PARÂMETROS!$C$11))","v":{"v":-2.5000001373144234,"d":"-2.50E+00"}},{"$f":"Q108*PARÂMETROS!$C$11*PARÂMETROS!$D$11/PARÂMETROS!$C$14","v":{"v":-50.000000343286054,"d":"-50.00"}},{"$f":"R108*PARÂMETROS!$C$11*PARÂMETROS!$D$11/PARÂMETROS!$C$14","v":{"v":-50.000001201501185,"d":"-50.00"}},{"$f":"S108*PARÂMETROS!$C$11*PARÂMETROS!$D$11/PARÂMETROS!$C$14","v":{"v":-50.00000205971635,"d":"-50.00"}},{"$f":"T108*PARÂMETROS!$C$11*PARÂMETROS!$D$11/PARÂMETROS!$C$14","v":{"v":-50.0000006865721,"d":"-50.00"}},{"$f":"U108*PARÂMETROS!$C$11*PARÂMETROS!$D$11/PARÂMETROS!$C$14","v":{"v":-50.000001544787246,"d":"-50.00"}},{"$f":"V108*PARÂMETROS!$C$11*PARÂMETROS!$D$11/PARÂMETROS!$C$14","v":{"v":-50.000002403002405,"d":"-50.00"}},{"$f":"W108*PARÂMETROS!$C$11*PARÂMETROS!$D$11/PARÂMETROS!$C$14","v":{"v":-50.00000102985814,"d":"-50.00"}},{"$f":"X108*PARÂMETROS!$C$11*PARÂMETROS!$D$11/PARÂMETROS!$C$14","v":{"v":-50.000001888073285,"d":"-50.00"}},{"$f":"Y108*PARÂMETROS!$C$11*PARÂMETROS!$D$11/PARÂMETROS!$C$14","v":{"v":-50.00000274628847,"d":"-50.00"}},{"$f":"AND(B108+PARÂMETROS!$C$8>=PARÂMETROS!$C$5,B108+PARÂMETROS!$C$8<=PARÂMETROS!$D$5)","v":false},0,{"$f":"VLOOKUP('BANCO DE DADOS COMPLETA'!$N$8,'BANCO DE DADOS COMPLETA'!$A$7:$L$249,3)*-1","v":3},7,{"$f":"VLOOKUP('BANCO DE DADOS COMPLETA'!$N$10,'BANCO DE DADOS COMPLETA'!$A$7:$L$249,3)*-1","v":1},11,77,{"v":-50.00000102985814,"d":"-50.00"},"LIMITE","LIMITE","LIMITE","LIMITE","NADA","NADA",0]
[null,{"$f":"B108+PARÂMETROS!$C$8","v":{"v":21.66434384834065,"d":"21.66"}},{"v":2.1659885258701457E-22,"d":"2.17E-22"},{"$f":"PARÂMETROS!$Q$4/C109","v":{"v":46168296.279329024,"d":"4.62E+07"}},{"$f":"PARÂMETROS!$F$6/($C109+PARÂMETROS!$F$6)","v":{"v":1,"d":"1.00E+00"}},{"$f":"$C109*PARÂMETROS!$F$6/($C109^2+$C109*PARÂMETROS!$F$6+PARÂMETROS!$F$6*PARÂMETROS!$G$6)","v":{"v":3.4249651096143088E-15,"d":"3.42E-15"}},{"$f":"PARÂMETROS!$F$6*PARÂMETROS!$G$6/($C109^2+$C109*PARÂMETROS!$F$6+PARÂMETROS!$F$6*PARÂMETROS!$G$6)","v":{"v":0.9999999999999966,"d":"1.00E+00"}},{"$f":"(PARÂMETROS!$F$6*$C109^2)/($C109^3+PARÂMETROS!$F$6*$C109^2+PARÂMETROS!$F$6*PARÂMETROS!$G$6*$C109+PARÂMETROS!$F$6*PARÂMETROS!$G$6*PARÂMETROS!$H$6)","v":{"v":1.6607807530180836E-24,"d":"1.66E-24"}},{"$f":"(PARÂMETROS!$F$6*PARÂMETROS!$G$6*$C109)/($C109^3+PARÂMETROS!$F$6*$C109^2+PARÂMETROS!$F$6*PARÂMETROS!$G$6*$C109+PARÂMETROS!$F$6*PARÂMETROS!$G$6*PARÂMETROS!$H$6)","v":{"v":4.849044296410662e-10,"d":"4.85E-10"}},{"$f":"(PARÂMETROS!$F$6*PARÂMETROS!$G$6*PARÂMETROS!$H$6)/($C109^3+PARÂMETROS!$F$6*$C109^2+PARÂMETROS!$F$6*PARÂMETROS!$G$6*$C109+PARÂMETROS!$F$6*PARÂMETROS!$G$6*PARÂMETROS!$H$6)","v":{"v":0.9999999995150956,"d":"1.00E+00"}},{"$f":"$C109/($C109+PARÂMETROS!$J$6)","v":{"v":2.1659885211786392E-9,"d":"2.17E-09"}},{"$f":"$C109*PARÂMETROS!$J$6/($C109^2+$C109*PARÂMETROS!$J$6+PARÂMETROS!$J$6*PARÂMETROS!$K$6)","v":{"v":0.9999999978340115,"d":"1.00E+00"}},{"$f":"$C109^2/($C109^2+$C109*PARÂMETROS!$J$6+PARÂMETROS!$J$6*PARÂMETROS!$K$6)","v":{"v":2.1659885211786392E-9,"d":"2.17E-09"}},{"$f":"(PARÂMETROS!$K$6*PARÂMETROS!$J$6*$C109)/($C109^3+PARÂMETROS!$J$6*$C109^2+PARÂMETROS!$J$6*PARÂMETROS!$K$6*$C109+PARÂMETROS!$J$6*PARÂMETROS!$K$6*PARÂMETROS!$L$6)","v":{"v":0,"d":"0.00E+00"}},{"$f":"(PARÂMETROS!$J$6*$C109^2)/($C109^3+PARÂMETROS!$J$6*$C109^2+PARÂMETROS!$J$6*PARÂMETROS!$K$6*$C109+PARÂMETROS!$J$6*PARÂMETROS!$K$6*PARÂMETROS!$L$6)","v":{"v":0.9999999978340115,"d":"1.00E+00"}},{"$f":"($C109^3)/($C109^3+PARÂMETROS!$J$6*$C109^2+PARÂMETROS!$J$6*PARÂMETROS!$K$6*$C109+PARÂMETROS!$J$6*PARÂMETROS!$K$6*PARÂMETROS!$L$6)","v":{"v":2.1659885211786396E-9,"d":"2.17E-09"}},{"$f":"IF(PARÂMETROS!$J$6<PARÂMETROS!$F$6,(E109-(C109-D109)/PARÂMETROS!$C$11)/(K109+(C109-D109)/PARÂMETROS!$C$14),(K109+(C109-D109)/PARÂMETROS!$C$14)/(E109-(C109-D109)/PARÂMETROS!$C$11))","v":{"v":-2.5000000108299423,"d":"-2.50E+00"}},{"$f":"IF(PARÂMETROS!$J$6<PARÂMETROS!$F$6,(E109-(C109-D109)/PARÂMETROS!$C$11)/(L109+2*M109+(C109-D109)/PARÂMETROS!$C$14),(L109+2*M109+(C109-D109)/PARÂMETROS!$C$14)/(E109-(C109-D109)/PARÂMETROS!$C$11))","v":{"v":-2.5000000379047993,"d":"-2.50E+00"}},{"$f":"IF(PARÂMETROS!$J$6<PARÂMETROS!$F$6, (E109-(C109-D109)/PARÂMETROS!$C$11)/(N109+2*O109+3*P109+(C109-D109)/PARÂMETROS!$C$14),(N109+2*O109+3*P109+(C109-D109)/PARÂMETROS!$C$14)/ (E109-(C109-D109)/PARÂMETROS!$C$11))","v":{"v":-2.5000000649796568,"d":"-2.50E+00"}},{"$f":"IF(PARÂMETROS!$J$6<PARÂMETROS!$F$6,(F109+2*G109-(C109-D109)/PARÂMETROS!$C$11)/(K109+(C109-D109)/PARÂMETROS!$C$14),(K109+(C109-D109)/PARÂMETROS!$C$14)/(F109+2*G109-(C109-D109)/PARÂMETROS!$C$11))","v":{"v":-2.500000021659885,"d":"-2.50E+00"}},{"$f":"IF(PARÂMETROS!$J$6<PARÂMETROS!$F$6,(F109+2*G109-(C109-D109)/PARÂMETROS!$C$11)/(L109+2*M109+(C109-D109)/PARÂMETROS!$C$14),(L109+2*M109+(C109-D109)/PARÂMETROS!$C$14)/(F109+2*G109-(C109-D109)/PARÂMETROS!$C$11))","v":{"v":-2.500000048734742,"d":"-2.50E+00"}},{"$f":"IF(PARÂMETROS!$J$6<PARÂMETROS!$F$6,(F109+2*G109-(C109-D109)/PARÂMETROS!$C$11)/(N109+2*O109+3*P109+(C109-D109)/PARÂMETROS!$C$14),(N109+2*O109+3*P109+(C109-D109)/PARÂMETROS!$C$14)/(F109+2*G109-(C109-D109)/PARÂMETROS!$C$11))","v":{"v":-2.5000000758096,"d":"-2.50E+00"}},{"$f":"IF(PARÂMETROS!$J$6<PARÂMETROS!$F$6,(H109+2*I109+3*J109-(C109-D109)/PARÂMETROS!$C$11)/(K109+(C109-D109)/PARÂMETROS!$C$14),(K109+(C109-D109)/PARÂMETROS!$C$14)/(H109+2*I109+3*J109-(C109-D109)/PARÂMETROS!$C$11))","v":{"v":-2.5000000324898277,"d":"-2.50E+00"}},{"$f":"IF(PARÂMETROS!$J$6<PARÂMETROS!$F$6,(H109+2*I109+3*J109-(C109-D109)/PARÂMETROS!$C$11)/(L109+2*M109+(C109-D109)/PARÂMETROS!$C$14),(L109+2*M109+(C109-D109)/PARÂMETROS!$C$14)/(H109+2*I109+3*J109-(C109-D109)/PARÂMETROS!$C$11))","v":{"v":-2.5000000595646847,"d":"-2.50E+00"}},{"$f":"IF(PARÂMETROS!$J$6<PARÂMETROS!$F$6,(H109+2*I109+3*J109-(C109-D109)/PARÂMETROS!$C$11)/(N109+2*O109+3*P109+(C109-D109)/PARÂMETROS!$C$14),(N109+2*O109+3*P109+(C109-D109)/PARÂMETROS!$C$14)/(H109+2*I109+3*J109-(C109-D109)/PARÂMETROS!$C$11))","v":{"v":-2.5000000866395427,"d":"-2.50E+00"}},{"$f":"Q109*PARÂMETROS!$C$11*PARÂMETROS!$D$11/PARÂMETROS!$C$14","v":{"v":-50.00000021659885,"d":"-50.00"}},{"$f":"R109*PARÂMETROS!$C$11*PARÂMETROS!$D$11/PARÂMETROS!$C$14","v":{"v":-50.000000758095986,"d":"-50.00"}},{"$f":"S109*PARÂMETROS!$C$11*PARÂMETROS!$D$11/PARÂMETROS!$C$14","v":{"v":-50.00000129959313,"d":"-50.00"}},{"$f":"T109*PARÂMETROS!$C$11*PARÂMETROS!$D$11/PARÂMETROS!$C$14","v":{"v":-50.0000004331977,"d":"-50.00"}},{"$f":"U109*PARÂMETROS!$C$11*PARÂMETROS!$D$11/PARÂMETROS!$C$14","v":{"v":-50.00000097469485,"d":"-50.00"}},{"$f":"V109*PARÂMETROS!$C$11*PARÂMETROS!$D$11/PARÂMETROS!$C$14","v":{"v":-50.00000151619201,"d":"-50.00"}},{"$f":"W109*PARÂMETROS!$C$11*PARÂMETROS!$D$11/PARÂMETROS!$C$14","v":{"v":-50.00000064979656,"d":"-50.00"}},{"$f":"X109*PARÂMETROS!$C$11*PARÂMETROS!$D$11/PARÂMETROS!$C$14","v":{"v":-50.0000011912937,"d":"-50.00"}},{"$f":"Y109*PARÂMETROS!$C$11*PARÂMETROS!$D$11/PARÂMETROS!$C$14","v":{"v":-50.00000173279086,"d":"-50.00"}},{"$f":"AND(B109+PARÂMETROS!$C$8>=PARÂMETROS!$C$5,B109+PARÂMETROS!$C$8<=PARÂMETROS!$D$5)","v":false},0,{"$f":"VLOOKUP('BANCO DE DADOS COMPLETA'!$N$8,'BANCO DE DADOS COMPLETA'!$A$7:$L$249,3)*-1","v":3},7,{"$f":"VLOOKUP('BANCO DE DADOS COMPLETA'!$N$10,'BANCO DE DADOS COMPLETA'!$A$7:$L$249,3)*-1","v":1},11,77,{"v":-50.00000064979656,"d":"-50.00"},"LIMITE","LIMITE","LIMITE","LIMITE","NADA","NADA",0]
[null,{"$f":"B109+PARÂMETROS!$C$8","v":{"v":21.86434384834065,"d":"21.86"}},{"v":1.366646368457598e-22,"d":"1.37E-22"},{"$f":"PARÂMETROS!$Q$4/C110","v":{"v":73171818.4806362,"d":"7.32E+07"}},{"$f":"PARÂMETROS!$F$6/($C110+PARÂMETROS!$F$6)","v":{"v":1,"d":"1.00E+00"}},{"$f":"$C110*PARÂMETROS!$F$6/($C110^2+$C110*PARÂMETROS!$F$6+PARÂMETROS!$F$6*PARÂMETROS!$G$6)","v":{"v":2.1610068904995653E-15,"d":"2.16E-15"}},{"$f":"PARÂMETROS!$F$6*PARÂMETROS!$G$6/($C110^2+$C110*PARÂMETROS!$F$6+PARÂMETROS!$F$6*PARÂMETROS!$G$6)","v":{"v":0.9999999999999978,"d":"1.00E+00"}},{"$f":"(PARÂMETROS!$F$6*$C110^2)/($C110^3+PARÂMETROS!$F$6*$C110^2+PARÂMETROS!$F$6*PARÂMETROS!$G$6*$C110+PARÂMETROS!$F$6*PARÂMETROS!$G$6*PARÂMETROS!$H$6)","v":{"v":6.611687266120548e-25,"d":"6.61E-25"}},{"$f":"(PARÂMETROS!$F$6*PARÂMETROS!$G$6*$C110)/($C110^3+PARÂMETROS!$F$6*$C110^2+PARÂMETROS!$F$6*PARÂMETROS!$G$6*$C110+PARÂMETROS!$F$6*PARÂMETROS!$G$6*PARÂMETROS!$H$6)","v":{"v":3.05954011307761e-10,"d":"3.06E-10"}},{"$f":"(PARÂMETROS!$F$6*PARÂMETROS!$G$6*PARÂMETROS!$H$6)/($C110^3+PARÂMETROS!$F$6*$C110^2+PARÂMETROS!$F$6*PARÂMETROS!$G$6*$C110+PARÂMETROS!$F$6*PARÂMETROS!$G$6*PARÂMETROS!$H$6)","v":{"v":0.999999999694046,"d":"1.00E+00"}},{"$f":"$C110/($C110+PARÂMETROS!$J$6)","v":{"v":1.3666463665898755E-9,"d":"1.37E-09"}},{"$f":"$C110*PARÂMETROS!$J$6/($C110^2+$C110*PARÂMETROS!$J$6+PARÂMETROS!$J$6*PARÂMETROS!$K$6)","v":{"v":0.9999999986333535,"d":"1.00E+00"}},{"$f":"$C110^2/($C110^2+$C110*PARÂMETROS!$J$6+PARÂMETROS!$J$6*PARÂMETROS!$K$6)","v":{"v":1.3666463665898757E-9,"d":"1.37E-09"}},{"$f":"(PARÂMETROS!$K$6*PARÂMETROS!$J$6*$C110)/($C110^3+PARÂMETROS!$J$6*$C110^2+PARÂMETROS!$J$6*PARÂMETROS!$K$6*$C110+PARÂMETROS!$J$6*PARÂMETROS!$K$6*PARÂMETROS!$L$6)","v":{"v":0,"d":"0.00E+00"}},{"$f":"(PARÂMETROS!$J$6*$C110^2)/($C110^3+PARÂMETROS!$J$6*$C110^2+PARÂMETROS!$J$6*PARÂMETROS!$K$6*$C110+PARÂMETROS!$J$6*PARÂMETROS!$K$6*PARÂMETROS!$L$6)","v":{"v":0.9999999986333536,"d":"1.00E+00"}},{"$f":"($C110^3)/($C110^3+PARÂMETROS!$J$6*$C110^2+PARÂMETROS!$J$6*PARÂMETROS!$K$6*$C110+PARÂMETROS!$J$6*PARÂMETROS!$K$6*PARÂMETROS!$L$6)","v":{"v":1.3666463665898757E-9,"d":"1.37E-09"}},{"$f":"IF(PARÂMETROS!$J$6<PARÂMETROS!$F$6,(E110-(C110-D110)/PARÂMETROS!$C$11)/(K110+(C110-D110)/PARÂMETROS!$C$14),(K110+(C110-D110)/PARÂMETROS!$C$14)/(E110-(C110-D110)/PARÂMETROS!$C$11))","v":{"v":-2.5000000068332318,"d":"-2.50E+00"}},{"$f":"IF(PARÂMETROS!$J$6<PARÂMETROS!$F$6,(E110-(C110-D110)/PARÂMETROS!$C$11)/(L110+2*M110+(C110-D110)/PARÂMETROS!$C$14),(L110+2*M110+(C110-D110)/PARÂMETROS!$C$14)/(E110-(C110-D110)/PARÂMETROS!$C$11))","v":{"v":-2.5000000239163116,"d":"-2.50E+00"}},{"$f":"IF(PARÂMETROS!$J$6<PARÂMETROS!$F$6, (E110-(C110-D110)/PARÂMETROS!$C$11)/(N110+2*O110+3*P110+(C110-D110)/PARÂMETROS!$C$14),(N110+2*O110+3*P110+(C110-D110)/PARÂMETROS!$C$14)/ (E110-(C110-D110)/PARÂMETROS!$C$11))","v":{"v":-2.5000000409993914,"d":"-2.50E+00"}},{"$f":"IF(PARÂMETROS!$J$6<PARÂMETROS!$F$6,(F110+2*G110-(C110-D110)/PARÂMETROS!$C$11)/(K110+(C110-D110)/PARÂMETROS!$C$14),(K110+(C110-D110)/PARÂMETROS!$C$14)/(F110+2*G110-(C110-D110)/PARÂMETROS!$C$11))","v":{"v":-2.5000000136664635,"d":"-2.50E+00"}},{"$f":"IF(PARÂMETROS!$J$6<PARÂMETROS!$F$6,(F110+2*G110-(C110-D110)/PARÂMETROS!$C$11)/(L110+2*M110+(C110-D110)/PARÂMETROS!$C$14),(L110+2*M110+(C110-D110)/PARÂMETROS!$C$14)/(F110+2*G110-(C110-D110)/PARÂMETROS!$C$11))","v":{"v":-2.5000000307495434,"d":"-2.50E+00"}},{"$f":"IF(PARÂMETROS!$J$6<PARÂMETROS!$F$6,(F110+2*G110-(C110-D110)/PARÂMETROS!$C$11)/(N110+2*O110+3*P110+(C110-D110)/PARÂMETROS!$C$14),(N110+2*O110+3*P110+(C110-D110)/PARÂMETROS!$C$14)/(F110+2*G110-(C110-D110)/PARÂMETROS!$C$11))","v":{"v":-2.5000000478326236,"d":"-2.50E+00"}},{"$f":"IF(PARÂMETROS!$J$6<PARÂMETROS!$F$6,(H110+2*I110+3*J110-(C110-D110)/PARÂMETROS!$C$11)/(K110+(C110-D110)/PARÂMETROS!$C$14),(K110+(C110-D110)/PARÂMETROS!$C$14)/(H110+2*I110+3*J110-(C110-D110)/PARÂMETROS!$C$11))","v":{"v":-2.5000000204996953,"d":"-2.50E+00"}},{"$f":"IF(PARÂMETROS!$J$6<PARÂMETROS!$F$6,(H110+2*I110+3*J110-(C110-D110)/PARÂMETROS!$C$11)/(L110+2*M110+(C110-D110)/PARÂMETROS!$C$14),(L110+2*M110+(C110-D110)/PARÂMETROS!$C$14)/(H110+2*I110+3*J110-(C110-D110)/PARÂMETROS!$C$11))","v":{"v":-2.500000037582775,"d":"-2.50E+00"}},{"$f":"IF(PARÂMETROS!$J$6<PARÂMETROS!$F$6,(H110+2*I110+3*J110-(C110-D110)/PARÂMETROS!$C$11)/(N110+2*O110+3*P110+(C110-D110)/PARÂMETROS!$C$14),(N110+2*O110+3*P110+(C110-D110)/PARÂMETROS!$C$14)/(H110+2*I110+3*J110-(C110-D110)/PARÂMETROS!$C$11))","v":{"v":-2.5000000546658554,"d":"-2.50E+00"}},{"$f":"Q110*PARÂMETROS!$C$11*PARÂMETROS!$D$11/PARÂMETROS!$C$14","v":{"v":-50.00000013666464,"d":"-50.00"}},{"$f":"R110*PARÂMETROS!$C$11*PARÂMETROS!$D$11/PARÂMETROS!$C$14","v":{"v":-50.000000478326236,"d":"-50.00"}},{"$f":"S110*PARÂMETROS!$C$11*PARÂMETROS!$D$11/PARÂMETROS!$C$14","v":{"v":-50.00000081998783,"d":"-50.00"}},{"$f":"T110*PARÂMETROS!$C$11*PARÂMETROS!$D$11/PARÂMETROS!$C$14","v":{"v":-50.00000027332927,"d":"-50.00"}},{"$f":"U110*PARÂMETROS!$C$11*PARÂMETROS!$D$11/PARÂMETROS!$C$14","v":{"v":-50.00000061499087,"d":"-50.00"}},{"$f":"V110*PARÂMETROS!$C$11*PARÂMETROS!$D$11/PARÂMETROS!$C$14","v":{"v":-50.00000095665248,"d":"-50.00"}},{"$f":"W110*PARÂMETROS!$C$11*PARÂMETROS!$D$11/PARÂMETROS!$C$14","v":{"v":-50.0000004099939,"d":"-50.00"}},{"$f":"X110*PARÂMETROS!$C$11*PARÂMETROS!$D$11/PARÂMETROS!$C$14","v":{"v":-50.000000751655506,"d":"-50.00"}},{"$f":"Y110*PARÂMETROS!$C$11*PARÂMETROS!$D$11/PARÂMETROS!$C$14","v":{"v":-50.00000109331712,"d":"-50.00"}},{"$f":"AND(B110+PARÂMETROS!$C$8>=PARÂMETROS!$C$5,B110+PARÂMETROS!$C$8<=PARÂMETROS!$D$5)","v":false},0,{"$f":"VLOOKUP('BANCO DE DADOS COMPLETA'!$N$8,'BANCO DE DADOS COMPLETA'!$A$7:$L$249,3)*-1","v":3},7,{"$f":"VLOOKUP('BANCO DE DADOS COMPLETA'!$N$10,'BANCO DE DADOS COMPLETA'!$A$7:$L$249,3)*-1","v":1},11,77,{"v":-50.0000004099939,"d":"-50.00"},"LIMITE","LIMITE","LIMITE","LIMITE","NADA","NADA",0]
[null,{"$f":"B110+PARÂMETROS!$C$8","v":{"v":22.06434384834065,"d":"22.06"}},{"v":8.622955634855074e-23,"d":"8.62E-23"},{"$f":"PARÂMETROS!$Q$4/C111","v":{"v":115969516.98996037,"d":"1.16E+08"}},{"$f":"PARÂMETROS!$F$6/($C111+PARÂMETROS!$F$6)","v":{"v":1,"d":"1.00E+00"}},{"$f":"$C111*PARÂMETROS!$F$6/($C111^2+$C111*PARÂMETROS!$F$6+PARÂMETROS!$F$6*PARÂMETROS!$G$6)","v":{"v":1.363503169033009E-15,"d":"1.36E-15"}},{"$f":"PARÂMETROS!$F$6*PARÂMETROS!$G$6/($C111^2+$C111*PARÂMETROS!$F$6+PARÂMETROS!$F$6*PARÂMETROS!$G$6)","v":{"v":0.9999999999999987,"d":"1.00E+00"}},{"$f":"(PARÂMETROS!$F$6*$C111^2)/($C111^3+PARÂMETROS!$F$6*$C111^2+PARÂMETROS!$F$6*PARÂMETROS!$G$6*$C111+PARÂMETROS!$F$6*PARÂMETROS!$G$6*PARÂMETROS!$H$6)","v":{"v":2.632160110397046e-25,"d":"2.63E-25"}},{"$f":"(PARÂMETROS!$F$6*PARÂMETROS!$G$6*$C111)/($C111^3+PARÂMETROS!$F$6*$C111^2+PARÂMETROS!$F$6*PARÂMETROS!$G$6*$C111+PARÂMETROS!$F$6*PARÂMETROS!$G$6*PARÂMETROS!$H$6)","v":{"v":1.9304393052960486E-10,"d":"1.93E-10"}},{"$f":"(PARÂMETROS!$F$6*PARÂMETROS!$G$6*PARÂMETROS!$H$6)/($C111^3+PARÂMETROS!$F$6*$C111^2+PARÂMETROS!$F$6*PARÂMETROS!$G$6*$C111+PARÂMETROS!$F$6*PARÂMETROS!$G$6*PARÂMETROS!$H$6)","v":{"v":0.9999999998069561,"d":"1.00E+00"}},{"$f":"$C111/($C111+PARÂMETROS!$J$6)","v":{"v":8.622955627419537e-10,"d":"8.62E-10"}},{"$f":"$C111*PARÂMETROS!$J$6/($C111^2+$C111*PARÂMETROS!$J$6+PARÂMETROS!$J$6*PARÂMETROS!$K$6)","v":{"v":0.9999999991377044,"d":"1.00E+00"}},{"$f":"$C111^2/($C111^2+$C111*PARÂMETROS!$J$6+PARÂMETROS!$J$6*PARÂMETROS!$K$6)","v":{"v":8.622955627419537e-10,"d":"8.62E-10"}},{"$f":"(PARÂMETROS!$K$6*PARÂMETROS!$J$6*$C111)/($C111^3+PARÂMETROS!$J$6*$C111^2+PARÂMETROS!$J$6*PARÂMETROS!$K$6*$C111+PARÂMETROS!$J$6*PARÂMETROS!$K$6*PARÂMETROS!$L$6)","v":{"v":0,"d":"0.00E+00"}},{"$f":"(PARÂMETROS!$J$6*$C111^2)/($C111^3+PARÂMETROS!$J$6*$C111^2+PARÂMETROS!$J$6*PARÂMETROS!$K$6*$C111+PARÂMETROS!$J$6*PARÂMETROS!$K$6*PARÂMETROS!$L$6)","v":{"v":0.9999999991377044,"d":"1.00E+00"}},{"$f":"($C111^3)/($C111^3+PARÂMETROS!$J$6*$C111^2+PARÂMETROS!$J$6*PARÂMETROS!$K$6*$C111+PARÂMETROS!$J$6*PARÂMETROS!$K$6*PARÂMETROS!$L$6)","v":{"v":8.622955627419537e-10,"d":"8.62E-10"}},{"$f":"IF(PARÂMETROS!$J$6<PARÂMETROS!$F$6,(E111-(C111-D111)/PARÂMETROS!$C$11)/(K111+(C111-D111)/PARÂMETROS!$C$14),(K111+(C111-D111)/PARÂMETROS!$C$14)/(E111-(C111-D111)/PARÂMETROS!$C$11))","v":{"v":-2.5000000043114774,"d":"-2.50E+00"}},{"$f":"IF(PARÂMETROS!$J$6<PARÂMETROS!$F$6,(E111-(C111-D111)/PARÂMETROS!$C$11)/(L111+2*M111+(C111-D111)/PARÂMETROS!$C$14),(L111+2*M111+(C111-D111)/PARÂMETROS!$C$14)/(E111-(C111-D111)/PARÂMETROS!$C$11))","v":{"v":-2.5000000150901722,"d":"-2.50E+00"}},{"$f":"IF(PARÂMETROS!$J$6<PARÂMETROS!$F$6, (E111-(C111-D111)/PARÂMETROS!$C$11)/(N111+2*O111+3*P111+(C111-D111)/PARÂMETROS!$C$14),(N111+2*O111+3*P111+(C111-D111)/PARÂMETROS!$C$14)/ (E111-(C111-D111)/PARÂMETROS!$C$11))","v":{"v":-2.500000025868867,"d":"-2.50E+00"}},{"$f":"IF(PARÂMETROS!$J$6<PARÂMETROS!$F$6,(F111+2*G111-(C111-D111)/PARÂMETROS!$C$11)/(K111+(C111-D111)/PARÂMETROS!$C$14),(K111+(C111-D111)/PARÂMETROS!$C$14)/(F111+2*G111-(C111-D111)/PARÂMETROS!$C$11))","v":{"v":-2.5000000086229552,"d":"-2.50E+00"}},{"$f":"IF(PARÂMETROS!$J$6<PARÂMETROS!$F$6,(F111+2*G111-(C111-D111)/PARÂMETROS!$C$11)/(L111+2*M111+(C111-D111)/PARÂMETROS!$C$14),(L111+2*M111+(C111-D111)/PARÂMETROS!$C$14)/(F111+2*G111-(C111-D111)/PARÂMETROS!$C$11))","v":{"v":-2.50000001940165,"d":"-2.50E+00"}},{"$f":"IF(PARÂMETROS!$J$6<PARÂMETROS!$F$6,(F111+2*G111-(C111-D111)/PARÂMETROS!$C$11)/(N111+2*O111+3*P111+(C111-D111)/PARÂMETROS!$C$14),(N111+2*O111+3*P111+(C111-D111)/PARÂMETROS!$C$14)/(F111+2*G111-(C111-D111)/PARÂMETROS!$C$11))","v":{"v":-2.500000030180345,"d":"-2.50E+00"}},{"$f":"IF(PARÂMETROS!$J$6<PARÂMETROS!$F$6,(H111+2*I111+3*J111-(C111-D111)/PARÂMETROS!$C$11)/(K111+(C111-D111)/PARÂMETROS!$C$14),(K111+(C111-D111)/PARÂMETROS!$C$14)/(H111+2*I111+3*J111-(C111-D111)/PARÂMETROS!$C$11))","v":{"v":-2.500000012934433,"d":"-2.50E+00"}},{"$f":"IF(PARÂMETROS!$J$6<PARÂMETROS!$F$6,(H111+2*I111+3*J111-(C111-D111)/PARÂMETROS!$C$11)/(L111+2*M111+(C111-D111)/PARÂMETROS!$C$14),(L111+2*M111+(C111-D111)/PARÂMETROS!$C$14)/(H111+2*I111+3*J111-(C111-D111)/PARÂMETROS!$C$11))","v":{"v":-2.500000023713128,"d":"-2.50E+00"}},{"$f":"IF(PARÂMETROS!$J$6<PARÂMETROS!$F$6,(H111+2*I111+3*J111-(C111-D111)/PARÂMETROS!$C$11)/(N111+2*O111+3*P111+(C111-D111)/PARÂMETROS!$C$14),(N111+2*O111+3*P111+(C111-D111)/PARÂMETROS!$C$14)/(H111+2*I111+3*J111-(C111-D111)/PARÂMETROS!$C$11))","v":{"v":-2.5000000344918227,"d":"-2.50E+00"}},{"$f":"Q111*PARÂMETROS!$C$11*PARÂMETROS!$D$11/PARÂMETROS!$C$14","v":{"v":-50.00000008622955,"d":"-50.00"}},{"$f":"R111*PARÂMETROS!$C$11*PARÂMETROS!$D$11/PARÂMETROS!$C$14","v":{"v":-50.000000301803446,"d":"-50.00"}},{"$f":"S111*PARÂMETROS!$C$11*PARÂMETROS!$D$11/PARÂMETROS!$C$14","v":{"v":-50.000000517377345,"d":"-50.00"}},{"$f":"T111*PARÂMETROS!$C$11*PARÂMETROS!$D$11/PARÂMETROS!$C$14","v":{"v":-50.0000001724591,"d":"-50.00"}},{"$f":"U111*PARÂMETROS!$C$11*PARÂMETROS!$D$11/PARÂMETROS!$C$14","v":{"v":-50.00000038803301,"d":"-50.00"}},{"$f":"V111*PARÂMETROS!$C$11*PARÂMETROS!$D$11/PARÂMETROS!$C$14","v":{"v":-50.0000006036069,"d":"-50.00"}},{"$f":"W111*PARÂMETROS!$C$11*PARÂMETROS!$D$11/PARÂMETROS!$C$14","v":{"v":-50.00000025868866,"d":"-50.00"}},{"$f":"X111*PARÂMETROS!$C$11*PARÂMETROS!$D$11/PARÂMETROS!$C$14","v":{"v":-50.00000047426256,"d":"-50.00"}},{"$f":"Y111*PARÂMETROS!$C$11*PARÂMETROS!$D$11/PARÂMETROS!$C$14","v":{"v":-50.000000689836455,"d":"-50.00"}},{"$f":"AND(B111+PARÂMETROS!$C$8>=PARÂMETROS!$C$5,B111+PARÂMETROS!$C$8<=PARÂMETROS!$D$5)","v":false},0,{"$f":"VLOOKUP('BANCO DE DADOS COMPLETA'!$N$8,'BANCO DE DADOS COMPLETA'!$A$7:$L$249,3)*-1","v":3},7,{"$f":"VLOOKUP('BANCO DE DADOS COMPLETA'!$N$10,'BANCO DE DADOS COMPLETA'!$A$7:$L$249,3)*-1","v":1},11,77,{"v":-50.00000025868866,"d":"-50.00"},"LIMITE","LIMITE","LIMITE","LIMITE","NADA","NADA",0]
[null,{"$f":"B111+PARÂMETROS!$C$8","v":{"v":22.264343848340648,"d":"22.26"}},{"v":5.440717188938686e-23,"d":"5.44E-23"},{"$f":"PARÂMETROS!$Q$4/C112","v":{"v":183799298.0103913,"d":"1.84E+08"}},{"$f":"PARÂMETROS!$F$6/($C112+PARÂMETROS!$F$6)","v":{"v":1,"d":"1.00E+00"}},{"$f":"$C112*PARÂMETROS!$F$6/($C112^2+$C112*PARÂMETROS!$F$6+PARÂMETROS!$F$6*PARÂMETROS!$G$6)","v":{"v":8.603123387233974e-16,"d":"8.60E-16"}},{"$f":"PARÂMETROS!$F$6*PARÂMETROS!$G$6/($C112^2+$C112*PARÂMETROS!$F$6+PARÂMETROS!$F$6*PARÂMETROS!$G$6)","v":{"v":0.9999999999999992,"d":"1.00E+00"}},{"$f":"(PARÂMETROS!$F$6*$C112^2)/($C112^3+PARÂMETROS!$F$6*$C112^2+PARÂMETROS!$F$6*PARÂMETROS!$G$6*$C112+PARÂMETROS!$F$6*PARÂMETROS!$G$6*PARÂMETROS!$H$6)","v":{"v":1.0478818140686054E-25,"d":"1.05E-25"}},{"$f":"(PARÂMETROS!$F$6*PARÂMETROS!$G$6*$C112)/($C112^3+PARÂMETROS!$F$6*$C112^2+PARÂMETROS!$F$6*PARÂMETROS!$G$6*$C112+PARÂMETROS!$F$6*PARÂMETROS!$G$6*PARÂMETROS!$H$6)","v":{"v":1.2180248578365599E-10,"d":"1.22E-10"}},{"$f":"(PARÂMETROS!$F$6*PARÂMETROS!$G$6*PARÂMETROS!$H$6)/($C112^3+PARÂMETROS!$F$6*$C112^2+PARÂMETROS!$F$6*PARÂMETROS!$G$6*$C112+PARÂMETROS!$F$6*PARÂMETROS!$G$6*PARÂMETROS!$H$6)","v":{"v":0.9999999998781975,"d":"1.00E+00"}},{"$f":"$C112/($C112+PARÂMETROS!$J$6)","v":{"v":5.440717185978546E-10,"d":"5.44E-10"}},{"$f":"$C112*PARÂMETROS!$J$6/($C112^2+$C112*PARÂMETROS!$J$6+PARÂMETROS!$J$6*PARÂMETROS!$K$6)","v":{"v":0.9999999994559283,"d":"1.00E+00"}},{"$f":"$C112^2/($C112^2+$C112*PARÂMETROS!$J$6+PARÂMETROS!$J$6*PARÂMETROS!$K$6)","v":{"v":5.440717185978545e-10,"d":"5.44E-10"}},{"$f":"(PARÂMETROS!$K$6*PARÂMETROS!$J$6*$C112)/($C112^3+PARÂMETROS!$J$6*$C112^2+PARÂMETROS!$J$6*PARÂMETROS!$K$6*$C112+PARÂMETROS!$J$6*PARÂMETROS!$K$6*PARÂMETROS!$L$6)","v":{"v":0,"d":"0.00E+00"}},{"$f":"(PARÂMETROS!$J$6*$C112^2)/($C112^3+PARÂMETROS!$J$6*$C112^2+PARÂMETROS!$J$6*PARÂMETROS!$K$6*$C112+PARÂMETROS!$J$6*PARÂMETROS!$K$6*PARÂMETROS!$L$6)","v":{"v":0.9999999994559282,"d":"1.00E+00"}},{"$f":"($C112^3)/($C112^3+PARÂMETROS!$J$6*$C112^2+PARÂMETROS!$J$6*PARÂMETROS!$K$6*$C112+PARÂMETROS!$J$6*PARÂMETROS!$K$6*PARÂMETROS!$L$6)","v":{"v":5.440717185978545e-10,"d":"5.44E-10"}},{"$f":"IF(PARÂMETROS!$J$6<PARÂMETROS!$F$6,(E112-(C112-D112)/PARÂMETROS!$C$11)/(K112+(C112-D112)/PARÂMETROS!$C$14),(K112+(C112-D112)/PARÂMETROS!$C$14)/(E112-(C112-D112)/PARÂMETROS!$C$11))","v":{"v":-2.5000000027203586,"d":"-2.50E+00"}},{"$f":"IF(PARÂMETROS!$J$6<PARÂMETROS!$F$6,(E112-(C112-D112)/PARÂMETROS!$C$11)/(L112+2*M112+(C112-D112)/PARÂMETROS!$C$14),(L112+2*M112+(C112-D112)/PARÂMETROS!$C$14)/(E112-(C112-D112)/PARÂMETROS!$C$11))","v":{"v":-2.500000009521255,"d":"-2.50E+00"}},{"$f":"IF(PARÂMETROS!$J$6<PARÂMETROS!$F$6, (E112-(C112-D112)/PARÂMETROS!$C$11)/(N112+2*O112+3*P112+(C112-D112)/PARÂMETROS!$C$14),(N112+2*O112+3*P112+(C112-D112)/PARÂMETROS!$C$14)/ (E112-(C112-D112)/PARÂMETROS!$C$11))","v":{"v":-2.5000000163221516,"d":"-2.50E+00"}},{"$f":"IF(PARÂMETROS!$J$6<PARÂMETROS!$F$6,(F112+2*G112-(C112-D112)/PARÂMETROS!$C$11)/(K112+(C112-D112)/PARÂMETROS!$C$14),(K112+(C112-D112)/PARÂMETROS!$C$14)/(F112+2*G112-(C112-D112)/PARÂMETROS!$C$11))","v":{"v":-2.500000005440717,"d":"-2.50E+00"}},{"$f":"IF(PARÂMETROS!$J$6<PARÂMETROS!$F$6,(F112+2*G112-(C112-D112)/PARÂMETROS!$C$11)/(L112+2*M112+(C112-D112)/PARÂMETROS!$C$14),(L112+2*M112+(C112-D112)/PARÂMETROS!$C$14)/(F112+2*G112-(C112-D112)/PARÂMETROS!$C$11))","v":{"v":-2.5000000122416135,"d":"-2.50E+00"}},{"$f":"IF(PARÂMETROS!$J$6<PARÂMETROS!$F$6,(F112+2*G112-(C112-D112)/PARÂMETROS!$C$11)/(N112+2*O112+3*P112+(C112-D112)/PARÂMETROS!$C$14),(N112+2*O112+3*P112+(C112-D112)/PARÂMETROS!$C$14)/(F112+2*G112-(C112-D112)/PARÂMETROS!$C$11))","v":{"v":-2.5000000190425102,"d":"-2.50E+00"}},{"$f":"IF(PARÂMETROS!$J$6<PARÂMETROS!$F$6,(H112+2*I112+3*J112-(C112-D112)/PARÂMETROS!$C$11)/(K112+(C112-D112)/PARÂMETROS!$C$14),(K112+(C112-D112)/PARÂMETROS!$C$14)/(H112+2*I112+3*J112-(C112-D112)/PARÂMETROS!$C$11))","v":{"v":-2.500000008161076,"d":"-2.50E+00"}},{"$f":"IF(PARÂMETROS!$J$6<PARÂMETROS!$F$6,(H112+2*I112+3*J112-(C112-D112)/PARÂMETROS!$C$11)/(L112+2*M112+(C112-D112)/PARÂMETROS!$C$14),(L112+2*M112+(C112-D112)/PARÂMETROS!$C$14)/(H112+2*I112+3*J112-(C112-D112)/PARÂMETROS!$C$11))","v":{"v":-2.500000014961972,"d":"-2.50E+00"}},{"$f":"IF(PARÂMETROS!$J$6<PARÂMETROS!$F$6,(H112+2*I112+3*J112-(C112-D112)/PARÂMETROS!$C$11)/(N112+2*O112+3*P112+(C112-D112)/PARÂMETROS!$C$14),(N112+2*O112+3*P112+(C112-D112)/PARÂMETROS!$C$14)/(H112+2*I112+3*J112-(C112-D112)/PARÂMETROS!$C$11))","v":{"v":-2.500000021762869,"d":"-2.50E+00"}},{"$f":"Q112*PARÂMETROS!$C$11*PARÂMETROS!$D$11/PARÂMETROS!$C$14","v":{"v":-50.00000005440718,"d":"-50.00"}},{"$f":"R112*PARÂMETROS!$C$11*PARÂMETROS!$D$11/PARÂMETROS!$C$14","v":{"v":-50.0000001904251,"d":"-50.00"}},{"$f":"S112*PARÂMETROS!$C$11*PARÂMETROS!$D$11/PARÂMETROS!$C$14","v":{"v":-50.000000326443036,"d":"-50.00"}},{"$f":"T112*PARÂMETROS!$C$11*PARÂMETROS!$D$11/PARÂMETROS!$C$14","v":{"v":-50.00000010881435,"d":"-50.00"}},{"$f":"U112*PARÂMETROS!$C$11*PARÂMETROS!$D$11/PARÂMETROS!$C$14","v":{"v":-50.00000024483228,"d":"-50.00"}},{"$f":"V112*PARÂMETROS!$C$11*PARÂMETROS!$D$11/PARÂMETROS!$C$14","v":{"v":-50.00000038085021,"d":"-50.00"}},{"$f":"W112*PARÂMETROS!$C$11*PARÂMETROS!$D$11/PARÂMETROS!$C$14","v":{"v":-50.000000163221515,"d":"-50.00"}},{"$f":"X112*PARÂMETROS!$C$11*PARÂMETROS!$D$11/PARÂMETROS!$C$14","v":{"v":-50.000000299239446,"d":"-50.00"}},{"$f":"Y112*PARÂMETROS!$C$11*PARÂMETROS!$D$11/PARÂMETROS!$C$14","v":{"v":-50.00000043525738,"d":"-50.00"}},{"$f":"AND(B112+PARÂMETROS!$C$8>=PARÂMETROS!$C$5,B112+PARÂMETROS!$C$8<=PARÂMETROS!$D$5)","v":false},0,{"$f":"VLOOKUP('BANCO DE DADOS COMPLETA'!$N$8,'BANCO DE DADOS COMPLETA'!$A$7:$L$249,3)*-1","v":3},7,{"$f":"VLOOKUP('BANCO DE DADOS COMPLETA'!$N$10,'BANCO DE DADOS COMPLETA'!$A$7:$L$249,3)*-1","v":1},11,77,{"v":-50.000000163221515,"d":"-50.00"},"LIMITE","LIMITE","LIMITE","LIMITE","NADA","NADA",0]
[null,{"$f":"B112+PARÂMETROS!$C$8","v":{"v":22.464343848340647,"d":"22.46"}},{"v":3.4328604696005016E-23,"d":"3.43E-23"},{"$f":"PARÂMETROS!$Q$4/C113","v":{"v":291302256.1958001,"d":"2.91E+08"}},{"$f":"PARÂMETROS!$F$6/($C113+PARÂMETROS!$F$6)","v":{"v":1,"d":"1.00E+00"}},{"$f":"$C113*PARÂMETROS!$F$6/($C113^2+$C113*PARÂMETROS!$F$6+PARÂMETROS!$F$6*PARÂMETROS!$G$6)","v":{"v":5.428203886644605E-16,"d":"5.43E-16"}},{"$f":"PARÂMETROS!$F$6*PARÂMETROS!$G$6/($C113^2+$C113*PARÂMETROS!$F$6+PARÂMETROS!$F$6*PARÂMETROS!$G$6)","v":{"v":0.9999999999999994,"d":"1.00E+00"}},{"$f":"(PARÂMETROS!$F$6*$C113^2)/($C113^3+PARÂMETROS!$F$6*$C113^2+PARÂMETROS!$F$6*PARÂMETROS!$G$6*$C113+PARÂMETROS!$F$6*PARÂMETROS!$G$6*PARÂMETROS!$H$6)","v":{"v":4.171692640920718e-26,"d":"4.17E-26"}},{"$f":"(PARÂMETROS!$F$6*PARÂMETROS!$G$6*$C113)/($C113^3+PARÂMETROS!$F$6*$C113^2+PARÂMETROS!$F$6*PARÂMETROS!$G$6*$C113+PARÂMETROS!$F$6*PARÂMETROS!$G$6*PARÂMETROS!$H$6)","v":{"v":7.685217298459675e-11,"d":"7.69E-11"}},{"$f":"(PARÂMETROS!$F$6*PARÂMETROS!$G$6*PARÂMETROS!$H$6)/($C113^3+PARÂMETROS!$F$6*$C113^2+PARÂMETROS!$F$6*PARÂMETROS!$G$6*$C113+PARÂMETROS!$F$6*PARÂMETROS!$G$6*PARÂMETROS!$H$6)","v":{"v":0.9999999999231479,"d":"1.00E+00"}},{"$f":"$C113/($C113+PARÂMETROS!$J$6)","v":{"v":3.4328604684220487E-10,"d":"3.43E-10"}},{"$f":"$C113*PARÂMETROS!$J$6/($C113^2+$C113*PARÂMETROS!$J$6+PARÂMETROS!$J$6*PARÂMETROS!$K$6)","v":{"v":0.9999999996567138,"d":"1.00E+00"}},{"$f":"$C113^2/($C113^2+$C113*PARÂMETROS!$J$6+PARÂMETROS!$J$6*PARÂMETROS!$K$6)","v":{"v":3.432860468422048e-10,"d":"3.43E-10"}},{"$f":"(PARÂMETROS!$K$6*PARÂMETROS!$J$6*$C113)/($C113^3+PARÂMETROS!$J$6*$C113^2+PARÂMETROS!$J$6*PARÂMETROS!$K$6*$C113+PARÂMETROS!$J$6*PARÂMETROS!$K$6*PARÂMETROS!$L$6)","v":{"v":0,"d":"0.00E+00"}},{"$f":"(PARÂMETROS!$J$6*$C113^2)/($C113^3+PARÂMETROS!$J$6*$C113^2+PARÂMETROS!$J$6*PARÂMETROS!$K$6*$C113+PARÂMETROS!$J$6*PARÂMETROS!$K$6*PARÂMETROS!$L$6)","v":{"v":0.9999999996567139,"d":"1.00E+00"}},{"$f":"($C113^3)/($C113^3+PARÂMETROS!$J$6*$C113^2+PARÂMETROS!$J$6*PARÂMETROS!$K$6*$C113+PARÂMETROS!$J$6*PARÂMETROS!$K$6*PARÂMETROS!$L$6)","v":{"v":3.4328604684220487E-10,"d":"3.43E-10"}},{"$f":"IF(PARÂMETROS!$J$6<PARÂMETROS!$F$6,(E113-(C113-D113)/PARÂMETROS!$C$11)/(K113+(C113-D113)/PARÂMETROS!$C$14),(K113+(C113-D113)/PARÂMETROS!$C$14)/(E113-(C113-D113)/PARÂMETROS!$C$11))","v":{"v":-2.50000000171643,"d":"-2.50E+00"}},{"$f":"IF(PARÂMETROS!$J$6<PARÂMETROS!$F$6,(E113-(C113-D113)/PARÂMETROS!$C$11)/(L113+2*M113+(C113-D113)/PARÂMETROS!$C$14),(L113+2*M113+(C113-D113)/PARÂMETROS!$C$14)/(E113-(C113-D113)/PARÂMETROS!$C$11))","v":{"v":-2.5000000060075056,"d":"-2.50E+00"}},{"$f":"IF(PARÂMETROS!$J$6<PARÂMETROS!$F$6, (E113-(C113-D113)/PARÂMETROS!$C$11)/(N113+2*O113+3*P113+(C113-D113)/PARÂMETROS!$C$14),(N113+2*O113+3*P113+(C113-D113)/PARÂMETROS!$C$14)/ (E113-(C113-D113)/PARÂMETROS!$C$11))","v":{"v":-2.5000000102985815,"d":"-2.50E+00"}},{"$f":"IF(PARÂMETROS!$J$6<PARÂMETROS!$F$6,(F113+2*G113-(C113-D113)/PARÂMETROS!$C$11)/(K113+(C113-D113)/PARÂMETROS!$C$14),(K113+(C113-D113)/PARÂMETROS!$C$14)/(F113+2*G113-(C113-D113)/PARÂMETROS!$C$11))","v":{"v":-2.50000000343286,"d":"-2.50E+00"}},{"$f":"IF(PARÂMETROS!$J$6<PARÂMETROS!$F$6,(F113+2*G113-(C113-D113)/PARÂMETROS!$C$11)/(L113+2*M113+(C113-D113)/PARÂMETROS!$C$14),(L113+2*M113+(C113-D113)/PARÂMETROS!$C$14)/(F113+2*G113-(C113-D113)/PARÂMETROS!$C$11))","v":{"v":-2.500000007723936,"d":"-2.50E+00"}},{"$f":"IF(PARÂMETROS!$J$6<PARÂMETROS!$F$6,(F113+2*G113-(C113-D113)/PARÂMETROS!$C$11)/(N113+2*O113+3*P113+(C113-D113)/PARÂMETROS!$C$14),(N113+2*O113+3*P113+(C113-D113)/PARÂMETROS!$C$14)/(F113+2*G113-(C113-D113)/PARÂMETROS!$C$11))","v":{"v":-2.5000000120150117,"d":"-2.50E+00"}},{"$f":"IF(PARÂMETROS!$J$6<PARÂMETROS!$F$6,(H113+2*I113+3*J113-(C113-D113)/PARÂMETROS!$C$11)/(K113+(C113-D113)/PARÂMETROS!$C$14),(K113+(C113-D113)/PARÂMETROS!$C$14)/(H113+2*I113+3*J113-(C113-D113)/PARÂMETROS!$C$11))","v":{"v":-2.5000000051492908,"d":"-2.50E+00"}},{"$f":"IF(PARÂMETROS!$J$6<PARÂMETROS!$F$6,(H113+2*I113+3*J113-(C113-D113)/PARÂMETROS!$C$11)/(L113+2*M113+(C113-D113)/PARÂMETROS!$C$14),(L113+2*M113+(C113-D113)/PARÂMETROS!$C$14)/(H113+2*I113+3*J113-(C113-D113)/PARÂMETROS!$C$11))","v":{"v":-2.5000000094403663,"d":"-2.50E+00"}},{"$f":"IF(PARÂMETROS!$J$6<PARÂMETROS!$F$6,(H113+2*I113+3*J113-(C113-D113)/PARÂMETROS!$C$11)/(N113+2*O113+3*P113+(C113-D113)/PARÂMETROS!$C$14),(N113+2*O113+3*P113+(C113-D113)/PARÂMETROS!$C$14)/(H113+2*I113+3*J113-(C113-D113)/PARÂMETROS!$C$11))","v":{"v":-2.5000000137314418,"d":"-2.50E+00"}},{"$f":"Q113*PARÂMETROS!$C$11*PARÂMETROS!$D$11/PARÂMETROS!$C$14","v":{"v":-50.00000003432861,"d":"-50.00"}},{"$f":"R113*PARÂMETROS!$C$11*PARÂMETROS!$D$11/PARÂMETROS!$C$14","v":{"v":-50.00000012015011,"d":"-50.00"}},{"$f":"S113*PARÂMETROS!$C$11*PARÂMETROS!$D$11/PARÂMETROS!$C$14","v":{"v":-50.00000020597163,"d":"-50.00"}},{"$f":"T113*PARÂMETROS!$C$11*PARÂMETROS!$D$11/PARÂMETROS!$C$14","v":{"v":-50.0000000686572,"d":"-50.00"}},{"$f":"U113*PARÂMETROS!$C$11*PARÂMETROS!$D$11/PARÂMETROS!$C$14","v":{"v":-50.00000015447873,"d":"-50.00"}},{"$f":"V113*PARÂMETROS!$C$11*PARÂMETROS!$D$11/PARÂMETROS!$C$14","v":{"v":-50.00000024030024,"d":"-50.00"}},{"$f":"W113*PARÂMETROS!$C$11*PARÂMETROS!$D$11/PARÂMETROS!$C$14","v":{"v":-50.00000010298582,"d":"-50.00"}},{"$f":"X113*PARÂMETROS!$C$11*PARÂMETROS!$D$11/PARÂMETROS!$C$14","v":{"v":-50.00000018880733,"d":"-50.00"}},{"$f":"Y113*PARÂMETROS!$C$11*PARÂMETROS!$D$11/PARÂMETROS!$C$14","v":{"v":-50.00000027462884,"d":"-50.00"}},{"$f":"AND(B113+PARÂMETROS!$C$8>=PARÂMETROS!$C$5,B113+PARÂMETROS!$C$8<=PARÂMETROS!$D$5)","v":false},0,{"$f":"VLOOKUP('BANCO DE DADOS COMPLETA'!$N$8,'BANCO DE DADOS COMPLETA'!$A$7:$L$249,3)*-1","v":3},7,{"$f":"VLOOKUP('BANCO DE DADOS COMPLETA'!$N$10,'BANCO DE DADOS COMPLETA'!$A$7:$L$249,3)*-1","v":1},11,77,{"v":-50.00000010298582,"d":"-50.00"},"LIMITE","LIMITE","LIMITE","LIMITE","NADA","NADA",0]
[null,{"$f":"B113+PARÂMETROS!$C$8","v":{"v":22.664343848340646,"d":"22.66"}},{"v":2.1659885258701662E-23,"d":"2.17E-23"},{"$f":"PARÂMETROS!$Q$4/C114","v":{"v":461682962.79328585,"d":"4.62E+08"}},{"$f":"PARÂMETROS!$F$6/($C114+PARÂMETROS!$F$6)","v":{"v":1,"d":"1.00E+00"}},{"$f":"$C114*PARÂMETROS!$F$6/($C114^2+$C114*PARÂMETROS!$F$6+PARÂMETROS!$F$6*PARÂMETROS!$G$6)","v":{"v":3.424965109614352E-16,"d":"3.42E-16"}},{"$f":"PARÂMETROS!$F$6*PARÂMETROS!$G$6/($C114^2+$C114*PARÂMETROS!$F$6+PARÂMETROS!$F$6*PARÂMETROS!$G$6)","v":{"v":0.9999999999999997,"d":"1.00E+00"}},{"$f":"(PARÂMETROS!$F$6*$C114^2)/($C114^3+PARÂMETROS!$F$6*$C114^2+PARÂMETROS!$F$6*PARÂMETROS!$G$6*$C114+PARÂMETROS!$F$6*PARÂMETROS!$G$6*PARÂMETROS!$H$6)","v":{"v":1.660780753742903e-26,"d":"1.66E-26"}},{"$f":"(PARÂMETROS!$F$6*PARÂMETROS!$G$6*$C114)/($C114^3+PARÂMETROS!$F$6*$C114^2+PARÂMETROS!$F$6*PARÂMETROS!$G$6*$C114+PARÂMETROS!$F$6*PARÂMETROS!$G$6*PARÂMETROS!$H$6)","v":{"v":4.849044298526898e-11,"d":"4.85E-11"}},{"$f":"(PARÂMETROS!$F$6*PARÂMETROS!$G$6*PARÂMETROS!$H$6)/($C114^3+PARÂMETROS!$F$6*$C114^2+PARÂMETROS!$F$6*PARÂMETROS!$G$6*$C114+PARÂMETROS!$F$6*PARÂMETROS!$G$6*PARÂMETROS!$H$6)","v":{"v":0.9999999999515095,"d":"1.00E+00"}},{"$f":"$C114/($C114+PARÂMETROS!$J$6)","v":{"v":2.1659885254010155E-10,"d":"2.17E-10"}},{"$f":"$C114*PARÂMETROS!$J$6/($C114^2+$C114*PARÂMETROS!$J$6+PARÂMETROS!$J$6*PARÂMETROS!$K$6)","v":{"v":0.9999999997834012,"d":"1.00E+00"}},{"$f":"$C114^2/($C114^2+$C114*PARÂMETROS!$J$6+PARÂMETROS!$J$6*PARÂMETROS!$K$6)","v":{"v":2.1659885254010152E-10,"d":"2.17E-10"}},{"$f":"(PARÂMETROS!$K$6*PARÂMETROS!$J$6*$C114)/($C114^3+PARÂMETROS!$J$6*$C114^2+PARÂMETROS!$J$6*PARÂMETROS!$K$6*$C114+PARÂMETROS!$J$6*PARÂMETROS!$K$6*PARÂMETROS!$L$6)","v":{"v":0,"d":"0.00E+00"}},{"$f":"(PARÂMETROS!$J$6*$C114^2)/($C114^3+PARÂMETROS!$J$6*$C114^2+PARÂMETROS!$J$6*PARÂMETROS!$K$6*$C114+PARÂMETROS!$J$6*PARÂMETROS!$K$6*PARÂMETROS!$L$6)","v":{"v":0.9999999997834013,"d":"1.00E+00"}},{"$f":"($C114^3)/($C114^3+PARÂMETROS!$J$6*$C114^2+PARÂMETROS!$J$6*PARÂMETROS!$K$6*$C114+PARÂMETROS!$J$6*PARÂMETROS!$K$6*PARÂMETROS!$L$6)","v":{"v":2.1659885254010157E-10,"d":"2.17E-10"}},{"$f":"IF(PARÂMETROS!$J$6<PARÂMETROS!$F$6,(E114-(C114-D114)/PARÂMETROS!$C$11)/(K114+(C114-D114)/PARÂMETROS!$C$14),(K114+(C114-D114)/PARÂMETROS!$C$14)/(E114-(C114-D114)/PARÂMETROS!$C$11))","v":{"v":-2.500000001082994,"d":"-2.50E+00"}},{"$f":"IF(PARÂMETROS!$J$6<PARÂMETROS!$F$6,(E114-(C114-D114)/PARÂMETROS!$C$11)/(L114+2*M114+(C114-D114)/PARÂMETROS!$C$14),(L114+2*M114+(C114-D114)/PARÂMETROS!$C$14)/(E114-(C114-D114)/PARÂMETROS!$C$11))","v":{"v":-2.50000000379048,"d":"-2.50E+00"}},{"$f":"IF(PARÂMETROS!$J$6<PARÂMETROS!$F$6, (E114-(C114-D114)/PARÂMETROS!$C$11)/(N114+2*O114+3*P114+(C114-D114)/PARÂMETROS!$C$14),(N114+2*O114+3*P114+(C114-D114)/PARÂMETROS!$C$14)/ (E114-(C114-D114)/PARÂMETROS!$C$11))","v":{"v":-2.5000000064979657,"d":"-2.50E+00"}},{"$f":"IF(PARÂMETROS!$J$6<PARÂMETROS!$F$6,(F114+2*G114-(C114-D114)/PARÂMETROS!$C$11)/(K114+(C114-D114)/PARÂMETROS!$C$14),(K114+(C114-D114)/PARÂMETROS!$C$14)/(F114+2*G114-(C114-D114)/PARÂMETROS!$C$11))","v":{"v":-2.5000000021659887,"d":"-2.50E+00"}},{"$f":"IF(PARÂMETROS!$J$6<PARÂMETROS!$F$6,(F114+2*G114-(C114-D114)/PARÂMETROS!$C$11)/(L114+2*M114+(C114-D114)/PARÂMETROS!$C$14),(L114+2*M114+(C114-D114)/PARÂMETROS!$C$14)/(F114+2*G114-(C114-D114)/PARÂMETROS!$C$11))","v":{"v":-2.500000004873474,"d":"-2.50E+00"}},{"$f":"IF(PARÂMETROS!$J$6<PARÂMETROS!$F$6,(F114+2*G114-(C114-D114)/PARÂMETROS!$C$11)/(N114+2*O114+3*P114+(C114-D114)/PARÂMETROS!$C$14),(N114+2*O114+3*P114+(C114-D114)/PARÂMETROS!$C$14)/(F114+2*G114-(C114-D114)/PARÂMETROS!$C$11))","v":{"v":-2.50000000758096,"d":"-2.50E+00"}},{"$f":"IF(PARÂMETROS!$J$6<PARÂMETROS!$F$6,(H114+2*I114+3*J114-(C114-D114)/PARÂMETROS!$C$11)/(K114+(C114-D114)/PARÂMETROS!$C$14),(K114+(C114-D114)/PARÂMETROS!$C$14)/(H114+2*I114+3*J114-(C114-D114)/PARÂMETROS!$C$11))","v":{"v":-2.500000003248983,"d":"-2.50E+00"}},{"$f":"IF(PARÂMETROS!$J$6<PARÂMETROS!$F$6,(H114+2*I114+3*J114-(C114-D114)/PARÂMETROS!$C$11)/(L114+2*M114+(C114-D114)/PARÂMETROS!$C$14),(L114+2*M114+(C114-D114)/PARÂMETROS!$C$14)/(H114+2*I114+3*J114-(C114-D114)/PARÂMETROS!$C$11))","v":{"v":-2.5000000059564687,"d":"-2.50E+00"}},{"$f":"IF(PARÂMETROS!$J$6<PARÂMETROS!$F$6,(H114+2*I114+3*J114-(C114-D114)/PARÂMETROS!$C$11)/(N114+2*O114+3*P114+(C114-D114)/PARÂMETROS!$C$14),(N114+2*O114+3*P114+(C114-D114)/PARÂMETROS!$C$14)/(H114+2*I114+3*J114-(C114-D114)/PARÂMETROS!$C$11))","v":{"v":-2.500000008663954,"d":"-2.50E+00"}},{"$f":"Q114*PARÂMETROS!$C$11*PARÂMETROS!$D$11/PARÂMETROS!$C$14","v":{"v":-50.000000021659886,"d":"-50.00"}},{"$f":"R114*PARÂMETROS!$C$11*PARÂMETROS!$D$11/PARÂMETROS!$C$14","v":{"v":-50.0000000758096,"d":"-50.00"}},{"$f":"S114*PARÂMETROS!$C$11*PARÂMETROS!$D$11/PARÂMETROS!$C$14","v":{"v":-50.00000012995932,"d":"-50.00"}},{"$f":"T114*PARÂMETROS!$C$11*PARÂMETROS!$D$11/PARÂMETROS!$C$14","v":{"v":-50.00000004331978,"d":"-50.00"}},{"$f":"U114*PARÂMETROS!$C$11*PARÂMETROS!$D$11/PARÂMETROS!$C$14","v":{"v":-50.00000009746949,"d":"-50.00"}},{"$f":"V114*PARÂMETROS!$C$11*PARÂMETROS!$D$11/PARÂMETROS!$C$14","v":{"v":-50.0000001516192,"d":"-50.00"}},{"$f":"W114*PARÂMETROS!$C$11*PARÂMETROS!$D$11/PARÂMETROS!$C$14","v":{"v":-50.00000006497965,"d":"-50.00"}},{"$f":"X114*PARÂMETROS!$C$11*PARÂMETROS!$D$11/PARÂMETROS!$C$14","v":{"v":-50.000000119129375,"d":"-50.00"}},{"$f":"Y114*PARÂMETROS!$C$11*PARÂMETROS!$D$11/PARÂMETROS!$C$14","v":{"v":-50.000000173279076,"d":"-50.00"}},{"$f":"AND(B114+PARÂMETROS!$C$8>=PARÂMETROS!$C$5,B114+PARÂMETROS!$C$8<=PARÂMETROS!$D$5)","v":false},0,{"$f":"VLOOKUP('BANCO DE DADOS COMPLETA'!$N$8,'BANCO DE DADOS COMPLETA'!$A$7:$L$249,3)*-1","v":3},7,{"$f":"VLOOKUP('BANCO DE DADOS COMPLETA'!$N$10,'BANCO DE DADOS COMPLETA'!$A$7:$L$249,3)*-1","v":1},11,77,{"v":-50.00000006497965,"d":"-50.00"},"LIMITE","LIMITE","LIMITE","LIMITE","NADA","NADA",0]
[null,{"$f":"B114+PARÂMETROS!$C$8","v":{"v":22.864343848340646,"d":"22.86"}},{"v":1.366646368457611e-23,"d":"1.37E-23"},{"$f":"PARÂMETROS!$Q$4/C115","v":{"v":731718184.806355,"d":"7.32E+08"}},{"$f":"PARÂMETROS!$F$6/($C115+PARÂMETROS!$F$6)","v":{"v":1,"d":"1.00E+00"}},{"$f":"$C115*PARÂMETROS!$F$6/($C115^2+$C115*PARÂMETROS!$F$6+PARÂMETROS!$F$6*PARÂMETROS!$G$6)","v":{"v":2.1610068904995896E-16,"d":"2.16E-16"}},{"$f":"PARÂMETROS!$F$6*PARÂMETROS!$G$6/($C115^2+$C115*PARÂMETROS!$F$6+PARÂMETROS!$F$6*PARÂMETROS!$G$6)","v":{"v":0.9999999999999998,"d":"1.00E+00"}},{"$f":"(PARÂMETROS!$F$6*$C115^2)/($C115^3+PARÂMETROS!$F$6*$C115^2+PARÂMETROS!$F$6*PARÂMETROS!$G$6*$C115+PARÂMETROS!$F$6*PARÂMETROS!$G$6*PARÂMETROS!$H$6)","v":{"v":6.611687267941257E-27,"d":"6.61E-27"}},{"$f":"(PARÂMETROS!$F$6*PARÂMETROS!$G$6*$C115)/($C115^3+PARÂMETROS!$F$6*$C115^2+PARÂMETROS!$F$6*PARÂMETROS!$G$6*$C115+PARÂMETROS!$F$6*PARÂMETROS!$G$6*PARÂMETROS!$H$6)","v":{"v":3.05954011392011e-11,"d":"3.06E-11"}},{"$f":"(PARÂMETROS!$F$6*PARÂMETROS!$G$6*PARÂMETROS!$H$6)/($C115^3+PARÂMETROS!$F$6*$C115^2+PARÂMETROS!$F$6*PARÂMETROS!$G$6*$C115+PARÂMETROS!$F$6*PARÂMETROS!$G$6*PARÂMETROS!$H$6)","v":{"v":0.9999999999694046,"d":"1.00E+00"}},{"$f":"$C115/($C115+PARÂMETROS!$J$6)","v":{"v":1.3666463682708384E-10,"d":"1.37E-10"}},{"$f":"$C115*PARÂMETROS!$J$6/($C115^2+$C115*PARÂMETROS!$J$6+PARÂMETROS!$J$6*PARÂMETROS!$K$6)","v":{"v":0.9999999998633353,"d":"1.00E+00"}},{"$f":"$C115^2/($C115^2+$C115*PARÂMETROS!$J$6+PARÂMETROS!$J$6*PARÂMETROS!$K$6)","v":{"v":1.3666463682708384E-10,"d":"1.37E-10"}},{"$f":"(PARÂMETROS!$K$6*PARÂMETROS!$J$6*$C115)/($C115^3+PARÂMETROS!$J$6*$C115^2+PARÂMETROS!$J$6*PARÂMETROS!$K$6*$C115+PARÂMETROS!$J$6*PARÂMETROS!$K$6*PARÂMETROS!$L$6)","v":{"v":0,"d":"0.00E+00"}},{"$f":"(PARÂMETROS!$J$6*$C115^2)/($C115^3+PARÂMETROS!$J$6*$C115^2+PARÂMETROS!$J$6*PARÂMETROS!$K$6*$C115+PARÂMETROS!$J$6*PARÂMETROS!$K$6*PARÂMETROS!$L$6)","v":{"v":0.9999999998633353,"d":"1.00E+00"}},{"$f":"($C115^3)/($C115^3+PARÂMETROS!$J$6*$C115^2+PARÂMETROS!$J$6*PARÂMETROS!$K$6*$C115+PARÂMETROS!$J$6*PARÂMETROS!$K$6*PARÂMETROS!$L$6)","v":{"v":1.3666463682708387E-10,"d":"1.37E-10"}},{"$f":"IF(PARÂMETROS!$J$6<PARÂMETROS!$F$6,(E115-(C115-D115)/PARÂMETROS!$C$11)/(K115+(C115-D115)/PARÂMETROS!$C$14),(K115+(C115-D115)/PARÂMETROS!$C$14)/(E115-(C115-D115)/PARÂMETROS!$C$11))","v":{"v":-2.500000000683323,"d":"-2.50E+00"}},{"$f":"IF(PARÂMETROS!$J$6<PARÂMETROS!$F$6,(E115-(C115-D115)/PARÂMETROS!$C$11)/(L115+2*M115+(C115-D115)/PARÂMETROS!$C$14),(L115+2*M115+(C115-D115)/PARÂMETROS!$C$14)/(E115-(C115-D115)/PARÂMETROS!$C$11))","v":{"v":-2.5000000023916313,"d":"-2.50E+00"}},{"$f":"IF(PARÂMETROS!$J$6<PARÂMETROS!$F$6, (E115-(C115-D115)/PARÂMETROS!$C$11)/(N115+2*O115+3*P115+(C115-D115)/PARÂMETROS!$C$14),(N115+2*O115+3*P115+(C115-D115)/PARÂMETROS!$C$14)/ (E115-(C115-D115)/PARÂMETROS!$C$11))","v":{"v":-2.500000004099939,"d":"-2.50E+00"}},{"$f":"IF(PARÂMETROS!$J$6<PARÂMETROS!$F$6,(F115+2*G115-(C115-D115)/PARÂMETROS!$C$11)/(K115+(C115-D115)/PARÂMETROS!$C$14),(K115+(C115-D115)/PARÂMETROS!$C$14)/(F115+2*G115-(C115-D115)/PARÂMETROS!$C$11))","v":{"v":-2.5000000013666464,"d":"-2.50E+00"}},{"$f":"IF(PARÂMETROS!$J$6<PARÂMETROS!$F$6,(F115+2*G115-(C115-D115)/PARÂMETROS!$C$11)/(L115+2*M115+(C115-D115)/PARÂMETROS!$C$14),(L115+2*M115+(C115-D115)/PARÂMETROS!$C$14)/(F115+2*G115-(C115-D115)/PARÂMETROS!$C$11))","v":{"v":-2.5000000030749545,"d":"-2.50E+00"}},{"$f":"IF(PARÂMETROS!$J$6<PARÂMETROS!$F$6,(F115+2*G115-(C115-D115)/PARÂMETROS!$C$11)/(N115+2*O115+3*P115+(C115-D115)/PARÂMETROS!$C$14),(N115+2*O115+3*P115+(C115-D115)/PARÂMETROS!$C$14)/(F115+2*G115-(C115-D115)/PARÂMETROS!$C$11))","v":{"v":-2.5000000047832622,"d":"-2.50E+00"}},{"$f":"IF(PARÂMETROS!$J$6<PARÂMETROS!$F$6,(H115+2*I115+3*J115-(C115-D115)/PARÂMETROS!$C$11)/(K115+(C115-D115)/PARÂMETROS!$C$14),(K115+(C115-D115)/PARÂMETROS!$C$14)/(H115+2*I115+3*J115-(C115-D115)/PARÂMETROS!$C$11))","v":{"v":-2.5000000020499695,"d":"-2.50E+00"}},{"$f":"IF(PARÂMETROS!$J$6<PARÂMETROS!$F$6,(H115+2*I115+3*J115-(C115-D115)/PARÂMETROS!$C$11)/(L115+2*M115+(C115-D115)/PARÂMETROS!$C$14),(L115+2*M115+(C115-D115)/PARÂMETROS!$C$14)/(H115+2*I115+3*J115-(C115-D115)/PARÂMETROS!$C$11))","v":{"v":-2.5000000037582777,"d":"-2.50E+00"}},{"$f":"IF(PARÂMETROS!$J$6<PARÂMETROS!$F$6,(H115+2*I115+3*J115-(C115-D115)/PARÂMETROS!$C$11)/(N115+2*O115+3*P115+(C115-D115)/PARÂMETROS!$C$14),(N115+2*O115+3*P115+(C115-D115)/PARÂMETROS!$C$14)/(H115+2*I115+3*J115-(C115-D115)/PARÂMETROS!$C$11))","v":{"v":-2.5000000054665854,"d":"-2.50E+00"}},{"$f":"Q115*PARÂMETROS!$C$11*PARÂMETROS!$D$11/PARÂMETROS!$C$14","v":{"v":-50.000000013666465,"d":"-50.00"}},{"$f":"R115*PARÂMETROS!$C$11*PARÂMETROS!$D$11/PARÂMETROS!$C$14","v":{"v":-50.00000004783263,"d":"-50.00"}},{"$f":"S115*PARÂMETROS!$C$11*PARÂMETROS!$D$11/PARÂMETROS!$C$14","v":{"v":-50.000000081998785,"d":"-50.00"}},{"$f":"T115*PARÂMETROS!$C$11*PARÂMETROS!$D$11/PARÂMETROS!$C$14","v":{"v":-50.00000002733292,"d":"-50.00"}},{"$f":"U115*PARÂMETROS!$C$11*PARÂMETROS!$D$11/PARÂMETROS!$C$14","v":{"v":-50.000000061499094,"d":"-50.00"}},{"$f":"V115*PARÂMETROS!$C$11*PARÂMETROS!$D$11/PARÂMETROS!$C$14","v":{"v":-50.00000009566524,"d":"-50.00"}},{"$f":"W115*PARÂMETROS!$C$11*PARÂMETROS!$D$11/PARÂMETROS!$C$14","v":{"v":-50.000000040999396,"d":"-50.00"}},{"$f":"X115*PARÂMETROS!$C$11*PARÂMETROS!$D$11/PARÂMETROS!$C$14","v":{"v":-50.00000007516555,"d":"-50.00"}},{"$f":"Y115*PARÂMETROS!$C$11*PARÂMETROS!$D$11/PARÂMETROS!$C$14","v":{"v":-50.00000010933171,"d":"-50.00"}},{"$f":"AND(B115+PARÂMETROS!$C$8>=PARÂMETROS!$C$5,B115+PARÂMETROS!$C$8<=PARÂMETROS!$D$5)","v":false},0,{"$f":"VLOOKUP('BANCO DE DADOS COMPLETA'!$N$8,'BANCO DE DADOS COMPLETA'!$A$7:$L$249,3)*-1","v":3},7,{"$f":"VLOOKUP('BANCO DE DADOS COMPLETA'!$N$10,'BANCO DE DADOS COMPLETA'!$A$7:$L$249,3)*-1","v":1},11,77,{"v":-50.000000040999396,"d":"-50.00"},"LIMITE","LIMITE","LIMITE","LIMITE","NADA","NADA",0]
[null,{"$f":"B115+PARÂMETROS!$C$8","v":{"v":23.064343848340645,"d":"23.06"}},{"v":8.622955634855156e-24,"d":"8.62E-24"},{"$f":"PARÂMETROS!$Q$4/C116","v":{"v":1159695169.8995926,"d":"1.16E+09"}},{"$f":"PARÂMETROS!$F$6/($C116+PARÂMETROS!$F$6)","v":{"v":1,"d":"1.00E+00"}},{"$f":"$C116*PARÂMETROS!$F$6/($C116^2+$C116*PARÂMETROS!$F$6+PARÂMETROS!$F$6*PARÂMETROS!$G$6)","v":{"v":1.3635031690330236E-16,"d":"1.36E-16"}},{"$f":"PARÂMETROS!$F$6*PARÂMETROS!$G$6/($C116^2+$C116*PARÂMETROS!$F$6+PARÂMETROS!$F$6*PARÂMETROS!$G$6)","v":{"v":0.9999999999999999,"d":"1.00E+00"}},{"$f":"(PARÂMETROS!$F$6*$C116^2)/($C116^3+PARÂMETROS!$F$6*$C116^2+PARÂMETROS!$F$6*PARÂMETROS!$G$6*$C116+PARÂMETROS!$F$6*PARÂMETROS!$G$6*PARÂMETROS!$H$6)","v":{"v":2.6321601108544066E-27,"d":"2.63E-27"}},{"$f":"(PARÂMETROS!$F$6*PARÂMETROS!$G$6*$C116)/($C116^3+PARÂMETROS!$F$6*$C116^2+PARÂMETROS!$F$6*PARÂMETROS!$G$6*$C116+PARÂMETROS!$F$6*PARÂMETROS!$G$6*PARÂMETROS!$H$6)","v":{"v":1.9304393056314605E-11,"d":"1.93E-11"}},{"$f":"(PARÂMETROS!$F$6*PARÂMETROS!$G$6*PARÂMETROS!$H$6)/($C116^3+PARÂMETROS!$F$6*$C116^2+PARÂMETROS!$F$6*PARÂMETROS!$G$6*$C116+PARÂMETROS!$F$6*PARÂMETROS!$G$6*PARÂMETROS!$H$6)","v":{"v":0.9999999999806957,"d":"1.00E+00"}},{"$f":"$C116/($C116+PARÂMETROS!$J$6)","v":{"v":8.622955634111602e-11,"d":"8.62E-11"}},{"$f":"$C116*PARÂMETROS!$J$6/($C116^2+$C116*PARÂMETROS!$J$6+PARÂMETROS!$J$6*PARÂMETROS!$K$6)","v":{"v":0.9999999999137705,"d":"1.00E+00"}},{"$f":"$C116^2/($C116^2+$C116*PARÂMETROS!$J$6+PARÂMETROS!$J$6*PARÂMETROS!$K$6)","v":{"v":8.622955634111602e-11,"d":"8.62E-11"}},{"$f":"(PARÂMETROS!$K$6*PARÂMETROS!$J$6*$C116)/($C116^3+PARÂMETROS!$J$6*$C116^2+PARÂMETROS!$J$6*PARÂMETROS!$K$6*$C116+PARÂMETROS!$J$6*PARÂMETROS!$K$6*PARÂMETROS!$L$6)","v":{"v":0,"d":"0.00E+00"}},{"$f":"(PARÂMETROS!$J$6*$C116^2)/($C116^3+PARÂMETROS!$J$6*$C116^2+PARÂMETROS!$J$6*PARÂMETROS!$K$6*$C116+PARÂMETROS!$J$6*PARÂMETROS!$K$6*PARÂMETROS!$L$6)","v":{"v":0.9999999999137704,"d":"1.00E+00"}},{"$f":"($C116^3)/($C116^3+PARÂMETROS!$J$6*$C116^2+PARÂMETROS!$J$6*PARÂMETROS!$K$6*$C116+PARÂMETROS!$J$6*PARÂMETROS!$K$6*PARÂMETROS!$L$6)","v":{"v":8.622955634111602e-11,"d":"8.62E-11"}},{"$f":"IF(PARÂMETROS!$J$6<PARÂMETROS!$F$6,(E116-(C116-D116)/PARÂMETROS!$C$11)/(K116+(C116-D116)/PARÂMETROS!$C$14),(K116+(C116-D116)/PARÂMETROS!$C$14)/(E116-(C116-D116)/PARÂMETROS!$C$11))","v":{"v":-2.5000000004311476,"d":"-2.50E+00"}},{"$f":"IF(PARÂMETROS!$J$6<PARÂMETROS!$F$6,(E116-(C116-D116)/PARÂMETROS!$C$11)/(L116+2*M116+(C116-D116)/PARÂMETROS!$C$14),(L116+2*M116+(C116-D116)/PARÂMETROS!$C$14)/(E116-(C116-D116)/PARÂMETROS!$C$11))","v":{"v":-2.5000000015090174,"d":"-2.50E+00"}},{"$f":"IF(PARÂMETROS!$J$6<PARÂMETROS!$F$6, (E116-(C116-D116)/PARÂMETROS!$C$11)/(N116+2*O116+3*P116+(C116-D116)/PARÂMETROS!$C$14),(N116+2*O116+3*P116+(C116-D116)/PARÂMETROS!$C$14)/ (E116-(C116-D116)/PARÂMETROS!$C$11))","v":{"v":-2.5000000025868867,"d":"-2.50E+00"}},{"$f":"IF(PARÂMETROS!$J$6<PARÂMETROS!$F$6,(F116+2*G116-(C116-D116)/PARÂMETROS!$C$11)/(K116+(C116-D116)/PARÂMETROS!$C$14),(K116+(C116-D116)/PARÂMETROS!$C$14)/(F116+2*G116-(C116-D116)/PARÂMETROS!$C$11))","v":{"v":-2.5000000008622956,"d":"-2.50E+00"}},{"$f":"IF(PARÂMETROS!$J$6<PARÂMETROS!$F$6,(F116+2*G116-(C116-D116)/PARÂMETROS!$C$11)/(L116+2*M116+(C116-D116)/PARÂMETROS!$C$14),(L116+2*M116+(C116-D116)/PARÂMETROS!$C$14)/(F116+2*G116-(C116-D116)/PARÂMETROS!$C$11))","v":{"v":-2.500000001940165,"d":"-2.50E+00"}},{"$f":"IF(PARÂMETROS!$J$6<PARÂMETROS!$F$6,(F116+2*G116-(C116-D116)/PARÂMETROS!$C$11)/(N116+2*O116+3*P116+(C116-D116)/PARÂMETROS!$C$14),(N116+2*O116+3*P116+(C116-D116)/PARÂMETROS!$C$14)/(F116+2*G116-(C116-D116)/PARÂMETROS!$C$11))","v":{"v":-2.5000000030180343,"d":"-2.50E+00"}},{"$f":"IF(PARÂMETROS!$J$6<PARÂMETROS!$F$6,(H116+2*I116+3*J116-(C116-D116)/PARÂMETROS!$C$11)/(K116+(C116-D116)/PARÂMETROS!$C$14),(K116+(C116-D116)/PARÂMETROS!$C$14)/(H116+2*I116+3*J116-(C116-D116)/PARÂMETROS!$C$11))","v":{"v":-2.500000001293443,"d":"-2.50E+00"}},{"$f":"IF(PARÂMETROS!$J$6<PARÂMETROS!$F$6,(H116+2*I116+3*J116-(C116-D116)/PARÂMETROS!$C$11)/(L116+2*M116+(C116-D116)/PARÂMETROS!$C$14),(L116+2*M116+(C116-D116)/PARÂMETROS!$C$14)/(H116+2*I116+3*J116-(C116-D116)/PARÂMETROS!$C$11))","v":{"v":-2.5000000023713125,"d":"-2.50E+00"}},{"$f":"IF(PARÂMETROS!$J$6<PARÂMETROS!$F$6,(H116+2*I116+3*J116-(C116-D116)/PARÂMETROS!$C$11)/(N116+2*O116+3*P116+(C116-D116)/PARÂMETROS!$C$14),(N116+2*O116+3*P116+(C116-D116)/PARÂMETROS!$C$14)/(H116+2*I116+3*J116-(C116-D116)/PARÂMETROS!$C$11))","v":{"v":-2.5000000034491823,"d":"-2.50E+00"}},{"$f":"Q116*PARÂMETROS!$C$11*PARÂMETROS!$D$11/PARÂMETROS!$C$14","v":{"v":-50.000000008622955,"d":"-50.00"}},{"$f":"R116*PARÂMETROS!$C$11*PARÂMETROS!$D$11/PARÂMETROS!$C$14","v":{"v":-50.000000030180345,"d":"-50.00"}},{"$f":"S116*PARÂMETROS!$C$11*PARÂMETROS!$D$11/PARÂMETROS!$C$14","v":{"v":-50.000000051737736,"d":"-50.00"}},{"$f":"T116*PARÂMETROS!$C$11*PARÂMETROS!$D$11/PARÂMETROS!$C$14","v":{"v":-50.00000001724592,"d":"-50.00"}},{"$f":"U116*PARÂMETROS!$C$11*PARÂMETROS!$D$11/PARÂMETROS!$C$14","v":{"v":-50.00000003880331,"d":"-50.00"}},{"$f":"V116*PARÂMETROS!$C$11*PARÂMETROS!$D$11/PARÂMETROS!$C$14","v":{"v":-50.000000060360684,"d":"-50.00"}},{"$f":"W116*PARÂMETROS!$C$11*PARÂMETROS!$D$11/PARÂMETROS!$C$14","v":{"v":-50.000000025868864,"d":"-50.00"}},{"$f":"X116*PARÂMETROS!$C$11*PARÂMETROS!$D$11/PARÂMETROS!$C$14","v":{"v":-50.000000047426255,"d":"-50.00"}},{"$f":"Y116*PARÂMETROS!$C$11*PARÂMETROS!$D$11/PARÂMETROS!$C$14","v":{"v":-50.00000006898365,"d":"-50.00"}},{"$f":"AND(B116+PARÂMETROS!$C$8>=PARÂMETROS!$C$5,B116+PARÂMETROS!$C$8<=PARÂMETROS!$D$5)","v":false},0,{"$f":"VLOOKUP('BANCO DE DADOS COMPLETA'!$N$8,'BANCO DE DADOS COMPLETA'!$A$7:$L$249,3)*-1","v":3},7,{"$f":"VLOOKUP('BANCO DE DADOS COMPLETA'!$N$10,'BANCO DE DADOS COMPLETA'!$A$7:$L$249,3)*-1","v":1},11,77,{"v":-50.000000025868864,"d":"-50.00"},"LIMITE","LIMITE","LIMITE","LIMITE","NADA","NADA",0]
[null,{"$f":"B116+PARÂMETROS!$C$8","v":{"v":23.264343848340644,"d":"23.26"}},{"v":5.440717188938738e-24,"d":"5.44E-24"},{"$f":"PARÂMETROS!$Q$4/C117","v":{"v":1837992980.1038954,"d":"1.84E+09"}},{"$f":"PARÂMETROS!$F$6/($C117+PARÂMETROS!$F$6)","v":{"v":1,"d":"1.00E+00"}},{"$f":"$C117*PARÂMETROS!$F$6/($C117^2+$C117*PARÂMETROS!$F$6+PARÂMETROS!$F$6*PARÂMETROS!$G$6)","v":{"v":8.603123387234062e-17,"d":"8.60E-17"}},{"$f":"PARÂMETROS!$F$6*PARÂMETROS!$G$6/($C117^2+$C117*PARÂMETROS!$F$6+PARÂMETROS!$F$6*PARÂMETROS!$G$6)","v":{"v":0.9999999999999999,"d":"1.00E+00"}},{"$f":"(PARÂMETROS!$F$6*$C117^2)/($C117^3+PARÂMETROS!$F$6*$C117^2+PARÂMETROS!$F$6*PARÂMETROS!$G$6*$C117+PARÂMETROS!$F$6*PARÂMETROS!$G$6*PARÂMETROS!$H$6)","v":{"v":1.0478818141834965E-27,"d":"1.05E-27"}},{"$f":"(PARÂMETROS!$F$6*PARÂMETROS!$G$6*$C117)/($C117^3+PARÂMETROS!$F$6*$C117^2+PARÂMETROS!$F$6*PARÂMETROS!$G$6*$C117+PARÂMETROS!$F$6*PARÂMETROS!$G$6*PARÂMETROS!$H$6)","v":{"v":1.2180248579700941E-11,"d":"1.22E-11"}},{"$f":"(PARÂMETROS!$F$6*PARÂMETROS!$G$6*PARÂMETROS!$H$6)/($C117^3+PARÂMETROS!$F$6*$C117^2+PARÂMETROS!$F$6*PARÂMETROS!$G$6*$C117+PARÂMETROS!$F$6*PARÂMETROS!$G$6*PARÂMETROS!$H$6)","v":{"v":0.9999999999878197,"d":"1.00E+00"}},{"$f":"$C117/($C117+PARÂMETROS!$J$6)","v":{"v":5.4407171886427235E-11,"d":"5.44E-11"}},{"$f":"$C117*PARÂMETROS!$J$6/($C117^2+$C117*PARÂMETROS!$J$6+PARÂMETROS!$J$6*PARÂMETROS!$K$6)","v":{"v":0.9999999999455929,"d":"1.00E+00"}},{"$f":"$C117^2/($C117^2+$C117*PARÂMETROS!$J$6+PARÂMETROS!$J$6*PARÂMETROS!$K$6)","v":{"v":5.4407171886427235E-11,"d":"5.44E-11"}},{"$f":"(PARÂMETROS!$K$6*PARÂMETROS!$J$6*$C117)/($C117^3+PARÂMETROS!$J$6*$C117^2+PARÂMETROS!$J$6*PARÂMETROS!$K$6*$C117+PARÂMETROS!$J$6*PARÂMETROS!$K$6*PARÂMETROS!$L$6)","v":{"v":0,"d":"0.00E+00"}},{"$f":"(PARÂMETROS!$J$6*$C117^2)/($C117^3+PARÂMETROS!$J$6*$C117^2+PARÂMETROS!$J$6*PARÂMETROS!$K$6*$C117+PARÂMETROS!$J$6*PARÂMETROS!$K$6*PARÂMETROS!$L$6)","v":{"v":0.9999999999455929,"d":"1.00E+00"}},{"$f":"($C117^3)/($C117^3+PARÂMETROS!$J$6*$C117^2+PARÂMETROS!$J$6*PARÂMETROS!$K$6*$C117+PARÂMETROS!$J$6*PARÂMETROS!$K$6*PARÂMETROS!$L$6)","v":{"v":5.4407171886427235E-11,"d":"5.44E-11"}},{"$f":"IF(PARÂMETROS!$J$6<PARÂMETROS!$F$6,(E117-(C117-D117)/PARÂMETROS!$C$11)/(K117+(C117-D117)/PARÂMETROS!$C$14),(K117+(C117-D117)/PARÂMETROS!$C$14)/(E117-(C117-D117)/PARÂMETROS!$C$11))","v":{"v":-2.5000000002720357,"d":"-2.50E+00"}},{"$f":"IF(PARÂMETROS!$J$6<PARÂMETROS!$F$6,(E117-(C117-D117)/PARÂMETROS!$C$11)/(L117+2*M117+(C117-D117)/PARÂMETROS!$C$14),(L117+2*M117+(C117-D117)/PARÂMETROS!$C$14)/(E117-(C117-D117)/PARÂMETROS!$C$11))","v":{"v":-2.500000000952125,"d":"-2.50E+00"}},{"$f":"IF(PARÂMETROS!$J$6<PARÂMETROS!$F$6, (E117-(C117-D117)/PARÂMETROS!$C$11)/(N117+2*O117+3*P117+(C117-D117)/PARÂMETROS!$C$14),(N117+2*O117+3*P117+(C117-D117)/PARÂMETROS!$C$14)/ (E117-(C117-D117)/PARÂMETROS!$C$11))","v":{"v":-2.500000001632215,"d":"-2.50E+00"}},{"$f":"IF(PARÂMETROS!$J$6<PARÂMETROS!$F$6,(F117+2*G117-(C117-D117)/PARÂMETROS!$C$11)/(K117+(C117-D117)/PARÂMETROS!$C$14),(K117+(C117-D117)/PARÂMETROS!$C$14)/(F117+2*G117-(C117-D117)/PARÂMETROS!$C$11))","v":{"v":-2.5000000005440715,"d":"-2.50E+00"}},{"$f":"IF(PARÂMETROS!$J$6<PARÂMETROS!$F$6,(F117+2*G117-(C117-D117)/PARÂMETROS!$C$11)/(L117+2*M117+(C117-D117)/PARÂMETROS!$C$14),(L117+2*M117+(C117-D117)/PARÂMETROS!$C$14)/(F117+2*G117-(C117-D117)/PARÂMETROS!$C$11))","v":{"v":-2.500000001224161,"d":"-2.50E+00"}},{"$f":"IF(PARÂMETROS!$J$6<PARÂMETROS!$F$6,(F117+2*G117-(C117-D117)/PARÂMETROS!$C$11)/(N117+2*O117+3*P117+(C117-D117)/PARÂMETROS!$C$14),(N117+2*O117+3*P117+(C117-D117)/PARÂMETROS!$C$14)/(F117+2*G117-(C117-D117)/PARÂMETROS!$C$11))","v":{"v":-2.5000000019042505,"d":"-2.50E+00"}},{"$f":"IF(PARÂMETROS!$J$6<PARÂMETROS!$F$6,(H117+2*I117+3*J117-(C117-D117)/PARÂMETROS!$C$11)/(K117+(C117-D117)/PARÂMETROS!$C$14),(K117+(C117-D117)/PARÂMETROS!$C$14)/(H117+2*I117+3*J117-(C117-D117)/PARÂMETROS!$C$11))","v":{"v":-2.500000000816107,"d":"-2.50E+00"}},{"$f":"IF(PARÂMETROS!$J$6<PARÂMETROS!$F$6,(H117+2*I117+3*J117-(C117-D117)/PARÂMETROS!$C$11)/(L117+2*M117+(C117-D117)/PARÂMETROS!$C$14),(L117+2*M117+(C117-D117)/PARÂMETROS!$C$14)/(H117+2*I117+3*J117-(C117-D117)/PARÂMETROS!$C$11))","v":{"v":-2.500000001496197,"d":"-2.50E+00"}},{"$f":"IF(PARÂMETROS!$J$6<PARÂMETROS!$F$6,(H117+2*I117+3*J117-(C117-D117)/PARÂMETROS!$C$11)/(N117+2*O117+3*P117+(C117-D117)/PARÂMETROS!$C$14),(N117+2*O117+3*P117+(C117-D117)/PARÂMETROS!$C$14)/(H117+2*I117+3*J117-(C117-D117)/PARÂMETROS!$C$11))","v":{"v":-2.5000000021762867,"d":"-2.50E+00"}},{"$f":"Q117*PARÂMETROS!$C$11*PARÂMETROS!$D$11/PARÂMETROS!$C$14","v":{"v":-50.00000000544071,"d":"-50.00"}},{"$f":"R117*PARÂMETROS!$C$11*PARÂMETROS!$D$11/PARÂMETROS!$C$14","v":{"v":-50.0000000190425,"d":"-50.00"}},{"$f":"S117*PARÂMETROS!$C$11*PARÂMETROS!$D$11/PARÂMETROS!$C$14","v":{"v":-50.0000000326443,"d":"-50.00"}},{"$f":"T117*PARÂMETROS!$C$11*PARÂMETROS!$D$11/PARÂMETROS!$C$14","v":{"v":-50.00000001088143,"d":"-50.00"}},{"$f":"U117*PARÂMETROS!$C$11*PARÂMETROS!$D$11/PARÂMETROS!$C$14","v":{"v":-50.00000002448323,"d":"-50.00"}},{"$f":"V117*PARÂMETROS!$C$11*PARÂMETROS!$D$11/PARÂMETROS!$C$14","v":{"v":-50.00000003808501,"d":"-50.00"}},{"$f":"W117*PARÂMETROS!$C$11*PARÂMETROS!$D$11/PARÂMETROS!$C$14","v":{"v":-50.00000001632215,"d":"-50.00"}},{"$f":"X117*PARÂMETROS!$C$11*PARÂMETROS!$D$11/PARÂMETROS!$C$14","v":{"v":-50.00000002992394,"d":"-50.00"}},{"$f":"Y117*PARÂMETROS!$C$11*PARÂMETROS!$D$11/PARÂMETROS!$C$14","v":{"v":-50.00000004352574,"d":"-50.00"}},{"$f":"AND(B117+PARÂMETROS!$C$8>=PARÂMETROS!$C$5,B117+PARÂMETROS!$C$8<=PARÂMETROS!$D$5)","v":false},0,{"$f":"VLOOKUP('BANCO DE DADOS COMPLETA'!$N$8,'BANCO DE DADOS COMPLETA'!$A$7:$L$249,3)*-1","v":3},7,{"$f":"VLOOKUP('BANCO DE DADOS COMPLETA'!$N$10,'BANCO DE DADOS COMPLETA'!$A$7:$L$249,3)*-1","v":1},11,77,{"v":-50.00000001632215,"d":"-50.00"},"LIMITE","LIMITE","LIMITE","LIMITE","NADA","NADA",0]
[null,{"$f":"B117+PARÂMETROS!$C$8","v":{"v":23.464343848340643,"d":"23.46"}},{"v":3.432860469600535e-24,"d":"3.43E-24"},{"$f":"PARÂMETROS!$Q$4/C118","v":{"v":2913022561.957973,"d":"2.91E+09"}},{"$f":"PARÂMETROS!$F$6/($C118+PARÂMETROS!$F$6)","v":{"v":1,"d":"1.00E+00"}},{"$f":"$C118*PARÂMETROS!$F$6/($C118^2+$C118*PARÂMETROS!$F$6+PARÂMETROS!$F$6*PARÂMETROS!$G$6)","v":{"v":5.4282038866446606E-17,"d":"5.43E-17"}},{"$f":"PARÂMETROS!$F$6*PARÂMETROS!$G$6/($C118^2+$C118*PARÂMETROS!$F$6+PARÂMETROS!$F$6*PARÂMETROS!$G$6)","v":{"v":1,"d":"1.00E+00"}},{"$f":"(PARÂMETROS!$F$6*$C118^2)/($C118^3+PARÂMETROS!$F$6*$C118^2+PARÂMETROS!$F$6*PARÂMETROS!$G$6*$C118+PARÂMETROS!$F$6*PARÂMETROS!$G$6*PARÂMETROS!$H$6)","v":{"v":4.171692641209343e-28,"d":"4.17E-28"}},{"$f":"(PARÂMETROS!$F$6*PARÂMETROS!$G$6*$C118)/($C118^3+PARÂMETROS!$F$6*$C118^2+PARÂMETROS!$F$6*PARÂMETROS!$G$6*$C118+PARÂMETROS!$F$6*PARÂMETROS!$G$6*PARÂMETROS!$H$6)","v":{"v":7.685217298991311e-12,"d":"7.69E-12"}},{"$f":"(PARÂMETROS!$F$6*PARÂMETROS!$G$6*PARÂMETROS!$H$6)/($C118^3+PARÂMETROS!$F$6*$C118^2+PARÂMETROS!$F$6*PARÂMETROS!$G$6*$C118+PARÂMETROS!$F$6*PARÂMETROS!$G$6*PARÂMETROS!$H$6)","v":{"v":0.9999999999923148,"d":"1.00E+00"}},{"$f":"$C118/($C118+PARÂMETROS!$J$6)","v":{"v":3.4328604694826895E-11,"d":"3.43E-11"}},{"$f":"$C118*PARÂMETROS!$J$6/($C118^2+$C118*PARÂMETROS!$J$6+PARÂMETROS!$J$6*PARÂMETROS!$K$6)","v":{"v":0.9999999999656715,"d":"1.00E+00"}},{"$f":"$C118^2/($C118^2+$C118*PARÂMETROS!$J$6+PARÂMETROS!$J$6*PARÂMETROS!$K$6)","v":{"v":3.4328604694826895E-11,"d":"3.43E-11"}},{"$f":"(PARÂMETROS!$K$6*PARÂMETROS!$J$6*$C118)/($C118^3+PARÂMETROS!$J$6*$C118^2+PARÂMETROS!$J$6*PARÂMETROS!$K$6*$C118+PARÂMETROS!$J$6*PARÂMETROS!$K$6*PARÂMETROS!$L$6)","v":{"v":0,"d":"0.00E+00"}},{"$f":"(PARÂMETROS!$J$6*$C118^2)/($C118^3+PARÂMETROS!$J$6*$C118^2+PARÂMETROS!$J$6*PARÂMETROS!$K$6*$C118+PARÂMETROS!$J$6*PARÂMETROS!$K$6*PARÂMETROS!$L$6)","v":{"v":0.9999999999656713,"d":"1.00E+00"}},{"$f":"($C118^3)/($C118^3+PARÂMETROS!$J$6*$C118^2+PARÂMETROS!$J$6*PARÂMETROS!$K$6*$C118+PARÂMETROS!$J$6*PARÂMETROS!$K$6*PARÂMETROS!$L$6)","v":{"v":3.4328604694826895E-11,"d":"3.43E-11"}},{"$f":"IF(PARÂMETROS!$J$6<PARÂMETROS!$F$6,(E118-(C118-D118)/PARÂMETROS!$C$11)/(K118+(C118-D118)/PARÂMETROS!$C$14),(K118+(C118-D118)/PARÂMETROS!$C$14)/(E118-(C118-D118)/PARÂMETROS!$C$11))","v":{"v":-2.5000000001716427,"d":"-2.50E+00"}},{"$f":"IF(PARÂMETROS!$J$6<PARÂMETROS!$F$6,(E118-(C118-D118)/PARÂMETROS!$C$11)/(L118+2*M118+(C118-D118)/PARÂMETROS!$C$14),(L118+2*M118+(C118-D118)/PARÂMETROS!$C$14)/(E118-(C118-D118)/PARÂMETROS!$C$11))","v":{"v":-2.50000000060075,"d":"-2.50E+00"}},{"$f":"IF(PARÂMETROS!$J$6<PARÂMETROS!$F$6, (E118-(C118-D118)/PARÂMETROS!$C$11)/(N118+2*O118+3*P118+(C118-D118)/PARÂMETROS!$C$14),(N118+2*O118+3*P118+(C118-D118)/PARÂMETROS!$C$14)/ (E118-(C118-D118)/PARÂMETROS!$C$11))","v":{"v":-2.500000001029858,"d":"-2.50E+00"}},{"$f":"IF(PARÂMETROS!$J$6<PARÂMETROS!$F$6,(F118+2*G118-(C118-D118)/PARÂMETROS!$C$11)/(K118+(C118-D118)/PARÂMETROS!$C$14),(K118+(C118-D118)/PARÂMETROS!$C$14)/(F118+2*G118-(C118-D118)/PARÂMETROS!$C$11))","v":{"v":-2.500000000343286,"d":"-2.50E+00"}},{"$f":"IF(PARÂMETROS!$J$6<PARÂMETROS!$F$6,(F118+2*G118-(C118-D118)/PARÂMETROS!$C$11)/(L118+2*M118+(C118-D118)/PARÂMETROS!$C$14),(L118+2*M118+(C118-D118)/PARÂMETROS!$C$14)/(F118+2*G118-(C118-D118)/PARÂMETROS!$C$11))","v":{"v":-2.5000000007723933,"d":"-2.50E+00"}},{"$f":"IF(PARÂMETROS!$J$6<PARÂMETROS!$F$6,(F118+2*G118-(C118-D118)/PARÂMETROS!$C$11)/(N118+2*O118+3*P118+(C118-D118)/PARÂMETROS!$C$14),(N118+2*O118+3*P118+(C118-D118)/PARÂMETROS!$C$14)/(F118+2*G118-(C118-D118)/PARÂMETROS!$C$11))","v":{"v":-2.500000001201501,"d":"-2.50E+00"}},{"$f":"IF(PARÂMETROS!$J$6<PARÂMETROS!$F$6,(H118+2*I118+3*J118-(C118-D118)/PARÂMETROS!$C$11)/(K118+(C118-D118)/PARÂMETROS!$C$14),(K118+(C118-D118)/PARÂMETROS!$C$14)/(H118+2*I118+3*J118-(C118-D118)/PARÂMETROS!$C$11))","v":{"v":-2.500000000514929,"d":"-2.50E+00"}},{"$f":"IF(PARÂMETROS!$J$6<PARÂMETROS!$F$6,(H118+2*I118+3*J118-(C118-D118)/PARÂMETROS!$C$11)/(L118+2*M118+(C118-D118)/PARÂMETROS!$C$14),(L118+2*M118+(C118-D118)/PARÂMETROS!$C$14)/(H118+2*I118+3*J118-(C118-D118)/PARÂMETROS!$C$11))","v":{"v":-2.5000000009440364,"d":"-2.50E+00"}},{"$f":"IF(PARÂMETROS!$J$6<PARÂMETROS!$F$6,(H118+2*I118+3*J118-(C118-D118)/PARÂMETROS!$C$11)/(N118+2*O118+3*P118+(C118-D118)/PARÂMETROS!$C$14),(N118+2*O118+3*P118+(C118-D118)/PARÂMETROS!$C$14)/(H118+2*I118+3*J118-(C118-D118)/PARÂMETROS!$C$11))","v":{"v":-2.500000001373144,"d":"-2.50E+00"}},{"$f":"Q118*PARÂMETROS!$C$11*PARÂMETROS!$D$11/PARÂMETROS!$C$14","v":{"v":-50.00000000343285,"d":"-50.00"}},{"$f":"R118*PARÂMETROS!$C$11*PARÂMETROS!$D$11/PARÂMETROS!$C$14","v":{"v":-50.000000012015,"d":"-50.00"}},{"$f":"S118*PARÂMETROS!$C$11*PARÂMETROS!$D$11/PARÂMETROS!$C$14","v":{"v":-50.000000020597156,"d":"-50.00"}},{"$f":"T118*PARÂMETROS!$C$11*PARÂMETROS!$D$11/PARÂMETROS!$C$14","v":{"v":-50.00000000686572,"d":"-50.00"}},{"$f":"U118*PARÂMETROS!$C$11*PARÂMETROS!$D$11/PARÂMETROS!$C$14","v":{"v":-50.00000001544787,"d":"-50.00"}},{"$f":"V118*PARÂMETROS!$C$11*PARÂMETROS!$D$11/PARÂMETROS!$C$14","v":{"v":-50.00000002403002,"d":"-50.00"}},{"$f":"W118*PARÂMETROS!$C$11*PARÂMETROS!$D$11/PARÂMETROS!$C$14","v":{"v":-50.000000010298585,"d":"-50.00"}},{"$f":"X118*PARÂMETROS!$C$11*PARÂMETROS!$D$11/PARÂMETROS!$C$14","v":{"v":-50.00000001888073,"d":"-50.00"}},{"$f":"Y118*PARÂMETROS!$C$11*PARÂMETROS!$D$11/PARÂMETROS!$C$14","v":{"v":-50.000000027462875,"d":"-50.00"}},{"$f":"AND(B118+PARÂMETROS!$C$8>=PARÂMETROS!$C$5,B118+PARÂMETROS!$C$8<=PARÂMETROS!$D$5)","v":false},0,{"$f":"VLOOKUP('BANCO DE DADOS COMPLETA'!$N$8,'BANCO DE DADOS COMPLETA'!$A$7:$L$249,3)*-1","v":3},7,{"$f":"VLOOKUP('BANCO DE DADOS COMPLETA'!$N$10,'BANCO DE DADOS COMPLETA'!$A$7:$L$249,3)*-1","v":1},11,77,{"v":-50.000000010298585,"d":"-50.00"},"LIMITE","LIMITE","LIMITE","LIMITE","NADA","NADA",0]
[null,{"$f":"B118+PARÂMETROS!$C$8","v":{"v":23.664343848340643,"d":"23.66"}},{"v":2.1659885258701867E-24,"d":"2.17E-24"},{"$f":"PARÂMETROS!$Q$4/C119","v":{"v":4616829627.932815,"d":"4.62E+09"}},{"$f":"PARÂMETROS!$F$6/($C119+PARÂMETROS!$F$6)","v":{"v":1,"d":"1.00E+00"}},{"$f":"$C119*PARÂMETROS!$F$6/($C119^2+$C119*PARÂMETROS!$F$6+PARÂMETROS!$F$6*PARÂMETROS!$G$6)","v":{"v":3.424965109614386e-17,"d":"3.42E-17"}},{"$f":"PARÂMETROS!$F$6*PARÂMETROS!$G$6/($C119^2+$C119*PARÂMETROS!$F$6+PARÂMETROS!$F$6*PARÂMETROS!$G$6)","v":{"v":1,"d":"1.00E+00"}},{"$f":"(PARÂMETROS!$F$6*$C119^2)/($C119^3+PARÂMETROS!$F$6*$C119^2+PARÂMETROS!$F$6*PARÂMETROS!$G$6*$C119+PARÂMETROS!$F$6*PARÂMETROS!$G$6*PARÂMETROS!$H$6)","v":{"v":1.6607807538154137E-28,"d":"1.66E-28"}},{"$f":"(PARÂMETROS!$F$6*PARÂMETROS!$G$6*$C119)/($C119^3+PARÂMETROS!$F$6*$C119^2+PARÂMETROS!$F$6*PARÂMETROS!$G$6*$C119+PARÂMETROS!$F$6*PARÂMETROS!$G$6*PARÂMETROS!$H$6)","v":{"v":4.849044298738564e-12,"d":"4.85E-12"}},{"$f":"(PARÂMETROS!$F$6*PARÂMETROS!$G$6*PARÂMETROS!$H$6)/($C119^3+PARÂMETROS!$F$6*$C119^2+PARÂMETROS!$F$6*PARÂMETROS!$G$6*$C119+PARÂMETROS!$F$6*PARÂMETROS!$G$6*PARÂMETROS!$H$6)","v":{"v":0.9999999999951509,"d":"1.00E+00"}},{"$f":"$C119/($C119+PARÂMETROS!$J$6)","v":{"v":2.1659885258232718E-11,"d":"2.17E-11"}},{"$f":"$C119*PARÂMETROS!$J$6/($C119^2+$C119*PARÂMETROS!$J$6+PARÂMETROS!$J$6*PARÂMETROS!$K$6)","v":{"v":0.9999999999783402,"d":"1.00E+00"}},{"$f":"$C119^2/($C119^2+$C119*PARÂMETROS!$J$6+PARÂMETROS!$J$6*PARÂMETROS!$K$6)","v":{"v":2.1659885258232718E-11,"d":"2.17E-11"}},{"$f":"(PARÂMETROS!$K$6*PARÂMETROS!$J$6*$C119)/($C119^3+PARÂMETROS!$J$6*$C119^2+PARÂMETROS!$J$6*PARÂMETROS!$K$6*$C119+PARÂMETROS!$J$6*PARÂMETROS!$K$6*PARÂMETROS!$L$6)","v":{"v":0,"d":"0.00E+00"}},{"$f":"(PARÂMETROS!$J$6*$C119^2)/($C119^3+PARÂMETROS!$J$6*$C119^2+PARÂMETROS!$J$6*PARÂMETROS!$K$6*$C119+PARÂMETROS!$J$6*PARÂMETROS!$K$6*PARÂMETROS!$L$6)","v":{"v":0.9999999999783401,"d":"1.00E+00"}},{"$f":"($C119^3)/($C119^3+PARÂMETROS!$J$6*$C119^2+PARÂMETROS!$J$6*PARÂMETROS!$K$6*$C119+PARÂMETROS!$J$6*PARÂMETROS!$K$6*PARÂMETROS!$L$6)","v":{"v":2.1659885258232718E-11,"d":"2.17E-11"}},{"$f":"IF(PARÂMETROS!$J$6<PARÂMETROS!$F$6,(E119-(C119-D119)/PARÂMETROS!$C$11)/(K119+(C119-D119)/PARÂMETROS!$C$14),(K119+(C119-D119)/PARÂMETROS!$C$14)/(E119-(C119-D119)/PARÂMETROS!$C$11))","v":{"v":-2.500000000108299,"d":"-2.50E+00"}},{"$f":"IF(PARÂMETROS!$J$6<PARÂMETROS!$F$6,(E119-(C119-D119)/PARÂMETROS!$C$11)/(L119+2*M119+(C119-D119)/PARÂMETROS!$C$14),(L119+2*M119+(C119-D119)/PARÂMETROS!$C$14)/(E119-(C119-D119)/PARÂMETROS!$C$11))","v":{"v":-2.500000000379048,"d":"-2.50E+00"}},{"$f":"IF(PARÂMETROS!$J$6<PARÂMETROS!$F$6, (E119-(C119-D119)/PARÂMETROS!$C$11)/(N119+2*O119+3*P119+(C119-D119)/PARÂMETROS!$C$14),(N119+2*O119+3*P119+(C119-D119)/PARÂMETROS!$C$14)/ (E119-(C119-D119)/PARÂMETROS!$C$11))","v":{"v":-2.500000000649796,"d":"-2.50E+00"}},{"$f":"IF(PARÂMETROS!$J$6<PARÂMETROS!$F$6,(F119+2*G119-(C119-D119)/PARÂMETROS!$C$11)/(K119+(C119-D119)/PARÂMETROS!$C$14),(K119+(C119-D119)/PARÂMETROS!$C$14)/(F119+2*G119-(C119-D119)/PARÂMETROS!$C$11))","v":{"v":-2.5000000002165987,"d":"-2.50E+00"}},{"$f":"IF(PARÂMETROS!$J$6<PARÂMETROS!$F$6,(F119+2*G119-(C119-D119)/PARÂMETROS!$C$11)/(L119+2*M119+(C119-D119)/PARÂMETROS!$C$14),(L119+2*M119+(C119-D119)/PARÂMETROS!$C$14)/(F119+2*G119-(C119-D119)/PARÂMETROS!$C$11))","v":{"v":-2.500000000487347,"d":"-2.50E+00"}},{"$f":"IF(PARÂMETROS!$J$6<PARÂMETROS!$F$6,(F119+2*G119-(C119-D119)/PARÂMETROS!$C$11)/(N119+2*O119+3*P119+(C119-D119)/PARÂMETROS!$C$14),(N119+2*O119+3*P119+(C119-D119)/PARÂMETROS!$C$14)/(F119+2*G119-(C119-D119)/PARÂMETROS!$C$11))","v":{"v":-2.500000000758096,"d":"-2.50E+00"}},{"$f":"IF(PARÂMETROS!$J$6<PARÂMETROS!$F$6,(H119+2*I119+3*J119-(C119-D119)/PARÂMETROS!$C$11)/(K119+(C119-D119)/PARÂMETROS!$C$14),(K119+(C119-D119)/PARÂMETROS!$C$14)/(H119+2*I119+3*J119-(C119-D119)/PARÂMETROS!$C$11))","v":{"v":-2.500000000324898,"d":"-2.50E+00"}},{"$f":"IF(PARÂMETROS!$J$6<PARÂMETROS!$F$6,(H119+2*I119+3*J119-(C119-D119)/PARÂMETROS!$C$11)/(L119+2*M119+(C119-D119)/PARÂMETROS!$C$14),(L119+2*M119+(C119-D119)/PARÂMETROS!$C$14)/(H119+2*I119+3*J119-(C119-D119)/PARÂMETROS!$C$11))","v":{"v":-2.5000000005956466,"d":"-2.50E+00"}},{"$f":"IF(PARÂMETROS!$J$6<PARÂMETROS!$F$6,(H119+2*I119+3*J119-(C119-D119)/PARÂMETROS!$C$11)/(N119+2*O119+3*P119+(C119-D119)/PARÂMETROS!$C$14),(N119+2*O119+3*P119+(C119-D119)/PARÂMETROS!$C$14)/(H119+2*I119+3*J119-(C119-D119)/PARÂMETROS!$C$11))","v":{"v":-2.500000000866395,"d":"-2.50E+00"}},{"$f":"Q119*PARÂMETROS!$C$11*PARÂMETROS!$D$11/PARÂMETROS!$C$14","v":{"v":-50.00000000216599,"d":"-50.00"}},{"$f":"R119*PARÂMETROS!$C$11*PARÂMETROS!$D$11/PARÂMETROS!$C$14","v":{"v":-50.00000000758096,"d":"-50.00"}},{"$f":"S119*PARÂMETROS!$C$11*PARÂMETROS!$D$11/PARÂMETROS!$C$14","v":{"v":-50.000000012995926,"d":"-50.00"}},{"$f":"T119*PARÂMETROS!$C$11*PARÂMETROS!$D$11/PARÂMETROS!$C$14","v":{"v":-50.00000000433198,"d":"-50.00"}},{"$f":"U119*PARÂMETROS!$C$11*PARÂMETROS!$D$11/PARÂMETROS!$C$14","v":{"v":-50.00000000974695,"d":"-50.00"}},{"$f":"V119*PARÂMETROS!$C$11*PARÂMETROS!$D$11/PARÂMETROS!$C$14","v":{"v":-50.000000015161916,"d":"-50.00"}},{"$f":"W119*PARÂMETROS!$C$11*PARÂMETROS!$D$11/PARÂMETROS!$C$14","v":{"v":-50.000000006497956,"d":"-50.00"}},{"$f":"X119*PARÂMETROS!$C$11*PARÂMETROS!$D$11/PARÂMETROS!$C$14","v":{"v":-50.00000001191294,"d":"-50.00"}},{"$f":"Y119*PARÂMETROS!$C$11*PARÂMETROS!$D$11/PARÂMETROS!$C$14","v":{"v":-50.000000017327906,"d":"-50.00"}},{"$f":"AND(B119+PARÂMETROS!$C$8>=PARÂMETROS!$C$5,B119+PARÂMETROS!$C$8<=PARÂMETROS!$D$5)","v":false},0,{"$f":"VLOOKUP('BANCO DE DADOS COMPLETA'!$N$8,'BANCO DE DADOS COMPLETA'!$A$7:$L$249,3)*-1","v":3},7,{"$f":"VLOOKUP('BANCO DE DADOS COMPLETA'!$N$10,'BANCO DE DADOS COMPLETA'!$A$7:$L$249,3)*-1","v":1},11,77,{"v":-50.000000006497956,"d":"-50.00"},"LIMITE","LIMITE","LIMITE","LIMITE","NADA","NADA",0]
[null,{"$f":"B119+PARÂMETROS!$C$8","v":{"v":23.864343848340642,"d":"23.86"}},{"v":1.366646368457624e-24,"d":"1.37E-24"},{"$f":"PARÂMETROS!$Q$4/C120","v":{"v":7317181848.063479,"d":"7.32E+09"}},{"$f":"PARÂMETROS!$F$6/($C120+PARÂMETROS!$F$6)","v":{"v":1,"d":"1.00E+00"}},{"$f":"$C120*PARÂMETROS!$F$6/($C120^2+$C120*PARÂMETROS!$F$6+PARÂMETROS!$F$6*PARÂMETROS!$G$6)","v":{"v":2.1610068904996107E-17,"d":"2.16E-17"}},{"$f":"PARÂMETROS!$F$6*PARÂMETROS!$G$6/($C120^2+$C120*PARÂMETROS!$F$6+PARÂMETROS!$F$6*PARÂMETROS!$G$6)","v":{"v":1,"d":"1.00E+00"}},{"$f":"(PARÂMETROS!$F$6*$C120^2)/($C120^3+PARÂMETROS!$F$6*$C120^2+PARÂMETROS!$F$6*PARÂMETROS!$G$6*$C120+PARÂMETROS!$F$6*PARÂMETROS!$G$6*PARÂMETROS!$H$6)","v":{"v":6.611687268123443E-29,"d":"6.61E-29"}},{"$f":"(PARÂMETROS!$F$6*PARÂMETROS!$G$6*$C120)/($C120^3+PARÂMETROS!$F$6*$C120^2+PARÂMETROS!$F$6*PARÂMETROS!$G$6*$C120+PARÂMETROS!$F$6*PARÂMETROS!$G$6*PARÂMETROS!$H$6)","v":{"v":3.059540114004386E-12,"d":"3.06E-12"}},{"$f":"(PARÂMETROS!$F$6*PARÂMETROS!$G$6*PARÂMETROS!$H$6)/($C120^3+PARÂMETROS!$F$6*$C120^2+PARÂMETROS!$F$6*PARÂMETROS!$G$6*$C120+PARÂMETROS!$F$6*PARÂMETROS!$G$6*PARÂMETROS!$H$6)","v":{"v":0.9999999999969404,"d":"1.00E+00"}},{"$f":"$C120/($C120+PARÂMETROS!$J$6)","v":{"v":1.3666463684389467E-11,"d":"1.37E-11"}},{"$f":"$C120*PARÂMETROS!$J$6/($C120^2+$C120*PARÂMETROS!$J$6+PARÂMETROS!$J$6*PARÂMETROS!$K$6)","v":{"v":0.9999999999863336,"d":"1.00E+00"}},{"$f":"$C120^2/($C120^2+$C120*PARÂMETROS!$J$6+PARÂMETROS!$J$6*PARÂMETROS!$K$6)","v":{"v":1.3666463684389467E-11,"d":"1.37E-11"}},{"$f":"(PARÂMETROS!$K$6*PARÂMETROS!$J$6*$C120)/($C120^3+PARÂMETROS!$J$6*$C120^2+PARÂMETROS!$J$6*PARÂMETROS!$K$6*$C120+PARÂMETROS!$J$6*PARÂMETROS!$K$6*PARÂMETROS!$L$6)","v":{"v":0,"d":"0.00E+00"}},{"$f":"(PARÂMETROS!$J$6*$C120^2)/($C120^3+PARÂMETROS!$J$6*$C120^2+PARÂMETROS!$J$6*PARÂMETROS!$K$6*$C120+PARÂMETROS!$J$6*PARÂMETROS!$K$6*PARÂMETROS!$L$6)","v":{"v":0.9999999999863336,"d":"1.00E+00"}},{"$f":"($C120^3)/($C120^3+PARÂMETROS!$J$6*$C120^2+PARÂMETROS!$J$6*PARÂMETROS!$K$6*$C120+PARÂMETROS!$J$6*PARÂMETROS!$K$6*PARÂMETROS!$L$6)","v":{"v":1.3666463684389466E-11,"d":"1.37E-11"}},{"$f":"IF(PARÂMETROS!$J$6<PARÂMETROS!$F$6,(E120-(C120-D120)/PARÂMETROS!$C$11)/(K120+(C120-D120)/PARÂMETROS!$C$14),(K120+(C120-D120)/PARÂMETROS!$C$14)/(E120-(C120-D120)/PARÂMETROS!$C$11))","v":{"v":-2.5000000000683325,"d":"-2.50E+00"}},{"$f":"IF(PARÂMETROS!$J$6<PARÂMETROS!$F$6,(E120-(C120-D120)/PARÂMETROS!$C$11)/(L120+2*M120+(C120-D120)/PARÂMETROS!$C$14),(L120+2*M120+(C120-D120)/PARÂMETROS!$C$14)/(E120-(C120-D120)/PARÂMETROS!$C$11))","v":{"v":-2.5000000002391634,"d":"-2.50E+00"}},{"$f":"IF(PARÂMETROS!$J$6<PARÂMETROS!$F$6, (E120-(C120-D120)/PARÂMETROS!$C$11)/(N120+2*O120+3*P120+(C120-D120)/PARÂMETROS!$C$14),(N120+2*O120+3*P120+(C120-D120)/PARÂMETROS!$C$14)/ (E120-(C120-D120)/PARÂMETROS!$C$11))","v":{"v":-2.500000000409994,"d":"-2.50E+00"}},{"$f":"IF(PARÂMETROS!$J$6<PARÂMETROS!$F$6,(F120+2*G120-(C120-D120)/PARÂMETROS!$C$11)/(K120+(C120-D120)/PARÂMETROS!$C$14),(K120+(C120-D120)/PARÂMETROS!$C$14)/(F120+2*G120-(C120-D120)/PARÂMETROS!$C$11))","v":{"v":-2.500000000136665,"d":"-2.50E+00"}},{"$f":"IF(PARÂMETROS!$J$6<PARÂMETROS!$F$6,(F120+2*G120-(C120-D120)/PARÂMETROS!$C$11)/(L120+2*M120+(C120-D120)/PARÂMETROS!$C$14),(L120+2*M120+(C120-D120)/PARÂMETROS!$C$14)/(F120+2*G120-(C120-D120)/PARÂMETROS!$C$11))","v":{"v":-2.5000000003074954,"d":"-2.50E+00"}},{"$f":"IF(PARÂMETROS!$J$6<PARÂMETROS!$F$6,(F120+2*G120-(C120-D120)/PARÂMETROS!$C$11)/(N120+2*O120+3*P120+(C120-D120)/PARÂMETROS!$C$14),(N120+2*O120+3*P120+(C120-D120)/PARÂMETROS!$C$14)/(F120+2*G120-(C120-D120)/PARÂMETROS!$C$11))","v":{"v":-2.5000000004783263,"d":"-2.50E+00"}},{"$f":"IF(PARÂMETROS!$J$6<PARÂMETROS!$F$6,(H120+2*I120+3*J120-(C120-D120)/PARÂMETROS!$C$11)/(K120+(C120-D120)/PARÂMETROS!$C$14),(K120+(C120-D120)/PARÂMETROS!$C$14)/(H120+2*I120+3*J120-(C120-D120)/PARÂMETROS!$C$11))","v":{"v":-2.500000000204997,"d":"-2.50E+00"}},{"$f":"IF(PARÂMETROS!$J$6<PARÂMETROS!$F$6,(H120+2*I120+3*J120-(C120-D120)/PARÂMETROS!$C$11)/(L120+2*M120+(C120-D120)/PARÂMETROS!$C$14),(L120+2*M120+(C120-D120)/PARÂMETROS!$C$14)/(H120+2*I120+3*J120-(C120-D120)/PARÂMETROS!$C$11))","v":{"v":-2.500000000375828,"d":"-2.50E+00"}},{"$f":"IF(PARÂMETROS!$J$6<PARÂMETROS!$F$6,(H120+2*I120+3*J120-(C120-D120)/PARÂMETROS!$C$11)/(N120+2*O120+3*P120+(C120-D120)/PARÂMETROS!$C$14),(N120+2*O120+3*P120+(C120-D120)/PARÂMETROS!$C$14)/(H120+2*I120+3*J120-(C120-D120)/PARÂMETROS!$C$11))","v":{"v":-2.5000000005466587,"d":"-2.50E+00"}},{"$f":"Q120*PARÂMETROS!$C$11*PARÂMETROS!$D$11/PARÂMETROS!$C$14","v":{"v":-50.00000000136665,"d":"-50.00"}},{"$f":"R120*PARÂMETROS!$C$11*PARÂMETROS!$D$11/PARÂMETROS!$C$14","v":{"v":-50.000000004783274,"d":"-50.00"}},{"$f":"S120*PARÂMETROS!$C$11*PARÂMETROS!$D$11/PARÂMETROS!$C$14","v":{"v":-50.000000008199876,"d":"-50.00"}},{"$f":"T120*PARÂMETROS!$C$11*PARÂMETROS!$D$11/PARÂMETROS!$C$14","v":{"v":-50.0000000027333,"d":"-50.00"}},{"$f":"U120*PARÂMETROS!$C$11*PARÂMETROS!$D$11/PARÂMETROS!$C$14","v":{"v":-50.00000000614991,"d":"-50.00"}},{"$f":"V120*PARÂMETROS!$C$11*PARÂMETROS!$D$11/PARÂMETROS!$C$14","v":{"v":-50.00000000956653,"d":"-50.00"}},{"$f":"W120*PARÂMETROS!$C$11*PARÂMETROS!$D$11/PARÂMETROS!$C$14","v":{"v":-50.000000004099945,"d":"-50.00"}},{"$f":"X120*PARÂMETROS!$C$11*PARÂMETROS!$D$11/PARÂMETROS!$C$14","v":{"v":-50.000000007516554,"d":"-50.00"}},{"$f":"Y120*PARÂMETROS!$C$11*PARÂMETROS!$D$11/PARÂMETROS!$C$14","v":{"v":-50.00000001093318,"d":"-50.00"}},{"$f":"AND(B120+PARÂMETROS!$C$8>=PARÂMETROS!$C$5,B120+PARÂMETROS!$C$8<=PARÂMETROS!$D$5)","v":false},0,{"$f":"VLOOKUP('BANCO DE DADOS COMPLETA'!$N$8,'BANCO DE DADOS COMPLETA'!$A$7:$L$249,3)*-1","v":3},7,{"$f":"VLOOKUP('BANCO DE DADOS COMPLETA'!$N$10,'BANCO DE DADOS COMPLETA'!$A$7:$L$249,3)*-1","v":1},11,77,{"v":-50.000000004099945,"d":"-50.00"},"LIMITE","LIMITE","LIMITE","LIMITE","NADA","NADA",0]
[null,{"$f":"B120+PARÂMETROS!$C$8","v":{"v":24.06434384834064,"d":"24.06"}},{"v":8.622955634855177e-25,"d":"8.62E-25"},{"$f":"PARÂMETROS!$Q$4/C121","v":{"v":11596951698.9959,"d":"1.16E+10"}},{"$f":"PARÂMETROS!$F$6/($C121+PARÂMETROS!$F$6)","v":{"v":1,"d":"1.00E+00"}},{"$f":"$C121*PARÂMETROS!$F$6/($C121^2+$C121*PARÂMETROS!$F$6+PARÂMETROS!$F$6*PARÂMETROS!$G$6)","v":{"v":1.3635031690330271E-17,"d":"1.36E-17"}},{"$f":"PARÂMETROS!$F$6*PARÂMETROS!$G$6/($C121^2+$C121*PARÂMETROS!$F$6+PARÂMETROS!$F$6*PARÂMETROS!$G$6)","v":{"v":1,"d":"1.00E+00"}},{"$f":"(PARÂMETROS!$F$6*$C121^2)/($C121^3+PARÂMETROS!$F$6*$C121^2+PARÂMETROS!$F$6*PARÂMETROS!$G$6*$C121+PARÂMETROS!$F$6*PARÂMETROS!$G$6*PARÂMETROS!$H$6)","v":{"v":2.6321601109001504E-29,"d":"2.63E-29"}},{"$f":"(PARÂMETROS!$F$6*PARÂMETROS!$G$6*$C121)/($C121^3+PARÂMETROS!$F$6*$C121^2+PARÂMETROS!$F$6*PARÂMETROS!$G$6*$C121+PARÂMETROS!$F$6*PARÂMETROS!$G$6*PARÂMETROS!$H$6)","v":{"v":1.930439305665005E-12,"d":"1.93E-12"}},{"$f":"(PARÂMETROS!$F$6*PARÂMETROS!$G$6*PARÂMETROS!$H$6)/($C121^3+PARÂMETROS!$F$6*$C121^2+PARÂMETROS!$F$6*PARÂMETROS!$G$6*$C121+PARÂMETROS!$F$6*PARÂMETROS!$G$6*PARÂMETROS!$H$6)","v":{"v":0.9999999999980695,"d":"1.00E+00"}},{"$f":"$C121/($C121+PARÂMETROS!$J$6)","v":{"v":8.622955634780822E-12,"d":"8.62E-12"}},{"$f":"$C121*PARÂMETROS!$J$6/($C121^2+$C121*PARÂMETROS!$J$6+PARÂMETROS!$J$6*PARÂMETROS!$K$6)","v":{"v":0.9999999999913771,"d":"1.00E+00"}},{"$f":"$C121^2/($C121^2+$C121*PARÂMETROS!$J$6+PARÂMETROS!$J$6*PARÂMETROS!$K$6)","v":{"v":8.622955634780822E-12,"d":"8.62E-12"}},{"$f":"(PARÂMETROS!$K$6*PARÂMETROS!$J$6*$C121)/($C121^3+PARÂMETROS!$J$6*$C121^2+PARÂMETROS!$J$6*PARÂMETROS!$K$6*$C121+PARÂMETROS!$J$6*PARÂMETROS!$K$6*PARÂMETROS!$L$6)","v":{"v":0,"d":"0.00E+00"}},{"$f":"(PARÂMETROS!$J$6*$C121^2)/($C121^3+PARÂMETROS!$J$6*$C121^2+PARÂMETROS!$J$6*PARÂMETROS!$K$6*$C121+PARÂMETROS!$J$6*PARÂMETROS!$K$6*PARÂMETROS!$L$6)","v":{"v":0.999999999991377,"d":"1.00E+00"}},{"$f":"($C121^3)/($C121^3+PARÂMETROS!$J$6*$C121^2+PARÂMETROS!$J$6*PARÂMETROS!$K$6*$C121+PARÂMETROS!$J$6*PARÂMETROS!$K$6*PARÂMETROS!$L$6)","v":{"v":8.622955634780822E-12,"d":"8.62E-12"}},{"$f":"IF(PARÂMETROS!$J$6<PARÂMETROS!$F$6,(E121-(C121-D121)/PARÂMETROS!$C$11)/(K121+(C121-D121)/PARÂMETROS!$C$14),(K121+(C121-D121)/PARÂMETROS!$C$14)/(E121-(C121-D121)/PARÂMETROS!$C$11))","v":{"v":-2.5000000000431144,"d":"-2.50E+00"}},{"$f":"IF(PARÂMETROS!$J$6<PARÂMETROS!$F$6,(E121-(C121-D121)/PARÂMETROS!$C$11)/(L121+2*M121+(C121-D121)/PARÂMETROS!$C$14),(L121+2*M121+(C121-D121)/PARÂMETROS!$C$14)/(E121-(C121-D121)/PARÂMETROS!$C$11))","v":{"v":-2.5000000001509015,"d":"-2.50E+00"}},{"$f":"IF(PARÂMETROS!$J$6<PARÂMETROS!$F$6, (E121-(C121-D121)/PARÂMETROS!$C$11)/(N121+2*O121+3*P121+(C121-D121)/PARÂMETROS!$C$14),(N121+2*O121+3*P121+(C121-D121)/PARÂMETROS!$C$14)/ (E121-(C121-D121)/PARÂMETROS!$C$11))","v":{"v":-2.5000000002586886,"d":"-2.50E+00"}},{"$f":"IF(PARÂMETROS!$J$6<PARÂMETROS!$F$6,(F121+2*G121-(C121-D121)/PARÂMETROS!$C$11)/(K121+(C121-D121)/PARÂMETROS!$C$14),(K121+(C121-D121)/PARÂMETROS!$C$14)/(F121+2*G121-(C121-D121)/PARÂMETROS!$C$11))","v":{"v":-2.5000000000862292,"d":"-2.50E+00"}},{"$f":"IF(PARÂMETROS!$J$6<PARÂMETROS!$F$6,(F121+2*G121-(C121-D121)/PARÂMETROS!$C$11)/(L121+2*M121+(C121-D121)/PARÂMETROS!$C$14),(L121+2*M121+(C121-D121)/PARÂMETROS!$C$14)/(F121+2*G121-(C121-D121)/PARÂMETROS!$C$11))","v":{"v":-2.5000000001940164,"d":"-2.50E+00"}},{"$f":"IF(PARÂMETROS!$J$6<PARÂMETROS!$F$6,(F121+2*G121-(C121-D121)/PARÂMETROS!$C$11)/(N121+2*O121+3*P121+(C121-D121)/PARÂMETROS!$C$14),(N121+2*O121+3*P121+(C121-D121)/PARÂMETROS!$C$14)/(F121+2*G121-(C121-D121)/PARÂMETROS!$C$11))","v":{"v":-2.5000000003018035,"d":"-2.50E+00"}},{"$f":"IF(PARÂMETROS!$J$6<PARÂMETROS!$F$6,(H121+2*I121+3*J121-(C121-D121)/PARÂMETROS!$C$11)/(K121+(C121-D121)/PARÂMETROS!$C$14),(K121+(C121-D121)/PARÂMETROS!$C$14)/(H121+2*I121+3*J121-(C121-D121)/PARÂMETROS!$C$11))","v":{"v":-2.500000000129344,"d":"-2.50E+00"}},{"$f":"IF(PARÂMETROS!$J$6<PARÂMETROS!$F$6,(H121+2*I121+3*J121-(C121-D121)/PARÂMETROS!$C$11)/(L121+2*M121+(C121-D121)/PARÂMETROS!$C$14),(L121+2*M121+(C121-D121)/PARÂMETROS!$C$14)/(H121+2*I121+3*J121-(C121-D121)/PARÂMETROS!$C$11))","v":{"v":-2.500000000237131,"d":"-2.50E+00"}},{"$f":"IF(PARÂMETROS!$J$6<PARÂMETROS!$F$6,(H121+2*I121+3*J121-(C121-D121)/PARÂMETROS!$C$11)/(N121+2*O121+3*P121+(C121-D121)/PARÂMETROS!$C$14),(N121+2*O121+3*P121+(C121-D121)/PARÂMETROS!$C$14)/(H121+2*I121+3*J121-(C121-D121)/PARÂMETROS!$C$11))","v":{"v":-2.500000000344918,"d":"-2.50E+00"}},{"$f":"Q121*PARÂMETROS!$C$11*PARÂMETROS!$D$11/PARÂMETROS!$C$14","v":{"v":-50.000000000862286,"d":"-50.00"}},{"$f":"R121*PARÂMETROS!$C$11*PARÂMETROS!$D$11/PARÂMETROS!$C$14","v":{"v":-50.00000000301803,"d":"-50.00"}},{"$f":"S121*PARÂMETROS!$C$11*PARÂMETROS!$D$11/PARÂMETROS!$C$14","v":{"v":-50.000000005173774,"d":"-50.00"}},{"$f":"T121*PARÂMETROS!$C$11*PARÂMETROS!$D$11/PARÂMETROS!$C$14","v":{"v":-50.00000000172459,"d":"-50.00"}},{"$f":"U121*PARÂMETROS!$C$11*PARÂMETROS!$D$11/PARÂMETROS!$C$14","v":{"v":-50.00000000388033,"d":"-50.00"}},{"$f":"V121*PARÂMETROS!$C$11*PARÂMETROS!$D$11/PARÂMETROS!$C$14","v":{"v":-50.000000006036075,"d":"-50.00"}},{"$f":"W121*PARÂMETROS!$C$11*PARÂMETROS!$D$11/PARÂMETROS!$C$14","v":{"v":-50.00000000258689,"d":"-50.00"}},{"$f":"X121*PARÂMETROS!$C$11*PARÂMETROS!$D$11/PARÂMETROS!$C$14","v":{"v":-50.00000000474263,"d":"-50.00"}},{"$f":"Y121*PARÂMETROS!$C$11*PARÂMETROS!$D$11/PARÂMETROS!$C$14","v":{"v":-50.00000000689836,"d":"-50.00"}},{"$f":"AND(B121+PARÂMETROS!$C$8>=PARÂMETROS!$C$5,B121+PARÂMETROS!$C$8<=PARÂMETROS!$D$5)","v":false},0,{"$f":"VLOOKUP('BANCO DE DADOS COMPLETA'!$N$8,'BANCO DE DADOS COMPLETA'!$A$7:$L$249,3)*-1","v":3},7,{"$f":"VLOOKUP('BANCO DE DADOS COMPLETA'!$N$10,'BANCO DE DADOS COMPLETA'!$A$7:$L$249,3)*-1","v":1},11,77,{"v":-50.00000000258689,"d":"-50.00"},"LIMITE","LIMITE","LIMITE","LIMITE","NADA","NADA",0]
[null,{"$f":"B121+PARÂMETROS!$C$8","v":{"v":24.26434384834064,"d":"24.26"}},{"v":5.440717188938752e-25,"d":"5.44E-25"},{"$f":"PARÂMETROS!$Q$4/C122","v":{"v":18379929801.038906,"d":"1.84E+10"}},{"$f":"PARÂMETROS!$F$6/($C122+PARÂMETROS!$F$6)","v":{"v":1,"d":"1.00E+00"}},{"$f":"$C122*PARÂMETROS!$F$6/($C122^2+$C122*PARÂMETROS!$F$6+PARÂMETROS!$F$6*PARÂMETROS!$G$6)","v":{"v":8.603123387234086e-18,"d":"8.60E-18"}},{"$f":"PARÂMETROS!$F$6*PARÂMETROS!$G$6/($C122^2+$C122*PARÂMETROS!$F$6+PARÂMETROS!$F$6*PARÂMETROS!$G$6)","v":{"v":1,"d":"1.00E+00"}},{"$f":"(PARÂMETROS!$F$6*$C122^2)/($C122^3+PARÂMETROS!$F$6*$C122^2+PARÂMETROS!$F$6*PARÂMETROS!$G$6*$C122+PARÂMETROS!$F$6*PARÂMETROS!$G$6*PARÂMETROS!$H$6)","v":{"v":1.0478818141949891E-29,"d":"1.05E-29"}},{"$f":"(PARÂMETROS!$F$6*PARÂMETROS!$G$6*$C122)/($C122^3+PARÂMETROS!$F$6*$C122^2+PARÂMETROS!$F$6*PARÂMETROS!$G$6*$C122+PARÂMETROS!$F$6*PARÂMETROS!$G$6*PARÂMETROS!$H$6)","v":{"v":1.2180248579834497E-12,"d":"1.22E-12"}},{"$f":"(PARÂMETROS!$F$6*PARÂMETROS!$G$6*PARÂMETROS!$H$6)/($C122^3+PARÂMETROS!$F$6*$C122^2+PARÂMETROS!$F$6*PARÂMETROS!$G$6*$C122+PARÂMETROS!$F$6*PARÂMETROS!$G$6*PARÂMETROS!$H$6)","v":{"v":0.999999999998782,"d":"1.00E+00"}},{"$f":"$C122/($C122+PARÂMETROS!$J$6)","v":{"v":5.440717188909151e-12,"d":"5.44E-12"}},{"$f":"$C122*PARÂMETROS!$J$6/($C122^2+$C122*PARÂMETROS!$J$6+PARÂMETROS!$J$6*PARÂMETROS!$K$6)","v":{"v":0.9999999999945592,"d":"1.00E+00"}},{"$f":"$C122^2/($C122^2+$C122*PARÂMETROS!$J$6+PARÂMETROS!$J$6*PARÂMETROS!$K$6)","v":{"v":5.44071718890915e-12,"d":"5.44E-12"}},{"$f":"(PARÂMETROS!$K$6*PARÂMETROS!$J$6*$C122)/($C122^3+PARÂMETROS!$J$6*$C122^2+PARÂMETROS!$J$6*PARÂMETROS!$K$6*$C122+PARÂMETROS!$J$6*PARÂMETROS!$K$6*PARÂMETROS!$L$6)","v":{"v":0,"d":"0.00E+00"}},{"$f":"(PARÂMETROS!$J$6*$C122^2)/($C122^3+PARÂMETROS!$J$6*$C122^2+PARÂMETROS!$J$6*PARÂMETROS!$K$6*$C122+PARÂMETROS!$J$6*PARÂMETROS!$K$6*PARÂMETROS!$L$6)","v":{"v":0.9999999999945594,"d":"1.00E+00"}},{"$f":"($C122^3)/($C122^3+PARÂMETROS!$J$6*$C122^2+PARÂMETROS!$J$6*PARÂMETROS!$K$6*$C122+PARÂMETROS!$J$6*PARÂMETROS!$K$6*PARÂMETROS!$L$6)","v":{"v":5.440717188909151e-12,"d":"5.44E-12"}},{"$f":"IF(PARÂMETROS!$J$6<PARÂMETROS!$F$6,(E122-(C122-D122)/PARÂMETROS!$C$11)/(K122+(C122-D122)/PARÂMETROS!$C$14),(K122+(C122-D122)/PARÂMETROS!$C$14)/(E122-(C122-D122)/PARÂMETROS!$C$11))","v":{"v":-2.500000000027203,"d":"-2.50E+00"}},{"$f":"IF(PARÂMETROS!$J$6<PARÂMETROS!$F$6,(E122-(C122-D122)/PARÂMETROS!$C$11)/(L122+2*M122+(C122-D122)/PARÂMETROS!$C$14),(L122+2*M122+(C122-D122)/PARÂMETROS!$C$14)/(E122-(C122-D122)/PARÂMETROS!$C$11))","v":{"v":-2.5000000000952123,"d":"-2.50E+00"}},{"$f":"IF(PARÂMETROS!$J$6<PARÂMETROS!$F$6, (E122-(C122-D122)/PARÂMETROS!$C$11)/(N122+2*O122+3*P122+(C122-D122)/PARÂMETROS!$C$14),(N122+2*O122+3*P122+(C122-D122)/PARÂMETROS!$C$14)/ (E122-(C122-D122)/PARÂMETROS!$C$11))","v":{"v":-2.500000000163221,"d":"-2.50E+00"}},{"$f":"IF(PARÂMETROS!$J$6<PARÂMETROS!$F$6,(F122+2*G122-(C122-D122)/PARÂMETROS!$C$11)/(K122+(C122-D122)/PARÂMETROS!$C$14),(K122+(C122-D122)/PARÂMETROS!$C$14)/(F122+2*G122-(C122-D122)/PARÂMETROS!$C$11))","v":{"v":-2.5000000000544067,"d":"-2.50E+00"}},{"$f":"IF(PARÂMETROS!$J$6<PARÂMETROS!$F$6,(F122+2*G122-(C122-D122)/PARÂMETROS!$C$11)/(L122+2*M122+(C122-D122)/PARÂMETROS!$C$14),(L122+2*M122+(C122-D122)/PARÂMETROS!$C$14)/(F122+2*G122-(C122-D122)/PARÂMETROS!$C$11))","v":{"v":-2.500000000122416,"d":"-2.50E+00"}},{"$f":"IF(PARÂMETROS!$J$6<PARÂMETROS!$F$6,(F122+2*G122-(C122-D122)/PARÂMETROS!$C$11)/(N122+2*O122+3*P122+(C122-D122)/PARÂMETROS!$C$14),(N122+2*O122+3*P122+(C122-D122)/PARÂMETROS!$C$14)/(F122+2*G122-(C122-D122)/PARÂMETROS!$C$11))","v":{"v":-2.500000000190425,"d":"-2.50E+00"}},{"$f":"IF(PARÂMETROS!$J$6<PARÂMETROS!$F$6,(H122+2*I122+3*J122-(C122-D122)/PARÂMETROS!$C$11)/(K122+(C122-D122)/PARÂMETROS!$C$14),(K122+(C122-D122)/PARÂMETROS!$C$14)/(H122+2*I122+3*J122-(C122-D122)/PARÂMETROS!$C$11))","v":{"v":-2.5000000000816103,"d":"-2.50E+00"}},{"$f":"IF(PARÂMETROS!$J$6<PARÂMETROS!$F$6,(H122+2*I122+3*J122-(C122-D122)/PARÂMETROS!$C$11)/(L122+2*M122+(C122-D122)/PARÂMETROS!$C$14),(L122+2*M122+(C122-D122)/PARÂMETROS!$C$14)/(H122+2*I122+3*J122-(C122-D122)/PARÂMETROS!$C$11))","v":{"v":-2.5000000001496194,"d":"-2.50E+00"}},{"$f":"IF(PARÂMETROS!$J$6<PARÂMETROS!$F$6,(H122+2*I122+3*J122-(C122-D122)/PARÂMETROS!$C$11)/(N122+2*O122+3*P122+(C122-D122)/PARÂMETROS!$C$14),(N122+2*O122+3*P122+(C122-D122)/PARÂMETROS!$C$14)/(H122+2*I122+3*J122-(C122-D122)/PARÂMETROS!$C$11))","v":{"v":-2.5000000002176286,"d":"-2.50E+00"}},{"$f":"Q122*PARÂMETROS!$C$11*PARÂMETROS!$D$11/PARÂMETROS!$C$14","v":{"v":-50.00000000054406,"d":"-50.00"}},{"$f":"R122*PARÂMETROS!$C$11*PARÂMETROS!$D$11/PARÂMETROS!$C$14","v":{"v":-50.00000000190424,"d":"-50.00"}},{"$f":"S122*PARÂMETROS!$C$11*PARÂMETROS!$D$11/PARÂMETROS!$C$14","v":{"v":-50.000000003264425,"d":"-50.00"}},{"$f":"T122*PARÂMETROS!$C$11*PARÂMETROS!$D$11/PARÂMETROS!$C$14","v":{"v":-50.00000000108814,"d":"-50.00"}},{"$f":"U122*PARÂMETROS!$C$11*PARÂMETROS!$D$11/PARÂMETROS!$C$14","v":{"v":-50.00000000244832,"d":"-50.00"}},{"$f":"V122*PARÂMETROS!$C$11*PARÂMETROS!$D$11/PARÂMETROS!$C$14","v":{"v":-50.000000003808495,"d":"-50.00"}},{"$f":"W122*PARÂMETROS!$C$11*PARÂMETROS!$D$11/PARÂMETROS!$C$14","v":{"v":-50.0000000016322,"d":"-50.00"}},{"$f":"X122*PARÂMETROS!$C$11*PARÂMETROS!$D$11/PARÂMETROS!$C$14","v":{"v":-50.000000002992394,"d":"-50.00"}},{"$f":"Y122*PARÂMETROS!$C$11*PARÂMETROS!$D$11/PARÂMETROS!$C$14","v":{"v":-50.00000000435257,"d":"-50.00"}},{"$f":"AND(B122+PARÂMETROS!$C$8>=PARÂMETROS!$C$5,B122+PARÂMETROS!$C$8<=PARÂMETROS!$D$5)","v":false},0,{"$f":"VLOOKUP('BANCO DE DADOS COMPLETA'!$N$8,'BANCO DE DADOS COMPLETA'!$A$7:$L$249,3)*-1","v":3},7,{"$f":"VLOOKUP('BANCO DE DADOS COMPLETA'!$N$10,'BANCO DE DADOS COMPLETA'!$A$7:$L$249,3)*-1","v":1},11,77,{"v":-50.0000000016322,"d":"-50.00"},"LIMITE","LIMITE","LIMITE","LIMITE","NADA","NADA",0]
[null,{"$f":"B122+PARÂMETROS!$C$8","v":{"v":24.46434384834064,"d":"24.46"}},{"v":3.4328604696005433E-25,"d":"3.43E-25"},{"$f":"PARÂMETROS!$Q$4/C123","v":{"v":29130225619.57966,"d":"2.91E+10"}},{"$f":"PARÂMETROS!$F$6/($C123+PARÂMETROS!$F$6)","v":{"v":1,"d":"1.00E+00"}},{"$f":"$C123*PARÂMETROS!$F$6/($C123^2+$C123*PARÂMETROS!$F$6+PARÂMETROS!$F$6*PARÂMETROS!$G$6)","v":{"v":5.4282038866446735E-18,"d":"5.43E-18"}},{"$f":"PARÂMETROS!$F$6*PARÂMETROS!$G$6/($C123^2+$C123*PARÂMETROS!$F$6+PARÂMETROS!$F$6*PARÂMETROS!$G$6)","v":{"v":1,"d":"1.00E+00"}},{"$f":"(PARÂMETROS!$F$6*$C123^2)/($C123^3+PARÂMETROS!$F$6*$C123^2+PARÂMETROS!$F$6*PARÂMETROS!$G$6*$C123+PARÂMETROS!$F$6*PARÂMETROS!$G$6*PARÂMETROS!$H$6)","v":{"v":4.171692641238218e-30,"d":"4.17E-30"}},{"$f":"(PARÂMETROS!$F$6*PARÂMETROS!$G$6*$C123)/($C123^3+PARÂMETROS!$F$6*$C123^2+PARÂMETROS!$F$6*PARÂMETROS!$G$6*$C123+PARÂMETROS!$F$6*PARÂMETROS!$G$6*PARÂMETROS!$H$6)","v":{"v":7.685217299044487e-13,"d":"7.69E-13"}},{"$f":"(PARÂMETROS!$F$6*PARÂMETROS!$G$6*PARÂMETROS!$H$6)/($C123^3+PARÂMETROS!$F$6*$C123^2+PARÂMETROS!$F$6*PARÂMETROS!$G$6*$C123+PARÂMETROS!$F$6*PARÂMETROS!$G$6*PARÂMETROS!$H$6)","v":{"v":0.9999999999992314,"d":"1.00E+00"}},{"$f":"$C123/($C123+PARÂMETROS!$J$6)","v":{"v":3.4328604695887588E-12,"d":"3.43E-12"}},{"$f":"$C123*PARÂMETROS!$J$6/($C123^2+$C123*PARÂMETROS!$J$6+PARÂMETROS!$J$6*PARÂMETROS!$K$6)","v":{"v":0.9999999999965671,"d":"1.00E+00"}},{"$f":"$C123^2/($C123^2+$C123*PARÂMETROS!$J$6+PARÂMETROS!$J$6*PARÂMETROS!$K$6)","v":{"v":3.4328604695887588E-12,"d":"3.43E-12"}},{"$f":"(PARÂMETROS!$K$6*PARÂMETROS!$J$6*$C123)/($C123^3+PARÂMETROS!$J$6*$C123^2+PARÂMETROS!$J$6*PARÂMETROS!$K$6*$C123+PARÂMETROS!$J$6*PARÂMETROS!$K$6*PARÂMETROS!$L$6)","v":{"v":0,"d":"0.00E+00"}},{"$f":"(PARÂMETROS!$J$6*$C123^2)/($C123^3+PARÂMETROS!$J$6*$C123^2+PARÂMETROS!$J$6*PARÂMETROS!$K$6*$C123+PARÂMETROS!$J$6*PARÂMETROS!$K$6*PARÂMETROS!$L$6)","v":{"v":0.9999999999965672,"d":"1.00E+00"}},{"$f":"($C123^3)/($C123^3+PARÂMETROS!$J$6*$C123^2+PARÂMETROS!$J$6*PARÂMETROS!$K$6*$C123+PARÂMETROS!$J$6*PARÂMETROS!$K$6*PARÂMETROS!$L$6)","v":{"v":3.4328604695887596E-12,"d":"3.43E-12"}},{"$f":"IF(PARÂMETROS!$J$6<PARÂMETROS!$F$6,(E123-(C123-D123)/PARÂMETROS!$C$11)/(K123+(C123-D123)/PARÂMETROS!$C$14),(K123+(C123-D123)/PARÂMETROS!$C$14)/(E123-(C123-D123)/PARÂMETROS!$C$11))","v":{"v":-2.500000000017164,"d":"-2.50E+00"}},{"$f":"IF(PARÂMETROS!$J$6<PARÂMETROS!$F$6,(E123-(C123-D123)/PARÂMETROS!$C$11)/(L123+2*M123+(C123-D123)/PARÂMETROS!$C$14),(L123+2*M123+(C123-D123)/PARÂMETROS!$C$14)/(E123-(C123-D123)/PARÂMETROS!$C$11))","v":{"v":-2.500000000060075,"d":"-2.50E+00"}},{"$f":"IF(PARÂMETROS!$J$6<PARÂMETROS!$F$6, (E123-(C123-D123)/PARÂMETROS!$C$11)/(N123+2*O123+3*P123+(C123-D123)/PARÂMETROS!$C$14),(N123+2*O123+3*P123+(C123-D123)/PARÂMETROS!$C$14)/ (E123-(C123-D123)/PARÂMETROS!$C$11))","v":{"v":-2.5000000001029856,"d":"-2.50E+00"}},{"$f":"IF(PARÂMETROS!$J$6<PARÂMETROS!$F$6,(F123+2*G123-(C123-D123)/PARÂMETROS!$C$11)/(K123+(C123-D123)/PARÂMETROS!$C$14),(K123+(C123-D123)/PARÂMETROS!$C$14)/(F123+2*G123-(C123-D123)/PARÂMETROS!$C$11))","v":{"v":-2.5000000000343285,"d":"-2.50E+00"}},{"$f":"IF(PARÂMETROS!$J$6<PARÂMETROS!$F$6,(F123+2*G123-(C123-D123)/PARÂMETROS!$C$11)/(L123+2*M123+(C123-D123)/PARÂMETROS!$C$14),(L123+2*M123+(C123-D123)/PARÂMETROS!$C$14)/(F123+2*G123-(C123-D123)/PARÂMETROS!$C$11))","v":{"v":-2.500000000077239,"d":"-2.50E+00"}},{"$f":"IF(PARÂMETROS!$J$6<PARÂMETROS!$F$6,(F123+2*G123-(C123-D123)/PARÂMETROS!$C$11)/(N123+2*O123+3*P123+(C123-D123)/PARÂMETROS!$C$14),(N123+2*O123+3*P123+(C123-D123)/PARÂMETROS!$C$14)/(F123+2*G123-(C123-D123)/PARÂMETROS!$C$11))","v":{"v":-2.50000000012015,"d":"-2.50E+00"}},{"$f":"IF(PARÂMETROS!$J$6<PARÂMETROS!$F$6,(H123+2*I123+3*J123-(C123-D123)/PARÂMETROS!$C$11)/(K123+(C123-D123)/PARÂMETROS!$C$14),(K123+(C123-D123)/PARÂMETROS!$C$14)/(H123+2*I123+3*J123-(C123-D123)/PARÂMETROS!$C$11))","v":{"v":-2.5000000000514926,"d":"-2.50E+00"}},{"$f":"IF(PARÂMETROS!$J$6<PARÂMETROS!$F$6,(H123+2*I123+3*J123-(C123-D123)/PARÂMETROS!$C$11)/(L123+2*M123+(C123-D123)/PARÂMETROS!$C$14),(L123+2*M123+(C123-D123)/PARÂMETROS!$C$14)/(H123+2*I123+3*J123-(C123-D123)/PARÂMETROS!$C$11))","v":{"v":-2.5000000000944036,"d":"-2.50E+00"}},{"$f":"IF(PARÂMETROS!$J$6<PARÂMETROS!$F$6,(H123+2*I123+3*J123-(C123-D123)/PARÂMETROS!$C$11)/(N123+2*O123+3*P123+(C123-D123)/PARÂMETROS!$C$14),(N123+2*O123+3*P123+(C123-D123)/PARÂMETROS!$C$14)/(H123+2*I123+3*J123-(C123-D123)/PARÂMETROS!$C$11))","v":{"v":-2.500000000137314,"d":"-2.50E+00"}},{"$f":"Q123*PARÂMETROS!$C$11*PARÂMETROS!$D$11/PARÂMETROS!$C$14","v":{"v":-50.00000000034328,"d":"-50.00"}},{"$f":"R123*PARÂMETROS!$C$11*PARÂMETROS!$D$11/PARÂMETROS!$C$14","v":{"v":-50.00000000120151,"d":"-50.00"}},{"$f":"S123*PARÂMETROS!$C$11*PARÂMETROS!$D$11/PARÂMETROS!$C$14","v":{"v":-50.00000000205972,"d":"-50.00"}},{"$f":"T123*PARÂMETROS!$C$11*PARÂMETROS!$D$11/PARÂMETROS!$C$14","v":{"v":-50.000000000686576,"d":"-50.00"}},{"$f":"U123*PARÂMETROS!$C$11*PARÂMETROS!$D$11/PARÂMETROS!$C$14","v":{"v":-50.000000001544784,"d":"-50.00"}},{"$f":"V123*PARÂMETROS!$C$11*PARÂMETROS!$D$11/PARÂMETROS!$C$14","v":{"v":-50.000000002403,"d":"-50.00"}},{"$f":"W123*PARÂMETROS!$C$11*PARÂMETROS!$D$11/PARÂMETROS!$C$14","v":{"v":-50.00000000102985,"d":"-50.00"}},{"$f":"X123*PARÂMETROS!$C$11*PARÂMETROS!$D$11/PARÂMETROS!$C$14","v":{"v":-50.000000001888075,"d":"-50.00"}},{"$f":"Y123*PARÂMETROS!$C$11*PARÂMETROS!$D$11/PARÂMETROS!$C$14","v":{"v":-50.00000000274628,"d":"-50.00"}},{"$f":"AND(B123+PARÂMETROS!$C$8>=PARÂMETROS!$C$5,B123+PARÂMETROS!$C$8<=PARÂMETROS!$D$5)","v":false},0,{"$f":"VLOOKUP('BANCO DE DADOS COMPLETA'!$N$8,'BANCO DE DADOS COMPLETA'!$A$7:$L$249,3)*-1","v":3},7,{"$f":"VLOOKUP('BANCO DE DADOS COMPLETA'!$N$10,'BANCO DE DADOS COMPLETA'!$A$7:$L$249,3)*-1","v":1},11,77,{"v":-50.00000000102985,"d":"-50.00"},"LIMITE","LIMITE","LIMITE","LIMITE","NADA","NADA",0]
[null,{"$f":"B123+PARÂMETROS!$C$8","v":{"v":24.66434384834064,"d":"24.66"}},{"v":2.165988525870192E-25,"d":"2.17E-25"},{"$f":"PARÂMETROS!$Q$4/C124","v":{"v":46168296279.32803,"d":"4.62E+10"}},{"$f":"PARÂMETROS!$F$6/($C124+PARÂMETROS!$F$6)","v":{"v":1,"d":"1.00E+00"}},{"$f":"$C124*PARÂMETROS!$F$6/($C124^2+$C124*PARÂMETROS!$F$6+PARÂMETROS!$F$6*PARÂMETROS!$G$6)","v":{"v":3.4249651096143937E-18,"d":"3.42E-18"}},{"$f":"PARÂMETROS!$F$6*PARÂMETROS!$G$6/($C124^2+$C124*PARÂMETROS!$F$6+PARÂMETROS!$F$6*PARÂMETROS!$G$6)","v":{"v":1,"d":"1.00E+00"}},{"$f":"(PARÂMETROS!$F$6*$C124^2)/($C124^3+PARÂMETROS!$F$6*$C124^2+PARÂMETROS!$F$6*PARÂMETROS!$G$6*$C124+PARÂMETROS!$F$6*PARÂMETROS!$G$6*PARÂMETROS!$H$6)","v":{"v":1.6607807538226693E-30,"d":"1.66E-30"}},{"$f":"(PARÂMETROS!$F$6*PARÂMETROS!$G$6*$C124)/($C124^3+PARÂMETROS!$F$6*$C124^2+PARÂMETROS!$F$6*PARÂMETROS!$G$6*$C124+PARÂMETROS!$F$6*PARÂMETROS!$G$6*PARÂMETROS!$H$6)","v":{"v":4.849044298759738e-13,"d":"4.85E-13"}},{"$f":"(PARÂMETROS!$F$6*PARÂMETROS!$G$6*PARÂMETROS!$H$6)/($C124^3+PARÂMETROS!$F$6*$C124^2+PARÂMETROS!$F$6*PARÂMETROS!$G$6*$C124+PARÂMETROS!$F$6*PARÂMETROS!$G$6*PARÂMETROS!$H$6)","v":{"v":0.999999999999515,"d":"1.00E+00"}},{"$f":"$C124/($C124+PARÂMETROS!$J$6)","v":{"v":2.1659885258655004E-12,"d":"2.17E-12"}},{"$f":"$C124*PARÂMETROS!$J$6/($C124^2+$C124*PARÂMETROS!$J$6+PARÂMETROS!$J$6*PARÂMETROS!$K$6)","v":{"v":0.9999999999978341,"d":"1.00E+00"}},{"$f":"$C124^2/($C124^2+$C124*PARÂMETROS!$J$6+PARÂMETROS!$J$6*PARÂMETROS!$K$6)","v":{"v":2.1659885258655004E-12,"d":"2.17E-12"}},{"$f":"(PARÂMETROS!$K$6*PARÂMETROS!$J$6*$C124)/($C124^3+PARÂMETROS!$J$6*$C124^2+PARÂMETROS!$J$6*PARÂMETROS!$K$6*$C124+PARÂMETROS!$J$6*PARÂMETROS!$K$6*PARÂMETROS!$L$6)","v":{"v":0,"d":"0.00E+00"}},{"$f":"(PARÂMETROS!$J$6*$C124^2)/($C124^3+PARÂMETROS!$J$6*$C124^2+PARÂMETROS!$J$6*PARÂMETROS!$K$6*$C124+PARÂMETROS!$J$6*PARÂMETROS!$K$6*PARÂMETROS!$L$6)","v":{"v":0.9999999999978341,"d":"1.00E+00"}},{"$f":"($C124^3)/($C124^3+PARÂMETROS!$J$6*$C124^2+PARÂMETROS!$J$6*PARÂMETROS!$K$6*$C124+PARÂMETROS!$J$6*PARÂMETROS!$K$6*PARÂMETROS!$L$6)","v":{"v":2.1659885258655004E-12,"d":"2.17E-12"}},{"$f":"IF(PARÂMETROS!$J$6<PARÂMETROS!$F$6,(E124-(C124-D124)/PARÂMETROS!$C$11)/(K124+(C124-D124)/PARÂMETROS!$C$14),(K124+(C124-D124)/PARÂMETROS!$C$14)/(E124-(C124-D124)/PARÂMETROS!$C$11))","v":{"v":-2.50000000001083,"d":"-2.50E+00"}},{"$f":"IF(PARÂMETROS!$J$6<PARÂMETROS!$F$6,(E124-(C124-D124)/PARÂMETROS!$C$11)/(L124+2*M124+(C124-D124)/PARÂMETROS!$C$14),(L124+2*M124+(C124-D124)/PARÂMETROS!$C$14)/(E124-(C124-D124)/PARÂMETROS!$C$11))","v":{"v":-2.500000000037905,"d":"-2.50E+00"}},{"$f":"IF(PARÂMETROS!$J$6<PARÂMETROS!$F$6, (E124-(C124-D124)/PARÂMETROS!$C$11)/(N124+2*O124+3*P124+(C124-D124)/PARÂMETROS!$C$14),(N124+2*O124+3*P124+(C124-D124)/PARÂMETROS!$C$14)/ (E124-(C124-D124)/PARÂMETROS!$C$11))","v":{"v":-2.5000000000649796,"d":"-2.50E+00"}},{"$f":"IF(PARÂMETROS!$J$6<PARÂMETROS!$F$6,(F124+2*G124-(C124-D124)/PARÂMETROS!$C$11)/(K124+(C124-D124)/PARÂMETROS!$C$14),(K124+(C124-D124)/PARÂMETROS!$C$14)/(F124+2*G124-(C124-D124)/PARÂMETROS!$C$11))","v":{"v":-2.50000000002166,"d":"-2.50E+00"}},{"$f":"IF(PARÂMETROS!$J$6<PARÂMETROS!$F$6,(F124+2*G124-(C124-D124)/PARÂMETROS!$C$11)/(L124+2*M124+(C124-D124)/PARÂMETROS!$C$14),(L124+2*M124+(C124-D124)/PARÂMETROS!$C$14)/(F124+2*G124-(C124-D124)/PARÂMETROS!$C$11))","v":{"v":-2.500000000048735,"d":"-2.50E+00"}},{"$f":"IF(PARÂMETROS!$J$6<PARÂMETROS!$F$6,(F124+2*G124-(C124-D124)/PARÂMETROS!$C$11)/(N124+2*O124+3*P124+(C124-D124)/PARÂMETROS!$C$14),(N124+2*O124+3*P124+(C124-D124)/PARÂMETROS!$C$14)/(F124+2*G124-(C124-D124)/PARÂMETROS!$C$11))","v":{"v":-2.5000000000758096,"d":"-2.50E+00"}},{"$f":"IF(PARÂMETROS!$J$6<PARÂMETROS!$F$6,(H124+2*I124+3*J124-(C124-D124)/PARÂMETROS!$C$11)/(K124+(C124-D124)/PARÂMETROS!$C$14),(K124+(C124-D124)/PARÂMETROS!$C$14)/(H124+2*I124+3*J124-(C124-D124)/PARÂMETROS!$C$11))","v":{"v":-2.50000000003249,"d":"-2.50E+00"}},{"$f":"IF(PARÂMETROS!$J$6<PARÂMETROS!$F$6,(H124+2*I124+3*J124-(C124-D124)/PARÂMETROS!$C$11)/(L124+2*M124+(C124-D124)/PARÂMETROS!$C$14),(L124+2*M124+(C124-D124)/PARÂMETROS!$C$14)/(H124+2*I124+3*J124-(C124-D124)/PARÂMETROS!$C$11))","v":{"v":-2.500000000059565,"d":"-2.50E+00"}},{"$f":"IF(PARÂMETROS!$J$6<PARÂMETROS!$F$6,(H124+2*I124+3*J124-(C124-D124)/PARÂMETROS!$C$11)/(N124+2*O124+3*P124+(C124-D124)/PARÂMETROS!$C$14),(N124+2*O124+3*P124+(C124-D124)/PARÂMETROS!$C$14)/(H124+2*I124+3*J124-(C124-D124)/PARÂMETROS!$C$11))","v":{"v":-2.5000000000866396,"d":"-2.50E+00"}},{"$f":"Q124*PARÂMETROS!$C$11*PARÂMETROS!$D$11/PARÂMETROS!$C$14","v":{"v":-50.0000000002166,"d":"-50.00"}},{"$f":"R124*PARÂMETROS!$C$11*PARÂMETROS!$D$11/PARÂMETROS!$C$14","v":{"v":-50.00000000075809,"d":"-50.00"}},{"$f":"S124*PARÂMETROS!$C$11*PARÂMETROS!$D$11/PARÂMETROS!$C$14","v":{"v":-50.0000000012996,"d":"-50.00"}},{"$f":"T124*PARÂMETROS!$C$11*PARÂMETROS!$D$11/PARÂMETROS!$C$14","v":{"v":-50.0000000004332,"d":"-50.00"}},{"$f":"U124*PARÂMETROS!$C$11*PARÂMETROS!$D$11/PARÂMETROS!$C$14","v":{"v":-50.0000000009747,"d":"-50.00"}},{"$f":"V124*PARÂMETROS!$C$11*PARÂMETROS!$D$11/PARÂMETROS!$C$14","v":{"v":-50.0000000015162,"d":"-50.00"}},{"$f":"W124*PARÂMETROS!$C$11*PARÂMETROS!$D$11/PARÂMETROS!$C$14","v":{"v":-50.000000000649806,"d":"-50.00"}},{"$f":"X124*PARÂMETROS!$C$11*PARÂMETROS!$D$11/PARÂMETROS!$C$14","v":{"v":-50.0000000011913,"d":"-50.00"}},{"$f":"Y124*PARÂMETROS!$C$11*PARÂMETROS!$D$11/PARÂMETROS!$C$14","v":{"v":-50.00000000173279,"d":"-50.00"}},{"$f":"AND(B124+PARÂMETROS!$C$8>=PARÂMETROS!$C$5,B124+PARÂMETROS!$C$8<=PARÂMETROS!$D$5)","v":false},0,{"$f":"VLOOKUP('BANCO DE DADOS COMPLETA'!$N$8,'BANCO DE DADOS COMPLETA'!$A$7:$L$249,3)*-1","v":3},7,{"$f":"VLOOKUP('BANCO DE DADOS COMPLETA'!$N$10,'BANCO DE DADOS COMPLETA'!$A$7:$L$249,3)*-1","v":1},11,77,{"v":-50.000000000649806,"d":"-50.00"},"LIMITE","LIMITE","LIMITE","LIMITE","NADA","NADA",0]
[null,{"$f":"B124+PARÂMETROS!$C$8","v":{"v":24.86434384834064,"d":"24.86"}},{"v":1.3666463684576273E-25,"d":"1.37E-25"},{"$f":"PARÂMETROS!$Q$4/C125","v":{"v":73171818480.63461,"d":"7.32E+10"}},{"$f":"PARÂMETROS!$F$6/($C125+PARÂMETROS!$F$6)","v":{"v":1,"d":"1.00E+00"}},{"$f":"$C125*PARÂMETROS!$F$6/($C125^2+$C125*PARÂMETROS!$F$6+PARÂMETROS!$F$6*PARÂMETROS!$G$6)","v":{"v":2.1610068904996163E-18,"d":"2.16E-18"}},{"$f":"PARÂMETROS!$F$6*PARÂMETROS!$G$6/($C125^2+$C125*PARÂMETROS!$F$6+PARÂMETROS!$F$6*PARÂMETROS!$G$6)","v":{"v":1,"d":"1.00E+00"}},{"$f":"(PARÂMETROS!$F$6*$C125^2)/($C125^3+PARÂMETROS!$F$6*$C125^2+PARÂMETROS!$F$6*PARÂMETROS!$G$6*$C125+PARÂMETROS!$F$6*PARÂMETROS!$G$6*PARÂMETROS!$H$6)","v":{"v":6.61168726814168e-31,"d":"6.61E-31"}},{"$f":"(PARÂMETROS!$F$6*PARÂMETROS!$G$6*$C125)/($C125^3+PARÂMETROS!$F$6*$C125^2+PARÂMETROS!$F$6*PARÂMETROS!$G$6*$C125+PARÂMETROS!$F$6*PARÂMETROS!$G$6*PARÂMETROS!$H$6)","v":{"v":3.059540114012818e-13,"d":"3.06E-13"}},{"$f":"(PARÂMETROS!$F$6*PARÂMETROS!$G$6*PARÂMETROS!$H$6)/($C125^3+PARÂMETROS!$F$6*$C125^2+PARÂMETROS!$F$6*PARÂMETROS!$G$6*$C125+PARÂMETROS!$F$6*PARÂMETROS!$G$6*PARÂMETROS!$H$6)","v":{"v":0.999999999999694,"d":"1.00E+00"}},{"$f":"$C125/($C125+PARÂMETROS!$J$6)","v":{"v":1.3666463684557595E-12,"d":"1.37E-12"}},{"$f":"$C125*PARÂMETROS!$J$6/($C125^2+$C125*PARÂMETROS!$J$6+PARÂMETROS!$J$6*PARÂMETROS!$K$6)","v":{"v":0.9999999999986333,"d":"1.00E+00"}},{"$f":"$C125^2/($C125^2+$C125*PARÂMETROS!$J$6+PARÂMETROS!$J$6*PARÂMETROS!$K$6)","v":{"v":1.3666463684557595E-12,"d":"1.37E-12"}},{"$f":"(PARÂMETROS!$K$6*PARÂMETROS!$J$6*$C125)/($C125^3+PARÂMETROS!$J$6*$C125^2+PARÂMETROS!$J$6*PARÂMETROS!$K$6*$C125+PARÂMETROS!$J$6*PARÂMETROS!$K$6*PARÂMETROS!$L$6)","v":{"v":0,"d":"0.00E+00"}},{"$f":"(PARÂMETROS!$J$6*$C125^2)/($C125^3+PARÂMETROS!$J$6*$C125^2+PARÂMETROS!$J$6*PARÂMETROS!$K$6*$C125+PARÂMETROS!$J$6*PARÂMETROS!$K$6*PARÂMETROS!$L$6)","v":{"v":0.9999999999986333,"d":"1.00E+00"}},{"$f":"($C125^3)/($C125^3+PARÂMETROS!$J$6*$C125^2+PARÂMETROS!$J$6*PARÂMETROS!$K$6*$C125+PARÂMETROS!$J$6*PARÂMETROS!$K$6*PARÂMETROS!$L$6)","v":{"v":1.3666463684557595E-12,"d":"1.37E-12"}},{"$f":"IF(PARÂMETROS!$J$6<PARÂMETROS!$F$6,(E125-(C125-D125)/PARÂMETROS!$C$11)/(K125+(C125-D125)/PARÂMETROS!$C$14),(K125+(C125-D125)/PARÂMETROS!$C$14)/(E125-(C125-D125)/PARÂMETROS!$C$11))","v":{"v":-2.500000000006833,"d":"-2.50E+00"}},{"$f":"IF(PARÂMETROS!$J$6<PARÂMETROS!$F$6,(E125-(C125-D125)/PARÂMETROS!$C$11)/(L125+2*M125+(C125-D125)/PARÂMETROS!$C$14),(L125+2*M125+(C125-D125)/PARÂMETROS!$C$14)/(E125-(C125-D125)/PARÂMETROS!$C$11))","v":{"v":-2.500000000023916,"d":"-2.50E+00"}},{"$f":"IF(PARÂMETROS!$J$6<PARÂMETROS!$F$6, (E125-(C125-D125)/PARÂMETROS!$C$11)/(N125+2*O125+3*P125+(C125-D125)/PARÂMETROS!$C$14),(N125+2*O125+3*P125+(C125-D125)/PARÂMETROS!$C$14)/ (E125-(C125-D125)/PARÂMETROS!$C$11))","v":{"v":-2.500000000040999,"d":"-2.50E+00"}},{"$f":"IF(PARÂMETROS!$J$6<PARÂMETROS!$F$6,(F125+2*G125-(C125-D125)/PARÂMETROS!$C$11)/(K125+(C125-D125)/PARÂMETROS!$C$14),(K125+(C125-D125)/PARÂMETROS!$C$14)/(F125+2*G125-(C125-D125)/PARÂMETROS!$C$11))","v":{"v":-2.5000000000136664,"d":"-2.50E+00"}},{"$f":"IF(PARÂMETROS!$J$6<PARÂMETROS!$F$6,(F125+2*G125-(C125-D125)/PARÂMETROS!$C$11)/(L125+2*M125+(C125-D125)/PARÂMETROS!$C$14),(L125+2*M125+(C125-D125)/PARÂMETROS!$C$14)/(F125+2*G125-(C125-D125)/PARÂMETROS!$C$11))","v":{"v":-2.500000000030749,"d":"-2.50E+00"}},{"$f":"IF(PARÂMETROS!$J$6<PARÂMETROS!$F$6,(F125+2*G125-(C125-D125)/PARÂMETROS!$C$11)/(N125+2*O125+3*P125+(C125-D125)/PARÂMETROS!$C$14),(N125+2*O125+3*P125+(C125-D125)/PARÂMETROS!$C$14)/(F125+2*G125-(C125-D125)/PARÂMETROS!$C$11))","v":{"v":-2.5000000000478324,"d":"-2.50E+00"}},{"$f":"IF(PARÂMETROS!$J$6<PARÂMETROS!$F$6,(H125+2*I125+3*J125-(C125-D125)/PARÂMETROS!$C$11)/(K125+(C125-D125)/PARÂMETROS!$C$14),(K125+(C125-D125)/PARÂMETROS!$C$14)/(H125+2*I125+3*J125-(C125-D125)/PARÂMETROS!$C$11))","v":{"v":-2.5000000000204996,"d":"-2.50E+00"}},{"$f":"IF(PARÂMETROS!$J$6<PARÂMETROS!$F$6,(H125+2*I125+3*J125-(C125-D125)/PARÂMETROS!$C$11)/(L125+2*M125+(C125-D125)/PARÂMETROS!$C$14),(L125+2*M125+(C125-D125)/PARÂMETROS!$C$14)/(H125+2*I125+3*J125-(C125-D125)/PARÂMETROS!$C$11))","v":{"v":-2.5000000000375824,"d":"-2.50E+00"}},{"$f":"IF(PARÂMETROS!$J$6<PARÂMETROS!$F$6,(H125+2*I125+3*J125-(C125-D125)/PARÂMETROS!$C$11)/(N125+2*O125+3*P125+(C125-D125)/PARÂMETROS!$C$14),(N125+2*O125+3*P125+(C125-D125)/PARÂMETROS!$C$14)/(H125+2*I125+3*J125-(C125-D125)/PARÂMETROS!$C$11))","v":{"v":-2.5000000000546656,"d":"-2.50E+00"}},{"$f":"Q125*PARÂMETROS!$C$11*PARÂMETROS!$D$11/PARÂMETROS!$C$14","v":{"v":-50.000000000136666,"d":"-50.00"}},{"$f":"R125*PARÂMETROS!$C$11*PARÂMETROS!$D$11/PARÂMETROS!$C$14","v":{"v":-50.000000000478316,"d":"-50.00"}},{"$f":"S125*PARÂMETROS!$C$11*PARÂMETROS!$D$11/PARÂMETROS!$C$14","v":{"v":-50.00000000081999,"d":"-50.00"}},{"$f":"T125*PARÂMETROS!$C$11*PARÂMETROS!$D$11/PARÂMETROS!$C$14","v":{"v":-50.000000000273324,"d":"-50.00"}},{"$f":"U125*PARÂMETROS!$C$11*PARÂMETROS!$D$11/PARÂMETROS!$C$14","v":{"v":-50.00000000061499,"d":"-50.00"}},{"$f":"V125*PARÂMETROS!$C$11*PARÂMETROS!$D$11/PARÂMETROS!$C$14","v":{"v":-50.000000000956646,"d":"-50.00"}},{"$f":"W125*PARÂMETROS!$C$11*PARÂMETROS!$D$11/PARÂMETROS!$C$14","v":{"v":-50.00000000041,"d":"-50.00"}},{"$f":"X125*PARÂMETROS!$C$11*PARÂMETROS!$D$11/PARÂMETROS!$C$14","v":{"v":-50.000000000751655,"d":"-50.00"}},{"$f":"Y125*PARÂMETROS!$C$11*PARÂMETROS!$D$11/PARÂMETROS!$C$14","v":{"v":-50.00000000109331,"d":"-50.00"}},{"$f":"AND(B125+PARÂMETROS!$C$8>=PARÂMETROS!$C$5,B125+PARÂMETROS!$C$8<=PARÂMETROS!$D$5)","v":false},0,{"$f":"VLOOKUP('BANCO DE DADOS COMPLETA'!$N$8,'BANCO DE DADOS COMPLETA'!$A$7:$L$249,3)*-1","v":3},7,{"$f":"VLOOKUP('BANCO DE DADOS COMPLETA'!$N$10,'BANCO DE DADOS COMPLETA'!$A$7:$L$249,3)*-1","v":1},11,77,{"v":-50.00000000041,"d":"-50.00"},"LIMITE","LIMITE","LIMITE","LIMITE","NADA","NADA",0]
[null,{"$f":"B125+PARÂMETROS!$C$8","v":{"v":25.064343848340638,"d":"25.06"}},{"v":8.62295563485526e-26,"d":"8.62E-26"},{"$f":"PARÂMETROS!$Q$4/C126","v":{"v":115969516989.95787,"d":"1.16E+11"}},{"$f":"PARÂMETROS!$F$6/($C126+PARÂMETROS!$F$6)","v":{"v":1,"d":"1.00E+00"}},{"$f":"$C126*PARÂMETROS!$F$6/($C126^2+$C126*PARÂMETROS!$F$6+PARÂMETROS!$F$6*PARÂMETROS!$G$6)","v":{"v":1.3635031690330403E-18,"d":"1.36E-18"}},{"$f":"PARÂMETROS!$F$6*PARÂMETROS!$G$6/($C126^2+$C126*PARÂMETROS!$F$6+PARÂMETROS!$F$6*PARÂMETROS!$G$6)","v":{"v":1,"d":"1.00E+00"}},{"$f":"(PARÂMETROS!$F$6*$C126^2)/($C126^3+PARÂMETROS!$F$6*$C126^2+PARÂMETROS!$F$6*PARÂMETROS!$G$6*$C126+PARÂMETROS!$F$6*PARÂMETROS!$G$6*PARÂMETROS!$H$6)","v":{"v":2.6321601109047742E-31,"d":"2.63E-31"}},{"$f":"(PARÂMETROS!$F$6*PARÂMETROS!$G$6*$C126)/($C126^3+PARÂMETROS!$F$6*$C126^2+PARÂMETROS!$F$6*PARÂMETROS!$G$6*$C126+PARÂMETROS!$F$6*PARÂMETROS!$G$6*PARÂMETROS!$H$6)","v":{"v":1.930439305668377E-13,"d":"1.93E-13"}},{"$f":"(PARÂMETROS!$F$6*PARÂMETROS!$G$6*PARÂMETROS!$H$6)/($C126^3+PARÂMETROS!$F$6*$C126^2+PARÂMETROS!$F$6*PARÂMETROS!$G$6*$C126+PARÂMETROS!$F$6*PARÂMETROS!$G$6*PARÂMETROS!$H$6)","v":{"v":0.9999999999998069,"d":"1.00E+00"}},{"$f":"$C126/($C126+PARÂMETROS!$J$6)","v":{"v":8.622955634847824e-13,"d":"8.62E-13"}},{"$f":"$C126*PARÂMETROS!$J$6/($C126^2+$C126*PARÂMETROS!$J$6+PARÂMETROS!$J$6*PARÂMETROS!$K$6)","v":{"v":0.9999999999991378,"d":"1.00E+00"}},{"$f":"$C126^2/($C126^2+$C126*PARÂMETROS!$J$6+PARÂMETROS!$J$6*PARÂMETROS!$K$6)","v":{"v":8.622955634847825e-13,"d":"8.62E-13"}},{"$f":"(PARÂMETROS!$K$6*PARÂMETROS!$J$6*$C126)/($C126^3+PARÂMETROS!$J$6*$C126^2+PARÂMETROS!$J$6*PARÂMETROS!$K$6*$C126+PARÂMETROS!$J$6*PARÂMETROS!$K$6*PARÂMETROS!$L$6)","v":{"v":0,"d":"0.00E+00"}},{"$f":"(PARÂMETROS!$J$6*$C126^2)/($C126^3+PARÂMETROS!$J$6*$C126^2+PARÂMETROS!$J$6*PARÂMETROS!$K$6*$C126+PARÂMETROS!$J$6*PARÂMETROS!$K$6*PARÂMETROS!$L$6)","v":{"v":0.9999999999991378,"d":"1.00E+00"}},{"$f":"($C126^3)/($C126^3+PARÂMETROS!$J$6*$C126^2+PARÂMETROS!$J$6*PARÂMETROS!$K$6*$C126+PARÂMETROS!$J$6*PARÂMETROS!$K$6*PARÂMETROS!$L$6)","v":{"v":8.622955634847824e-13,"d":"8.62E-13"}},{"$f":"IF(PARÂMETROS!$J$6<PARÂMETROS!$F$6,(E126-(C126-D126)/PARÂMETROS!$C$11)/(K126+(C126-D126)/PARÂMETROS!$C$14),(K126+(C126-D126)/PARÂMETROS!$C$14)/(E126-(C126-D126)/PARÂMETROS!$C$11))","v":{"v":-2.500000000004311,"d":"-2.50E+00"}},{"$f":"IF(PARÂMETROS!$J$6<PARÂMETROS!$F$6,(E126-(C126-D126)/PARÂMETROS!$C$11)/(L126+2*M126+(C126-D126)/PARÂMETROS!$C$14),(L126+2*M126+(C126-D126)/PARÂMETROS!$C$14)/(E126-(C126-D126)/PARÂMETROS!$C$11))","v":{"v":-2.50000000001509,"d":"-2.50E+00"}},{"$f":"IF(PARÂMETROS!$J$6<PARÂMETROS!$F$6, (E126-(C126-D126)/PARÂMETROS!$C$11)/(N126+2*O126+3*P126+(C126-D126)/PARÂMETROS!$C$14),(N126+2*O126+3*P126+(C126-D126)/PARÂMETROS!$C$14)/ (E126-(C126-D126)/PARÂMETROS!$C$11))","v":{"v":-2.5000000000258686,"d":"-2.50E+00"}},{"$f":"IF(PARÂMETROS!$J$6<PARÂMETROS!$F$6,(F126+2*G126-(C126-D126)/PARÂMETROS!$C$11)/(K126+(C126-D126)/PARÂMETROS!$C$14),(K126+(C126-D126)/PARÂMETROS!$C$14)/(F126+2*G126-(C126-D126)/PARÂMETROS!$C$11))","v":{"v":-2.500000000008623,"d":"-2.50E+00"}},{"$f":"IF(PARÂMETROS!$J$6<PARÂMETROS!$F$6,(F126+2*G126-(C126-D126)/PARÂMETROS!$C$11)/(L126+2*M126+(C126-D126)/PARÂMETROS!$C$14),(L126+2*M126+(C126-D126)/PARÂMETROS!$C$14)/(F126+2*G126-(C126-D126)/PARÂMETROS!$C$11))","v":{"v":-2.5000000000194014,"d":"-2.50E+00"}},{"$f":"IF(PARÂMETROS!$J$6<PARÂMETROS!$F$6,(F126+2*G126-(C126-D126)/PARÂMETROS!$C$11)/(N126+2*O126+3*P126+(C126-D126)/PARÂMETROS!$C$14),(N126+2*O126+3*P126+(C126-D126)/PARÂMETROS!$C$14)/(F126+2*G126-(C126-D126)/PARÂMETROS!$C$11))","v":{"v":-2.5000000000301803,"d":"-2.50E+00"}},{"$f":"IF(PARÂMETROS!$J$6<PARÂMETROS!$F$6,(H126+2*I126+3*J126-(C126-D126)/PARÂMETROS!$C$11)/(K126+(C126-D126)/PARÂMETROS!$C$14),(K126+(C126-D126)/PARÂMETROS!$C$14)/(H126+2*I126+3*J126-(C126-D126)/PARÂMETROS!$C$11))","v":{"v":-2.500000000012934,"d":"-2.50E+00"}},{"$f":"IF(PARÂMETROS!$J$6<PARÂMETROS!$F$6,(H126+2*I126+3*J126-(C126-D126)/PARÂMETROS!$C$11)/(L126+2*M126+(C126-D126)/PARÂMETROS!$C$14),(L126+2*M126+(C126-D126)/PARÂMETROS!$C$14)/(H126+2*I126+3*J126-(C126-D126)/PARÂMETROS!$C$11))","v":{"v":-2.500000000023713,"d":"-2.50E+00"}},{"$f":"IF(PARÂMETROS!$J$6<PARÂMETROS!$F$6,(H126+2*I126+3*J126-(C126-D126)/PARÂMETROS!$C$11)/(N126+2*O126+3*P126+(C126-D126)/PARÂMETROS!$C$14),(N126+2*O126+3*P126+(C126-D126)/PARÂMETROS!$C$14)/(H126+2*I126+3*J126-(C126-D126)/PARÂMETROS!$C$11))","v":{"v":-2.5000000000344915,"d":"-2.50E+00"}},{"$f":"Q126*PARÂMETROS!$C$11*PARÂMETROS!$D$11/PARÂMETROS!$C$14","v":{"v":-50.00000000008623,"d":"-50.00"}},{"$f":"R126*PARÂMETROS!$C$11*PARÂMETROS!$D$11/PARÂMETROS!$C$14","v":{"v":-50.0000000003018,"d":"-50.00"}},{"$f":"S126*PARÂMETROS!$C$11*PARÂMETROS!$D$11/PARÂMETROS!$C$14","v":{"v":-50.000000000517375,"d":"-50.00"}},{"$f":"T126*PARÂMETROS!$C$11*PARÂMETROS!$D$11/PARÂMETROS!$C$14","v":{"v":-50.00000000017246,"d":"-50.00"}},{"$f":"U126*PARÂMETROS!$C$11*PARÂMETROS!$D$11/PARÂMETROS!$C$14","v":{"v":-50.000000000388034,"d":"-50.00"}},{"$f":"V126*PARÂMETROS!$C$11*PARÂMETROS!$D$11/PARÂMETROS!$C$14","v":{"v":-50.000000000603606,"d":"-50.00"}},{"$f":"W126*PARÂMETROS!$C$11*PARÂMETROS!$D$11/PARÂMETROS!$C$14","v":{"v":-50.00000000025868,"d":"-50.00"}},{"$f":"X126*PARÂMETROS!$C$11*PARÂMETROS!$D$11/PARÂMETROS!$C$14","v":{"v":-50.000000000474266,"d":"-50.00"}},{"$f":"Y126*PARÂMETROS!$C$11*PARÂMETROS!$D$11/PARÂMETROS!$C$14","v":{"v":-50.00000000068984,"d":"-50.00"}},{"$f":"AND(B126+PARÂMETROS!$C$8>=PARÂMETROS!$C$5,B126+PARÂMETROS!$C$8<=PARÂMETROS!$D$5)","v":false},0,{"$f":"VLOOKUP('BANCO DE DADOS COMPLETA'!$N$8,'BANCO DE DADOS COMPLETA'!$A$7:$L$249,3)*-1","v":3},7,{"$f":"VLOOKUP('BANCO DE DADOS COMPLETA'!$N$10,'BANCO DE DADOS COMPLETA'!$A$7:$L$249,3)*-1","v":1},11,77,{"v":-50.00000000025868,"d":"-50.00"},"LIMITE","LIMITE","LIMITE","LIMITE","NADA","NADA",0]
[null,{"$f":"B126+PARÂMETROS!$C$8","v":{"v":25.264343848340637,"d":"25.26"}},{"v":5.440717188938804e-26,"d":"5.44E-26"},{"$f":"PARÂMETROS!$Q$4/C127","v":{"v":183799298010.38733,"d":"1.84E+11"}},{"$f":"PARÂMETROS!$F$6/($C127+PARÂMETROS!$F$6)","v":{"v":1,"d":"1.00E+00"}},{"$f":"$C127*PARÂMETROS!$F$6/($C127^2+$C127*PARÂMETROS!$F$6+PARÂMETROS!$F$6*PARÂMETROS!$G$6)","v":{"v":8.603123387234168e-19,"d":"8.60E-19"}},{"$f":"PARÂMETROS!$F$6*PARÂMETROS!$G$6/($C127^2+$C127*PARÂMETROS!$F$6+PARÂMETROS!$F$6*PARÂMETROS!$G$6)","v":{"v":1,"d":"1.00E+00"}},{"$f":"(PARÂMETROS!$F$6*$C127^2)/($C127^3+PARÂMETROS!$F$6*$C127^2+PARÂMETROS!$F$6*PARÂMETROS!$G$6*$C127+PARÂMETROS!$F$6*PARÂMETROS!$G$6*PARÂMETROS!$H$6)","v":{"v":1.0478818141961578E-31,"d":"1.05E-31"}},{"$f":"(PARÂMETROS!$F$6*PARÂMETROS!$G$6*$C127)/($C127^3+PARÂMETROS!$F$6*$C127^2+PARÂMETROS!$F$6*PARÂMETROS!$G$6*$C127+PARÂMETROS!$F$6*PARÂMETROS!$G$6*PARÂMETROS!$H$6)","v":{"v":1.2180248579847965E-13,"d":"1.22E-13"}},{"$f":"(PARÂMETROS!$F$6*PARÂMETROS!$G$6*PARÂMETROS!$H$6)/($C127^3+PARÂMETROS!$F$6*$C127^2+PARÂMETROS!$F$6*PARÂMETROS!$G$6*$C127+PARÂMETROS!$F$6*PARÂMETROS!$G$6*PARÂMETROS!$H$6)","v":{"v":0.9999999999998782,"d":"1.00E+00"}},{"$f":"$C127/($C127+PARÂMETROS!$J$6)","v":{"v":5.440717188935843E-13,"d":"5.44E-13"}},{"$f":"$C127*PARÂMETROS!$J$6/($C127^2+$C127*PARÂMETROS!$J$6+PARÂMETROS!$J$6*PARÂMETROS!$K$6)","v":{"v":0.999999999999456,"d":"1.00E+00"}},{"$f":"$C127^2/($C127^2+$C127*PARÂMETROS!$J$6+PARÂMETROS!$J$6*PARÂMETROS!$K$6)","v":{"v":5.440717188935843E-13,"d":"5.44E-13"}},{"$f":"(PARÂMETROS!$K$6*PARÂMETROS!$J$6*$C127)/($C127^3+PARÂMETROS!$J$6*$C127^2+PARÂMETROS!$J$6*PARÂMETROS!$K$6*$C127+PARÂMETROS!$J$6*PARÂMETROS!$K$6*PARÂMETROS!$L$6)","v":{"v":0,"d":"0.00E+00"}},{"$f":"(PARÂMETROS!$J$6*$C127^2)/($C127^3+PARÂMETROS!$J$6*$C127^2+PARÂMETROS!$J$6*PARÂMETROS!$K$6*$C127+PARÂMETROS!$J$6*PARÂMETROS!$K$6*PARÂMETROS!$L$6)","v":{"v":0.9999999999994559,"d":"1.00E+00"}},{"$f":"($C127^3)/($C127^3+PARÂMETROS!$J$6*$C127^2+PARÂMETROS!$J$6*PARÂMETROS!$K$6*$C127+PARÂMETROS!$J$6*PARÂMETROS!$K$6*PARÂMETROS!$L$6)","v":{"v":5.440717188935844E-13,"d":"5.44E-13"}},{"$f":"IF(PARÂMETROS!$J$6<PARÂMETROS!$F$6,(E127-(C127-D127)/PARÂMETROS!$C$11)/(K127+(C127-D127)/PARÂMETROS!$C$14),(K127+(C127-D127)/PARÂMETROS!$C$14)/(E127-(C127-D127)/PARÂMETROS!$C$11))","v":{"v":-2.5000000000027205,"d":"-2.50E+00"}},{"$f":"IF(PARÂMETROS!$J$6<PARÂMETROS!$F$6,(E127-(C127-D127)/PARÂMETROS!$C$11)/(L127+2*M127+(C127-D127)/PARÂMETROS!$C$14),(L127+2*M127+(C127-D127)/PARÂMETROS!$C$14)/(E127-(C127-D127)/PARÂMETROS!$C$11))","v":{"v":-2.5000000000095213,"d":"-2.50E+00"}},{"$f":"IF(PARÂMETROS!$J$6<PARÂMETROS!$F$6, (E127-(C127-D127)/PARÂMETROS!$C$11)/(N127+2*O127+3*P127+(C127-D127)/PARÂMETROS!$C$14),(N127+2*O127+3*P127+(C127-D127)/PARÂMETROS!$C$14)/ (E127-(C127-D127)/PARÂMETROS!$C$11))","v":{"v":-2.500000000016322,"d":"-2.50E+00"}},{"$f":"IF(PARÂMETROS!$J$6<PARÂMETROS!$F$6,(F127+2*G127-(C127-D127)/PARÂMETROS!$C$11)/(K127+(C127-D127)/PARÂMETROS!$C$14),(K127+(C127-D127)/PARÂMETROS!$C$14)/(F127+2*G127-(C127-D127)/PARÂMETROS!$C$11))","v":{"v":-2.5000000000054405,"d":"-2.50E+00"}},{"$f":"IF(PARÂMETROS!$J$6<PARÂMETROS!$F$6,(F127+2*G127-(C127-D127)/PARÂMETROS!$C$11)/(L127+2*M127+(C127-D127)/PARÂMETROS!$C$14),(L127+2*M127+(C127-D127)/PARÂMETROS!$C$14)/(F127+2*G127-(C127-D127)/PARÂMETROS!$C$11))","v":{"v":-2.5000000000122418,"d":"-2.50E+00"}},{"$f":"IF(PARÂMETROS!$J$6<PARÂMETROS!$F$6,(F127+2*G127-(C127-D127)/PARÂMETROS!$C$11)/(N127+2*O127+3*P127+(C127-D127)/PARÂMETROS!$C$14),(N127+2*O127+3*P127+(C127-D127)/PARÂMETROS!$C$14)/(F127+2*G127-(C127-D127)/PARÂMETROS!$C$11))","v":{"v":-2.5000000000190425,"d":"-2.50E+00"}},{"$f":"IF(PARÂMETROS!$J$6<PARÂMETROS!$F$6,(H127+2*I127+3*J127-(C127-D127)/PARÂMETROS!$C$11)/(K127+(C127-D127)/PARÂMETROS!$C$14),(K127+(C127-D127)/PARÂMETROS!$C$14)/(H127+2*I127+3*J127-(C127-D127)/PARÂMETROS!$C$11))","v":{"v":-2.500000000008161,"d":"-2.50E+00"}},{"$f":"IF(PARÂMETROS!$J$6<PARÂMETROS!$F$6,(H127+2*I127+3*J127-(C127-D127)/PARÂMETROS!$C$11)/(L127+2*M127+(C127-D127)/PARÂMETROS!$C$14),(L127+2*M127+(C127-D127)/PARÂMETROS!$C$14)/(H127+2*I127+3*J127-(C127-D127)/PARÂMETROS!$C$11))","v":{"v":-2.500000000014962,"d":"-2.50E+00"}},{"$f":"IF(PARÂMETROS!$J$6<PARÂMETROS!$F$6,(H127+2*I127+3*J127-(C127-D127)/PARÂMETROS!$C$11)/(N127+2*O127+3*P127+(C127-D127)/PARÂMETROS!$C$14),(N127+2*O127+3*P127+(C127-D127)/PARÂMETROS!$C$14)/(H127+2*I127+3*J127-(C127-D127)/PARÂMETROS!$C$11))","v":{"v":-2.500000000021763,"d":"-2.50E+00"}},{"$f":"Q127*PARÂMETROS!$C$11*PARÂMETROS!$D$11/PARÂMETROS!$C$14","v":{"v":-50.00000000005441,"d":"-50.00"}},{"$f":"R127*PARÂMETROS!$C$11*PARÂMETROS!$D$11/PARÂMETROS!$C$14","v":{"v":-50.000000000190425,"d":"-50.00"}},{"$f":"S127*PARÂMETROS!$C$11*PARÂMETROS!$D$11/PARÂMETROS!$C$14","v":{"v":-50.00000000032644,"d":"-50.00"}},{"$f":"T127*PARÂMETROS!$C$11*PARÂMETROS!$D$11/PARÂMETROS!$C$14","v":{"v":-50.00000000010881,"d":"-50.00"}},{"$f":"U127*PARÂMETROS!$C$11*PARÂMETROS!$D$11/PARÂMETROS!$C$14","v":{"v":-50.00000000024484,"d":"-50.00"}},{"$f":"V127*PARÂMETROS!$C$11*PARÂMETROS!$D$11/PARÂMETROS!$C$14","v":{"v":-50.00000000038085,"d":"-50.00"}},{"$f":"W127*PARÂMETROS!$C$11*PARÂMETROS!$D$11/PARÂMETROS!$C$14","v":{"v":-50.000000000163226,"d":"-50.00"}},{"$f":"X127*PARÂMETROS!$C$11*PARÂMETROS!$D$11/PARÂMETROS!$C$14","v":{"v":-50.00000000029924,"d":"-50.00"}},{"$f":"Y127*PARÂMETROS!$C$11*PARÂMETROS!$D$11/PARÂMETROS!$C$14","v":{"v":-50.000000000435264,"d":"-50.00"}},{"$f":"AND(B127+PARÂMETROS!$C$8>=PARÂMETROS!$C$5,B127+PARÂMETROS!$C$8<=PARÂMETROS!$D$5)","v":false},0,{"$f":"VLOOKUP('BANCO DE DADOS COMPLETA'!$N$8,'BANCO DE DADOS COMPLETA'!$A$7:$L$249,3)*-1","v":3},7,{"$f":"VLOOKUP('BANCO DE DADOS COMPLETA'!$N$10,'BANCO DE DADOS COMPLETA'!$A$7:$L$249,3)*-1","v":1},11,77,{"v":-50.000000000163226,"d":"-50.00"},"LIMITE","LIMITE","LIMITE","LIMITE","NADA","NADA",0]
[null,{"$f":"B127+PARÂMETROS!$C$8","v":{"v":25.464343848340636,"d":"25.46"}},{"v":3.432860469600576e-26,"d":"3.43E-26"},{"$f":"PARÂMETROS!$Q$4/C128","v":{"v":291302256195.79376,"d":"2.91E+11"}},{"$f":"PARÂMETROS!$F$6/($C128+PARÂMETROS!$F$6)","v":{"v":1,"d":"1.00E+00"}},{"$f":"$C128*PARÂMETROS!$F$6/($C128^2+$C128*PARÂMETROS!$F$6+PARÂMETROS!$F$6*PARÂMETROS!$G$6)","v":{"v":5.4282038866447265E-19,"d":"5.43E-19"}},{"$f":"PARÂMETROS!$F$6*PARÂMETROS!$G$6/($C128^2+$C128*PARÂMETROS!$F$6+PARÂMETROS!$F$6*PARÂMETROS!$G$6)","v":{"v":1,"d":"1.00E+00"}},{"$f":"(PARÂMETROS!$F$6*$C128^2)/($C128^3+PARÂMETROS!$F$6*$C128^2+PARÂMETROS!$F$6*PARÂMETROS!$G$6*$C128+PARÂMETROS!$F$6*PARÂMETROS!$G$6*PARÂMETROS!$H$6)","v":{"v":4.171692641241183E-32,"d":"4.17E-32"}},{"$f":"(PARÂMETROS!$F$6*PARÂMETROS!$G$6*$C128)/($C128^3+PARÂMETROS!$F$6*$C128^2+PARÂMETROS!$F$6*PARÂMETROS!$G$6*$C128+PARÂMETROS!$F$6*PARÂMETROS!$G$6*PARÂMETROS!$H$6)","v":{"v":7.685217299049876e-14,"d":"7.69E-14"}},{"$f":"(PARÂMETROS!$F$6*PARÂMETROS!$G$6*PARÂMETROS!$H$6)/($C128^3+PARÂMETROS!$F$6*$C128^2+PARÂMETROS!$F$6*PARÂMETROS!$G$6*$C128+PARÂMETROS!$F$6*PARÂMETROS!$G$6*PARÂMETROS!$H$6)","v":{"v":0.9999999999999232,"d":"1.00E+00"}},{"$f":"$C128/($C128+PARÂMETROS!$J$6)","v":{"v":3.432860469599398e-13,"d":"3.43E-13"}},{"$f":"$C128*PARÂMETROS!$J$6/($C128^2+$C128*PARÂMETROS!$J$6+PARÂMETROS!$J$6*PARÂMETROS!$K$6)","v":{"v":0.9999999999996567,"d":"1.00E+00"}},{"$f":"$C128^2/($C128^2+$C128*PARÂMETROS!$J$6+PARÂMETROS!$J$6*PARÂMETROS!$K$6)","v":{"v":3.4328604695993983E-13,"d":"3.43E-13"}},{"$f":"(PARÂMETROS!$K$6*PARÂMETROS!$J$6*$C128)/($C128^3+PARÂMETROS!$J$6*$C128^2+PARÂMETROS!$J$6*PARÂMETROS!$K$6*$C128+PARÂMETROS!$J$6*PARÂMETROS!$K$6*PARÂMETROS!$L$6)","v":{"v":0,"d":"0.00E+00"}},{"$f":"(PARÂMETROS!$J$6*$C128^2)/($C128^3+PARÂMETROS!$J$6*$C128^2+PARÂMETROS!$J$6*PARÂMETROS!$K$6*$C128+PARÂMETROS!$J$6*PARÂMETROS!$K$6*PARÂMETROS!$L$6)","v":{"v":0.9999999999996567,"d":"1.00E+00"}},{"$f":"($C128^3)/($C128^3+PARÂMETROS!$J$6*$C128^2+PARÂMETROS!$J$6*PARÂMETROS!$K$6*$C128+PARÂMETROS!$J$6*PARÂMETROS!$K$6*PARÂMETROS!$L$6)","v":{"v":3.4328604695993983E-13,"d":"3.43E-13"}},{"$f":"IF(PARÂMETROS!$J$6<PARÂMETROS!$F$6,(E128-(C128-D128)/PARÂMETROS!$C$11)/(K128+(C128-D128)/PARÂMETROS!$C$14),(K128+(C128-D128)/PARÂMETROS!$C$14)/(E128-(C128-D128)/PARÂMETROS!$C$11))","v":{"v":-2.5000000000017164,"d":"-2.50E+00"}},{"$f":"IF(PARÂMETROS!$J$6<PARÂMETROS!$F$6,(E128-(C128-D128)/PARÂMETROS!$C$11)/(L128+2*M128+(C128-D128)/PARÂMETROS!$C$14),(L128+2*M128+(C128-D128)/PARÂMETROS!$C$14)/(E128-(C128-D128)/PARÂMETROS!$C$11))","v":{"v":-2.500000000006007,"d":"-2.50E+00"}},{"$f":"IF(PARÂMETROS!$J$6<PARÂMETROS!$F$6, (E128-(C128-D128)/PARÂMETROS!$C$11)/(N128+2*O128+3*P128+(C128-D128)/PARÂMETROS!$C$14),(N128+2*O128+3*P128+(C128-D128)/PARÂMETROS!$C$14)/ (E128-(C128-D128)/PARÂMETROS!$C$11))","v":{"v":-2.5000000000102984,"d":"-2.50E+00"}},{"$f":"IF(PARÂMETROS!$J$6<PARÂMETROS!$F$6,(F128+2*G128-(C128-D128)/PARÂMETROS!$C$11)/(K128+(C128-D128)/PARÂMETROS!$C$14),(K128+(C128-D128)/PARÂMETROS!$C$14)/(F128+2*G128-(C128-D128)/PARÂMETROS!$C$11))","v":{"v":-2.500000000003433,"d":"-2.50E+00"}},{"$f":"IF(PARÂMETROS!$J$6<PARÂMETROS!$F$6,(F128+2*G128-(C128-D128)/PARÂMETROS!$C$11)/(L128+2*M128+(C128-D128)/PARÂMETROS!$C$14),(L128+2*M128+(C128-D128)/PARÂMETROS!$C$14)/(F128+2*G128-(C128-D128)/PARÂMETROS!$C$11))","v":{"v":-2.500000000007724,"d":"-2.50E+00"}},{"$f":"IF(PARÂMETROS!$J$6<PARÂMETROS!$F$6,(F128+2*G128-(C128-D128)/PARÂMETROS!$C$11)/(N128+2*O128+3*P128+(C128-D128)/PARÂMETROS!$C$14),(N128+2*O128+3*P128+(C128-D128)/PARÂMETROS!$C$14)/(F128+2*G128-(C128-D128)/PARÂMETROS!$C$11))","v":{"v":-2.500000000012015,"d":"-2.50E+00"}},{"$f":"IF(PARÂMETROS!$J$6<PARÂMETROS!$F$6,(H128+2*I128+3*J128-(C128-D128)/PARÂMETROS!$C$11)/(K128+(C128-D128)/PARÂMETROS!$C$14),(K128+(C128-D128)/PARÂMETROS!$C$14)/(H128+2*I128+3*J128-(C128-D128)/PARÂMETROS!$C$11))","v":{"v":-2.500000000005149,"d":"-2.50E+00"}},{"$f":"IF(PARÂMETROS!$J$6<PARÂMETROS!$F$6,(H128+2*I128+3*J128-(C128-D128)/PARÂMETROS!$C$11)/(L128+2*M128+(C128-D128)/PARÂMETROS!$C$14),(L128+2*M128+(C128-D128)/PARÂMETROS!$C$14)/(H128+2*I128+3*J128-(C128-D128)/PARÂMETROS!$C$11))","v":{"v":-2.5000000000094404,"d":"-2.50E+00"}},{"$f":"IF(PARÂMETROS!$J$6<PARÂMETROS!$F$6,(H128+2*I128+3*J128-(C128-D128)/PARÂMETROS!$C$11)/(N128+2*O128+3*P128+(C128-D128)/PARÂMETROS!$C$14),(N128+2*O128+3*P128+(C128-D128)/PARÂMETROS!$C$14)/(H128+2*I128+3*J128-(C128-D128)/PARÂMETROS!$C$11))","v":{"v":-2.5000000000137312,"d":"-2.50E+00"}},{"$f":"Q128*PARÂMETROS!$C$11*PARÂMETROS!$D$11/PARÂMETROS!$C$14","v":{"v":-50.000000000034326,"d":"-50.00"}},{"$f":"R128*PARÂMETROS!$C$11*PARÂMETROS!$D$11/PARÂMETROS!$C$14","v":{"v":-50.000000000120146,"d":"-50.00"}},{"$f":"S128*PARÂMETROS!$C$11*PARÂMETROS!$D$11/PARÂMETROS!$C$14","v":{"v":-50.00000000020597,"d":"-50.00"}},{"$f":"T128*PARÂMETROS!$C$11*PARÂMETROS!$D$11/PARÂMETROS!$C$14","v":{"v":-50.00000000006865,"d":"-50.00"}},{"$f":"U128*PARÂMETROS!$C$11*PARÂMETROS!$D$11/PARÂMETROS!$C$14","v":{"v":-50.000000000154486,"d":"-50.00"}},{"$f":"V128*PARÂMETROS!$C$11*PARÂMETROS!$D$11/PARÂMETROS!$C$14","v":{"v":-50.0000000002403,"d":"-50.00"}},{"$f":"W128*PARÂMETROS!$C$11*PARÂMETROS!$D$11/PARÂMETROS!$C$14","v":{"v":-50.000000000102986,"d":"-50.00"}},{"$f":"X128*PARÂMETROS!$C$11*PARÂMETROS!$D$11/PARÂMETROS!$C$14","v":{"v":-50.00000000018881,"d":"-50.00"}},{"$f":"Y128*PARÂMETROS!$C$11*PARÂMETROS!$D$11/PARÂMETROS!$C$14","v":{"v":-50.000000000274625,"d":"-50.00"}},{"$f":"AND(B128+PARÂMETROS!$C$8>=PARÂMETROS!$C$5,B128+PARÂMETROS!$C$8<=PARÂMETROS!$D$5)","v":false},0,{"$f":"VLOOKUP('BANCO DE DADOS COMPLETA'!$N$8,'BANCO DE DADOS COMPLETA'!$A$7:$L$249,3)*-1","v":3},7,{"$f":"VLOOKUP('BANCO DE DADOS COMPLETA'!$N$10,'BANCO DE DADOS COMPLETA'!$A$7:$L$249,3)*-1","v":1},11,77,{"v":-50.000000000102986,"d":"-50.00"},"LIMITE","LIMITE","LIMITE","LIMITE","NADA","NADA",0]
[null,{"$f":"B128+PARÂMETROS!$C$8","v":{"v":25.664343848340636,"d":"25.66"}},{"v":2.1659885258702128E-26,"d":"2.17E-26"},{"$f":"PARÂMETROS!$Q$4/C129","v":{"v":461682962793.27594,"d":"4.62E+11"}},{"$f":"PARÂMETROS!$F$6/($C129+PARÂMETROS!$F$6)","v":{"v":1,"d":"1.00E+00"}},{"$f":"$C129*PARÂMETROS!$F$6/($C129^2+$C129*PARÂMETROS!$F$6+PARÂMETROS!$F$6*PARÂMETROS!$G$6)","v":{"v":3.424965109614427e-19,"d":"3.42E-19"}},{"$f":"PARÂMETROS!$F$6*PARÂMETROS!$G$6/($C129^2+$C129*PARÂMETROS!$F$6+PARÂMETROS!$F$6*PARÂMETROS!$G$6)","v":{"v":1,"d":"1.00E+00"}},{"$f":"(PARÂMETROS!$F$6*$C129^2)/($C129^3+PARÂMETROS!$F$6*$C129^2+PARÂMETROS!$F$6*PARÂMETROS!$G$6*$C129+PARÂMETROS!$F$6*PARÂMETROS!$G$6*PARÂMETROS!$H$6)","v":{"v":1.6607807538234263E-32,"d":"1.66E-32"}},{"$f":"(PARÂMETROS!$F$6*PARÂMETROS!$G$6*$C129)/($C129^3+PARÂMETROS!$F$6*$C129^2+PARÂMETROS!$F$6*PARÂMETROS!$G$6*$C129+PARÂMETROS!$F$6*PARÂMETROS!$G$6*PARÂMETROS!$H$6)","v":{"v":4.8490442987619004E-14,"d":"4.85E-14"}},{"$f":"(PARÂMETROS!$F$6*PARÂMETROS!$G$6*PARÂMETROS!$H$6)/($C129^3+PARÂMETROS!$F$6*$C129^2+PARÂMETROS!$F$6*PARÂMETROS!$G$6*$C129+PARÂMETROS!$F$6*PARÂMETROS!$G$6*PARÂMETROS!$H$6)","v":{"v":0.9999999999999516,"d":"1.00E+00"}},{"$f":"$C129/($C129+PARÂMETROS!$J$6)","v":{"v":2.1659885258697435E-13,"d":"2.17E-13"}},{"$f":"$C129*PARÂMETROS!$J$6/($C129^2+$C129*PARÂMETROS!$J$6+PARÂMETROS!$J$6*PARÂMETROS!$K$6)","v":{"v":0.9999999999997834,"d":"1.00E+00"}},{"$f":"$C129^2/($C129^2+$C129*PARÂMETROS!$J$6+PARÂMETROS!$J$6*PARÂMETROS!$K$6)","v":{"v":2.1659885258697437E-13,"d":"2.17E-13"}},{"$f":"(PARÂMETROS!$K$6*PARÂMETROS!$J$6*$C129)/($C129^3+PARÂMETROS!$J$6*$C129^2+PARÂMETROS!$J$6*PARÂMETROS!$K$6*$C129+PARÂMETROS!$J$6*PARÂMETROS!$K$6*PARÂMETROS!$L$6)","v":{"v":0,"d":"0.00E+00"}},{"$f":"(PARÂMETROS!$J$6*$C129^2)/($C129^3+PARÂMETROS!$J$6*$C129^2+PARÂMETROS!$J$6*PARÂMETROS!$K$6*$C129+PARÂMETROS!$J$6*PARÂMETROS!$K$6*PARÂMETROS!$L$6)","v":{"v":0.9999999999997834,"d":"1.00E+00"}},{"$f":"($C129^3)/($C129^3+PARÂMETROS!$J$6*$C129^2+PARÂMETROS!$J$6*PARÂMETROS!$K$6*$C129+PARÂMETROS!$J$6*PARÂMETROS!$K$6*PARÂMETROS!$L$6)","v":{"v":2.1659885258697437E-13,"d":"2.17E-13"}},{"$f":"IF(PARÂMETROS!$J$6<PARÂMETROS!$F$6,(E129-(C129-D129)/PARÂMETROS!$C$11)/(K129+(C129-D129)/PARÂMETROS!$C$14),(K129+(C129-D129)/PARÂMETROS!$C$14)/(E129-(C129-D129)/PARÂMETROS!$C$11))","v":{"v":-2.5000000000010827,"d":"-2.50E+00"}},{"$f":"IF(PARÂMETROS!$J$6<PARÂMETROS!$F$6,(E129-(C129-D129)/PARÂMETROS!$C$11)/(L129+2*M129+(C129-D129)/PARÂMETROS!$C$14),(L129+2*M129+(C129-D129)/PARÂMETROS!$C$14)/(E129-(C129-D129)/PARÂMETROS!$C$11))","v":{"v":-2.5000000000037903,"d":"-2.50E+00"}},{"$f":"IF(PARÂMETROS!$J$6<PARÂMETROS!$F$6, (E129-(C129-D129)/PARÂMETROS!$C$11)/(N129+2*O129+3*P129+(C129-D129)/PARÂMETROS!$C$14),(N129+2*O129+3*P129+(C129-D129)/PARÂMETROS!$C$14)/ (E129-(C129-D129)/PARÂMETROS!$C$11))","v":{"v":-2.5000000000064975,"d":"-2.50E+00"}},{"$f":"IF(PARÂMETROS!$J$6<PARÂMETROS!$F$6,(F129+2*G129-(C129-D129)/PARÂMETROS!$C$11)/(K129+(C129-D129)/PARÂMETROS!$C$14),(K129+(C129-D129)/PARÂMETROS!$C$14)/(F129+2*G129-(C129-D129)/PARÂMETROS!$C$11))","v":{"v":-2.500000000002166,"d":"-2.50E+00"}},{"$f":"IF(PARÂMETROS!$J$6<PARÂMETROS!$F$6,(F129+2*G129-(C129-D129)/PARÂMETROS!$C$11)/(L129+2*M129+(C129-D129)/PARÂMETROS!$C$14),(L129+2*M129+(C129-D129)/PARÂMETROS!$C$14)/(F129+2*G129-(C129-D129)/PARÂMETROS!$C$11))","v":{"v":-2.500000000004873,"d":"-2.50E+00"}},{"$f":"IF(PARÂMETROS!$J$6<PARÂMETROS!$F$6,(F129+2*G129-(C129-D129)/PARÂMETROS!$C$11)/(N129+2*O129+3*P129+(C129-D129)/PARÂMETROS!$C$14),(N129+2*O129+3*P129+(C129-D129)/PARÂMETROS!$C$14)/(F129+2*G129-(C129-D129)/PARÂMETROS!$C$11))","v":{"v":-2.5000000000075806,"d":"-2.50E+00"}},{"$f":"IF(PARÂMETROS!$J$6<PARÂMETROS!$F$6,(H129+2*I129+3*J129-(C129-D129)/PARÂMETROS!$C$11)/(K129+(C129-D129)/PARÂMETROS!$C$14),(K129+(C129-D129)/PARÂMETROS!$C$14)/(H129+2*I129+3*J129-(C129-D129)/PARÂMETROS!$C$11))","v":{"v":-2.5000000000032485,"d":"-2.50E+00"}},{"$f":"IF(PARÂMETROS!$J$6<PARÂMETROS!$F$6,(H129+2*I129+3*J129-(C129-D129)/PARÂMETROS!$C$11)/(L129+2*M129+(C129-D129)/PARÂMETROS!$C$14),(L129+2*M129+(C129-D129)/PARÂMETROS!$C$14)/(H129+2*I129+3*J129-(C129-D129)/PARÂMETROS!$C$11))","v":{"v":-2.500000000005956,"d":"-2.50E+00"}},{"$f":"IF(PARÂMETROS!$J$6<PARÂMETROS!$F$6,(H129+2*I129+3*J129-(C129-D129)/PARÂMETROS!$C$11)/(N129+2*O129+3*P129+(C129-D129)/PARÂMETROS!$C$14),(N129+2*O129+3*P129+(C129-D129)/PARÂMETROS!$C$14)/(H129+2*I129+3*J129-(C129-D129)/PARÂMETROS!$C$11))","v":{"v":-2.5000000000086637,"d":"-2.50E+00"}},{"$f":"Q129*PARÂMETROS!$C$11*PARÂMETROS!$D$11/PARÂMETROS!$C$14","v":{"v":-50.00000000002166,"d":"-50.00"}},{"$f":"R129*PARÂMETROS!$C$11*PARÂMETROS!$D$11/PARÂMETROS!$C$14","v":{"v":-50.00000000007581,"d":"-50.00"}},{"$f":"S129*PARÂMETROS!$C$11*PARÂMETROS!$D$11/PARÂMETROS!$C$14","v":{"v":-50.00000000012995,"d":"-50.00"}},{"$f":"T129*PARÂMETROS!$C$11*PARÂMETROS!$D$11/PARÂMETROS!$C$14","v":{"v":-50.00000000004332,"d":"-50.00"}},{"$f":"U129*PARÂMETROS!$C$11*PARÂMETROS!$D$11/PARÂMETROS!$C$14","v":{"v":-50.000000000097465,"d":"-50.00"}},{"$f":"V129*PARÂMETROS!$C$11*PARÂMETROS!$D$11/PARÂMETROS!$C$14","v":{"v":-50.000000000151616,"d":"-50.00"}},{"$f":"W129*PARÂMETROS!$C$11*PARÂMETROS!$D$11/PARÂMETROS!$C$14","v":{"v":-50.00000000006497,"d":"-50.00"}},{"$f":"X129*PARÂMETROS!$C$11*PARÂMETROS!$D$11/PARÂMETROS!$C$14","v":{"v":-50.00000000011913,"d":"-50.00"}},{"$f":"Y129*PARÂMETROS!$C$11*PARÂMETROS!$D$11/PARÂMETROS!$C$14","v":{"v":-50.00000000017327,"d":"-50.00"}},{"$f":"AND(B129+PARÂMETROS!$C$8>=PARÂMETROS!$C$5,B129+PARÂMETROS!$C$8<=PARÂMETROS!$D$5)","v":false},0,{"$f":"VLOOKUP('BANCO DE DADOS COMPLETA'!$N$8,'BANCO DE DADOS COMPLETA'!$A$7:$L$249,3)*-1","v":3},7,{"$f":"VLOOKUP('BANCO DE DADOS COMPLETA'!$N$10,'BANCO DE DADOS COMPLETA'!$A$7:$L$249,3)*-1","v":1},11,77,{"v":-50.00000000006497,"d":"-50.00"},"LIMITE","LIMITE","LIMITE","LIMITE","NADA","NADA",0]
[null,{"$f":"B129+PARÂMETROS!$C$8","v":{"v":25.864343848340635,"d":"25.86"}},{"v":1.3666463684576402E-26,"d":"1.37E-26"},{"$f":"PARÂMETROS!$Q$4/C130","v":{"v":731718184806.3392,"d":"7.32E+11"}},{"$f":"PARÂMETROS!$F$6/($C130+PARÂMETROS!$F$6)","v":{"v":1,"d":"1.00E+00"}},{"$f":"$C130*PARÂMETROS!$F$6/($C130^2+$C130*PARÂMETROS!$F$6+PARÂMETROS!$F$6*PARÂMETROS!$G$6)","v":{"v":2.1610068904996365E-19,"d":"2.16E-19"}},{"$f":"PARÂMETROS!$F$6*PARÂMETROS!$G$6/($C130^2+$C130*PARÂMETROS!$F$6+PARÂMETROS!$F$6*PARÂMETROS!$G$6)","v":{"v":1,"d":"1.00E+00"}},{"$f":"(PARÂMETROS!$F$6*$C130^2)/($C130^3+PARÂMETROS!$F$6*$C130^2+PARÂMETROS!$F$6*PARÂMETROS!$G$6*$C130+PARÂMETROS!$F$6*PARÂMETROS!$G$6*PARÂMETROS!$H$6)","v":{"v":6.611687268143627e-33,"d":"6.61E-33"}},{"$f":"(PARÂMETROS!$F$6*PARÂMETROS!$G$6*$C130)/($C130^3+PARÂMETROS!$F$6*$C130^2+PARÂMETROS!$F$6*PARÂMETROS!$G$6*$C130+PARÂMETROS!$F$6*PARÂMETROS!$G$6*PARÂMETROS!$H$6)","v":{"v":3.05954011401369e-14,"d":"3.06E-14"}},{"$f":"(PARÂMETROS!$F$6*PARÂMETROS!$G$6*PARÂMETROS!$H$6)/($C130^3+PARÂMETROS!$F$6*$C130^2+PARÂMETROS!$F$6*PARÂMETROS!$G$6*$C130+PARÂMETROS!$F$6*PARÂMETROS!$G$6*PARÂMETROS!$H$6)","v":{"v":0.9999999999999695,"d":"1.00E+00"}},{"$f":"$C130/($C130+PARÂMETROS!$J$6)","v":{"v":1.3666463684574534E-13,"d":"1.37E-13"}},{"$f":"$C130*PARÂMETROS!$J$6/($C130^2+$C130*PARÂMETROS!$J$6+PARÂMETROS!$J$6*PARÂMETROS!$K$6)","v":{"v":0.9999999999998633,"d":"1.00E+00"}},{"$f":"$C130^2/($C130^2+$C130*PARÂMETROS!$J$6+PARÂMETROS!$J$6*PARÂMETROS!$K$6)","v":{"v":1.3666463684574534E-13,"d":"1.37E-13"}},{"$f":"(PARÂMETROS!$K$6*PARÂMETROS!$J$6*$C130)/($C130^3+PARÂMETROS!$J$6*$C130^2+PARÂMETROS!$J$6*PARÂMETROS!$K$6*$C130+PARÂMETROS!$J$6*PARÂMETROS!$K$6*PARÂMETROS!$L$6)","v":{"v":0,"d":"0.00E+00"}},{"$f":"(PARÂMETROS!$J$6*$C130^2)/($C130^3+PARÂMETROS!$J$6*$C130^2+PARÂMETROS!$J$6*PARÂMETROS!$K$6*$C130+PARÂMETROS!$J$6*PARÂMETROS!$K$6*PARÂMETROS!$L$6)","v":{"v":0.9999999999998633,"d":"1.00E+00"}},{"$f":"($C130^3)/($C130^3+PARÂMETROS!$J$6*$C130^2+PARÂMETROS!$J$6*PARÂMETROS!$K$6*$C130+PARÂMETROS!$J$6*PARÂMETROS!$K$6*PARÂMETROS!$L$6)","v":{"v":1.3666463684574534E-13,"d":"1.37E-13"}},{"$f":"IF(PARÂMETROS!$J$6<PARÂMETROS!$F$6,(E130-(C130-D130)/PARÂMETROS!$C$11)/(K130+(C130-D130)/PARÂMETROS!$C$14),(K130+(C130-D130)/PARÂMETROS!$C$14)/(E130-(C130-D130)/PARÂMETROS!$C$11))","v":{"v":-2.500000000000683,"d":"-2.50E+00"}},{"$f":"IF(PARÂMETROS!$J$6<PARÂMETROS!$F$6,(E130-(C130-D130)/PARÂMETROS!$C$11)/(L130+2*M130+(C130-D130)/PARÂMETROS!$C$14),(L130+2*M130+(C130-D130)/PARÂMETROS!$C$14)/(E130-(C130-D130)/PARÂMETROS!$C$11))","v":{"v":-2.5000000000023914,"d":"-2.50E+00"}},{"$f":"IF(PARÂMETROS!$J$6<PARÂMETROS!$F$6, (E130-(C130-D130)/PARÂMETROS!$C$11)/(N130+2*O130+3*P130+(C130-D130)/PARÂMETROS!$C$14),(N130+2*O130+3*P130+(C130-D130)/PARÂMETROS!$C$14)/ (E130-(C130-D130)/PARÂMETROS!$C$11))","v":{"v":-2.5000000000041,"d":"-2.50E+00"}},{"$f":"IF(PARÂMETROS!$J$6<PARÂMETROS!$F$6,(F130+2*G130-(C130-D130)/PARÂMETROS!$C$11)/(K130+(C130-D130)/PARÂMETROS!$C$14),(K130+(C130-D130)/PARÂMETROS!$C$14)/(F130+2*G130-(C130-D130)/PARÂMETROS!$C$11))","v":{"v":-2.5000000000013665,"d":"-2.50E+00"}},{"$f":"IF(PARÂMETROS!$J$6<PARÂMETROS!$F$6,(F130+2*G130-(C130-D130)/PARÂMETROS!$C$11)/(L130+2*M130+(C130-D130)/PARÂMETROS!$C$14),(L130+2*M130+(C130-D130)/PARÂMETROS!$C$14)/(F130+2*G130-(C130-D130)/PARÂMETROS!$C$11))","v":{"v":-2.500000000003075,"d":"-2.50E+00"}},{"$f":"IF(PARÂMETROS!$J$6<PARÂMETROS!$F$6,(F130+2*G130-(C130-D130)/PARÂMETROS!$C$11)/(N130+2*O130+3*P130+(C130-D130)/PARÂMETROS!$C$14),(N130+2*O130+3*P130+(C130-D130)/PARÂMETROS!$C$14)/(F130+2*G130-(C130-D130)/PARÂMETROS!$C$11))","v":{"v":-2.500000000004783,"d":"-2.50E+00"}},{"$f":"IF(PARÂMETROS!$J$6<PARÂMETROS!$F$6,(H130+2*I130+3*J130-(C130-D130)/PARÂMETROS!$C$11)/(K130+(C130-D130)/PARÂMETROS!$C$14),(K130+(C130-D130)/PARÂMETROS!$C$14)/(H130+2*I130+3*J130-(C130-D130)/PARÂMETROS!$C$11))","v":{"v":-2.50000000000205,"d":"-2.50E+00"}},{"$f":"IF(PARÂMETROS!$J$6<PARÂMETROS!$F$6,(H130+2*I130+3*J130-(C130-D130)/PARÂMETROS!$C$11)/(L130+2*M130+(C130-D130)/PARÂMETROS!$C$14),(L130+2*M130+(C130-D130)/PARÂMETROS!$C$14)/(H130+2*I130+3*J130-(C130-D130)/PARÂMETROS!$C$11))","v":{"v":-2.500000000003758,"d":"-2.50E+00"}},{"$f":"IF(PARÂMETROS!$J$6<PARÂMETROS!$F$6,(H130+2*I130+3*J130-(C130-D130)/PARÂMETROS!$C$11)/(N130+2*O130+3*P130+(C130-D130)/PARÂMETROS!$C$14),(N130+2*O130+3*P130+(C130-D130)/PARÂMETROS!$C$14)/(H130+2*I130+3*J130-(C130-D130)/PARÂMETROS!$C$11))","v":{"v":-2.5000000000054663,"d":"-2.50E+00"}},{"$f":"Q130*PARÂMETROS!$C$11*PARÂMETROS!$D$11/PARÂMETROS!$C$14","v":{"v":-50.000000000013664,"d":"-50.00"}},{"$f":"R130*PARÂMETROS!$C$11*PARÂMETROS!$D$11/PARÂMETROS!$C$14","v":{"v":-50.00000000004783,"d":"-50.00"}},{"$f":"S130*PARÂMETROS!$C$11*PARÂMETROS!$D$11/PARÂMETROS!$C$14","v":{"v":-50.000000000082004,"d":"-50.00"}},{"$f":"T130*PARÂMETROS!$C$11*PARÂMETROS!$D$11/PARÂMETROS!$C$14","v":{"v":-50.000000000027335,"d":"-50.00"}},{"$f":"U130*PARÂMETROS!$C$11*PARÂMETROS!$D$11/PARÂMETROS!$C$14","v":{"v":-50.0000000000615,"d":"-50.00"}},{"$f":"V130*PARÂMETROS!$C$11*PARÂMETROS!$D$11/PARÂMETROS!$C$14","v":{"v":-50.00000000009565,"d":"-50.00"}},{"$f":"W130*PARÂMETROS!$C$11*PARÂMETROS!$D$11/PARÂMETROS!$C$14","v":{"v":-50.000000000041,"d":"-50.00"}},{"$f":"X130*PARÂMETROS!$C$11*PARÂMETROS!$D$11/PARÂMETROS!$C$14","v":{"v":-50.00000000007516,"d":"-50.00"}},{"$f":"Y130*PARÂMETROS!$C$11*PARÂMETROS!$D$11/PARÂMETROS!$C$14","v":{"v":-50.000000000109324,"d":"-50.00"}},{"$f":"AND(B130+PARÂMETROS!$C$8>=PARÂMETROS!$C$5,B130+PARÂMETROS!$C$8<=PARÂMETROS!$D$5)","v":false},0,{"$f":"VLOOKUP('BANCO DE DADOS COMPLETA'!$N$8,'BANCO DE DADOS COMPLETA'!$A$7:$L$249,3)*-1","v":3},7,{"$f":"VLOOKUP('BANCO DE DADOS COMPLETA'!$N$10,'BANCO DE DADOS COMPLETA'!$A$7:$L$249,3)*-1","v":1},11,77,{"v":-50.000000000041,"d":"-50.00"},"LIMITE","LIMITE","LIMITE","LIMITE","NADA","NADA",0]
[null,{"$f":"B130+PARÂMETROS!$C$8","v":{"v":26.064343848340634,"d":"26.06"}},{"v":8.622955634855342e-27,"d":"8.62E-27"},{"$f":"PARÂMETROS!$Q$4/C131","v":{"v":1159695169899.5676,"d":"1.16E+12"}},{"$f":"PARÂMETROS!$F$6/($C131+PARÂMETROS!$F$6)","v":{"v":1,"d":"1.00E+00"}},{"$f":"$C131*PARÂMETROS!$F$6/($C131^2+$C131*PARÂMETROS!$F$6+PARÂMETROS!$F$6*PARÂMETROS!$G$6)","v":{"v":1.3635031690330534E-19,"d":"1.36E-19"}},{"$f":"PARÂMETROS!$F$6*PARÂMETROS!$G$6/($C131^2+$C131*PARÂMETROS!$F$6+PARÂMETROS!$F$6*PARÂMETROS!$G$6)","v":{"v":1,"d":"1.00E+00"}},{"$f":"(PARÂMETROS!$F$6*$C131^2)/($C131^3+PARÂMETROS!$F$6*$C131^2+PARÂMETROS!$F$6*PARÂMETROS!$G$6*$C131+PARÂMETROS!$F$6*PARÂMETROS!$G$6*PARÂMETROS!$H$6)","v":{"v":2.6321601109052816E-33,"d":"2.63E-33"}},{"$f":"(PARÂMETROS!$F$6*PARÂMETROS!$G$6*$C131)/($C131^3+PARÂMETROS!$F$6*$C131^2+PARÂMETROS!$F$6*PARÂMETROS!$G$6*$C131+PARÂMETROS!$F$6*PARÂMETROS!$G$6*PARÂMETROS!$H$6)","v":{"v":1.930439305668731E-14,"d":"1.93E-14"}},{"$f":"(PARÂMETROS!$F$6*PARÂMETROS!$G$6*PARÂMETROS!$H$6)/($C131^3+PARÂMETROS!$F$6*$C131^2+PARÂMETROS!$F$6*PARÂMETROS!$G$6*$C131+PARÂMETROS!$F$6*PARÂMETROS!$G$6*PARÂMETROS!$H$6)","v":{"v":0.9999999999999807,"d":"1.00E+00"}},{"$f":"$C131/($C131+PARÂMETROS!$J$6)","v":{"v":8.622955634854598e-14,"d":"8.62E-14"}},{"$f":"$C131*PARÂMETROS!$J$6/($C131^2+$C131*PARÂMETROS!$J$6+PARÂMETROS!$J$6*PARÂMETROS!$K$6)","v":{"v":0.9999999999999137,"d":"1.00E+00"}},{"$f":"$C131^2/($C131^2+$C131*PARÂMETROS!$J$6+PARÂMETROS!$J$6*PARÂMETROS!$K$6)","v":{"v":8.622955634854597e-14,"d":"8.62E-14"}},{"$f":"(PARÂMETROS!$K$6*PARÂMETROS!$J$6*$C131)/($C131^3+PARÂMETROS!$J$6*$C131^2+PARÂMETROS!$J$6*PARÂMETROS!$K$6*$C131+PARÂMETROS!$J$6*PARÂMETROS!$K$6*PARÂMETROS!$L$6)","v":{"v":0,"d":"0.00E+00"}},{"$f":"(PARÂMETROS!$J$6*$C131^2)/($C131^3+PARÂMETROS!$J$6*$C131^2+PARÂMETROS!$J$6*PARÂMETROS!$K$6*$C131+PARÂMETROS!$J$6*PARÂMETROS!$K$6*PARÂMETROS!$L$6)","v":{"v":0.9999999999999138,"d":"1.00E+00"}},{"$f":"($C131^3)/($C131^3+PARÂMETROS!$J$6*$C131^2+PARÂMETROS!$J$6*PARÂMETROS!$K$6*$C131+PARÂMETROS!$J$6*PARÂMETROS!$K$6*PARÂMETROS!$L$6)","v":{"v":8.622955634854598e-14,"d":"8.62E-14"}},{"$f":"IF(PARÂMETROS!$J$6<PARÂMETROS!$F$6,(E131-(C131-D131)/PARÂMETROS!$C$11)/(K131+(C131-D131)/PARÂMETROS!$C$14),(K131+(C131-D131)/PARÂMETROS!$C$14)/(E131-(C131-D131)/PARÂMETROS!$C$11))","v":{"v":-2.500000000000431,"d":"-2.50E+00"}},{"$f":"IF(PARÂMETROS!$J$6<PARÂMETROS!$F$6,(E131-(C131-D131)/PARÂMETROS!$C$11)/(L131+2*M131+(C131-D131)/PARÂMETROS!$C$14),(L131+2*M131+(C131-D131)/PARÂMETROS!$C$14)/(E131-(C131-D131)/PARÂMETROS!$C$11))","v":{"v":-2.500000000001509,"d":"-2.50E+00"}},{"$f":"IF(PARÂMETROS!$J$6<PARÂMETROS!$F$6, (E131-(C131-D131)/PARÂMETROS!$C$11)/(N131+2*O131+3*P131+(C131-D131)/PARÂMETROS!$C$14),(N131+2*O131+3*P131+(C131-D131)/PARÂMETROS!$C$14)/ (E131-(C131-D131)/PARÂMETROS!$C$11))","v":{"v":-2.500000000002587,"d":"-2.50E+00"}},{"$f":"IF(PARÂMETROS!$J$6<PARÂMETROS!$F$6,(F131+2*G131-(C131-D131)/PARÂMETROS!$C$11)/(K131+(C131-D131)/PARÂMETROS!$C$14),(K131+(C131-D131)/PARÂMETROS!$C$14)/(F131+2*G131-(C131-D131)/PARÂMETROS!$C$11))","v":{"v":-2.500000000000862,"d":"-2.50E+00"}},{"$f":"IF(PARÂMETROS!$J$6<PARÂMETROS!$F$6,(F131+2*G131-(C131-D131)/PARÂMETROS!$C$11)/(L131+2*M131+(C131-D131)/PARÂMETROS!$C$14),(L131+2*M131+(C131-D131)/PARÂMETROS!$C$14)/(F131+2*G131-(C131-D131)/PARÂMETROS!$C$11))","v":{"v":-2.5000000000019402,"d":"-2.50E+00"}},{"$f":"IF(PARÂMETROS!$J$6<PARÂMETROS!$F$6,(F131+2*G131-(C131-D131)/PARÂMETROS!$C$11)/(N131+2*O131+3*P131+(C131-D131)/PARÂMETROS!$C$14),(N131+2*O131+3*P131+(C131-D131)/PARÂMETROS!$C$14)/(F131+2*G131-(C131-D131)/PARÂMETROS!$C$11))","v":{"v":-2.500000000003018,"d":"-2.50E+00"}},{"$f":"IF(PARÂMETROS!$J$6<PARÂMETROS!$F$6,(H131+2*I131+3*J131-(C131-D131)/PARÂMETROS!$C$11)/(K131+(C131-D131)/PARÂMETROS!$C$14),(K131+(C131-D131)/PARÂMETROS!$C$14)/(H131+2*I131+3*J131-(C131-D131)/PARÂMETROS!$C$11))","v":{"v":-2.500000000001293,"d":"-2.50E+00"}},{"$f":"IF(PARÂMETROS!$J$6<PARÂMETROS!$F$6,(H131+2*I131+3*J131-(C131-D131)/PARÂMETROS!$C$11)/(L131+2*M131+(C131-D131)/PARÂMETROS!$C$14),(L131+2*M131+(C131-D131)/PARÂMETROS!$C$14)/(H131+2*I131+3*J131-(C131-D131)/PARÂMETROS!$C$11))","v":{"v":-2.500000000002371,"d":"-2.50E+00"}},{"$f":"IF(PARÂMETROS!$J$6<PARÂMETROS!$F$6,(H131+2*I131+3*J131-(C131-D131)/PARÂMETROS!$C$11)/(N131+2*O131+3*P131+(C131-D131)/PARÂMETROS!$C$14),(N131+2*O131+3*P131+(C131-D131)/PARÂMETROS!$C$14)/(H131+2*I131+3*J131-(C131-D131)/PARÂMETROS!$C$11))","v":{"v":-2.5000000000034492,"d":"-2.50E+00"}},{"$f":"Q131*PARÂMETROS!$C$11*PARÂMETROS!$D$11/PARÂMETROS!$C$14","v":{"v":-50.000000000008626,"d":"-50.00"}},{"$f":"R131*PARÂMETROS!$C$11*PARÂMETROS!$D$11/PARÂMETROS!$C$14","v":{"v":-50.000000000030184,"d":"-50.00"}},{"$f":"S131*PARÂMETROS!$C$11*PARÂMETROS!$D$11/PARÂMETROS!$C$14","v":{"v":-50.000000000051735,"d":"-50.00"}},{"$f":"T131*PARÂMETROS!$C$11*PARÂMETROS!$D$11/PARÂMETROS!$C$14","v":{"v":-50.000000000017245,"d":"-50.00"}},{"$f":"U131*PARÂMETROS!$C$11*PARÂMETROS!$D$11/PARÂMETROS!$C$14","v":{"v":-50.0000000000388,"d":"-50.00"}},{"$f":"V131*PARÂMETROS!$C$11*PARÂMETROS!$D$11/PARÂMETROS!$C$14","v":{"v":-50.00000000006036,"d":"-50.00"}},{"$f":"W131*PARÂMETROS!$C$11*PARÂMETROS!$D$11/PARÂMETROS!$C$14","v":{"v":-50.00000000002587,"d":"-50.00"}},{"$f":"X131*PARÂMETROS!$C$11*PARÂMETROS!$D$11/PARÂMETROS!$C$14","v":{"v":-50.000000000047415,"d":"-50.00"}},{"$f":"Y131*PARÂMETROS!$C$11*PARÂMETROS!$D$11/PARÂMETROS!$C$14","v":{"v":-50.00000000006899,"d":"-50.00"}},{"$f":"AND(B131+PARÂMETROS!$C$8>=PARÂMETROS!$C$5,B131+PARÂMETROS!$C$8<=PARÂMETROS!$D$5)","v":false},0,{"$f":"VLOOKUP('BANCO DE DADOS COMPLETA'!$N$8,'BANCO DE DADOS COMPLETA'!$A$7:$L$249,3)*-1","v":3},7,{"$f":"VLOOKUP('BANCO DE DADOS COMPLETA'!$N$10,'BANCO DE DADOS COMPLETA'!$A$7:$L$249,3)*-1","v":1},11,77,{"v":-50.00000000002587,"d":"-50.00"},"LIMITE","LIMITE","LIMITE","LIMITE","NADA","NADA",0]
[null,{"$f":"B131+PARÂMETROS!$C$8","v":{"v":26.264343848340634,"d":"26.26"}},{"v":5.440717188938856e-27,"d":"5.44E-27"},{"$f":"PARÂMETROS!$Q$4/C132","v":{"v":1837992980103.8557,"d":"1.84E+12"}},{"$f":"PARÂMETROS!$F$6/($C132+PARÂMETROS!$F$6)","v":{"v":1,"d":"1.00E+00"}},{"$f":"$C132*PARÂMETROS!$F$6/($C132^2+$C132*PARÂMETROS!$F$6+PARÂMETROS!$F$6*PARÂMETROS!$G$6)","v":{"v":8.60312338723425e-20,"d":"8.60E-20"}},{"$f":"PARÂMETROS!$F$6*PARÂMETROS!$G$6/($C132^2+$C132*PARÂMETROS!$F$6+PARÂMETROS!$F$6*PARÂMETROS!$G$6)","v":{"v":1,"d":"1.00E+00"}},{"$f":"(PARÂMETROS!$F$6*$C132^2)/($C132^3+PARÂMETROS!$F$6*$C132^2+PARÂMETROS!$F$6*PARÂMETROS!$G$6*$C132+PARÂMETROS!$F$6*PARÂMETROS!$G$6*PARÂMETROS!$H$6)","v":{"v":1.0478818141962925E-33,"d":"1.05E-33"}},{"$f":"(PARÂMETROS!$F$6*PARÂMETROS!$G$6*$C132)/($C132^3+PARÂMETROS!$F$6*$C132^2+PARÂMETROS!$F$6*PARÂMETROS!$G$6*$C132+PARÂMETROS!$F$6*PARÂMETROS!$G$6*PARÂMETROS!$H$6)","v":{"v":1.2180248579849417E-14,"d":"1.22E-14"}},{"$f":"(PARÂMETROS!$F$6*PARÂMETROS!$G$6*PARÂMETROS!$H$6)/($C132^3+PARÂMETROS!$F$6*$C132^2+PARÂMETROS!$F$6*PARÂMETROS!$G$6*$C132+PARÂMETROS!$F$6*PARÂMETROS!$G$6*PARÂMETROS!$H$6)","v":{"v":0.9999999999999878,"d":"1.00E+00"}},{"$f":"$C132/($C132+PARÂMETROS!$J$6)","v":{"v":5.44071718893856e-14,"d":"5.44E-14"}},{"$f":"$C132*PARÂMETROS!$J$6/($C132^2+$C132*PARÂMETROS!$J$6+PARÂMETROS!$J$6*PARÂMETROS!$K$6)","v":{"v":0.9999999999999456,"d":"1.00E+00"}},{"$f":"$C132^2/($C132^2+$C132*PARÂMETROS!$J$6+PARÂMETROS!$J$6*PARÂMETROS!$K$6)","v":{"v":5.44071718893856e-14,"d":"5.44E-14"}},{"$f":"(PARÂMETROS!$K$6*PARÂMETROS!$J$6*$C132)/($C132^3+PARÂMETROS!$J$6*$C132^2+PARÂMETROS!$J$6*PARÂMETROS!$K$6*$C132+PARÂMETROS!$J$6*PARÂMETROS!$K$6*PARÂMETROS!$L$6)","v":{"v":0,"d":"0.00E+00"}},{"$f":"(PARÂMETROS!$J$6*$C132^2)/($C132^3+PARÂMETROS!$J$6*$C132^2+PARÂMETROS!$J$6*PARÂMETROS!$K$6*$C132+PARÂMETROS!$J$6*PARÂMETROS!$K$6*PARÂMETROS!$L$6)","v":{"v":0.9999999999999455,"d":"1.00E+00"}},{"$f":"($C132^3)/($C132^3+PARÂMETROS!$J$6*$C132^2+PARÂMETROS!$J$6*PARÂMETROS!$K$6*$C132+PARÂMETROS!$J$6*PARÂMETROS!$K$6*PARÂMETROS!$L$6)","v":{"v":5.4407171889385586E-14,"d":"5.44E-14"}},{"$f":"IF(PARÂMETROS!$J$6<PARÂMETROS!$F$6,(E132-(C132-D132)/PARÂMETROS!$C$11)/(K132+(C132-D132)/PARÂMETROS!$C$14),(K132+(C132-D132)/PARÂMETROS!$C$14)/(E132-(C132-D132)/PARÂMETROS!$C$11))","v":{"v":-2.500000000000272,"d":"-2.50E+00"}},{"$f":"IF(PARÂMETROS!$J$6<PARÂMETROS!$F$6,(E132-(C132-D132)/PARÂMETROS!$C$11)/(L132+2*M132+(C132-D132)/PARÂMETROS!$C$14),(L132+2*M132+(C132-D132)/PARÂMETROS!$C$14)/(E132-(C132-D132)/PARÂMETROS!$C$11))","v":{"v":-2.5000000000009517,"d":"-2.50E+00"}},{"$f":"IF(PARÂMETROS!$J$6<PARÂMETROS!$F$6, (E132-(C132-D132)/PARÂMETROS!$C$11)/(N132+2*O132+3*P132+(C132-D132)/PARÂMETROS!$C$14),(N132+2*O132+3*P132+(C132-D132)/PARÂMETROS!$C$14)/ (E132-(C132-D132)/PARÂMETROS!$C$11))","v":{"v":-2.500000000001632,"d":"-2.50E+00"}},{"$f":"IF(PARÂMETROS!$J$6<PARÂMETROS!$F$6,(F132+2*G132-(C132-D132)/PARÂMETROS!$C$11)/(K132+(C132-D132)/PARÂMETROS!$C$14),(K132+(C132-D132)/PARÂMETROS!$C$14)/(F132+2*G132-(C132-D132)/PARÂMETROS!$C$11))","v":{"v":-2.5000000000005436,"d":"-2.50E+00"}},{"$f":"IF(PARÂMETROS!$J$6<PARÂMETROS!$F$6,(F132+2*G132-(C132-D132)/PARÂMETROS!$C$11)/(L132+2*M132+(C132-D132)/PARÂMETROS!$C$14),(L132+2*M132+(C132-D132)/PARÂMETROS!$C$14)/(F132+2*G132-(C132-D132)/PARÂMETROS!$C$11))","v":{"v":-2.500000000001224,"d":"-2.50E+00"}},{"$f":"IF(PARÂMETROS!$J$6<PARÂMETROS!$F$6,(F132+2*G132-(C132-D132)/PARÂMETROS!$C$11)/(N132+2*O132+3*P132+(C132-D132)/PARÂMETROS!$C$14),(N132+2*O132+3*P132+(C132-D132)/PARÂMETROS!$C$14)/(F132+2*G132-(C132-D132)/PARÂMETROS!$C$11))","v":{"v":-2.500000000001904,"d":"-2.50E+00"}},{"$f":"IF(PARÂMETROS!$J$6<PARÂMETROS!$F$6,(H132+2*I132+3*J132-(C132-D132)/PARÂMETROS!$C$11)/(K132+(C132-D132)/PARÂMETROS!$C$14),(K132+(C132-D132)/PARÂMETROS!$C$14)/(H132+2*I132+3*J132-(C132-D132)/PARÂMETROS!$C$11))","v":{"v":-2.500000000000816,"d":"-2.50E+00"}},{"$f":"IF(PARÂMETROS!$J$6<PARÂMETROS!$F$6,(H132+2*I132+3*J132-(C132-D132)/PARÂMETROS!$C$11)/(L132+2*M132+(C132-D132)/PARÂMETROS!$C$14),(L132+2*M132+(C132-D132)/PARÂMETROS!$C$14)/(H132+2*I132+3*J132-(C132-D132)/PARÂMETROS!$C$11))","v":{"v":-2.5000000000014957,"d":"-2.50E+00"}},{"$f":"IF(PARÂMETROS!$J$6<PARÂMETROS!$F$6,(H132+2*I132+3*J132-(C132-D132)/PARÂMETROS!$C$11)/(N132+2*O132+3*P132+(C132-D132)/PARÂMETROS!$C$14),(N132+2*O132+3*P132+(C132-D132)/PARÂMETROS!$C$14)/(H132+2*I132+3*J132-(C132-D132)/PARÂMETROS!$C$11))","v":{"v":-2.500000000002176,"d":"-2.50E+00"}},{"$f":"Q132*PARÂMETROS!$C$11*PARÂMETROS!$D$11/PARÂMETROS!$C$14","v":{"v":-50.00000000000544,"d":"-50.00"}},{"$f":"R132*PARÂMETROS!$C$11*PARÂMETROS!$D$11/PARÂMETROS!$C$14","v":{"v":-50.00000000001904,"d":"-50.00"}},{"$f":"S132*PARÂMETROS!$C$11*PARÂMETROS!$D$11/PARÂMETROS!$C$14","v":{"v":-50.00000000003264,"d":"-50.00"}},{"$f":"T132*PARÂMETROS!$C$11*PARÂMETROS!$D$11/PARÂMETROS!$C$14","v":{"v":-50.00000000001087,"d":"-50.00"}},{"$f":"U132*PARÂMETROS!$C$11*PARÂMETROS!$D$11/PARÂMETROS!$C$14","v":{"v":-50.00000000002448,"d":"-50.00"}},{"$f":"V132*PARÂMETROS!$C$11*PARÂMETROS!$D$11/PARÂMETROS!$C$14","v":{"v":-50.00000000003808,"d":"-50.00"}},{"$f":"W132*PARÂMETROS!$C$11*PARÂMETROS!$D$11/PARÂMETROS!$C$14","v":{"v":-50.00000000001632,"d":"-50.00"}},{"$f":"X132*PARÂMETROS!$C$11*PARÂMETROS!$D$11/PARÂMETROS!$C$14","v":{"v":-50.00000000002992,"d":"-50.00"}},{"$f":"Y132*PARÂMETROS!$C$11*PARÂMETROS!$D$11/PARÂMETROS!$C$14","v":{"v":-50.00000000004352,"d":"-50.00"}},{"$f":"AND(B132+PARÂMETROS!$C$8>=PARÂMETROS!$C$5,B132+PARÂMETROS!$C$8<=PARÂMETROS!$D$5)","v":false},0,{"$f":"VLOOKUP('BANCO DE DADOS COMPLETA'!$N$8,'BANCO DE DADOS COMPLETA'!$A$7:$L$249,3)*-1","v":3},7,{"$f":"VLOOKUP('BANCO DE DADOS COMPLETA'!$N$10,'BANCO DE DADOS COMPLETA'!$A$7:$L$249,3)*-1","v":1},11,77,{"v":-50.00000000001632,"d":"-50.00"},"LIMITE","LIMITE","LIMITE","LIMITE","NADA","NADA",0]
[null,{"$f":"B132+PARÂMETROS!$C$8","v":{"v":26.464343848340633,"d":"26.46"}},{"v":3.432860469600609e-27,"d":"3.43E-27"},{"$f":"PARÂMETROS!$Q$4/C133","v":{"v":2913022561957.91,"d":"2.91E+12"}},{"$f":"PARÂMETROS!$F$6/($C133+PARÂMETROS!$F$6)","v":{"v":1,"d":"1.00E+00"}},{"$f":"$C133*PARÂMETROS!$F$6/($C133^2+$C133*PARÂMETROS!$F$6+PARÂMETROS!$F$6*PARÂMETROS!$G$6)","v":{"v":5.428203886644777e-20,"d":"5.43E-20"}},{"$f":"PARÂMETROS!$F$6*PARÂMETROS!$G$6/($C133^2+$C133*PARÂMETROS!$F$6+PARÂMETROS!$F$6*PARÂMETROS!$G$6)","v":{"v":1,"d":"1.00E+00"}},{"$f":"(PARÂMETROS!$F$6*$C133^2)/($C133^3+PARÂMETROS!$F$6*$C133^2+PARÂMETROS!$F$6*PARÂMETROS!$G$6*$C133+PARÂMETROS!$F$6*PARÂMETROS!$G$6*PARÂMETROS!$H$6)","v":{"v":4.1716926412415505E-34,"d":"4.17E-34"}},{"$f":"(PARÂMETROS!$F$6*PARÂMETROS!$G$6*$C133)/($C133^3+PARÂMETROS!$F$6*$C133^2+PARÂMETROS!$F$6*PARÂMETROS!$G$6*$C133+PARÂMETROS!$F$6*PARÂMETROS!$G$6*PARÂMETROS!$H$6)","v":{"v":7.685217299050481e-15,"d":"7.69E-15"}},{"$f":"(PARÂMETROS!$F$6*PARÂMETROS!$G$6*PARÂMETROS!$H$6)/($C133^3+PARÂMETROS!$F$6*$C133^2+PARÂMETROS!$F$6*PARÂMETROS!$G$6*$C133+PARÂMETROS!$F$6*PARÂMETROS!$G$6*PARÂMETROS!$H$6)","v":{"v":0.9999999999999922,"d":"1.00E+00"}},{"$f":"$C133/($C133+PARÂMETROS!$J$6)","v":{"v":3.432860469600491e-14,"d":"3.43E-14"}},{"$f":"$C133*PARÂMETROS!$J$6/($C133^2+$C133*PARÂMETROS!$J$6+PARÂMETROS!$J$6*PARÂMETROS!$K$6)","v":{"v":0.9999999999999657,"d":"1.00E+00"}},{"$f":"$C133^2/($C133^2+$C133*PARÂMETROS!$J$6+PARÂMETROS!$J$6*PARÂMETROS!$K$6)","v":{"v":3.432860469600491e-14,"d":"3.43E-14"}},{"$f":"(PARÂMETROS!$K$6*PARÂMETROS!$J$6*$C133)/($C133^3+PARÂMETROS!$J$6*$C133^2+PARÂMETROS!$J$6*PARÂMETROS!$K$6*$C133+PARÂMETROS!$J$6*PARÂMETROS!$K$6*PARÂMETROS!$L$6)","v":{"v":0,"d":"0.00E+00"}},{"$f":"(PARÂMETROS!$J$6*$C133^2)/($C133^3+PARÂMETROS!$J$6*$C133^2+PARÂMETROS!$J$6*PARÂMETROS!$K$6*$C133+PARÂMETROS!$J$6*PARÂMETROS!$K$6*PARÂMETROS!$L$6)","v":{"v":0.9999999999999657,"d":"1.00E+00"}},{"$f":"($C133^3)/($C133^3+PARÂMETROS!$J$6*$C133^2+PARÂMETROS!$J$6*PARÂMETROS!$K$6*$C133+PARÂMETROS!$J$6*PARÂMETROS!$K$6*PARÂMETROS!$L$6)","v":{"v":3.432860469600491e-14,"d":"3.43E-14"}},{"$f":"IF(PARÂMETROS!$J$6<PARÂMETROS!$F$6,(E133-(C133-D133)/PARÂMETROS!$C$11)/(K133+(C133-D133)/PARÂMETROS!$C$14),(K133+(C133-D133)/PARÂMETROS!$C$14)/(E133-(C133-D133)/PARÂMETROS!$C$11))","v":{"v":-2.500000000000172,"d":"-2.50E+00"}},{"$f":"IF(PARÂMETROS!$J$6<PARÂMETROS!$F$6,(E133-(C133-D133)/PARÂMETROS!$C$11)/(L133+2*M133+(C133-D133)/PARÂMETROS!$C$14),(L133+2*M133+(C133-D133)/PARÂMETROS!$C$14)/(E133-(C133-D133)/PARÂMETROS!$C$11))","v":{"v":-2.500000000000601,"d":"-2.50E+00"}},{"$f":"IF(PARÂMETROS!$J$6<PARÂMETROS!$F$6, (E133-(C133-D133)/PARÂMETROS!$C$11)/(N133+2*O133+3*P133+(C133-D133)/PARÂMETROS!$C$14),(N133+2*O133+3*P133+(C133-D133)/PARÂMETROS!$C$14)/ (E133-(C133-D133)/PARÂMETROS!$C$11))","v":{"v":-2.50000000000103,"d":"-2.50E+00"}},{"$f":"IF(PARÂMETROS!$J$6<PARÂMETROS!$F$6,(F133+2*G133-(C133-D133)/PARÂMETROS!$C$11)/(K133+(C133-D133)/PARÂMETROS!$C$14),(K133+(C133-D133)/PARÂMETROS!$C$14)/(F133+2*G133-(C133-D133)/PARÂMETROS!$C$11))","v":{"v":-2.5000000000003433,"d":"-2.50E+00"}},{"$f":"IF(PARÂMETROS!$J$6<PARÂMETROS!$F$6,(F133+2*G133-(C133-D133)/PARÂMETROS!$C$11)/(L133+2*M133+(C133-D133)/PARÂMETROS!$C$14),(L133+2*M133+(C133-D133)/PARÂMETROS!$C$14)/(F133+2*G133-(C133-D133)/PARÂMETROS!$C$11))","v":{"v":-2.5000000000007723,"d":"-2.50E+00"}},{"$f":"IF(PARÂMETROS!$J$6<PARÂMETROS!$F$6,(F133+2*G133-(C133-D133)/PARÂMETROS!$C$11)/(N133+2*O133+3*P133+(C133-D133)/PARÂMETROS!$C$14),(N133+2*O133+3*P133+(C133-D133)/PARÂMETROS!$C$14)/(F133+2*G133-(C133-D133)/PARÂMETROS!$C$11))","v":{"v":-2.5000000000012017,"d":"-2.50E+00"}},{"$f":"IF(PARÂMETROS!$J$6<PARÂMETROS!$F$6,(H133+2*I133+3*J133-(C133-D133)/PARÂMETROS!$C$11)/(K133+(C133-D133)/PARÂMETROS!$C$14),(K133+(C133-D133)/PARÂMETROS!$C$14)/(H133+2*I133+3*J133-(C133-D133)/PARÂMETROS!$C$11))","v":{"v":-2.500000000000515,"d":"-2.50E+00"}},{"$f":"IF(PARÂMETROS!$J$6<PARÂMETROS!$F$6,(H133+2*I133+3*J133-(C133-D133)/PARÂMETROS!$C$11)/(L133+2*M133+(C133-D133)/PARÂMETROS!$C$14),(L133+2*M133+(C133-D133)/PARÂMETROS!$C$14)/(H133+2*I133+3*J133-(C133-D133)/PARÂMETROS!$C$11))","v":{"v":-2.500000000000944,"d":"-2.50E+00"}},{"$f":"IF(PARÂMETROS!$J$6<PARÂMETROS!$F$6,(H133+2*I133+3*J133-(C133-D133)/PARÂMETROS!$C$11)/(N133+2*O133+3*P133+(C133-D133)/PARÂMETROS!$C$14),(N133+2*O133+3*P133+(C133-D133)/PARÂMETROS!$C$14)/(H133+2*I133+3*J133-(C133-D133)/PARÂMETROS!$C$11))","v":{"v":-2.500000000001373,"d":"-2.50E+00"}},{"$f":"Q133*PARÂMETROS!$C$11*PARÂMETROS!$D$11/PARÂMETROS!$C$14","v":{"v":-50.00000000000344,"d":"-50.00"}},{"$f":"R133*PARÂMETROS!$C$11*PARÂMETROS!$D$11/PARÂMETROS!$C$14","v":{"v":-50.00000000001202,"d":"-50.00"}},{"$f":"S133*PARÂMETROS!$C$11*PARÂMETROS!$D$11/PARÂMETROS!$C$14","v":{"v":-50.00000000002059,"d":"-50.00"}},{"$f":"T133*PARÂMETROS!$C$11*PARÂMETROS!$D$11/PARÂMETROS!$C$14","v":{"v":-50.00000000000687,"d":"-50.00"}},{"$f":"U133*PARÂMETROS!$C$11*PARÂMETROS!$D$11/PARÂMETROS!$C$14","v":{"v":-50.00000000001544,"d":"-50.00"}},{"$f":"V133*PARÂMETROS!$C$11*PARÂMETROS!$D$11/PARÂMETROS!$C$14","v":{"v":-50.00000000002404,"d":"-50.00"}},{"$f":"W133*PARÂMETROS!$C$11*PARÂMETROS!$D$11/PARÂMETROS!$C$14","v":{"v":-50.0000000000103,"d":"-50.00"}},{"$f":"X133*PARÂMETROS!$C$11*PARÂMETROS!$D$11/PARÂMETROS!$C$14","v":{"v":-50.000000000018886,"d":"-50.00"}},{"$f":"Y133*PARÂMETROS!$C$11*PARÂMETROS!$D$11/PARÂMETROS!$C$14","v":{"v":-50.00000000002747,"d":"-50.00"}},{"$f":"AND(B133+PARÂMETROS!$C$8>=PARÂMETROS!$C$5,B133+PARÂMETROS!$C$8<=PARÂMETROS!$D$5)","v":false},0,{"$f":"VLOOKUP('BANCO DE DADOS COMPLETA'!$N$8,'BANCO DE DADOS COMPLETA'!$A$7:$L$249,3)*-1","v":3},7,{"$f":"VLOOKUP('BANCO DE DADOS COMPLETA'!$N$10,'BANCO DE DADOS COMPLETA'!$A$7:$L$249,3)*-1","v":1},11,77,{"v":-50.0000000000103,"d":"-50.00"},"LIMITE","LIMITE","LIMITE","LIMITE","NADA","NADA",0]
[null,{"$f":"B133+PARÂMETROS!$C$8","v":{"v":26.664343848340632,"d":"26.66"}},{"v":2.1659885258702335E-27,"d":"2.17E-27"},{"$f":"PARÂMETROS!$Q$4/C134","v":{"v":4616829627932.715,"d":"4.62E+12"}},{"$f":"PARÂMETROS!$F$6/($C134+PARÂMETROS!$F$6)","v":{"v":1,"d":"1.00E+00"}},{"$f":"$C134*PARÂMETROS!$F$6/($C134^2+$C134*PARÂMETROS!$F$6+PARÂMETROS!$F$6*PARÂMETROS!$G$6)","v":{"v":3.4249651096144596E-20,"d":"3.42E-20"}},{"$f":"PARÂMETROS!$F$6*PARÂMETROS!$G$6/($C134^2+$C134*PARÂMETROS!$F$6+PARÂMETROS!$F$6*PARÂMETROS!$G$6)","v":{"v":1,"d":"1.00E+00"}},{"$f":"(PARÂMETROS!$F$6*$C134^2)/($C134^3+PARÂMETROS!$F$6*$C134^2+PARÂMETROS!$F$6*PARÂMETROS!$G$6*$C134+PARÂMETROS!$F$6*PARÂMETROS!$G$6*PARÂMETROS!$H$6)","v":{"v":1.6607807538235306E-34,"d":"1.66E-34"}},{"$f":"(PARÂMETROS!$F$6*PARÂMETROS!$G$6*$C134)/($C134^3+PARÂMETROS!$F$6*$C134^2+PARÂMETROS!$F$6*PARÂMETROS!$G$6*$C134+PARÂMETROS!$F$6*PARÂMETROS!$G$6*PARÂMETROS!$H$6)","v":{"v":4.8490442987621585E-15,"d":"4.85E-15"}},{"$f":"(PARÂMETROS!$F$6*PARÂMETROS!$G$6*PARÂMETROS!$H$6)/($C134^3+PARÂMETROS!$F$6*$C134^2+PARÂMETROS!$F$6*PARÂMETROS!$G$6*$C134+PARÂMETROS!$F$6*PARÂMETROS!$G$6*PARÂMETROS!$H$6)","v":{"v":0.9999999999999952,"d":"1.00E+00"}},{"$f":"$C134/($C134+PARÂMETROS!$J$6)","v":{"v":2.1659885258701864E-14,"d":"2.17E-14"}},{"$f":"$C134*PARÂMETROS!$J$6/($C134^2+$C134*PARÂMETROS!$J$6+PARÂMETROS!$J$6*PARÂMETROS!$K$6)","v":{"v":0.9999999999999784,"d":"1.00E+00"}},{"$f":"$C134^2/($C134^2+$C134*PARÂMETROS!$J$6+PARÂMETROS!$J$6*PARÂMETROS!$K$6)","v":{"v":2.1659885258701864E-14,"d":"2.17E-14"}},{"$f":"(PARÂMETROS!$K$6*PARÂMETROS!$J$6*$C134)/($C134^3+PARÂMETROS!$J$6*$C134^2+PARÂMETROS!$J$6*PARÂMETROS!$K$6*$C134+PARÂMETROS!$J$6*PARÂMETROS!$K$6*PARÂMETROS!$L$6)","v":{"v":0,"d":"0.00E+00"}},{"$f":"(PARÂMETROS!$J$6*$C134^2)/($C134^3+PARÂMETROS!$J$6*$C134^2+PARÂMETROS!$J$6*PARÂMETROS!$K$6*$C134+PARÂMETROS!$J$6*PARÂMETROS!$K$6*PARÂMETROS!$L$6)","v":{"v":0.9999999999999784,"d":"1.00E+00"}},{"$f":"($C134^3)/($C134^3+PARÂMETROS!$J$6*$C134^2+PARÂMETROS!$J$6*PARÂMETROS!$K$6*$C134+PARÂMETROS!$J$6*PARÂMETROS!$K$6*PARÂMETROS!$L$6)","v":{"v":2.1659885258701864E-14,"d":"2.17E-14"}},{"$f":"IF(PARÂMETROS!$J$6<PARÂMETROS!$F$6,(E134-(C134-D134)/PARÂMETROS!$C$11)/(K134+(C134-D134)/PARÂMETROS!$C$14),(K134+(C134-D134)/PARÂMETROS!$C$14)/(E134-(C134-D134)/PARÂMETROS!$C$11))","v":{"v":-2.5000000000001084,"d":"-2.50E+00"}},{"$f":"IF(PARÂMETROS!$J$6<PARÂMETROS!$F$6,(E134-(C134-D134)/PARÂMETROS!$C$11)/(L134+2*M134+(C134-D134)/PARÂMETROS!$C$14),(L134+2*M134+(C134-D134)/PARÂMETROS!$C$14)/(E134-(C134-D134)/PARÂMETROS!$C$11))","v":{"v":-2.5000000000003793,"d":"-2.50E+00"}},{"$f":"IF(PARÂMETROS!$J$6<PARÂMETROS!$F$6, (E134-(C134-D134)/PARÂMETROS!$C$11)/(N134+2*O134+3*P134+(C134-D134)/PARÂMETROS!$C$14),(N134+2*O134+3*P134+(C134-D134)/PARÂMETROS!$C$14)/ (E134-(C134-D134)/PARÂMETROS!$C$11))","v":{"v":-2.5000000000006497,"d":"-2.50E+00"}},{"$f":"IF(PARÂMETROS!$J$6<PARÂMETROS!$F$6,(F134+2*G134-(C134-D134)/PARÂMETROS!$C$11)/(K134+(C134-D134)/PARÂMETROS!$C$14),(K134+(C134-D134)/PARÂMETROS!$C$14)/(F134+2*G134-(C134-D134)/PARÂMETROS!$C$11))","v":{"v":-2.5000000000002167,"d":"-2.50E+00"}},{"$f":"IF(PARÂMETROS!$J$6<PARÂMETROS!$F$6,(F134+2*G134-(C134-D134)/PARÂMETROS!$C$11)/(L134+2*M134+(C134-D134)/PARÂMETROS!$C$14),(L134+2*M134+(C134-D134)/PARÂMETROS!$C$14)/(F134+2*G134-(C134-D134)/PARÂMETROS!$C$11))","v":{"v":-2.500000000000487,"d":"-2.50E+00"}},{"$f":"IF(PARÂMETROS!$J$6<PARÂMETROS!$F$6,(F134+2*G134-(C134-D134)/PARÂMETROS!$C$11)/(N134+2*O134+3*P134+(C134-D134)/PARÂMETROS!$C$14),(N134+2*O134+3*P134+(C134-D134)/PARÂMETROS!$C$14)/(F134+2*G134-(C134-D134)/PARÂMETROS!$C$11))","v":{"v":-2.500000000000758,"d":"-2.50E+00"}},{"$f":"IF(PARÂMETROS!$J$6<PARÂMETROS!$F$6,(H134+2*I134+3*J134-(C134-D134)/PARÂMETROS!$C$11)/(K134+(C134-D134)/PARÂMETROS!$C$14),(K134+(C134-D134)/PARÂMETROS!$C$14)/(H134+2*I134+3*J134-(C134-D134)/PARÂMETROS!$C$11))","v":{"v":-2.500000000000325,"d":"-2.50E+00"}},{"$f":"IF(PARÂMETROS!$J$6<PARÂMETROS!$F$6,(H134+2*I134+3*J134-(C134-D134)/PARÂMETROS!$C$11)/(L134+2*M134+(C134-D134)/PARÂMETROS!$C$14),(L134+2*M134+(C134-D134)/PARÂMETROS!$C$14)/(H134+2*I134+3*J134-(C134-D134)/PARÂMETROS!$C$11))","v":{"v":-2.5000000000005955,"d":"-2.50E+00"}},{"$f":"IF(PARÂMETROS!$J$6<PARÂMETROS!$F$6,(H134+2*I134+3*J134-(C134-D134)/PARÂMETROS!$C$11)/(N134+2*O134+3*P134+(C134-D134)/PARÂMETROS!$C$14),(N134+2*O134+3*P134+(C134-D134)/PARÂMETROS!$C$14)/(H134+2*I134+3*J134-(C134-D134)/PARÂMETROS!$C$11))","v":{"v":-2.5000000000008664,"d":"-2.50E+00"}},{"$f":"Q134*PARÂMETROS!$C$11*PARÂMETROS!$D$11/PARÂMETROS!$C$14","v":{"v":-50.00000000000217,"d":"-50.00"}},{"$f":"R134*PARÂMETROS!$C$11*PARÂMETROS!$D$11/PARÂMETROS!$C$14","v":{"v":-50.00000000000758,"d":"-50.00"}},{"$f":"S134*PARÂMETROS!$C$11*PARÂMETROS!$D$11/PARÂMETROS!$C$14","v":{"v":-50.000000000013,"d":"-50.00"}},{"$f":"T134*PARÂMETROS!$C$11*PARÂMETROS!$D$11/PARÂMETROS!$C$14","v":{"v":-50.00000000000434,"d":"-50.00"}},{"$f":"U134*PARÂMETROS!$C$11*PARÂMETROS!$D$11/PARÂMETROS!$C$14","v":{"v":-50.00000000000975,"d":"-50.00"}},{"$f":"V134*PARÂMETROS!$C$11*PARÂMETROS!$D$11/PARÂMETROS!$C$14","v":{"v":-50.00000000001516,"d":"-50.00"}},{"$f":"W134*PARÂMETROS!$C$11*PARÂMETROS!$D$11/PARÂMETROS!$C$14","v":{"v":-50.00000000000651,"d":"-50.00"}},{"$f":"X134*PARÂMETROS!$C$11*PARÂMETROS!$D$11/PARÂMETROS!$C$14","v":{"v":-50.000000000011916,"d":"-50.00"}},{"$f":"Y134*PARÂMETROS!$C$11*PARÂMETROS!$D$11/PARÂMETROS!$C$14","v":{"v":-50.00000000001733,"d":"-50.00"}},{"$f":"AND(B134+PARÂMETROS!$C$8>=PARÂMETROS!$C$5,B134+PARÂMETROS!$C$8<=PARÂMETROS!$D$5)","v":false},0,{"$f":"VLOOKUP('BANCO DE DADOS COMPLETA'!$N$8,'BANCO DE DADOS COMPLETA'!$A$7:$L$249,3)*-1","v":3},7,{"$f":"VLOOKUP('BANCO DE DADOS COMPLETA'!$N$10,'BANCO DE DADOS COMPLETA'!$A$7:$L$249,3)*-1","v":1},11,77,{"v":-50.00000000000651,"d":"-50.00"},"LIMITE","LIMITE","LIMITE","LIMITE","NADA","NADA",0]
[null,{"$f":"B134+PARÂMETROS!$C$8","v":{"v":26.86434384834063,"d":"26.86"}},{"v":1.3666463684576534E-27,"d":"1.37E-27"},{"$f":"PARÂMETROS!$Q$4/C135","v":{"v":7317181848063.321,"d":"7.32E+12"}},{"$f":"PARÂMETROS!$F$6/($C135+PARÂMETROS!$F$6)","v":{"v":1,"d":"1.00E+00"}},{"$f":"$C135*PARÂMETROS!$F$6/($C135^2+$C135*PARÂMETROS!$F$6+PARÂMETROS!$F$6*PARÂMETROS!$G$6)","v":{"v":2.1610068904996574E-20,"d":"2.16E-20"}},{"$f":"PARÂMETROS!$F$6*PARÂMETROS!$G$6/($C135^2+$C135*PARÂMETROS!$F$6+PARÂMETROS!$F$6*PARÂMETROS!$G$6)","v":{"v":1,"d":"1.00E+00"}},{"$f":"(PARÂMETROS!$F$6*$C135^2)/($C135^3+PARÂMETROS!$F$6*$C135^2+PARÂMETROS!$F$6*PARÂMETROS!$G$6*$C135+PARÂMETROS!$F$6*PARÂMETROS!$G$6*PARÂMETROS!$H$6)","v":{"v":6.611687268143937E-35,"d":"6.61E-35"}},{"$f":"(PARÂMETROS!$F$6*PARÂMETROS!$G$6*$C135)/($C135^3+PARÂMETROS!$F$6*$C135^2+PARÂMETROS!$F$6*PARÂMETROS!$G$6*$C135+PARÂMETROS!$F$6*PARÂMETROS!$G$6*PARÂMETROS!$H$6)","v":{"v":3.0595401140138036E-15,"d":"3.06E-15"}},{"$f":"(PARÂMETROS!$F$6*PARÂMETROS!$G$6*PARÂMETROS!$H$6)/($C135^3+PARÂMETROS!$F$6*$C135^2+PARÂMETROS!$F$6*PARÂMETROS!$G$6*$C135+PARÂMETROS!$F$6*PARÂMETROS!$G$6*PARÂMETROS!$H$6)","v":{"v":0.999999999999997,"d":"1.00E+00"}},{"$f":"$C135/($C135+PARÂMETROS!$J$6)","v":{"v":1.3666463684576347E-14,"d":"1.37E-14"}},{"$f":"$C135*PARÂMETROS!$J$6/($C135^2+$C135*PARÂMETROS!$J$6+PARÂMETROS!$J$6*PARÂMETROS!$K$6)","v":{"v":0.9999999999999862,"d":"1.00E+00"}},{"$f":"$C135^2/($C135^2+$C135*PARÂMETROS!$J$6+PARÂMETROS!$J$6*PARÂMETROS!$K$6)","v":{"v":1.3666463684576347E-14,"d":"1.37E-14"}},{"$f":"(PARÂMETROS!$K$6*PARÂMETROS!$J$6*$C135)/($C135^3+PARÂMETROS!$J$6*$C135^2+PARÂMETROS!$J$6*PARÂMETROS!$K$6*$C135+PARÂMETROS!$J$6*PARÂMETROS!$K$6*PARÂMETROS!$L$6)","v":{"v":0,"d":"0.00E+00"}},{"$f":"(PARÂMETROS!$J$6*$C135^2)/($C135^3+PARÂMETROS!$J$6*$C135^2+PARÂMETROS!$J$6*PARÂMETROS!$K$6*$C135+PARÂMETROS!$J$6*PARÂMETROS!$K$6*PARÂMETROS!$L$6)","v":{"v":0.9999999999999865,"d":"1.00E+00"}},{"$f":"($C135^3)/($C135^3+PARÂMETROS!$J$6*$C135^2+PARÂMETROS!$J$6*PARÂMETROS!$K$6*$C135+PARÂMETROS!$J$6*PARÂMETROS!$K$6*PARÂMETROS!$L$6)","v":{"v":1.3666463684576349E-14,"d":"1.37E-14"}},{"$f":"IF(PARÂMETROS!$J$6<PARÂMETROS!$F$6,(E135-(C135-D135)/PARÂMETROS!$C$11)/(K135+(C135-D135)/PARÂMETROS!$C$14),(K135+(C135-D135)/PARÂMETROS!$C$14)/(E135-(C135-D135)/PARÂMETROS!$C$11))","v":{"v":-2.500000000000068,"d":"-2.50E+00"}},{"$f":"IF(PARÂMETROS!$J$6<PARÂMETROS!$F$6,(E135-(C135-D135)/PARÂMETROS!$C$11)/(L135+2*M135+(C135-D135)/PARÂMETROS!$C$14),(L135+2*M135+(C135-D135)/PARÂMETROS!$C$14)/(E135-(C135-D135)/PARÂMETROS!$C$11))","v":{"v":-2.500000000000239,"d":"-2.50E+00"}},{"$f":"IF(PARÂMETROS!$J$6<PARÂMETROS!$F$6, (E135-(C135-D135)/PARÂMETROS!$C$11)/(N135+2*O135+3*P135+(C135-D135)/PARÂMETROS!$C$14),(N135+2*O135+3*P135+(C135-D135)/PARÂMETROS!$C$14)/ (E135-(C135-D135)/PARÂMETROS!$C$11))","v":{"v":-2.5000000000004095,"d":"-2.50E+00"}},{"$f":"IF(PARÂMETROS!$J$6<PARÂMETROS!$F$6,(F135+2*G135-(C135-D135)/PARÂMETROS!$C$11)/(K135+(C135-D135)/PARÂMETROS!$C$14),(K135+(C135-D135)/PARÂMETROS!$C$14)/(F135+2*G135-(C135-D135)/PARÂMETROS!$C$11))","v":{"v":-2.5000000000001363,"d":"-2.50E+00"}},{"$f":"IF(PARÂMETROS!$J$6<PARÂMETROS!$F$6,(F135+2*G135-(C135-D135)/PARÂMETROS!$C$11)/(L135+2*M135+(C135-D135)/PARÂMETROS!$C$14),(L135+2*M135+(C135-D135)/PARÂMETROS!$C$14)/(F135+2*G135-(C135-D135)/PARÂMETROS!$C$11))","v":{"v":-2.5000000000003073,"d":"-2.50E+00"}},{"$f":"IF(PARÂMETROS!$J$6<PARÂMETROS!$F$6,(F135+2*G135-(C135-D135)/PARÂMETROS!$C$11)/(N135+2*O135+3*P135+(C135-D135)/PARÂMETROS!$C$14),(N135+2*O135+3*P135+(C135-D135)/PARÂMETROS!$C$14)/(F135+2*G135-(C135-D135)/PARÂMETROS!$C$11))","v":{"v":-2.500000000000478,"d":"-2.50E+00"}},{"$f":"IF(PARÂMETROS!$J$6<PARÂMETROS!$F$6,(H135+2*I135+3*J135-(C135-D135)/PARÂMETROS!$C$11)/(K135+(C135-D135)/PARÂMETROS!$C$14),(K135+(C135-D135)/PARÂMETROS!$C$14)/(H135+2*I135+3*J135-(C135-D135)/PARÂMETROS!$C$11))","v":{"v":-2.5000000000002047,"d":"-2.50E+00"}},{"$f":"IF(PARÂMETROS!$J$6<PARÂMETROS!$F$6,(H135+2*I135+3*J135-(C135-D135)/PARÂMETROS!$C$11)/(L135+2*M135+(C135-D135)/PARÂMETROS!$C$14),(L135+2*M135+(C135-D135)/PARÂMETROS!$C$14)/(H135+2*I135+3*J135-(C135-D135)/PARÂMETROS!$C$11))","v":{"v":-2.5000000000003757,"d":"-2.50E+00"}},{"$f":"IF(PARÂMETROS!$J$6<PARÂMETROS!$F$6,(H135+2*I135+3*J135-(C135-D135)/PARÂMETROS!$C$11)/(N135+2*O135+3*P135+(C135-D135)/PARÂMETROS!$C$14),(N135+2*O135+3*P135+(C135-D135)/PARÂMETROS!$C$14)/(H135+2*I135+3*J135-(C135-D135)/PARÂMETROS!$C$11))","v":{"v":-2.5000000000005462,"d":"-2.50E+00"}},{"$f":"Q135*PARÂMETROS!$C$11*PARÂMETROS!$D$11/PARÂMETROS!$C$14","v":{"v":-50.000000000001364,"d":"-50.00"}},{"$f":"R135*PARÂMETROS!$C$11*PARÂMETROS!$D$11/PARÂMETROS!$C$14","v":{"v":-50.00000000000478,"d":"-50.00"}},{"$f":"S135*PARÂMETROS!$C$11*PARÂMETROS!$D$11/PARÂMETROS!$C$14","v":{"v":-50.00000000000819,"d":"-50.00"}},{"$f":"T135*PARÂMETROS!$C$11*PARÂMETROS!$D$11/PARÂMETROS!$C$14","v":{"v":-50.00000000000273,"d":"-50.00"}},{"$f":"U135*PARÂMETROS!$C$11*PARÂMETROS!$D$11/PARÂMETROS!$C$14","v":{"v":-50.00000000000615,"d":"-50.00"}},{"$f":"V135*PARÂMETROS!$C$11*PARÂMETROS!$D$11/PARÂMETROS!$C$14","v":{"v":-50.00000000000956,"d":"-50.00"}},{"$f":"W135*PARÂMETROS!$C$11*PARÂMETROS!$D$11/PARÂMETROS!$C$14","v":{"v":-50.0000000000041,"d":"-50.00"}},{"$f":"X135*PARÂMETROS!$C$11*PARÂMETROS!$D$11/PARÂMETROS!$C$14","v":{"v":-50.00000000000752,"d":"-50.00"}},{"$f":"Y135*PARÂMETROS!$C$11*PARÂMETROS!$D$11/PARÂMETROS!$C$14","v":{"v":-50.00000000001093,"d":"-50.00"}},{"$f":"AND(B135+PARÂMETROS!$C$8>=PARÂMETROS!$C$5,B135+PARÂMETROS!$C$8<=PARÂMETROS!$D$5)","v":false},0,{"$f":"VLOOKUP('BANCO DE DADOS COMPLETA'!$N$8,'BANCO DE DADOS COMPLETA'!$A$7:$L$249,3)*-1","v":3},7,{"$f":"VLOOKUP('BANCO DE DADOS COMPLETA'!$N$10,'BANCO DE DADOS COMPLETA'!$A$7:$L$249,3)*-1","v":1},11,77,{"v":-50.0000000000041,"d":"-50.00"},"LIMITE","LIMITE","LIMITE","LIMITE","NADA","NADA",0]
[null,{"$f":"B135+PARÂMETROS!$C$8","v":{"v":27.06434384834063,"d":"27.06"}},{"v":8.622955634855424e-28,"d":"8.62E-28"},{"$f":"PARÂMETROS!$Q$4/C136","v":{"v":11596951698995.566,"d":"1.16E+13"}},{"$f":"PARÂMETROS!$F$6/($C136+PARÂMETROS!$F$6)","v":{"v":1,"d":"1.00E+00"}},{"$f":"$C136*PARÂMETROS!$F$6/($C136^2+$C136*PARÂMETROS!$F$6+PARÂMETROS!$F$6*PARÂMETROS!$G$6)","v":{"v":1.3635031690330662E-20,"d":"1.36E-20"}},{"$f":"PARÂMETROS!$F$6*PARÂMETROS!$G$6/($C136^2+$C136*PARÂMETROS!$F$6+PARÂMETROS!$F$6*PARÂMETROS!$G$6)","v":{"v":1,"d":"1.00E+00"}},{"$f":"(PARÂMETROS!$F$6*$C136^2)/($C136^3+PARÂMETROS!$F$6*$C136^2+PARÂMETROS!$F$6*PARÂMETROS!$G$6*$C136+PARÂMETROS!$F$6*PARÂMETROS!$G$6*PARÂMETROS!$H$6)","v":{"v":2.6321601109053773E-35,"d":"2.63E-35"}},{"$f":"(PARÂMETROS!$F$6*PARÂMETROS!$G$6*$C136)/($C136^3+PARÂMETROS!$F$6*$C136^2+PARÂMETROS!$F$6*PARÂMETROS!$G$6*$C136+PARÂMETROS!$F$6*PARÂMETROS!$G$6*PARÂMETROS!$H$6)","v":{"v":1.930439305668783e-15,"d":"1.93E-15"}},{"$f":"(PARÂMETROS!$F$6*PARÂMETROS!$G$6*PARÂMETROS!$H$6)/($C136^3+PARÂMETROS!$F$6*$C136^2+PARÂMETROS!$F$6*PARÂMETROS!$G$6*$C136+PARÂMETROS!$F$6*PARÂMETROS!$G$6*PARÂMETROS!$H$6)","v":{"v":0.9999999999999981,"d":"1.00E+00"}},{"$f":"$C136/($C136+PARÂMETROS!$J$6)","v":{"v":8.62295563485535e-15,"d":"8.62E-15"}},{"$f":"$C136*PARÂMETROS!$J$6/($C136^2+$C136*PARÂMETROS!$J$6+PARÂMETROS!$J$6*PARÂMETROS!$K$6)","v":{"v":0.9999999999999913,"d":"1.00E+00"}},{"$f":"$C136^2/($C136^2+$C136*PARÂMETROS!$J$6+PARÂMETROS!$J$6*PARÂMETROS!$K$6)","v":{"v":8.622955634855349e-15,"d":"8.62E-15"}},{"$f":"(PARÂMETROS!$K$6*PARÂMETROS!$J$6*$C136)/($C136^3+PARÂMETROS!$J$6*$C136^2+PARÂMETROS!$J$6*PARÂMETROS!$K$6*$C136+PARÂMETROS!$J$6*PARÂMETROS!$K$6*PARÂMETROS!$L$6)","v":{"v":0,"d":"0.00E+00"}},{"$f":"(PARÂMETROS!$J$6*$C136^2)/($C136^3+PARÂMETROS!$J$6*$C136^2+PARÂMETROS!$J$6*PARÂMETROS!$K$6*$C136+PARÂMETROS!$J$6*PARÂMETROS!$K$6*PARÂMETROS!$L$6)","v":{"v":0.9999999999999913,"d":"1.00E+00"}},{"$f":"($C136^3)/($C136^3+PARÂMETROS!$J$6*$C136^2+PARÂMETROS!$J$6*PARÂMETROS!$K$6*$C136+PARÂMETROS!$J$6*PARÂMETROS!$K$6*PARÂMETROS!$L$6)","v":{"v":8.622955634855349e-15,"d":"8.62E-15"}},{"$f":"IF(PARÂMETROS!$J$6<PARÂMETROS!$F$6,(E136-(C136-D136)/PARÂMETROS!$C$11)/(K136+(C136-D136)/PARÂMETROS!$C$14),(K136+(C136-D136)/PARÂMETROS!$C$14)/(E136-(C136-D136)/PARÂMETROS!$C$11))","v":{"v":-2.500000000000043,"d":"-2.50E+00"}},{"$f":"IF(PARÂMETROS!$J$6<PARÂMETROS!$F$6,(E136-(C136-D136)/PARÂMETROS!$C$11)/(L136+2*M136+(C136-D136)/PARÂMETROS!$C$14),(L136+2*M136+(C136-D136)/PARÂMETROS!$C$14)/(E136-(C136-D136)/PARÂMETROS!$C$11))","v":{"v":-2.5000000000001505,"d":"-2.50E+00"}},{"$f":"IF(PARÂMETROS!$J$6<PARÂMETROS!$F$6, (E136-(C136-D136)/PARÂMETROS!$C$11)/(N136+2*O136+3*P136+(C136-D136)/PARÂMETROS!$C$14),(N136+2*O136+3*P136+(C136-D136)/PARÂMETROS!$C$14)/ (E136-(C136-D136)/PARÂMETROS!$C$11))","v":{"v":-2.5000000000002585,"d":"-2.50E+00"}},{"$f":"IF(PARÂMETROS!$J$6<PARÂMETROS!$F$6,(F136+2*G136-(C136-D136)/PARÂMETROS!$C$11)/(K136+(C136-D136)/PARÂMETROS!$C$14),(K136+(C136-D136)/PARÂMETROS!$C$14)/(F136+2*G136-(C136-D136)/PARÂMETROS!$C$11))","v":{"v":-2.500000000000086,"d":"-2.50E+00"}},{"$f":"IF(PARÂMETROS!$J$6<PARÂMETROS!$F$6,(F136+2*G136-(C136-D136)/PARÂMETROS!$C$11)/(L136+2*M136+(C136-D136)/PARÂMETROS!$C$14),(L136+2*M136+(C136-D136)/PARÂMETROS!$C$14)/(F136+2*G136-(C136-D136)/PARÂMETROS!$C$11))","v":{"v":-2.500000000000194,"d":"-2.50E+00"}},{"$f":"IF(PARÂMETROS!$J$6<PARÂMETROS!$F$6,(F136+2*G136-(C136-D136)/PARÂMETROS!$C$11)/(N136+2*O136+3*P136+(C136-D136)/PARÂMETROS!$C$14),(N136+2*O136+3*P136+(C136-D136)/PARÂMETROS!$C$14)/(F136+2*G136-(C136-D136)/PARÂMETROS!$C$11))","v":{"v":-2.5000000000003015,"d":"-2.50E+00"}},{"$f":"IF(PARÂMETROS!$J$6<PARÂMETROS!$F$6,(H136+2*I136+3*J136-(C136-D136)/PARÂMETROS!$C$11)/(K136+(C136-D136)/PARÂMETROS!$C$14),(K136+(C136-D136)/PARÂMETROS!$C$14)/(H136+2*I136+3*J136-(C136-D136)/PARÂMETROS!$C$11))","v":{"v":-2.5000000000001292,"d":"-2.50E+00"}},{"$f":"IF(PARÂMETROS!$J$6<PARÂMETROS!$F$6,(H136+2*I136+3*J136-(C136-D136)/PARÂMETROS!$C$11)/(L136+2*M136+(C136-D136)/PARÂMETROS!$C$14),(L136+2*M136+(C136-D136)/PARÂMETROS!$C$14)/(H136+2*I136+3*J136-(C136-D136)/PARÂMETROS!$C$11))","v":{"v":-2.500000000000237,"d":"-2.50E+00"}},{"$f":"IF(PARÂMETROS!$J$6<PARÂMETROS!$F$6,(H136+2*I136+3*J136-(C136-D136)/PARÂMETROS!$C$11)/(N136+2*O136+3*P136+(C136-D136)/PARÂMETROS!$C$14),(N136+2*O136+3*P136+(C136-D136)/PARÂMETROS!$C$14)/(H136+2*I136+3*J136-(C136-D136)/PARÂMETROS!$C$11))","v":{"v":-2.5000000000003446,"d":"-2.50E+00"}},{"$f":"Q136*PARÂMETROS!$C$11*PARÂMETROS!$D$11/PARÂMETROS!$C$14","v":{"v":-50.00000000000087,"d":"-50.00"}},{"$f":"R136*PARÂMETROS!$C$11*PARÂMETROS!$D$11/PARÂMETROS!$C$14","v":{"v":-50.000000000003006,"d":"-50.00"}},{"$f":"S136*PARÂMETROS!$C$11*PARÂMETROS!$D$11/PARÂMETROS!$C$14","v":{"v":-50.00000000000517,"d":"-50.00"}},{"$f":"T136*PARÂMETROS!$C$11*PARÂMETROS!$D$11/PARÂMETROS!$C$14","v":{"v":-50.00000000000172,"d":"-50.00"}},{"$f":"U136*PARÂMETROS!$C$11*PARÂMETROS!$D$11/PARÂMETROS!$C$14","v":{"v":-50.00000000000389,"d":"-50.00"}},{"$f":"V136*PARÂMETROS!$C$11*PARÂMETROS!$D$11/PARÂMETROS!$C$14","v":{"v":-50.000000000006025,"d":"-50.00"}},{"$f":"W136*PARÂMETROS!$C$11*PARÂMETROS!$D$11/PARÂMETROS!$C$14","v":{"v":-50.000000000002586,"d":"-50.00"}},{"$f":"X136*PARÂMETROS!$C$11*PARÂMETROS!$D$11/PARÂMETROS!$C$14","v":{"v":-50.00000000000474,"d":"-50.00"}},{"$f":"Y136*PARÂMETROS!$C$11*PARÂMETROS!$D$11/PARÂMETROS!$C$14","v":{"v":-50.00000000000689,"d":"-50.00"}},{"$f":"AND(B136+PARÂMETROS!$C$8>=PARÂMETROS!$C$5,B136+PARÂMETROS!$C$8<=PARÂMETROS!$D$5)","v":false},0,{"$f":"VLOOKUP('BANCO DE DADOS COMPLETA'!$N$8,'BANCO DE DADOS COMPLETA'!$A$7:$L$249,3)*-1","v":3},7,{"$f":"VLOOKUP('BANCO DE DADOS COMPLETA'!$N$10,'BANCO DE DADOS COMPLETA'!$A$7:$L$249,3)*-1","v":1},11,77,{"v":-50.000000000002586,"d":"-50.00"},"LIMITE","LIMITE","LIMITE","LIMITE","NADA","NADA",0]
[null,{"$f":"B136+PARÂMETROS!$C$8","v":{"v":27.26434384834063,"d":"27.26"}},{"v":5.440717188938907E-28,"d":"5.44E-28"},{"$f":"PARÂMETROS!$Q$4/C137","v":{"v":18379929801038.383,"d":"1.84E+13"}},{"$f":"PARÂMETROS!$F$6/($C137+PARÂMETROS!$F$6)","v":{"v":1,"d":"1.00E+00"}},{"$f":"$C137*PARÂMETROS!$F$6/($C137^2+$C137*PARÂMETROS!$F$6+PARÂMETROS!$F$6*PARÂMETROS!$G$6)","v":{"v":8.60312338723433e-21,"d":"8.60E-21"}},{"$f":"PARÂMETROS!$F$6*PARÂMETROS!$G$6/($C137^2+$C137*PARÂMETROS!$F$6+PARÂMETROS!$F$6*PARÂMETROS!$G$6)","v":{"v":1,"d":"1.00E+00"}},{"$f":"(PARÂMETROS!$F$6*$C137^2)/($C137^3+PARÂMETROS!$F$6*$C137^2+PARÂMETROS!$F$6*PARÂMETROS!$G$6*$C137+PARÂMETROS!$F$6*PARÂMETROS!$G$6*PARÂMETROS!$H$6)","v":{"v":1.0478818141963239E-35,"d":"1.05E-35"}},{"$f":"(PARÂMETROS!$F$6*PARÂMETROS!$G$6*$C137)/($C137^3+PARÂMETROS!$F$6*$C137^2+PARÂMETROS!$F$6*PARÂMETROS!$G$6*$C137+PARÂMETROS!$F$6*PARÂMETROS!$G$6*PARÂMETROS!$H$6)","v":{"v":1.2180248579849666E-15,"d":"1.22E-15"}},{"$f":"(PARÂMETROS!$F$6*PARÂMETROS!$G$6*PARÂMETROS!$H$6)/($C137^3+PARÂMETROS!$F$6*$C137^2+PARÂMETROS!$F$6*PARÂMETROS!$G$6*$C137+PARÂMETROS!$F$6*PARÂMETROS!$G$6*PARÂMETROS!$H$6)","v":{"v":0.9999999999999988,"d":"1.00E+00"}},{"$f":"$C137/($C137+PARÂMETROS!$J$6)","v":{"v":5.4407171889388775E-15,"d":"5.44E-15"}},{"$f":"$C137*PARÂMETROS!$J$6/($C137^2+$C137*PARÂMETROS!$J$6+PARÂMETROS!$J$6*PARÂMETROS!$K$6)","v":{"v":0.9999999999999946,"d":"1.00E+00"}},{"$f":"$C137^2/($C137^2+$C137*PARÂMETROS!$J$6+PARÂMETROS!$J$6*PARÂMETROS!$K$6)","v":{"v":5.4407171889388775E-15,"d":"5.44E-15"}},{"$f":"(PARÂMETROS!$K$6*PARÂMETROS!$J$6*$C137)/($C137^3+PARÂMETROS!$J$6*$C137^2+PARÂMETROS!$J$6*PARÂMETROS!$K$6*$C137+PARÂMETROS!$J$6*PARÂMETROS!$K$6*PARÂMETROS!$L$6)","v":{"v":0,"d":"0.00E+00"}},{"$f":"(PARÂMETROS!$J$6*$C137^2)/($C137^3+PARÂMETROS!$J$6*$C137^2+PARÂMETROS!$J$6*PARÂMETROS!$K$6*$C137+PARÂMETROS!$J$6*PARÂMETROS!$K$6*PARÂMETROS!$L$6)","v":{"v":0.9999999999999946,"d":"1.00E+00"}},{"$f":"($C137^3)/($C137^3+PARÂMETROS!$J$6*$C137^2+PARÂMETROS!$J$6*PARÂMETROS!$K$6*$C137+PARÂMETROS!$J$6*PARÂMETROS!$K$6*PARÂMETROS!$L$6)","v":{"v":5.4407171889388775E-15,"d":"5.44E-15"}},{"$f":"IF(PARÂMETROS!$J$6<PARÂMETROS!$F$6,(E137-(C137-D137)/PARÂMETROS!$C$11)/(K137+(C137-D137)/PARÂMETROS!$C$14),(K137+(C137-D137)/PARÂMETROS!$C$14)/(E137-(C137-D137)/PARÂMETROS!$C$11))","v":{"v":-2.500000000000027,"d":"-2.50E+00"}},{"$f":"IF(PARÂMETROS!$J$6<PARÂMETROS!$F$6,(E137-(C137-D137)/PARÂMETROS!$C$11)/(L137+2*M137+(C137-D137)/PARÂMETROS!$C$14),(L137+2*M137+(C137-D137)/PARÂMETROS!$C$14)/(E137-(C137-D137)/PARÂMETROS!$C$11))","v":{"v":-2.500000000000095,"d":"-2.50E+00"}},{"$f":"IF(PARÂMETROS!$J$6<PARÂMETROS!$F$6, (E137-(C137-D137)/PARÂMETROS!$C$11)/(N137+2*O137+3*P137+(C137-D137)/PARÂMETROS!$C$14),(N137+2*O137+3*P137+(C137-D137)/PARÂMETROS!$C$14)/ (E137-(C137-D137)/PARÂMETROS!$C$11))","v":{"v":-2.500000000000163,"d":"-2.50E+00"}},{"$f":"IF(PARÂMETROS!$J$6<PARÂMETROS!$F$6,(F137+2*G137-(C137-D137)/PARÂMETROS!$C$11)/(K137+(C137-D137)/PARÂMETROS!$C$14),(K137+(C137-D137)/PARÂMETROS!$C$14)/(F137+2*G137-(C137-D137)/PARÂMETROS!$C$11))","v":{"v":-2.500000000000054,"d":"-2.50E+00"}},{"$f":"IF(PARÂMETROS!$J$6<PARÂMETROS!$F$6,(F137+2*G137-(C137-D137)/PARÂMETROS!$C$11)/(L137+2*M137+(C137-D137)/PARÂMETROS!$C$14),(L137+2*M137+(C137-D137)/PARÂMETROS!$C$14)/(F137+2*G137-(C137-D137)/PARÂMETROS!$C$11))","v":{"v":-2.500000000000122,"d":"-2.50E+00"}},{"$f":"IF(PARÂMETROS!$J$6<PARÂMETROS!$F$6,(F137+2*G137-(C137-D137)/PARÂMETROS!$C$11)/(N137+2*O137+3*P137+(C137-D137)/PARÂMETROS!$C$14),(N137+2*O137+3*P137+(C137-D137)/PARÂMETROS!$C$14)/(F137+2*G137-(C137-D137)/PARÂMETROS!$C$11))","v":{"v":-2.50000000000019,"d":"-2.50E+00"}},{"$f":"IF(PARÂMETROS!$J$6<PARÂMETROS!$F$6,(H137+2*I137+3*J137-(C137-D137)/PARÂMETROS!$C$11)/(K137+(C137-D137)/PARÂMETROS!$C$14),(K137+(C137-D137)/PARÂMETROS!$C$14)/(H137+2*I137+3*J137-(C137-D137)/PARÂMETROS!$C$11))","v":{"v":-2.5000000000000813,"d":"-2.50E+00"}},{"$f":"IF(PARÂMETROS!$J$6<PARÂMETROS!$F$6,(H137+2*I137+3*J137-(C137-D137)/PARÂMETROS!$C$11)/(L137+2*M137+(C137-D137)/PARÂMETROS!$C$14),(L137+2*M137+(C137-D137)/PARÂMETROS!$C$14)/(H137+2*I137+3*J137-(C137-D137)/PARÂMETROS!$C$11))","v":{"v":-2.500000000000149,"d":"-2.50E+00"}},{"$f":"IF(PARÂMETROS!$J$6<PARÂMETROS!$F$6,(H137+2*I137+3*J137-(C137-D137)/PARÂMETROS!$C$11)/(N137+2*O137+3*P137+(C137-D137)/PARÂMETROS!$C$14),(N137+2*O137+3*P137+(C137-D137)/PARÂMETROS!$C$14)/(H137+2*I137+3*J137-(C137-D137)/PARÂMETROS!$C$11))","v":{"v":-2.5000000000002176,"d":"-2.50E+00"}},{"$f":"Q137*PARÂMETROS!$C$11*PARÂMETROS!$D$11/PARÂMETROS!$C$14","v":{"v":-50.00000000000055,"d":"-50.00"}},{"$f":"R137*PARÂMETROS!$C$11*PARÂMETROS!$D$11/PARÂMETROS!$C$14","v":{"v":-50.0000000000019,"d":"-50.00"}},{"$f":"S137*PARÂMETROS!$C$11*PARÂMETROS!$D$11/PARÂMETROS!$C$14","v":{"v":-50.00000000000326,"d":"-50.00"}},{"$f":"T137*PARÂMETROS!$C$11*PARÂMETROS!$D$11/PARÂMETROS!$C$14","v":{"v":-50.00000000000109,"d":"-50.00"}},{"$f":"U137*PARÂMETROS!$C$11*PARÂMETROS!$D$11/PARÂMETROS!$C$14","v":{"v":-50.000000000002444,"d":"-50.00"}},{"$f":"V137*PARÂMETROS!$C$11*PARÂMETROS!$D$11/PARÂMETROS!$C$14","v":{"v":-50.00000000000381,"d":"-50.00"}},{"$f":"W137*PARÂMETROS!$C$11*PARÂMETROS!$D$11/PARÂMETROS!$C$14","v":{"v":-50.000000000001634,"d":"-50.00"}},{"$f":"X137*PARÂMETROS!$C$11*PARÂMETROS!$D$11/PARÂMETROS!$C$14","v":{"v":-50.000000000002984,"d":"-50.00"}},{"$f":"Y137*PARÂMETROS!$C$11*PARÂMETROS!$D$11/PARÂMETROS!$C$14","v":{"v":-50.00000000000435,"d":"-50.00"}},{"$f":"AND(B137+PARÂMETROS!$C$8>=PARÂMETROS!$C$5,B137+PARÂMETROS!$C$8<=PARÂMETROS!$D$5)","v":false},0,{"$f":"VLOOKUP('BANCO DE DADOS COMPLETA'!$N$8,'BANCO DE DADOS COMPLETA'!$A$7:$L$249,3)*-1","v":3},7,{"$f":"VLOOKUP('BANCO DE DADOS COMPLETA'!$N$10,'BANCO DE DADOS COMPLETA'!$A$7:$L$249,3)*-1","v":1},11,77,{"v":-50.000000000001634,"d":"-50.00"},"LIMITE","LIMITE","LIMITE","LIMITE","NADA","NADA",0]
[null,{"$f":"B137+PARÂMETROS!$C$8","v":{"v":27.46434384834063,"d":"27.46"}},{"v":3.4328604696006417E-28,"d":"3.43E-28"},{"$f":"PARÂMETROS!$Q$4/C138","v":{"v":29130225619578.824,"d":"2.91E+13"}},{"$f":"PARÂMETROS!$F$6/($C138+PARÂMETROS!$F$6)","v":{"v":1,"d":"1.00E+00"}},{"$f":"$C138*PARÂMETROS!$F$6/($C138^2+$C138*PARÂMETROS!$F$6+PARÂMETROS!$F$6*PARÂMETROS!$G$6)","v":{"v":5.428203886644829e-21,"d":"5.43E-21"}},{"$f":"PARÂMETROS!$F$6*PARÂMETROS!$G$6/($C138^2+$C138*PARÂMETROS!$F$6+PARÂMETROS!$F$6*PARÂMETROS!$G$6)","v":{"v":1,"d":"1.00E+00"}},{"$f":"(PARÂMETROS!$F$6*$C138^2)/($C138^3+PARÂMETROS!$F$6*$C138^2+PARÂMETROS!$F$6*PARÂMETROS!$G$6*$C138+PARÂMETROS!$F$6*PARÂMETROS!$G$6*PARÂMETROS!$H$6)","v":{"v":4.171692641241659e-36,"d":"4.17E-36"}},{"$f":"(PARÂMETROS!$F$6*PARÂMETROS!$G$6*$C138)/($C138^3+PARÂMETROS!$F$6*$C138^2+PARÂMETROS!$F$6*PARÂMETROS!$G$6*$C138+PARÂMETROS!$F$6*PARÂMETROS!$G$6*PARÂMETROS!$H$6)","v":{"v":7.685217299050608e-16,"d":"7.69E-16"}},{"$f":"(PARÂMETROS!$F$6*PARÂMETROS!$G$6*PARÂMETROS!$H$6)/($C138^3+PARÂMETROS!$F$6*$C138^2+PARÂMETROS!$F$6*PARÂMETROS!$G$6*$C138+PARÂMETROS!$F$6*PARÂMETROS!$G$6*PARÂMETROS!$H$6)","v":{"v":0.9999999999999992,"d":"1.00E+00"}},{"$f":"$C138/($C138+PARÂMETROS!$J$6)","v":{"v":3.43286046960063e-15,"d":"3.43E-15"}},{"$f":"$C138*PARÂMETROS!$J$6/($C138^2+$C138*PARÂMETROS!$J$6+PARÂMETROS!$J$6*PARÂMETROS!$K$6)","v":{"v":0.9999999999999966,"d":"1.00E+00"}},{"$f":"$C138^2/($C138^2+$C138*PARÂMETROS!$J$6+PARÂMETROS!$J$6*PARÂMETROS!$K$6)","v":{"v":3.43286046960063e-15,"d":"3.43E-15"}},{"$f":"(PARÂMETROS!$K$6*PARÂMETROS!$J$6*$C138)/($C138^3+PARÂMETROS!$J$6*$C138^2+PARÂMETROS!$J$6*PARÂMETROS!$K$6*$C138+PARÂMETROS!$J$6*PARÂMETROS!$K$6*PARÂMETROS!$L$6)","v":{"v":0,"d":"0.00E+00"}},{"$f":"(PARÂMETROS!$J$6*$C138^2)/($C138^3+PARÂMETROS!$J$6*$C138^2+PARÂMETROS!$J$6*PARÂMETROS!$K$6*$C138+PARÂMETROS!$J$6*PARÂMETROS!$K$6*PARÂMETROS!$L$6)","v":{"v":0.9999999999999966,"d":"1.00E+00"}},{"$f":"($C138^3)/($C138^3+PARÂMETROS!$J$6*$C138^2+PARÂMETROS!$J$6*PARÂMETROS!$K$6*$C138+PARÂMETROS!$J$6*PARÂMETROS!$K$6*PARÂMETROS!$L$6)","v":{"v":3.4328604696006296E-15,"d":"3.43E-15"}},{"$f":"IF(PARÂMETROS!$J$6<PARÂMETROS!$F$6,(E138-(C138-D138)/PARÂMETROS!$C$11)/(K138+(C138-D138)/PARÂMETROS!$C$14),(K138+(C138-D138)/PARÂMETROS!$C$14)/(E138-(C138-D138)/PARÂMETROS!$C$11))","v":{"v":-2.5000000000000173,"d":"-2.50E+00"}},{"$f":"IF(PARÂMETROS!$J$6<PARÂMETROS!$F$6,(E138-(C138-D138)/PARÂMETROS!$C$11)/(L138+2*M138+(C138-D138)/PARÂMETROS!$C$14),(L138+2*M138+(C138-D138)/PARÂMETROS!$C$14)/(E138-(C138-D138)/PARÂMETROS!$C$11))","v":{"v":-2.50000000000006,"d":"-2.50E+00"}},{"$f":"IF(PARÂMETROS!$J$6<PARÂMETROS!$F$6, (E138-(C138-D138)/PARÂMETROS!$C$11)/(N138+2*O138+3*P138+(C138-D138)/PARÂMETROS!$C$14),(N138+2*O138+3*P138+(C138-D138)/PARÂMETROS!$C$14)/ (E138-(C138-D138)/PARÂMETROS!$C$11))","v":{"v":-2.500000000000103,"d":"-2.50E+00"}},{"$f":"IF(PARÂMETROS!$J$6<PARÂMETROS!$F$6,(F138+2*G138-(C138-D138)/PARÂMETROS!$C$11)/(K138+(C138-D138)/PARÂMETROS!$C$14),(K138+(C138-D138)/PARÂMETROS!$C$14)/(F138+2*G138-(C138-D138)/PARÂMETROS!$C$11))","v":{"v":-2.500000000000034,"d":"-2.50E+00"}},{"$f":"IF(PARÂMETROS!$J$6<PARÂMETROS!$F$6,(F138+2*G138-(C138-D138)/PARÂMETROS!$C$11)/(L138+2*M138+(C138-D138)/PARÂMETROS!$C$14),(L138+2*M138+(C138-D138)/PARÂMETROS!$C$14)/(F138+2*G138-(C138-D138)/PARÂMETROS!$C$11))","v":{"v":-2.5000000000000773,"d":"-2.50E+00"}},{"$f":"IF(PARÂMETROS!$J$6<PARÂMETROS!$F$6,(F138+2*G138-(C138-D138)/PARÂMETROS!$C$11)/(N138+2*O138+3*P138+(C138-D138)/PARÂMETROS!$C$14),(N138+2*O138+3*P138+(C138-D138)/PARÂMETROS!$C$14)/(F138+2*G138-(C138-D138)/PARÂMETROS!$C$11))","v":{"v":-2.5000000000001203,"d":"-2.50E+00"}},{"$f":"IF(PARÂMETROS!$J$6<PARÂMETROS!$F$6,(H138+2*I138+3*J138-(C138-D138)/PARÂMETROS!$C$11)/(K138+(C138-D138)/PARÂMETROS!$C$14),(K138+(C138-D138)/PARÂMETROS!$C$14)/(H138+2*I138+3*J138-(C138-D138)/PARÂMETROS!$C$11))","v":{"v":-2.5000000000000515,"d":"-2.50E+00"}},{"$f":"IF(PARÂMETROS!$J$6<PARÂMETROS!$F$6,(H138+2*I138+3*J138-(C138-D138)/PARÂMETROS!$C$11)/(L138+2*M138+(C138-D138)/PARÂMETROS!$C$14),(L138+2*M138+(C138-D138)/PARÂMETROS!$C$14)/(H138+2*I138+3*J138-(C138-D138)/PARÂMETROS!$C$11))","v":{"v":-2.5000000000000946,"d":"-2.50E+00"}},{"$f":"IF(PARÂMETROS!$J$6<PARÂMETROS!$F$6,(H138+2*I138+3*J138-(C138-D138)/PARÂMETROS!$C$11)/(N138+2*O138+3*P138+(C138-D138)/PARÂMETROS!$C$14),(N138+2*O138+3*P138+(C138-D138)/PARÂMETROS!$C$14)/(H138+2*I138+3*J138-(C138-D138)/PARÂMETROS!$C$11))","v":{"v":-2.5000000000001372,"d":"-2.50E+00"}},{"$f":"Q138*PARÂMETROS!$C$11*PARÂMETROS!$D$11/PARÂMETROS!$C$14","v":{"v":-50.00000000000034,"d":"-50.00"}},{"$f":"R138*PARÂMETROS!$C$11*PARÂMETROS!$D$11/PARÂMETROS!$C$14","v":{"v":-50.0000000000012,"d":"-50.00"}},{"$f":"S138*PARÂMETROS!$C$11*PARÂMETROS!$D$11/PARÂMETROS!$C$14","v":{"v":-50.00000000000207,"d":"-50.00"}},{"$f":"T138*PARÂMETROS!$C$11*PARÂMETROS!$D$11/PARÂMETROS!$C$14","v":{"v":-50.00000000000069,"d":"-50.00"}},{"$f":"U138*PARÂMETROS!$C$11*PARÂMETROS!$D$11/PARÂMETROS!$C$14","v":{"v":-50.00000000000154,"d":"-50.00"}},{"$f":"V138*PARÂMETROS!$C$11*PARÂMETROS!$D$11/PARÂMETROS!$C$14","v":{"v":-50.00000000000241,"d":"-50.00"}},{"$f":"W138*PARÂMETROS!$C$11*PARÂMETROS!$D$11/PARÂMETROS!$C$14","v":{"v":-50.00000000000103,"d":"-50.00"}},{"$f":"X138*PARÂMETROS!$C$11*PARÂMETROS!$D$11/PARÂMETROS!$C$14","v":{"v":-50.0000000000019,"d":"-50.00"}},{"$f":"Y138*PARÂMETROS!$C$11*PARÂMETROS!$D$11/PARÂMETROS!$C$14","v":{"v":-50.00000000000274,"d":"-50.00"}},{"$f":"AND(B138+PARÂMETROS!$C$8>=PARÂMETROS!$C$5,B138+PARÂMETROS!$C$8<=PARÂMETROS!$D$5)","v":false},0,{"$f":"VLOOKUP('BANCO DE DADOS COMPLETA'!$N$8,'BANCO DE DADOS COMPLETA'!$A$7:$L$249,3)*-1","v":3},7,{"$f":"VLOOKUP('BANCO DE DADOS COMPLETA'!$N$10,'BANCO DE DADOS COMPLETA'!$A$7:$L$249,3)*-1","v":1},11,77,{"v":-50.00000000000103,"d":"-50.00"},"LIMITE","LIMITE","LIMITE","LIMITE","NADA",{"$f":"IF(AU137=\"NADA\",\"NADA\",IF(AU138=\"NADA\",\"NADA\",AVERAGE(AU138,AU137)))","v":"NADA"},{"$f":"IF(AV138=\"NADA\",0,1)","v":0}]
[null,{"$f":"B138+PARÂMETROS!$C$8","v":{"v":27.66434384834063,"d":"27.66"}},{"v":2.165988525870254E-28,"d":"2.17E-28"},{"$f":"PARÂMETROS!$Q$4/C139","v":{"v":46168296279326.71,"d":"4.62E+13"}},{"$f":"PARÂMETROS!$F$6/($C139+PARÂMETROS!$F$6)","v":{"v":1,"d":"1.00E+00"}},{"$f":"$C139*PARÂMETROS!$F$6/($C139^2+$C139*PARÂMETROS!$F$6+PARÂMETROS!$F$6*PARÂMETROS!$G$6)","v":{"v":3.424965109614492e-21,"d":"3.42E-21"}},{"$f":"PARÂMETROS!$F$6*PARÂMETROS!$G$6/($C139^2+$C139*PARÂMETROS!$F$6+PARÂMETROS!$F$6*PARÂMETROS!$G$6)","v":{"v":1,"d":"1.00E+00"}},{"$f":"(PARÂMETROS!$F$6*$C139^2)/($C139^3+PARÂMETROS!$F$6*$C139^2+PARÂMETROS!$F$6*PARÂMETROS!$G$6*$C139+PARÂMETROS!$F$6*PARÂMETROS!$G$6*PARÂMETROS!$H$6)","v":{"v":1.660780753823569E-36,"d":"1.66E-36"}},{"$f":"(PARÂMETROS!$F$6*PARÂMETROS!$G$6*$C139)/($C139^3+PARÂMETROS!$F$6*$C139^2+PARÂMETROS!$F$6*PARÂMETROS!$G$6*$C139+PARÂMETROS!$F$6*PARÂMETROS!$G$6*PARÂMETROS!$H$6)","v":{"v":4.849044298762225e-16,"d":"4.85E-16"}},{"$f":"(PARÂMETROS!$F$6*PARÂMETROS!$G$6*PARÂMETROS!$H$6)/($C139^3+PARÂMETROS!$F$6*$C139^2+PARÂMETROS!$F$6*PARÂMETROS!$G$6*$C139+PARÂMETROS!$F$6*PARÂMETROS!$G$6*PARÂMETROS!$H$6)","v":{"v":0.9999999999999996,"d":"1.00E+00"}},{"$f":"$C139/($C139+PARÂMETROS!$J$6)","v":{"v":2.1659885258702494E-15,"d":"2.17E-15"}},{"$f":"$C139*PARÂMETROS!$J$6/($C139^2+$C139*PARÂMETROS!$J$6+PARÂMETROS!$J$6*PARÂMETROS!$K$6)","v":{"v":0.9999999999999979,"d":"1.00E+00"}},{"$f":"$C139^2/($C139^2+$C139*PARÂMETROS!$J$6+PARÂMETROS!$J$6*PARÂMETROS!$K$6)","v":{"v":2.165988525870249e-15,"d":"2.17E-15"}},{"$f":"(PARÂMETROS!$K$6*PARÂMETROS!$J$6*$C139)/($C139^3+PARÂMETROS!$J$6*$C139^2+PARÂMETROS!$J$6*PARÂMETROS!$K$6*$C139+PARÂMETROS!$J$6*PARÂMETROS!$K$6*PARÂMETROS!$L$6)","v":{"v":0,"d":"0.00E+00"}},{"$f":"(PARÂMETROS!$J$6*$C139^2)/($C139^3+PARÂMETROS!$J$6*$C139^2+PARÂMETROS!$J$6*PARÂMETROS!$K$6*$C139+PARÂMETROS!$J$6*PARÂMETROS!$K$6*PARÂMETROS!$L$6)","v":{"v":0.9999999999999978,"d":"1.00E+00"}},{"$f":"($C139^3)/($C139^3+PARÂMETROS!$J$6*$C139^2+PARÂMETROS!$J$6*PARÂMETROS!$K$6*$C139+PARÂMETROS!$J$6*PARÂMETROS!$K$6*PARÂMETROS!$L$6)","v":{"v":2.1659885258702494E-15,"d":"2.17E-15"}},{"$f":"IF(PARÂMETROS!$J$6<PARÂMETROS!$F$6,(E139-(C139-D139)/PARÂMETROS!$C$11)/(K139+(C139-D139)/PARÂMETROS!$C$14),(K139+(C139-D139)/PARÂMETROS!$C$14)/(E139-(C139-D139)/PARÂMETROS!$C$11))","v":{"v":-2.5000000000000107,"d":"-2.50E+00"}},{"$f":"IF(PARÂMETROS!$J$6<PARÂMETROS!$F$6,(E139-(C139-D139)/PARÂMETROS!$C$11)/(L139+2*M139+(C139-D139)/PARÂMETROS!$C$14),(L139+2*M139+(C139-D139)/PARÂMETROS!$C$14)/(E139-(C139-D139)/PARÂMETROS!$C$11))","v":{"v":-2.5000000000000377,"d":"-2.50E+00"}},{"$f":"IF(PARÂMETROS!$J$6<PARÂMETROS!$F$6, (E139-(C139-D139)/PARÂMETROS!$C$11)/(N139+2*O139+3*P139+(C139-D139)/PARÂMETROS!$C$14),(N139+2*O139+3*P139+(C139-D139)/PARÂMETROS!$C$14)/ (E139-(C139-D139)/PARÂMETROS!$C$11))","v":{"v":-2.500000000000065,"d":"-2.50E+00"}},{"$f":"IF(PARÂMETROS!$J$6<PARÂMETROS!$F$6,(F139+2*G139-(C139-D139)/PARÂMETROS!$C$11)/(K139+(C139-D139)/PARÂMETROS!$C$14),(K139+(C139-D139)/PARÂMETROS!$C$14)/(F139+2*G139-(C139-D139)/PARÂMETROS!$C$11))","v":{"v":-2.5000000000000213,"d":"-2.50E+00"}},{"$f":"IF(PARÂMETROS!$J$6<PARÂMETROS!$F$6,(F139+2*G139-(C139-D139)/PARÂMETROS!$C$11)/(L139+2*M139+(C139-D139)/PARÂMETROS!$C$14),(L139+2*M139+(C139-D139)/PARÂMETROS!$C$14)/(F139+2*G139-(C139-D139)/PARÂMETROS!$C$11))","v":{"v":-2.5000000000000484,"d":"-2.50E+00"}},{"$f":"IF(PARÂMETROS!$J$6<PARÂMETROS!$F$6,(F139+2*G139-(C139-D139)/PARÂMETROS!$C$11)/(N139+2*O139+3*P139+(C139-D139)/PARÂMETROS!$C$14),(N139+2*O139+3*P139+(C139-D139)/PARÂMETROS!$C$14)/(F139+2*G139-(C139-D139)/PARÂMETROS!$C$11))","v":{"v":-2.5000000000000755,"d":"-2.50E+00"}},{"$f":"IF(PARÂMETROS!$J$6<PARÂMETROS!$F$6,(H139+2*I139+3*J139-(C139-D139)/PARÂMETROS!$C$11)/(K139+(C139-D139)/PARÂMETROS!$C$14),(K139+(C139-D139)/PARÂMETROS!$C$14)/(H139+2*I139+3*J139-(C139-D139)/PARÂMETROS!$C$11))","v":{"v":-2.5000000000000324,"d":"-2.50E+00"}},{"$f":"IF(PARÂMETROS!$J$6<PARÂMETROS!$F$6,(H139+2*I139+3*J139-(C139-D139)/PARÂMETROS!$C$11)/(L139+2*M139+(C139-D139)/PARÂMETROS!$C$14),(L139+2*M139+(C139-D139)/PARÂMETROS!$C$14)/(H139+2*I139+3*J139-(C139-D139)/PARÂMETROS!$C$11))","v":{"v":-2.5000000000000595,"d":"-2.50E+00"}},{"$f":"IF(PARÂMETROS!$J$6<PARÂMETROS!$F$6,(H139+2*I139+3*J139-(C139-D139)/PARÂMETROS!$C$11)/(N139+2*O139+3*P139+(C139-D139)/PARÂMETROS!$C$14),(N139+2*O139+3*P139+(C139-D139)/PARÂMETROS!$C$14)/(H139+2*I139+3*J139-(C139-D139)/PARÂMETROS!$C$11))","v":{"v":-2.5000000000000866,"d":"-2.50E+00"}},{"$f":"Q139*PARÂMETROS!$C$11*PARÂMETROS!$D$11/PARÂMETROS!$C$14","v":{"v":-50.00000000000021,"d":"-50.00"}},{"$f":"R139*PARÂMETROS!$C$11*PARÂMETROS!$D$11/PARÂMETROS!$C$14","v":{"v":-50.00000000000075,"d":"-50.00"}},{"$f":"S139*PARÂMETROS!$C$11*PARÂMETROS!$D$11/PARÂMETROS!$C$14","v":{"v":-50.0000000000013,"d":"-50.00"}},{"$f":"T139*PARÂMETROS!$C$11*PARÂMETROS!$D$11/PARÂMETROS!$C$14","v":{"v":-50.00000000000043,"d":"-50.00"}},{"$f":"U139*PARÂMETROS!$C$11*PARÂMETROS!$D$11/PARÂMETROS!$C$14","v":{"v":-50.000000000000966,"d":"-50.00"}},{"$f":"V139*PARÂMETROS!$C$11*PARÂMETROS!$D$11/PARÂMETROS!$C$14","v":{"v":-50.000000000001506,"d":"-50.00"}},{"$f":"W139*PARÂMETROS!$C$11*PARÂMETROS!$D$11/PARÂMETROS!$C$14","v":{"v":-50.000000000000654,"d":"-50.00"}},{"$f":"X139*PARÂMETROS!$C$11*PARÂMETROS!$D$11/PARÂMETROS!$C$14","v":{"v":-50.00000000000119,"d":"-50.00"}},{"$f":"Y139*PARÂMETROS!$C$11*PARÂMETROS!$D$11/PARÂMETROS!$C$14","v":{"v":-50.000000000001734,"d":"-50.00"}},{"$f":"AND(B139+PARÂMETROS!$C$8>=PARÂMETROS!$C$5,B139+PARÂMETROS!$C$8<=PARÂMETROS!$D$5)","v":false},0,{"$f":"VLOOKUP('BANCO DE DADOS COMPLETA'!$N$8,'BANCO DE DADOS COMPLETA'!$A$7:$L$249,3)*-1","v":3},7,{"$f":"VLOOKUP('BANCO DE DADOS COMPLETA'!$N$10,'BANCO DE DADOS COMPLETA'!$A$7:$L$249,3)*-1","v":1},11,77,{"v":-50.000000000000654,"d":"-50.00"},"LIMITE","LIMITE","LIMITE","LIMITE",{"$f":"IF(AT138>0,IF(AT140<0,AQ139,\"NADA\"),\"NADA\")","v":"NADA"},"NADA",0]
[null,{"$f":"B139+PARÂMETROS!$C$8","v":{"v":27.864343848340628,"d":"27.86"}},{"v":1.3666463684576665E-28,"d":"1.37E-28"},{"$f":"PARÂMETROS!$Q$4/C140","v":{"v":73171818480632.52,"d":"7.32E+13"}},{"$f":"PARÂMETROS!$F$6/($C140+PARÂMETROS!$F$6)","v":{"v":1,"d":"1.00E+00"}},{"$f":"$C140*PARÂMETROS!$F$6/($C140^2+$C140*PARÂMETROS!$F$6+PARÂMETROS!$F$6*PARÂMETROS!$G$6)","v":{"v":2.1610068904996783E-21,"d":"2.16E-21"}},{"$f":"PARÂMETROS!$F$6*PARÂMETROS!$G$6/($C140^2+$C140*PARÂMETROS!$F$6+PARÂMETROS!$F$6*PARÂMETROS!$G$6)","v":{"v":1,"d":"1.00E+00"}},{"$f":"(PARÂMETROS!$F$6*$C140^2)/($C140^3+PARÂMETROS!$F$6*$C140^2+PARÂMETROS!$F$6*PARÂMETROS!$G$6*$C140+PARÂMETROS!$F$6*PARÂMETROS!$G$6*PARÂMETROS!$H$6)","v":{"v":6.611687268144081e-37,"d":"6.61E-37"}},{"$f":"(PARÂMETROS!$F$6*PARÂMETROS!$G$6*$C140)/($C140^3+PARÂMETROS!$F$6*$C140^2+PARÂMETROS!$F$6*PARÂMETROS!$G$6*$C140+PARÂMETROS!$F$6*PARÂMETROS!$G$6*PARÂMETROS!$H$6)","v":{"v":3.0595401140138407E-16,"d":"3.06E-16"}},{"$f":"(PARÂMETROS!$F$6*PARÂMETROS!$G$6*PARÂMETROS!$H$6)/($C140^3+PARÂMETROS!$F$6*$C140^2+PARÂMETROS!$F$6*PARÂMETROS!$G$6*$C140+PARÂMETROS!$F$6*PARÂMETROS!$G$6*PARÂMETROS!$H$6)","v":{"v":0.9999999999999997,"d":"1.00E+00"}},{"$f":"$C140/($C140+PARÂMETROS!$J$6)","v":{"v":1.3666463684576646E-15,"d":"1.37E-15"}},{"$f":"$C140*PARÂMETROS!$J$6/($C140^2+$C140*PARÂMETROS!$J$6+PARÂMETROS!$J$6*PARÂMETROS!$K$6)","v":{"v":0.9999999999999987,"d":"1.00E+00"}},{"$f":"$C140^2/($C140^2+$C140*PARÂMETROS!$J$6+PARÂMETROS!$J$6*PARÂMETROS!$K$6)","v":{"v":1.3666463684576646E-15,"d":"1.37E-15"}},{"$f":"(PARÂMETROS!$K$6*PARÂMETROS!$J$6*$C140)/($C140^3+PARÂMETROS!$J$6*$C140^2+PARÂMETROS!$J$6*PARÂMETROS!$K$6*$C140+PARÂMETROS!$J$6*PARÂMETROS!$K$6*PARÂMETROS!$L$6)","v":{"v":0,"d":"0.00E+00"}},{"$f":"(PARÂMETROS!$J$6*$C140^2)/($C140^3+PARÂMETROS!$J$6*$C140^2+PARÂMETROS!$J$6*PARÂMETROS!$K$6*$C140+PARÂMETROS!$J$6*PARÂMETROS!$K$6*PARÂMETROS!$L$6)","v":{"v":0.9999999999999987,"d":"1.00E+00"}},{"$f":"($C140^3)/($C140^3+PARÂMETROS!$J$6*$C140^2+PARÂMETROS!$J$6*PARÂMETROS!$K$6*$C140+PARÂMETROS!$J$6*PARÂMETROS!$K$6*PARÂMETROS!$L$6)","v":{"v":1.3666463684576646E-15,"d":"1.37E-15"}},{"$f":"IF(PARÂMETROS!$J$6<PARÂMETROS!$F$6,(E140-(C140-D140)/PARÂMETROS!$C$11)/(K140+(C140-D140)/PARÂMETROS!$C$14),(K140+(C140-D140)/PARÂMETROS!$C$14)/(E140-(C140-D140)/PARÂMETROS!$C$11))","v":{"v":-2.5000000000000067,"d":"-2.50E+00"}},{"$f":"IF(PARÂMETROS!$J$6<PARÂMETROS!$F$6,(E140-(C140-D140)/PARÂMETROS!$C$11)/(L140+2*M140+(C140-D140)/PARÂMETROS!$C$14),(L140+2*M140+(C140-D140)/PARÂMETROS!$C$14)/(E140-(C140-D140)/PARÂMETROS!$C$11))","v":{"v":-2.500000000000024,"d":"-2.50E+00"}},{"$f":"IF(PARÂMETROS!$J$6<PARÂMETROS!$F$6, (E140-(C140-D140)/PARÂMETROS!$C$11)/(N140+2*O140+3*P140+(C140-D140)/PARÂMETROS!$C$14),(N140+2*O140+3*P140+(C140-D140)/PARÂMETROS!$C$14)/ (E140-(C140-D140)/PARÂMETROS!$C$11))","v":{"v":-2.500000000000041,"d":"-2.50E+00"}},{"$f":"IF(PARÂMETROS!$J$6<PARÂMETROS!$F$6,(F140+2*G140-(C140-D140)/PARÂMETROS!$C$11)/(K140+(C140-D140)/PARÂMETROS!$C$14),(K140+(C140-D140)/PARÂMETROS!$C$14)/(F140+2*G140-(C140-D140)/PARÂMETROS!$C$11))","v":{"v":-2.5000000000000138,"d":"-2.50E+00"}},{"$f":"IF(PARÂMETROS!$J$6<PARÂMETROS!$F$6,(F140+2*G140-(C140-D140)/PARÂMETROS!$C$11)/(L140+2*M140+(C140-D140)/PARÂMETROS!$C$14),(L140+2*M140+(C140-D140)/PARÂMETROS!$C$14)/(F140+2*G140-(C140-D140)/PARÂMETROS!$C$11))","v":{"v":-2.5000000000000306,"d":"-2.50E+00"}},{"$f":"IF(PARÂMETROS!$J$6<PARÂMETROS!$F$6,(F140+2*G140-(C140-D140)/PARÂMETROS!$C$11)/(N140+2*O140+3*P140+(C140-D140)/PARÂMETROS!$C$14),(N140+2*O140+3*P140+(C140-D140)/PARÂMETROS!$C$14)/(F140+2*G140-(C140-D140)/PARÂMETROS!$C$11))","v":{"v":-2.5000000000000475,"d":"-2.50E+00"}},{"$f":"IF(PARÂMETROS!$J$6<PARÂMETROS!$F$6,(H140+2*I140+3*J140-(C140-D140)/PARÂMETROS!$C$11)/(K140+(C140-D140)/PARÂMETROS!$C$14),(K140+(C140-D140)/PARÂMETROS!$C$14)/(H140+2*I140+3*J140-(C140-D140)/PARÂMETROS!$C$11))","v":{"v":-2.5000000000000204,"d":"-2.50E+00"}},{"$f":"IF(PARÂMETROS!$J$6<PARÂMETROS!$F$6,(H140+2*I140+3*J140-(C140-D140)/PARÂMETROS!$C$11)/(L140+2*M140+(C140-D140)/PARÂMETROS!$C$14),(L140+2*M140+(C140-D140)/PARÂMETROS!$C$14)/(H140+2*I140+3*J140-(C140-D140)/PARÂMETROS!$C$11))","v":{"v":-2.5000000000000373,"d":"-2.50E+00"}},{"$f":"IF(PARÂMETROS!$J$6<PARÂMETROS!$F$6,(H140+2*I140+3*J140-(C140-D140)/PARÂMETROS!$C$11)/(N140+2*O140+3*P140+(C140-D140)/PARÂMETROS!$C$14),(N140+2*O140+3*P140+(C140-D140)/PARÂMETROS!$C$14)/(H140+2*I140+3*J140-(C140-D140)/PARÂMETROS!$C$11))","v":{"v":-2.5000000000000546,"d":"-2.50E+00"}},{"$f":"Q140*PARÂMETROS!$C$11*PARÂMETROS!$D$11/PARÂMETROS!$C$14","v":{"v":-50.000000000000135,"d":"-50.00"}},{"$f":"R140*PARÂMETROS!$C$11*PARÂMETROS!$D$11/PARÂMETROS!$C$14","v":{"v":-50.000000000000476,"d":"-50.00"}},{"$f":"S140*PARÂMETROS!$C$11*PARÂMETROS!$D$11/PARÂMETROS!$C$14","v":{"v":-50.000000000000824,"d":"-50.00"}},{"$f":"T140*PARÂMETROS!$C$11*PARÂMETROS!$D$11/PARÂMETROS!$C$14","v":{"v":-50.00000000000028,"d":"-50.00"}},{"$f":"U140*PARÂMETROS!$C$11*PARÂMETROS!$D$11/PARÂMETROS!$C$14","v":{"v":-50.00000000000061,"d":"-50.00"}},{"$f":"V140*PARÂMETROS!$C$11*PARÂMETROS!$D$11/PARÂMETROS!$C$14","v":{"v":-50.00000000000095,"d":"-50.00"}},{"$f":"W140*PARÂMETROS!$C$11*PARÂMETROS!$D$11/PARÂMETROS!$C$14","v":{"v":-50.00000000000041,"d":"-50.00"}},{"$f":"X140*PARÂMETROS!$C$11*PARÂMETROS!$D$11/PARÂMETROS!$C$14","v":{"v":-50.000000000000746,"d":"-50.00"}},{"$f":"Y140*PARÂMETROS!$C$11*PARÂMETROS!$D$11/PARÂMETROS!$C$14","v":{"v":-50.0000000000011,"d":"-50.00"}},{"$f":"AND(B140+PARÂMETROS!$C$8>=PARÂMETROS!$C$5,B140+PARÂMETROS!$C$8<=PARÂMETROS!$D$5)","v":false},0,{"$f":"VLOOKUP('BANCO DE DADOS COMPLETA'!$N$8,'BANCO DE DADOS COMPLETA'!$A$7:$L$249,3)*-1","v":3},7,{"$f":"VLOOKUP('BANCO DE DADOS COMPLETA'!$N$10,'BANCO DE DADOS COMPLETA'!$A$7:$L$249,3)*-1","v":1},11,77,{"v":-50.00000000000041,"d":"-50.00"},"LIMITE","LIMITE","LIMITE","LIMITE","NADA","NADA",0]
[null,{"$f":"B140+PARÂMETROS!$C$8","v":{"v":28.064343848340627,"d":"28.06"}},{"$f":"10^(-B141)","v":{"v":8.622955634855506e-29,"d":"8.62E-29"}},{"$f":"PARÂMETROS!$Q$4/C141","v":{"v":115969516989954.56,"d":"1.16E+14"}},{"$f":"PARÂMETROS!$F$6/($C141+PARÂMETROS!$F$6)","v":{"v":1,"d":"1.00E+00"}},{"$f":"$C141*PARÂMETROS!$F$6/($C141^2+$C141*PARÂMETROS!$F$6+PARÂMETROS!$F$6*PARÂMETROS!$G$6)","v":{"v":1.363503169033079E-21,"d":"1.36E-21"}},{"$f":"PARÂMETROS!$F$6*PARÂMETROS!$G$6/($C141^2+$C141*PARÂMETROS!$F$6+PARÂMETROS!$F$6*PARÂMETROS!$G$6)","v":{"v":1,"d":"1.00E+00"}},{"$f":"(PARÂMETROS!$F$6*$C141^2)/($C141^3+PARÂMETROS!$F$6*$C141^2+PARÂMETROS!$F$6*PARÂMETROS!$G$6*$C141+PARÂMETROS!$F$6*PARÂMETROS!$G$6*PARÂMETROS!$H$6)","v":{"v":2.6321601109054323E-37,"d":"2.63E-37"}},{"$f":"(PARÂMETROS!$F$6*PARÂMETROS!$G$6*$C141)/($C141^3+PARÂMETROS!$F$6*$C141^2+PARÂMETROS!$F$6*PARÂMETROS!$G$6*$C141+PARÂMETROS!$F$6*PARÂMETROS!$G$6*PARÂMETROS!$H$6)","v":{"v":1.9304393056688046E-16,"d":"1.93E-16"}},{"$f":"(PARÂMETROS!$F$6*PARÂMETROS!$G$6*PARÂMETROS!$H$6)/($C141^3+PARÂMETROS!$F$6*$C141^2+PARÂMETROS!$F$6*PARÂMETROS!$G$6*$C141+PARÂMETROS!$F$6*PARÂMETROS!$G$6*PARÂMETROS!$H$6)","v":{"v":0.9999999999999998,"d":"1.00E+00"}},{"$f":"$C141/($C141+PARÂMETROS!$J$6)","v":{"v":8.622955634855498E-16,"d":"8.62E-16"}},{"$f":"$C141*PARÂMETROS!$J$6/($C141^2+$C141*PARÂMETROS!$J$6+PARÂMETROS!$J$6*PARÂMETROS!$K$6)","v":{"v":0.9999999999999991,"d":"1.00E+00"}},{"$f":"$C141^2/($C141^2+$C141*PARÂMETROS!$J$6+PARÂMETROS!$J$6*PARÂMETROS!$K$6)","v":{"v":8.622955634855498E-16,"d":"8.62E-16"}},{"$f":"(PARÂMETROS!$K$6*PARÂMETROS!$J$6*$C141)/($C141^3+PARÂMETROS!$J$6*$C141^2+PARÂMETROS!$J$6*PARÂMETROS!$K$6*$C141+PARÂMETROS!$J$6*PARÂMETROS!$K$6*PARÂMETROS!$L$6)","v":{"v":0,"d":"0.00E+00"}},{"$f":"(PARÂMETROS!$J$6*$C141^2)/($C141^3+PARÂMETROS!$J$6*$C141^2+PARÂMETROS!$J$6*PARÂMETROS!$K$6*$C141+PARÂMETROS!$J$6*PARÂMETROS!$K$6*PARÂMETROS!$L$6)","v":{"v":0.9999999999999991,"d":"1.00E+00"}},{"$f":"($C141^3)/($C141^3+PARÂMETROS!$J$6*$C141^2+PARÂMETROS!$J$6*PARÂMETROS!$K$6*$C141+PARÂMETROS!$J$6*PARÂMETROS!$K$6*PARÂMETROS!$L$6)","v":{"v":8.622955634855499E-16,"d":"8.62E-16"}},{"$f":"IF(PARÂMETROS!$J$6<PARÂMETROS!$F$6,(E141-(C141-D141)/PARÂMETROS!$C$11)/(K141+(C141-D141)/PARÂMETROS!$C$14),(K141+(C141-D141)/PARÂMETROS!$C$14)/(E141-(C141-D141)/PARÂMETROS!$C$11))","v":{"v":-2.500000000000004,"d":"-2.50E+00"}},{"$f":"IF(PARÂMETROS!$J$6<PARÂMETROS!$F$6,(E141-(C141-D141)/PARÂMETROS!$C$11)/(L141+2*M141+(C141-D141)/PARÂMETROS!$C$14),(L141+2*M141+(C141-D141)/PARÂMETROS!$C$14)/(E141-(C141-D141)/PARÂMETROS!$C$11))","v":{"v":-2.5000000000000147,"d":"-2.50E+00"}},{"$f":"IF(PARÂMETROS!$J$6<PARÂMETROS!$F$6, (E141-(C141-D141)/PARÂMETROS!$C$11)/(N141+2*O141+3*P141+(C141-D141)/PARÂMETROS!$C$14),(N141+2*O141+3*P141+(C141-D141)/PARÂMETROS!$C$14)/ (E141-(C141-D141)/PARÂMETROS!$C$11))","v":{"v":-2.5000000000000258,"d":"-2.50E+00"}},{"$f":"IF(PARÂMETROS!$J$6<PARÂMETROS!$F$6,(F141+2*G141-(C141-D141)/PARÂMETROS!$C$11)/(K141+(C141-D141)/PARÂMETROS!$C$14),(K141+(C141-D141)/PARÂMETROS!$C$14)/(F141+2*G141-(C141-D141)/PARÂMETROS!$C$11))","v":{"v":-2.5000000000000084,"d":"-2.50E+00"}},{"$f":"IF(PARÂMETROS!$J$6<PARÂMETROS!$F$6,(F141+2*G141-(C141-D141)/PARÂMETROS!$C$11)/(L141+2*M141+(C141-D141)/PARÂMETROS!$C$14),(L141+2*M141+(C141-D141)/PARÂMETROS!$C$14)/(F141+2*G141-(C141-D141)/PARÂMETROS!$C$11))","v":{"v":-2.500000000000019,"d":"-2.50E+00"}},{"$f":"IF(PARÂMETROS!$J$6<PARÂMETROS!$F$6,(F141+2*G141-(C141-D141)/PARÂMETROS!$C$11)/(N141+2*O141+3*P141+(C141-D141)/PARÂMETROS!$C$14),(N141+2*O141+3*P141+(C141-D141)/PARÂMETROS!$C$14)/(F141+2*G141-(C141-D141)/PARÂMETROS!$C$11))","v":{"v":-2.5000000000000298,"d":"-2.50E+00"}},{"$f":"IF(PARÂMETROS!$J$6<PARÂMETROS!$F$6,(H141+2*I141+3*J141-(C141-D141)/PARÂMETROS!$C$11)/(K141+(C141-D141)/PARÂMETROS!$C$14),(K141+(C141-D141)/PARÂMETROS!$C$14)/(H141+2*I141+3*J141-(C141-D141)/PARÂMETROS!$C$11))","v":{"v":-2.500000000000013,"d":"-2.50E+00"}},{"$f":"IF(PARÂMETROS!$J$6<PARÂMETROS!$F$6,(H141+2*I141+3*J141-(C141-D141)/PARÂMETROS!$C$11)/(L141+2*M141+(C141-D141)/PARÂMETROS!$C$14),(L141+2*M141+(C141-D141)/PARÂMETROS!$C$14)/(H141+2*I141+3*J141-(C141-D141)/PARÂMETROS!$C$11))","v":{"v":-2.5000000000000235,"d":"-2.50E+00"}},{"$f":"IF(PARÂMETROS!$J$6<PARÂMETROS!$F$6,(H141+2*I141+3*J141-(C141-D141)/PARÂMETROS!$C$11)/(N141+2*O141+3*P141+(C141-D141)/PARÂMETROS!$C$14),(N141+2*O141+3*P141+(C141-D141)/PARÂMETROS!$C$14)/(H141+2*I141+3*J141-(C141-D141)/PARÂMETROS!$C$11))","v":{"v":-2.500000000000034,"d":"-2.50E+00"}},{"$f":"Q141*PARÂMETROS!$C$11*PARÂMETROS!$D$11/PARÂMETROS!$C$14","v":{"v":-50.00000000000008,"d":"-50.00"}},{"$f":"R141*PARÂMETROS!$C$11*PARÂMETROS!$D$11/PARÂMETROS!$C$14","v":{"v":-50.0000000000003,"d":"-50.00"}},{"$f":"S141*PARÂMETROS!$C$11*PARÂMETROS!$D$11/PARÂMETROS!$C$14","v":{"v":-50.00000000000052,"d":"-50.00"}},{"$f":"T141*PARÂMETROS!$C$11*PARÂMETROS!$D$11/PARÂMETROS!$C$14","v":{"v":-50.00000000000016,"d":"-50.00"}},{"$f":"U141*PARÂMETROS!$C$11*PARÂMETROS!$D$11/PARÂMETROS!$C$14","v":{"v":-50.00000000000039,"d":"-50.00"}},{"$f":"V141*PARÂMETROS!$C$11*PARÂMETROS!$D$11/PARÂMETROS!$C$14","v":{"v":-50.0000000000006,"d":"-50.00"}},{"$f":"W141*PARÂMETROS!$C$11*PARÂMETROS!$D$11/PARÂMETROS!$C$14","v":{"v":-50.000000000000256,"d":"-50.00"}},{"$f":"X141*PARÂMETROS!$C$11*PARÂMETROS!$D$11/PARÂMETROS!$C$14","v":{"v":-50.000000000000476,"d":"-50.00"}},{"$f":"Y141*PARÂMETROS!$C$11*PARÂMETROS!$D$11/PARÂMETROS!$C$14","v":{"v":-50.00000000000069,"d":"-50.00"}},{"$f":"AND(B141+PARÂMETROS!$C$8>=PARÂMETROS!$C$5,B141+PARÂMETROS!$C$8<=PARÂMETROS!$D$5)","v":false},{"$f":"N(AI141)","v":0},{"$f":"VLOOKUP('BANCO DE DADOS COMPLETA'!$N$8,'BANCO DE DADOS COMPLETA'!$A$7:$L$249,3)*-1","v":3},{"$f":"IF(AK141=1,3,IF(AK141=2,5,IF(AK141=3,7,3)))","v":7},{"$f":"VLOOKUP('BANCO DE DADOS COMPLETA'!$N$10,'BANCO DE DADOS COMPLETA'!$A$7:$L$249,3)*-1","v":1},{"$f":"IF(AM141=1,11,IF(AM141=2,13,IF(AM141=3,17,11)))","v":11},{"$f":"AN141*AL141","v":77},{"$f":"IF(AO141=33,Z141,IF(AO141=39,AA141,IF(AO141=51,AB141,IF(AO141=55,AC141,IF(AO141=65,AD141,IF(AO141=85,AE141,IF(AO141=77,AF141,IF(AO141=91,AG141,IF(AO141=119,AH141)))))))))","v":{"v":-50.000000000000256,"d":"-50.00"}},{"$f":"IF(AP141>=0,IF(AJ141=1,AP141,\"LIMITE\"),\"LIMITE\")","v":"LIMITE"},{"$f":"IF(AJ141=1,B141,\"LIMITE\")","v":"LIMITE"},{"$f":"IF(AQ140=\"LIMITE\",\"LIMITE\",(AR141-AR140)/(AQ141-AQ140))","v":"LIMITE"},{"$f":"IF(AS140=\"LIMITE\",\"LIMITE\",(AS141-AS140)/(AQ140-AQ139))","v":"LIMITE"},"NADA","NADA",0]
[null,{"$f":"B141+PARÂMETROS!$C$8","v":{"v":28.264343848340626,"d":"28.26"}},{"$f":"10^(-B142)","v":{"v":5.440717188938959e-29,"d":"5.44E-29"}},{"$f":"PARÂMETROS!$Q$4/C142","v":{"v":183799298010382.06,"d":"1.84E+14"}},{"$f":"PARÂMETROS!$F$6/($C142+PARÂMETROS!$F$6)","v":{"v":1,"d":"1.00E+00"}},{"$f":"$C142*PARÂMETROS!$F$6/($C142^2+$C142*PARÂMETROS!$F$6+PARÂMETROS!$F$6*PARÂMETROS!$G$6)","v":{"v":8.603123387234413e-22,"d":"8.60E-22"}},{"$f":"PARÂMETROS!$F$6*PARÂMETROS!$G$6/($C142^2+$C142*PARÂMETROS!$F$6+PARÂMETROS!$F$6*PARÂMETROS!$G$6)","v":{"v":1,"d":"1.00E+00"}},{"$f":"(PARÂMETROS!$F$6*$C142^2)/($C142^3+PARÂMETROS!$F$6*$C142^2+PARÂMETROS!$F$6*PARÂMETROS!$G$6*$C142+PARÂMETROS!$F$6*PARÂMETROS!$G$6*PARÂMETROS!$H$6)","v":{"v":1.0478818141963451E-37,"d":"1.05E-37"}},{"$f":"(PARÂMETROS!$F$6*PARÂMETROS!$G$6*$C142)/($C142^3+PARÂMETROS!$F$6*$C142^2+PARÂMETROS!$F$6*PARÂMETROS!$G$6*$C142+PARÂMETROS!$F$6*PARÂMETROS!$G$6*PARÂMETROS!$H$6)","v":{"v":1.2180248579849795E-16,"d":"1.22E-16"}},{"$f":"(PARÂMETROS!$F$6*PARÂMETROS!$G$6*PARÂMETROS!$H$6)/($C142^3+PARÂMETROS!$F$6*$C142^2+PARÂMETROS!$F$6*PARÂMETROS!$G$6*$C142+PARÂMETROS!$F$6*PARÂMETROS!$G$6*PARÂMETROS!$H$6)","v":{"v":0.9999999999999999,"d":"1.00E+00"}},{"$f":"$C142/($C142+PARÂMETROS!$J$6)","v":{"v":5.440717188938956e-16,"d":"5.44E-16"}},{"$f":"$C142*PARÂMETROS!$J$6/($C142^2+$C142*PARÂMETROS!$J$6+PARÂMETROS!$J$6*PARÂMETROS!$K$6)","v":{"v":0.9999999999999994,"d":"1.00E+00"}},{"$f":"$C142^2/($C142^2+$C142*PARÂMETROS!$J$6+PARÂMETROS!$J$6*PARÂMETROS!$K$6)","v":{"v":5.440717188938956e-16,"d":"5.44E-16"}},{"$f":"(PARÂMETROS!$K$6*PARÂMETROS!$J$6*$C142)/($C142^3+PARÂMETROS!$J$6*$C142^2+PARÂMETROS!$J$6*PARÂMETROS!$K$6*$C142+PARÂMETROS!$J$6*PARÂMETROS!$K$6*PARÂMETROS!$L$6)","v":{"v":0,"d":"0.00E+00"}},{"$f":"(PARÂMETROS!$J$6*$C142^2)/($C142^3+PARÂMETROS!$J$6*$C142^2+PARÂMETROS!$J$6*PARÂMETROS!$K$6*$C142+PARÂMETROS!$J$6*PARÂMETROS!$K$6*PARÂMETROS!$L$6)","v":{"v":0.9999999999999993,"d":"1.00E+00"}},{"$f":"($C142^3)/($C142^3+PARÂMETROS!$J$6*$C142^2+PARÂMETROS!$J$6*PARÂMETROS!$K$6*$C142+PARÂMETROS!$J$6*PARÂMETROS!$K$6*PARÂMETROS!$L$6)","v":{"v":5.440717188938956e-16,"d":"5.44E-16"}},{"$f":"IF(PARÂMETROS!$J$6<PARÂMETROS!$F$6,(E142-(C142-D142)/PARÂMETROS!$C$11)/(K142+(C142-D142)/PARÂMETROS!$C$14),(K142+(C142-D142)/PARÂMETROS!$C$14)/(E142-(C142-D142)/PARÂMETROS!$C$11))","v":{"v":-2.5000000000000027,"d":"-2.50E+00"}},{"$f":"IF(PARÂMETROS!$J$6<PARÂMETROS!$F$6,(E142-(C142-D142)/PARÂMETROS!$C$11)/(L142+2*M142+(C142-D142)/PARÂMETROS!$C$14),(L142+2*M142+(C142-D142)/PARÂMETROS!$C$14)/(E142-(C142-D142)/PARÂMETROS!$C$11))","v":{"v":-2.5000000000000093,"d":"-2.50E+00"}},{"$f":"IF(PARÂMETROS!$J$6<PARÂMETROS!$F$6, (E142-(C142-D142)/PARÂMETROS!$C$11)/(N142+2*O142+3*P142+(C142-D142)/PARÂMETROS!$C$14),(N142+2*O142+3*P142+(C142-D142)/PARÂMETROS!$C$14)/ (E142-(C142-D142)/PARÂMETROS!$C$11))","v":{"v":-2.500000000000016,"d":"-2.50E+00"}},{"$f":"IF(PARÂMETROS!$J$6<PARÂMETROS!$F$6,(F142+2*G142-(C142-D142)/PARÂMETROS!$C$11)/(K142+(C142-D142)/PARÂMETROS!$C$14),(K142+(C142-D142)/PARÂMETROS!$C$14)/(F142+2*G142-(C142-D142)/PARÂMETROS!$C$11))","v":{"v":-2.5000000000000053,"d":"-2.50E+00"}},{"$f":"IF(PARÂMETROS!$J$6<PARÂMETROS!$F$6,(F142+2*G142-(C142-D142)/PARÂMETROS!$C$11)/(L142+2*M142+(C142-D142)/PARÂMETROS!$C$14),(L142+2*M142+(C142-D142)/PARÂMETROS!$C$14)/(F142+2*G142-(C142-D142)/PARÂMETROS!$C$11))","v":{"v":-2.500000000000012,"d":"-2.50E+00"}},{"$f":"IF(PARÂMETROS!$J$6<PARÂMETROS!$F$6,(F142+2*G142-(C142-D142)/PARÂMETROS!$C$11)/(N142+2*O142+3*P142+(C142-D142)/PARÂMETROS!$C$14),(N142+2*O142+3*P142+(C142-D142)/PARÂMETROS!$C$14)/(F142+2*G142-(C142-D142)/PARÂMETROS!$C$11))","v":{"v":-2.5000000000000187,"d":"-2.50E+00"}},{"$f":"IF(PARÂMETROS!$J$6<PARÂMETROS!$F$6,(H142+2*I142+3*J142-(C142-D142)/PARÂMETROS!$C$11)/(K142+(C142-D142)/PARÂMETROS!$C$14),(K142+(C142-D142)/PARÂMETROS!$C$14)/(H142+2*I142+3*J142-(C142-D142)/PARÂMETROS!$C$11))","v":{"v":-2.500000000000008,"d":"-2.50E+00"}},{"$f":"IF(PARÂMETROS!$J$6<PARÂMETROS!$F$6,(H142+2*I142+3*J142-(C142-D142)/PARÂMETROS!$C$11)/(L142+2*M142+(C142-D142)/PARÂMETROS!$C$14),(L142+2*M142+(C142-D142)/PARÂMETROS!$C$14)/(H142+2*I142+3*J142-(C142-D142)/PARÂMETROS!$C$11))","v":{"v":-2.5000000000000147,"d":"-2.50E+00"}},{"$f":"IF(PARÂMETROS!$J$6<PARÂMETROS!$F$6,(H142+2*I142+3*J142-(C142-D142)/PARÂMETROS!$C$11)/(N142+2*O142+3*P142+(C142-D142)/PARÂMETROS!$C$14),(N142+2*O142+3*P142+(C142-D142)/PARÂMETROS!$C$14)/(H142+2*I142+3*J142-(C142-D142)/PARÂMETROS!$C$11))","v":{"v":-2.5000000000000218,"d":"-2.50E+00"}},{"$f":"Q142*PARÂMETROS!$C$11*PARÂMETROS!$D$11/PARÂMETROS!$C$14","v":{"v":-50.00000000000006,"d":"-50.00"}},{"$f":"R142*PARÂMETROS!$C$11*PARÂMETROS!$D$11/PARÂMETROS!$C$14","v":{"v":-50.00000000000019,"d":"-50.00"}},{"$f":"S142*PARÂMETROS!$C$11*PARÂMETROS!$D$11/PARÂMETROS!$C$14","v":{"v":-50.00000000000032,"d":"-50.00"}},{"$f":"T142*PARÂMETROS!$C$11*PARÂMETROS!$D$11/PARÂMETROS!$C$14","v":{"v":-50.000000000000114,"d":"-50.00"}},{"$f":"U142*PARÂMETROS!$C$11*PARÂMETROS!$D$11/PARÂMETROS!$C$14","v":{"v":-50.00000000000024,"d":"-50.00"}},{"$f":"V142*PARÂMETROS!$C$11*PARÂMETROS!$D$11/PARÂMETROS!$C$14","v":{"v":-50.00000000000038,"d":"-50.00"}},{"$f":"W142*PARÂMETROS!$C$11*PARÂMETROS!$D$11/PARÂMETROS!$C$14","v":{"v":-50.00000000000016,"d":"-50.00"}},{"$f":"X142*PARÂMETROS!$C$11*PARÂMETROS!$D$11/PARÂMETROS!$C$14","v":{"v":-50.0000000000003,"d":"-50.00"}},{"$f":"Y142*PARÂMETROS!$C$11*PARÂMETROS!$D$11/PARÂMETROS!$C$14","v":{"v":-50.00000000000043,"d":"-50.00"}},{"$f":"AND(B142+PARÂMETROS!$C$8>=PARÂMETROS!$C$5,B142+PARÂMETROS!$C$8<=PARÂMETROS!$D$5)","v":false},{"$f":"N(AI142)","v":0},{"$f":"VLOOKUP('BANCO DE DADOS COMPLETA'!$N$8,'BANCO DE DADOS COMPLETA'!$A$7:$L$249,3)*-1","v":3},{"$f":"IF(AK142=1,3,IF(AK142=2,5,IF(AK142=3,7,3)))","v":7},{"$f":"VLOOKUP('BANCO DE DADOS COMPLETA'!$N$10,'BANCO DE DADOS COMPLETA'!$A$7:$L$249,3)*-1","v":1},{"$f":"IF(AM142=1,11,IF(AM142=2,13,IF(AM142=3,17,11)))","v":11},{"$f":"AN142*AL142","v":77},{"$f":"IF(AO142=33,Z142,IF(AO142=39,AA142,IF(AO142=51,AB142,IF(AO142=55,AC142,IF(AO142=65,AD142,IF(AO142=85,AE142,IF(AO142=77,AF142,IF(AO142=91,AG142,IF(AO142=119,AH142)))))))))","v":{"v":-50.00000000000016,"d":"-50.00"}},{"$f":"IF(AP142>=0,IF(AJ142=1,AP142,\"LIMITE\"),\"LIMITE\")","v":"LIMITE"},{"$f":"IF(AJ142=1,B142,\"LIMITE\")","v":"LIMITE"},{"$f":"IF(AQ141=\"LIMITE\",\"LIMITE\",(AR142-AR141)/(AQ142-AQ141))","v":"LIMITE"},{"$f":"IF(AS141=\"LIMITE\",\"LIMITE\",(AS142-AS141)/(AQ141-AQ140))","v":"LIMITE"},"NADA","NADA",0]
[null,{"$f":"B142+PARÂMETROS!$C$8","v":{"v":28.464343848340626,"d":"28.46"}},{"v":3.432860469600674e-29,"d":"3.43E-29"},{"$f":"PARÂMETROS!$Q$4/C143","v":{"v":291302256195785.5,"d":"2.91E+14"}},{"$f":"PARÂMETROS!$F$6/($C143+PARÂMETROS!$F$6)","v":{"v":1,"d":"1.00E+00"}},{"$f":"$C143*PARÂMETROS!$F$6/($C143^2+$C143*PARÂMETROS!$F$6+PARÂMETROS!$F$6*PARÂMETROS!$G$6)","v":{"v":5.42820388664488e-22,"d":"5.43E-22"}},{"$f":"PARÂMETROS!$F$6*PARÂMETROS!$G$6/($C143^2+$C143*PARÂMETROS!$F$6+PARÂMETROS!$F$6*PARÂMETROS!$G$6)","v":{"v":1,"d":"1.00E+00"}},{"$f":"(PARÂMETROS!$F$6*$C143^2)/($C143^3+PARÂMETROS!$F$6*$C143^2+PARÂMETROS!$F$6*PARÂMETROS!$G$6*$C143+PARÂMETROS!$F$6*PARÂMETROS!$G$6*PARÂMETROS!$H$6)","v":{"v":4.171692641241741e-38,"d":"4.17E-38"}},{"$f":"(PARÂMETROS!$F$6*PARÂMETROS!$G$6*$C143)/($C143^3+PARÂMETROS!$F$6*$C143^2+PARÂMETROS!$F$6*PARÂMETROS!$G$6*$C143+PARÂMETROS!$F$6*PARÂMETROS!$G$6*PARÂMETROS!$H$6)","v":{"v":7.685217299050685e-17,"d":"7.69E-17"}},{"$f":"(PARÂMETROS!$F$6*PARÂMETROS!$G$6*PARÂMETROS!$H$6)/($C143^3+PARÂMETROS!$F$6*$C143^2+PARÂMETROS!$F$6*PARÂMETROS!$G$6*$C143+PARÂMETROS!$F$6*PARÂMETROS!$G$6*PARÂMETROS!$H$6)","v":{"v":0.9999999999999999,"d":"1.00E+00"}},{"$f":"$C143/($C143+PARÂMETROS!$J$6)","v":{"v":3.432860469600673e-16,"d":"3.43E-16"}},{"$f":"$C143*PARÂMETROS!$J$6/($C143^2+$C143*PARÂMETROS!$J$6+PARÂMETROS!$J$6*PARÂMETROS!$K$6)","v":{"v":0.9999999999999997,"d":"1.00E+00"}},{"$f":"$C143^2/($C143^2+$C143*PARÂMETROS!$J$6+PARÂMETROS!$J$6*PARÂMETROS!$K$6)","v":{"v":3.432860469600673e-16,"d":"3.43E-16"}},{"$f":"(PARÂMETROS!$K$6*PARÂMETROS!$J$6*$C143)/($C143^3+PARÂMETROS!$J$6*$C143^2+PARÂMETROS!$J$6*PARÂMETROS!$K$6*$C143+PARÂMETROS!$J$6*PARÂMETROS!$K$6*PARÂMETROS!$L$6)","v":{"v":0,"d":"0.00E+00"}},{"$f":"(PARÂMETROS!$J$6*$C143^2)/($C143^3+PARÂMETROS!$J$6*$C143^2+PARÂMETROS!$J$6*PARÂMETROS!$K$6*$C143+PARÂMETROS!$J$6*PARÂMETROS!$K$6*PARÂMETROS!$L$6)","v":{"v":0.9999999999999996,"d":"1.00E+00"}},{"$f":"($C143^3)/($C143^3+PARÂMETROS!$J$6*$C143^2+PARÂMETROS!$J$6*PARÂMETROS!$K$6*$C143+PARÂMETROS!$J$6*PARÂMETROS!$K$6*PARÂMETROS!$L$6)","v":{"v":3.432860469600673e-16,"d":"3.43E-16"}},{"$f":"IF(PARÂMETROS!$J$6<PARÂMETROS!$F$6,(E143-(C143-D143)/PARÂMETROS!$C$11)/(K143+(C143-D143)/PARÂMETROS!$C$14),(K143+(C143-D143)/PARÂMETROS!$C$14)/(E143-(C143-D143)/PARÂMETROS!$C$11))","v":{"v":-2.5000000000000018,"d":"-2.50E+00"}},{"$f":"IF(PARÂMETROS!$J$6<PARÂMETROS!$F$6,(E143-(C143-D143)/PARÂMETROS!$C$11)/(L143+2*M143+(C143-D143)/PARÂMETROS!$C$14),(L143+2*M143+(C143-D143)/PARÂMETROS!$C$14)/(E143-(C143-D143)/PARÂMETROS!$C$11))","v":{"v":-2.500000000000006,"d":"-2.50E+00"}},{"$f":"IF(PARÂMETROS!$J$6<PARÂMETROS!$F$6, (E143-(C143-D143)/PARÂMETROS!$C$11)/(N143+2*O143+3*P143+(C143-D143)/PARÂMETROS!$C$14),(N143+2*O143+3*P143+(C143-D143)/PARÂMETROS!$C$14)/ (E143-(C143-D143)/PARÂMETROS!$C$11))","v":{"v":-2.50000000000001,"d":"-2.50E+00"}},{"$f":"IF(PARÂMETROS!$J$6<PARÂMETROS!$F$6,(F143+2*G143-(C143-D143)/PARÂMETROS!$C$11)/(K143+(C143-D143)/PARÂMETROS!$C$14),(K143+(C143-D143)/PARÂMETROS!$C$14)/(F143+2*G143-(C143-D143)/PARÂMETROS!$C$11))","v":{"v":-2.5000000000000036,"d":"-2.50E+00"}},{"$f":"IF(PARÂMETROS!$J$6<PARÂMETROS!$F$6,(F143+2*G143-(C143-D143)/PARÂMETROS!$C$11)/(L143+2*M143+(C143-D143)/PARÂMETROS!$C$14),(L143+2*M143+(C143-D143)/PARÂMETROS!$C$14)/(F143+2*G143-(C143-D143)/PARÂMETROS!$C$11))","v":{"v":-2.5000000000000075,"d":"-2.50E+00"}},{"$f":"IF(PARÂMETROS!$J$6<PARÂMETROS!$F$6,(F143+2*G143-(C143-D143)/PARÂMETROS!$C$11)/(N143+2*O143+3*P143+(C143-D143)/PARÂMETROS!$C$14),(N143+2*O143+3*P143+(C143-D143)/PARÂMETROS!$C$14)/(F143+2*G143-(C143-D143)/PARÂMETROS!$C$11))","v":{"v":-2.500000000000012,"d":"-2.50E+00"}},{"$f":"IF(PARÂMETROS!$J$6<PARÂMETROS!$F$6,(H143+2*I143+3*J143-(C143-D143)/PARÂMETROS!$C$11)/(K143+(C143-D143)/PARÂMETROS!$C$14),(K143+(C143-D143)/PARÂMETROS!$C$14)/(H143+2*I143+3*J143-(C143-D143)/PARÂMETROS!$C$11))","v":{"v":-2.5000000000000053,"d":"-2.50E+00"}},{"$f":"IF(PARÂMETROS!$J$6<PARÂMETROS!$F$6,(H143+2*I143+3*J143-(C143-D143)/PARÂMETROS!$C$11)/(L143+2*M143+(C143-D143)/PARÂMETROS!$C$14),(L143+2*M143+(C143-D143)/PARÂMETROS!$C$14)/(H143+2*I143+3*J143-(C143-D143)/PARÂMETROS!$C$11))","v":{"v":-2.5000000000000093,"d":"-2.50E+00"}},{"$f":"IF(PARÂMETROS!$J$6<PARÂMETROS!$F$6,(H143+2*I143+3*J143-(C143-D143)/PARÂMETROS!$C$11)/(N143+2*O143+3*P143+(C143-D143)/PARÂMETROS!$C$14),(N143+2*O143+3*P143+(C143-D143)/PARÂMETROS!$C$14)/(H143+2*I143+3*J143-(C143-D143)/PARÂMETROS!$C$11))","v":{"v":-2.5000000000000138,"d":"-2.50E+00"}},{"$f":"Q143*PARÂMETROS!$C$11*PARÂMETROS!$D$11/PARÂMETROS!$C$14","v":{"v":-50.000000000000036,"d":"-50.00"}},{"$f":"R143*PARÂMETROS!$C$11*PARÂMETROS!$D$11/PARÂMETROS!$C$14","v":{"v":-50.00000000000012,"d":"-50.00"}},{"$f":"S143*PARÂMETROS!$C$11*PARÂMETROS!$D$11/PARÂMETROS!$C$14","v":{"v":-50.00000000000021,"d":"-50.00"}},{"$f":"T143*PARÂMETROS!$C$11*PARÂMETROS!$D$11/PARÂMETROS!$C$14","v":{"v":-50.00000000000008,"d":"-50.00"}},{"$f":"U143*PARÂMETROS!$C$11*PARÂMETROS!$D$11/PARÂMETROS!$C$14","v":{"v":-50.000000000000156,"d":"-50.00"}},{"$f":"V143*PARÂMETROS!$C$11*PARÂMETROS!$D$11/PARÂMETROS!$C$14","v":{"v":-50.00000000000024,"d":"-50.00"}},{"$f":"W143*PARÂMETROS!$C$11*PARÂMETROS!$D$11/PARÂMETROS!$C$14","v":{"v":-50.000000000000114,"d":"-50.00"}},{"$f":"X143*PARÂMETROS!$C$11*PARÂMETROS!$D$11/PARÂMETROS!$C$14","v":{"v":-50.00000000000019,"d":"-50.00"}},{"$f":"Y143*PARÂMETROS!$C$11*PARÂMETROS!$D$11/PARÂMETROS!$C$14","v":{"v":-50.00000000000028,"d":"-50.00"}},{"$f":"AND(B143+PARÂMETROS!$C$8>=PARÂMETROS!$C$5,B143+PARÂMETROS!$C$8<=PARÂMETROS!$D$5)","v":false},0,{"$f":"VLOOKUP('BANCO DE DADOS COMPLETA'!$N$8,'BANCO DE DADOS COMPLETA'!$A$7:$L$249,3)*-1","v":3},7,{"$f":"VLOOKUP('BANCO DE DADOS COMPLETA'!$N$10,'BANCO DE DADOS COMPLETA'!$A$7:$L$249,3)*-1","v":1},11,77,{"v":-50.000000000000114,"d":"-50.00"},"LIMITE","LIMITE","LIMITE","LIMITE","NADA","NADA",0]
[null,{"$f":"B143+PARÂMETROS!$C$8","v":{"v":28.664343848340625,"d":"28.66"}},{"v":2.1659885258702747E-29,"d":"2.17E-29"},{"$f":"PARÂMETROS!$Q$4/C144","v":{"v":461682962793262.75,"d":"4.62E+14"}},{"$f":"PARÂMETROS!$F$6/($C144+PARÂMETROS!$F$6)","v":{"v":1,"d":"1.00E+00"}},{"$f":"$C144*PARÂMETROS!$F$6/($C144^2+$C144*PARÂMETROS!$F$6+PARÂMETROS!$F$6*PARÂMETROS!$G$6)","v":{"v":3.4249651096145247E-22,"d":"3.42E-22"}},{"$f":"PARÂMETROS!$F$6*PARÂMETROS!$G$6/($C144^2+$C144*PARÂMETROS!$F$6+PARÂMETROS!$F$6*PARÂMETROS!$G$6)","v":{"v":1,"d":"1.00E+00"}},{"$f":"(PARÂMETROS!$F$6*$C144^2)/($C144^3+PARÂMETROS!$F$6*$C144^2+PARÂMETROS!$F$6*PARÂMETROS!$G$6*$C144+PARÂMETROS!$F$6*PARÂMETROS!$G$6*PARÂMETROS!$H$6)","v":{"v":1.6607807538236018E-38,"d":"1.66E-38"}},{"$f":"(PARÂMETROS!$F$6*PARÂMETROS!$G$6*$C144)/($C144^3+PARÂMETROS!$F$6*$C144^2+PARÂMETROS!$F$6*PARÂMETROS!$G$6*$C144+PARÂMETROS!$F$6*PARÂMETROS!$G$6*PARÂMETROS!$H$6)","v":{"v":4.849044298762274E-17,"d":"4.85E-17"}},{"$f":"(PARÂMETROS!$F$6*PARÂMETROS!$G$6*PARÂMETROS!$H$6)/($C144^3+PARÂMETROS!$F$6*$C144^2+PARÂMETROS!$F$6*PARÂMETROS!$G$6*$C144+PARÂMETROS!$F$6*PARÂMETROS!$G$6*PARÂMETROS!$H$6)","v":{"v":1,"d":"1.00E+00"}},{"$f":"$C144/($C144+PARÂMETROS!$J$6)","v":{"v":2.165988525870274E-16,"d":"2.17E-16"}},{"$f":"$C144*PARÂMETROS!$J$6/($C144^2+$C144*PARÂMETROS!$J$6+PARÂMETROS!$J$6*PARÂMETROS!$K$6)","v":{"v":0.9999999999999999,"d":"1.00E+00"}},{"$f":"$C144^2/($C144^2+$C144*PARÂMETROS!$J$6+PARÂMETROS!$J$6*PARÂMETROS!$K$6)","v":{"v":2.1659885258702745E-16,"d":"2.17E-16"}},{"$f":"(PARÂMETROS!$K$6*PARÂMETROS!$J$6*$C144)/($C144^3+PARÂMETROS!$J$6*$C144^2+PARÂMETROS!$J$6*PARÂMETROS!$K$6*$C144+PARÂMETROS!$J$6*PARÂMETROS!$K$6*PARÂMETROS!$L$6)","v":{"v":0,"d":"0.00E+00"}},{"$f":"(PARÂMETROS!$J$6*$C144^2)/($C144^3+PARÂMETROS!$J$6*$C144^2+PARÂMETROS!$J$6*PARÂMETROS!$K$6*$C144+PARÂMETROS!$J$6*PARÂMETROS!$K$6*PARÂMETROS!$L$6)","v":{"v":0.9999999999999998,"d":"1.00E+00"}},{"$f":"($C144^3)/($C144^3+PARÂMETROS!$J$6*$C144^2+PARÂMETROS!$J$6*PARÂMETROS!$K$6*$C144+PARÂMETROS!$J$6*PARÂMETROS!$K$6*PARÂMETROS!$L$6)","v":{"v":2.165988525870274E-16,"d":"2.17E-16"}},{"$f":"IF(PARÂMETROS!$J$6<PARÂMETROS!$F$6,(E144-(C144-D144)/PARÂMETROS!$C$11)/(K144+(C144-D144)/PARÂMETROS!$C$14),(K144+(C144-D144)/PARÂMETROS!$C$14)/(E144-(C144-D144)/PARÂMETROS!$C$11))","v":{"v":-2.500000000000001,"d":"-2.50E+00"}},{"$f":"IF(PARÂMETROS!$J$6<PARÂMETROS!$F$6,(E144-(C144-D144)/PARÂMETROS!$C$11)/(L144+2*M144+(C144-D144)/PARÂMETROS!$C$14),(L144+2*M144+(C144-D144)/PARÂMETROS!$C$14)/(E144-(C144-D144)/PARÂMETROS!$C$11))","v":{"v":-2.5000000000000036,"d":"-2.50E+00"}},{"$f":"IF(PARÂMETROS!$J$6<PARÂMETROS!$F$6, (E144-(C144-D144)/PARÂMETROS!$C$11)/(N144+2*O144+3*P144+(C144-D144)/PARÂMETROS!$C$14),(N144+2*O144+3*P144+(C144-D144)/PARÂMETROS!$C$14)/ (E144-(C144-D144)/PARÂMETROS!$C$11))","v":{"v":-2.500000000000006,"d":"-2.50E+00"}},{"$f":"IF(PARÂMETROS!$J$6<PARÂMETROS!$F$6,(F144+2*G144-(C144-D144)/PARÂMETROS!$C$11)/(K144+(C144-D144)/PARÂMETROS!$C$14),(K144+(C144-D144)/PARÂMETROS!$C$14)/(F144+2*G144-(C144-D144)/PARÂMETROS!$C$11))","v":{"v":-2.5000000000000018,"d":"-2.50E+00"}},{"$f":"IF(PARÂMETROS!$J$6<PARÂMETROS!$F$6,(F144+2*G144-(C144-D144)/PARÂMETROS!$C$11)/(L144+2*M144+(C144-D144)/PARÂMETROS!$C$14),(L144+2*M144+(C144-D144)/PARÂMETROS!$C$14)/(F144+2*G144-(C144-D144)/PARÂMETROS!$C$11))","v":{"v":-2.5000000000000044,"d":"-2.50E+00"}},{"$f":"IF(PARÂMETROS!$J$6<PARÂMETROS!$F$6,(F144+2*G144-(C144-D144)/PARÂMETROS!$C$11)/(N144+2*O144+3*P144+(C144-D144)/PARÂMETROS!$C$14),(N144+2*O144+3*P144+(C144-D144)/PARÂMETROS!$C$14)/(F144+2*G144-(C144-D144)/PARÂMETROS!$C$11))","v":{"v":-2.500000000000007,"d":"-2.50E+00"}},{"$f":"IF(PARÂMETROS!$J$6<PARÂMETROS!$F$6,(H144+2*I144+3*J144-(C144-D144)/PARÂMETROS!$C$11)/(K144+(C144-D144)/PARÂMETROS!$C$14),(K144+(C144-D144)/PARÂMETROS!$C$14)/(H144+2*I144+3*J144-(C144-D144)/PARÂMETROS!$C$11))","v":{"v":-2.500000000000003,"d":"-2.50E+00"}},{"$f":"IF(PARÂMETROS!$J$6<PARÂMETROS!$F$6,(H144+2*I144+3*J144-(C144-D144)/PARÂMETROS!$C$11)/(L144+2*M144+(C144-D144)/PARÂMETROS!$C$14),(L144+2*M144+(C144-D144)/PARÂMETROS!$C$14)/(H144+2*I144+3*J144-(C144-D144)/PARÂMETROS!$C$11))","v":{"v":-2.5000000000000058,"d":"-2.50E+00"}},{"$f":"IF(PARÂMETROS!$J$6<PARÂMETROS!$F$6,(H144+2*I144+3*J144-(C144-D144)/PARÂMETROS!$C$11)/(N144+2*O144+3*P144+(C144-D144)/PARÂMETROS!$C$14),(N144+2*O144+3*P144+(C144-D144)/PARÂMETROS!$C$14)/(H144+2*I144+3*J144-(C144-D144)/PARÂMETROS!$C$11))","v":{"v":-2.5000000000000084,"d":"-2.50E+00"}},{"$f":"Q144*PARÂMETROS!$C$11*PARÂMETROS!$D$11/PARÂMETROS!$C$14","v":{"v":-50.00000000000002,"d":"-50.00"}},{"$f":"R144*PARÂMETROS!$C$11*PARÂMETROS!$D$11/PARÂMETROS!$C$14","v":{"v":-50.00000000000008,"d":"-50.00"}},{"$f":"S144*PARÂMETROS!$C$11*PARÂMETROS!$D$11/PARÂMETROS!$C$14","v":{"v":-50.00000000000012,"d":"-50.00"}},{"$f":"T144*PARÂMETROS!$C$11*PARÂMETROS!$D$11/PARÂMETROS!$C$14","v":{"v":-50.000000000000036,"d":"-50.00"}},{"$f":"U144*PARÂMETROS!$C$11*PARÂMETROS!$D$11/PARÂMETROS!$C$14","v":{"v":-50.000000000000085,"d":"-50.00"}},{"$f":"V144*PARÂMETROS!$C$11*PARÂMETROS!$D$11/PARÂMETROS!$C$14","v":{"v":-50.00000000000014,"d":"-50.00"}},{"$f":"W144*PARÂMETROS!$C$11*PARÂMETROS!$D$11/PARÂMETROS!$C$14","v":{"v":-50.000000000000064,"d":"-50.00"}},{"$f":"X144*PARÂMETROS!$C$11*PARÂMETROS!$D$11/PARÂMETROS!$C$14","v":{"v":-50.00000000000012,"d":"-50.00"}},{"$f":"Y144*PARÂMETROS!$C$11*PARÂMETROS!$D$11/PARÂMETROS!$C$14","v":{"v":-50.00000000000016,"d":"-50.00"}},{"$f":"AND(B144+PARÂMETROS!$C$8>=PARÂMETROS!$C$5,B144+PARÂMETROS!$C$8<=PARÂMETROS!$D$5)","v":false},0,{"$f":"VLOOKUP('BANCO DE DADOS COMPLETA'!$N$8,'BANCO DE DADOS COMPLETA'!$A$7:$L$249,3)*-1","v":3},7,{"$f":"VLOOKUP('BANCO DE DADOS COMPLETA'!$N$10,'BANCO DE DADOS COMPLETA'!$A$7:$L$249,3)*-1","v":1},11,77,{"v":-50.000000000000064,"d":"-50.00"},"LIMITE","LIMITE","LIMITE","LIMITE","NADA","NADA",0]
[null,{"$f":"B144+PARÂMETROS!$C$8","v":{"v":28.864343848340624,"d":"28.86"}},{"v":1.3666463684576797E-29,"d":"1.37E-29"},{"$f":"PARÂMETROS!$Q$4/C145","v":{"v":731718184806318.1,"d":"7.32E+14"}},{"$f":"PARÂMETROS!$F$6/($C145+PARÂMETROS!$F$6)","v":{"v":1,"d":"1.00E+00"}},{"$f":"$C145*PARÂMETROS!$F$6/($C145^2+$C145*PARÂMETROS!$F$6+PARÂMETROS!$F$6*PARÂMETROS!$G$6)","v":{"v":2.161006890499699E-22,"d":"2.16E-22"}},{"$f":"PARÂMETROS!$F$6*PARÂMETROS!$G$6/($C145^2+$C145*PARÂMETROS!$F$6+PARÂMETROS!$F$6*PARÂMETROS!$G$6)","v":{"v":1,"d":"1.00E+00"}},{"$f":"(PARÂMETROS!$F$6*$C145^2)/($C145^3+PARÂMETROS!$F$6*$C145^2+PARÂMETROS!$F$6*PARÂMETROS!$G$6*$C145+PARÂMETROS!$F$6*PARÂMETROS!$G$6*PARÂMETROS!$H$6)","v":{"v":6.611687268144211e-39,"d":"6.61E-39"}},{"$f":"(PARÂMETROS!$F$6*PARÂMETROS!$G$6*$C145)/($C145^3+PARÂMETROS!$F$6*$C145^2+PARÂMETROS!$F$6*PARÂMETROS!$G$6*$C145+PARÂMETROS!$F$6*PARÂMETROS!$G$6*PARÂMETROS!$H$6)","v":{"v":3.0595401140138715E-17,"d":"3.06E-17"}},{"$f":"(PARÂMETROS!$F$6*PARÂMETROS!$G$6*PARÂMETROS!$H$6)/($C145^3+PARÂMETROS!$F$6*$C145^2+PARÂMETROS!$F$6*PARÂMETROS!$G$6*$C145+PARÂMETROS!$F$6*PARÂMETROS!$G$6*PARÂMETROS!$H$6)","v":{"v":1,"d":"1.00E+00"}},{"$f":"$C145/($C145+PARÂMETROS!$J$6)","v":{"v":1.3666463684576794E-16,"d":"1.37E-16"}},{"$f":"$C145*PARÂMETROS!$J$6/($C145^2+$C145*PARÂMETROS!$J$6+PARÂMETROS!$J$6*PARÂMETROS!$K$6)","v":{"v":0.9999999999999999,"d":"1.00E+00"}},{"$f":"$C145^2/($C145^2+$C145*PARÂMETROS!$J$6+PARÂMETROS!$J$6*PARÂMETROS!$K$6)","v":{"v":1.3666463684576796E-16,"d":"1.37E-16"}},{"$f":"(PARÂMETROS!$K$6*PARÂMETROS!$J$6*$C145)/($C145^3+PARÂMETROS!$J$6*$C145^2+PARÂMETROS!$J$6*PARÂMETROS!$K$6*$C145+PARÂMETROS!$J$6*PARÂMETROS!$K$6*PARÂMETROS!$L$6)","v":{"v":0,"d":"0.00E+00"}},{"$f":"(PARÂMETROS!$J$6*$C145^2)/($C145^3+PARÂMETROS!$J$6*$C145^2+PARÂMETROS!$J$6*PARÂMETROS!$K$6*$C145+PARÂMETROS!$J$6*PARÂMETROS!$K$6*PARÂMETROS!$L$6)","v":{"v":0.9999999999999998,"d":"1.00E+00"}},{"$f":"($C145^3)/($C145^3+PARÂMETROS!$J$6*$C145^2+PARÂMETROS!$J$6*PARÂMETROS!$K$6*$C145+PARÂMETROS!$J$6*PARÂMETROS!$K$6*PARÂMETROS!$L$6)","v":{"v":1.3666463684576794E-16,"d":"1.37E-16"}},{"$f":"IF(PARÂMETROS!$J$6<PARÂMETROS!$F$6,(E145-(C145-D145)/PARÂMETROS!$C$11)/(K145+(C145-D145)/PARÂMETROS!$C$14),(K145+(C145-D145)/PARÂMETROS!$C$14)/(E145-(C145-D145)/PARÂMETROS!$C$11))","v":{"v":-2.5000000000000004,"d":"-2.50E+00"}},{"$f":"IF(PARÂMETROS!$J$6<PARÂMETROS!$F$6,(E145-(C145-D145)/PARÂMETROS!$C$11)/(L145+2*M145+(C145-D145)/PARÂMETROS!$C$14),(L145+2*M145+(C145-D145)/PARÂMETROS!$C$14)/(E145-(C145-D145)/PARÂMETROS!$C$11))","v":{"v":-2.500000000000002,"d":"-2.50E+00"}},{"$f":"IF(PARÂMETROS!$J$6<PARÂMETROS!$F$6, (E145-(C145-D145)/PARÂMETROS!$C$11)/(N145+2*O145+3*P145+(C145-D145)/PARÂMETROS!$C$14),(N145+2*O145+3*P145+(C145-D145)/PARÂMETROS!$C$14)/ (E145-(C145-D145)/PARÂMETROS!$C$11))","v":{"v":-2.500000000000004,"d":"-2.50E+00"}},{"$f":"IF(PARÂMETROS!$J$6<PARÂMETROS!$F$6,(F145+2*G145-(C145-D145)/PARÂMETROS!$C$11)/(K145+(C145-D145)/PARÂMETROS!$C$14),(K145+(C145-D145)/PARÂMETROS!$C$14)/(F145+2*G145-(C145-D145)/PARÂMETROS!$C$11))","v":{"v":-2.5000000000000013,"d":"-2.50E+00"}},{"$f":"IF(PARÂMETROS!$J$6<PARÂMETROS!$F$6,(F145+2*G145-(C145-D145)/PARÂMETROS!$C$11)/(L145+2*M145+(C145-D145)/PARÂMETROS!$C$14),(L145+2*M145+(C145-D145)/PARÂMETROS!$C$14)/(F145+2*G145-(C145-D145)/PARÂMETROS!$C$11))","v":{"v":-2.500000000000003,"d":"-2.50E+00"}},{"$f":"IF(PARÂMETROS!$J$6<PARÂMETROS!$F$6,(F145+2*G145-(C145-D145)/PARÂMETROS!$C$11)/(N145+2*O145+3*P145+(C145-D145)/PARÂMETROS!$C$14),(N145+2*O145+3*P145+(C145-D145)/PARÂMETROS!$C$14)/(F145+2*G145-(C145-D145)/PARÂMETROS!$C$11))","v":{"v":-2.500000000000005,"d":"-2.50E+00"}},{"$f":"IF(PARÂMETROS!$J$6<PARÂMETROS!$F$6,(H145+2*I145+3*J145-(C145-D145)/PARÂMETROS!$C$11)/(K145+(C145-D145)/PARÂMETROS!$C$14),(K145+(C145-D145)/PARÂMETROS!$C$14)/(H145+2*I145+3*J145-(C145-D145)/PARÂMETROS!$C$11))","v":{"v":-2.5000000000000018,"d":"-2.50E+00"}},{"$f":"IF(PARÂMETROS!$J$6<PARÂMETROS!$F$6,(H145+2*I145+3*J145-(C145-D145)/PARÂMETROS!$C$11)/(L145+2*M145+(C145-D145)/PARÂMETROS!$C$14),(L145+2*M145+(C145-D145)/PARÂMETROS!$C$14)/(H145+2*I145+3*J145-(C145-D145)/PARÂMETROS!$C$11))","v":{"v":-2.5000000000000036,"d":"-2.50E+00"}},{"$f":"IF(PARÂMETROS!$J$6<PARÂMETROS!$F$6,(H145+2*I145+3*J145-(C145-D145)/PARÂMETROS!$C$11)/(N145+2*O145+3*P145+(C145-D145)/PARÂMETROS!$C$14),(N145+2*O145+3*P145+(C145-D145)/PARÂMETROS!$C$14)/(H145+2*I145+3*J145-(C145-D145)/PARÂMETROS!$C$11))","v":{"v":-2.5000000000000053,"d":"-2.50E+00"}},{"$f":"Q145*PARÂMETROS!$C$11*PARÂMETROS!$D$11/PARÂMETROS!$C$14","v":{"v":-50.000000000000014,"d":"-50.00"}},{"$f":"R145*PARÂMETROS!$C$11*PARÂMETROS!$D$11/PARÂMETROS!$C$14","v":{"v":-50.00000000000004,"d":"-50.00"}},{"$f":"S145*PARÂMETROS!$C$11*PARÂMETROS!$D$11/PARÂMETROS!$C$14","v":{"v":-50.00000000000008,"d":"-50.00"}},{"$f":"T145*PARÂMETROS!$C$11*PARÂMETROS!$D$11/PARÂMETROS!$C$14","v":{"v":-50.000000000000036,"d":"-50.00"}},{"$f":"U145*PARÂMETROS!$C$11*PARÂMETROS!$D$11/PARÂMETROS!$C$14","v":{"v":-50.000000000000064,"d":"-50.00"}},{"$f":"V145*PARÂMETROS!$C$11*PARÂMETROS!$D$11/PARÂMETROS!$C$14","v":{"v":-50.0000000000001,"d":"-50.00"}},{"$f":"W145*PARÂMETROS!$C$11*PARÂMETROS!$D$11/PARÂMETROS!$C$14","v":{"v":-50.000000000000036,"d":"-50.00"}},{"$f":"X145*PARÂMETROS!$C$11*PARÂMETROS!$D$11/PARÂMETROS!$C$14","v":{"v":-50.00000000000008,"d":"-50.00"}},{"$f":"Y145*PARÂMETROS!$C$11*PARÂMETROS!$D$11/PARÂMETROS!$C$14","v":{"v":-50.000000000000114,"d":"-50.00"}},{"$f":"AND(B145+PARÂMETROS!$C$8>=PARÂMETROS!$C$5,B145+PARÂMETROS!$C$8<=PARÂMETROS!$D$5)","v":false},0,{"$f":"VLOOKUP('BANCO DE DADOS COMPLETA'!$N$8,'BANCO DE DADOS COMPLETA'!$A$7:$L$249,3)*-1","v":3},7,{"$f":"VLOOKUP('BANCO DE DADOS COMPLETA'!$N$10,'BANCO DE DADOS COMPLETA'!$A$7:$L$249,3)*-1","v":1},11,77,{"v":-50.000000000000036,"d":"-50.00"},"LIMITE","LIMITE","LIMITE","LIMITE","NADA","NADA",0]
[null,{"$f":"B145+PARÂMETROS!$C$8","v":{"v":29.064343848340624,"d":"29.06"}},{"v":8.622955634855588e-30,"d":"8.62E-30"},{"$f":"PARÂMETROS!$Q$4/C146","v":{"v":1159695169899534.5,"d":"1.16E+15"}},{"$f":"PARÂMETROS!$F$6/($C146+PARÂMETROS!$F$6)","v":{"v":1,"d":"1.00E+00"}},{"$f":"$C146*PARÂMETROS!$F$6/($C146^2+$C146*PARÂMETROS!$F$6+PARÂMETROS!$F$6*PARÂMETROS!$G$6)","v":{"v":1.3635031690330921E-22,"d":"1.36E-22"}},{"$f":"PARÂMETROS!$F$6*PARÂMETROS!$G$6/($C146^2+$C146*PARÂMETROS!$F$6+PARÂMETROS!$F$6*PARÂMETROS!$G$6)","v":{"v":1,"d":"1.00E+00"}},{"$f":"(PARÂMETROS!$F$6*$C146^2)/($C146^3+PARÂMETROS!$F$6*$C146^2+PARÂMETROS!$F$6*PARÂMETROS!$G$6*$C146+PARÂMETROS!$F$6*PARÂMETROS!$G$6*PARÂMETROS!$H$6)","v":{"v":2.632160110905483e-39,"d":"2.63E-39"}},{"$f":"(PARÂMETROS!$F$6*PARÂMETROS!$G$6*$C146)/($C146^3+PARÂMETROS!$F$6*$C146^2+PARÂMETROS!$F$6*PARÂMETROS!$G$6*$C146+PARÂMETROS!$F$6*PARÂMETROS!$G$6*PARÂMETROS!$H$6)","v":{"v":1.9304393056688234E-17,"d":"1.93E-17"}},{"$f":"(PARÂMETROS!$F$6*PARÂMETROS!$G$6*PARÂMETROS!$H$6)/($C146^3+PARÂMETROS!$F$6*$C146^2+PARÂMETROS!$F$6*PARÂMETROS!$G$6*$C146+PARÂMETROS!$F$6*PARÂMETROS!$G$6*PARÂMETROS!$H$6)","v":{"v":1,"d":"1.00E+00"}},{"$f":"$C146/($C146+PARÂMETROS!$J$6)","v":{"v":8.622955634855587e-17,"d":"8.62E-17"}},{"$f":"$C146*PARÂMETROS!$J$6/($C146^2+$C146*PARÂMETROS!$J$6+PARÂMETROS!$J$6*PARÂMETROS!$K$6)","v":{"v":1,"d":"1.00E+00"}},{"$f":"$C146^2/($C146^2+$C146*PARÂMETROS!$J$6+PARÂMETROS!$J$6*PARÂMETROS!$K$6)","v":{"v":8.622955634855589e-17,"d":"8.62E-17"}},{"$f":"(PARÂMETROS!$K$6*PARÂMETROS!$J$6*$C146)/($C146^3+PARÂMETROS!$J$6*$C146^2+PARÂMETROS!$J$6*PARÂMETROS!$K$6*$C146+PARÂMETROS!$J$6*PARÂMETROS!$K$6*PARÂMETROS!$L$6)","v":{"v":0,"d":"0.00E+00"}},{"$f":"(PARÂMETROS!$J$6*$C146^2)/($C146^3+PARÂMETROS!$J$6*$C146^2+PARÂMETROS!$J$6*PARÂMETROS!$K$6*$C146+PARÂMETROS!$J$6*PARÂMETROS!$K$6*PARÂMETROS!$L$6)","v":{"v":0.9999999999999999,"d":"1.00E+00"}},{"$f":"($C146^3)/($C146^3+PARÂMETROS!$J$6*$C146^2+PARÂMETROS!$J$6*PARÂMETROS!$K$6*$C146+PARÂMETROS!$J$6*PARÂMETROS!$K$6*PARÂMETROS!$L$6)","v":{"v":8.622955634855587e-17,"d":"8.62E-17"}},{"$f":"IF(PARÂMETROS!$J$6<PARÂMETROS!$F$6,(E146-(C146-D146)/PARÂMETROS!$C$11)/(K146+(C146-D146)/PARÂMETROS!$C$14),(K146+(C146-D146)/PARÂMETROS!$C$14)/(E146-(C146-D146)/PARÂMETROS!$C$11))","v":{"v":-2.5,"d":"-2.50E+00"}},{"$f":"IF(PARÂMETROS!$J$6<PARÂMETROS!$F$6,(E146-(C146-D146)/PARÂMETROS!$C$11)/(L146+2*M146+(C146-D146)/PARÂMETROS!$C$14),(L146+2*M146+(C146-D146)/PARÂMETROS!$C$14)/(E146-(C146-D146)/PARÂMETROS!$C$11))","v":{"v":-2.5000000000000013,"d":"-2.50E+00"}},{"$f":"IF(PARÂMETROS!$J$6<PARÂMETROS!$F$6, (E146-(C146-D146)/PARÂMETROS!$C$11)/(N146+2*O146+3*P146+(C146-D146)/PARÂMETROS!$C$14),(N146+2*O146+3*P146+(C146-D146)/PARÂMETROS!$C$14)/ (E146-(C146-D146)/PARÂMETROS!$C$11))","v":{"v":-2.500000000000002,"d":"-2.50E+00"}},{"$f":"IF(PARÂMETROS!$J$6<PARÂMETROS!$F$6,(F146+2*G146-(C146-D146)/PARÂMETROS!$C$11)/(K146+(C146-D146)/PARÂMETROS!$C$14),(K146+(C146-D146)/PARÂMETROS!$C$14)/(F146+2*G146-(C146-D146)/PARÂMETROS!$C$11))","v":{"v":-2.5000000000000004,"d":"-2.50E+00"}},{"$f":"IF(PARÂMETROS!$J$6<PARÂMETROS!$F$6,(F146+2*G146-(C146-D146)/PARÂMETROS!$C$11)/(L146+2*M146+(C146-D146)/PARÂMETROS!$C$14),(L146+2*M146+(C146-D146)/PARÂMETROS!$C$14)/(F146+2*G146-(C146-D146)/PARÂMETROS!$C$11))","v":{"v":-2.5000000000000018,"d":"-2.50E+00"}},{"$f":"IF(PARÂMETROS!$J$6<PARÂMETROS!$F$6,(F146+2*G146-(C146-D146)/PARÂMETROS!$C$11)/(N146+2*O146+3*P146+(C146-D146)/PARÂMETROS!$C$14),(N146+2*O146+3*P146+(C146-D146)/PARÂMETROS!$C$14)/(F146+2*G146-(C146-D146)/PARÂMETROS!$C$11))","v":{"v":-2.5000000000000027,"d":"-2.50E+00"}},{"$f":"IF(PARÂMETROS!$J$6<PARÂMETROS!$F$6,(H146+2*I146+3*J146-(C146-D146)/PARÂMETROS!$C$11)/(K146+(C146-D146)/PARÂMETROS!$C$14),(K146+(C146-D146)/PARÂMETROS!$C$14)/(H146+2*I146+3*J146-(C146-D146)/PARÂMETROS!$C$11))","v":{"v":-2.500000000000001,"d":"-2.50E+00"}},{"$f":"IF(PARÂMETROS!$J$6<PARÂMETROS!$F$6,(H146+2*I146+3*J146-(C146-D146)/PARÂMETROS!$C$11)/(L146+2*M146+(C146-D146)/PARÂMETROS!$C$14),(L146+2*M146+(C146-D146)/PARÂMETROS!$C$14)/(H146+2*I146+3*J146-(C146-D146)/PARÂMETROS!$C$11))","v":{"v":-2.500000000000002,"d":"-2.50E+00"}},{"$f":"IF(PARÂMETROS!$J$6<PARÂMETROS!$F$6,(H146+2*I146+3*J146-(C146-D146)/PARÂMETROS!$C$11)/(N146+2*O146+3*P146+(C146-D146)/PARÂMETROS!$C$14),(N146+2*O146+3*P146+(C146-D146)/PARÂMETROS!$C$14)/(H146+2*I146+3*J146-(C146-D146)/PARÂMETROS!$C$11))","v":{"v":-2.500000000000003,"d":"-2.50E+00"}},{"$f":"Q146*PARÂMETROS!$C$11*PARÂMETROS!$D$11/PARÂMETROS!$C$14","v":{"v":-50,"d":"-50.00"}},{"$f":"R146*PARÂMETROS!$C$11*PARÂMETROS!$D$11/PARÂMETROS!$C$14","v":{"v":-50.000000000000036,"d":"-50.00"}},{"$f":"S146*PARÂMETROS!$C$11*PARÂMETROS!$D$11/PARÂMETROS!$C$14","v":{"v":-50.00000000000004,"d":"-50.00"}},{"$f":"T146*PARÂMETROS!$C$11*PARÂMETROS!$D$11/PARÂMETROS!$C$14","v":{"v":-50.000000000000014,"d":"-50.00"}},{"$f":"U146*PARÂMETROS!$C$11*PARÂMETROS!$D$11/PARÂMETROS!$C$14","v":{"v":-50.000000000000036,"d":"-50.00"}},{"$f":"V146*PARÂMETROS!$C$11*PARÂMETROS!$D$11/PARÂMETROS!$C$14","v":{"v":-50.00000000000006,"d":"-50.00"}},{"$f":"W146*PARÂMETROS!$C$11*PARÂMETROS!$D$11/PARÂMETROS!$C$14","v":{"v":-50.00000000000002,"d":"-50.00"}},{"$f":"X146*PARÂMETROS!$C$11*PARÂMETROS!$D$11/PARÂMETROS!$C$14","v":{"v":-50.00000000000004,"d":"-50.00"}},{"$f":"Y146*PARÂMETROS!$C$11*PARÂMETROS!$D$11/PARÂMETROS!$C$14","v":{"v":-50.000000000000064,"d":"-50.00"}},{"$f":"AND(B146+PARÂMETROS!$C$8>=PARÂMETROS!$C$5,B146+PARÂMETROS!$C$8<=PARÂMETROS!$D$5)","v":false},0,{"$f":"VLOOKUP('BANCO DE DADOS COMPLETA'!$N$8,'BANCO DE DADOS COMPLETA'!$A$7:$L$249,3)*-1","v":3},7,{"$f":"VLOOKUP('BANCO DE DADOS COMPLETA'!$N$10,'BANCO DE DADOS COMPLETA'!$A$7:$L$249,3)*-1","v":1},11,77,{"v":-50.00000000000002,"d":"-50.00"},"LIMITE","LIMITE","LIMITE","LIMITE","NADA","NADA",0]
[null,{"$f":"B146+PARÂMETROS!$C$8","v":{"v":29.264343848340623,"d":"29.26"}},{"v":5.440717188939012e-30,"d":"5.44E-30"},{"$f":"PARÂMETROS!$Q$4/C147","v":{"v":1837992980103803,"d":"1.84E+15"}},{"$f":"PARÂMETROS!$F$6/($C147+PARÂMETROS!$F$6)","v":{"v":1,"d":"1.00E+00"}},{"$f":"$C147*PARÂMETROS!$F$6/($C147^2+$C147*PARÂMETROS!$F$6+PARÂMETROS!$F$6*PARÂMETROS!$G$6)","v":{"v":8.603123387234497e-23,"d":"8.60E-23"}},{"$f":"PARÂMETROS!$F$6*PARÂMETROS!$G$6/($C147^2+$C147*PARÂMETROS!$F$6+PARÂMETROS!$F$6*PARÂMETROS!$G$6)","v":{"v":1,"d":"1.00E+00"}},{"$f":"(PARÂMETROS!$F$6*$C147^2)/($C147^3+PARÂMETROS!$F$6*$C147^2+PARÂMETROS!$F$6*PARÂMETROS!$G$6*$C147+PARÂMETROS!$F$6*PARÂMETROS!$G$6*PARÂMETROS!$H$6)","v":{"v":1.0478818141963657E-39,"d":"1.05E-39"}},{"$f":"(PARÂMETROS!$F$6*PARÂMETROS!$G$6*$C147)/($C147^3+PARÂMETROS!$F$6*$C147^2+PARÂMETROS!$F$6*PARÂMETROS!$G$6*$C147+PARÂMETROS!$F$6*PARÂMETROS!$G$6*PARÂMETROS!$H$6)","v":{"v":1.2180248579849915E-17,"d":"1.22E-17"}},{"$f":"(PARÂMETROS!$F$6*PARÂMETROS!$G$6*PARÂMETROS!$H$6)/($C147^3+PARÂMETROS!$F$6*$C147^2+PARÂMETROS!$F$6*PARÂMETROS!$G$6*$C147+PARÂMETROS!$F$6*PARÂMETROS!$G$6*PARÂMETROS!$H$6)","v":{"v":1,"d":"1.00E+00"}},{"$f":"$C147/($C147+PARÂMETROS!$J$6)","v":{"v":5.440717188939012E-17,"d":"5.44E-17"}},{"$f":"$C147*PARÂMETROS!$J$6/($C147^2+$C147*PARÂMETROS!$J$6+PARÂMETROS!$J$6*PARÂMETROS!$K$6)","v":{"v":1,"d":"1.00E+00"}},{"$f":"$C147^2/($C147^2+$C147*PARÂMETROS!$J$6+PARÂMETROS!$J$6*PARÂMETROS!$K$6)","v":{"v":5.440717188939012E-17,"d":"5.44E-17"}},{"$f":"(PARÂMETROS!$K$6*PARÂMETROS!$J$6*$C147)/($C147^3+PARÂMETROS!$J$6*$C147^2+PARÂMETROS!$J$6*PARÂMETROS!$K$6*$C147+PARÂMETROS!$J$6*PARÂMETROS!$K$6*PARÂMETROS!$L$6)","v":{"v":0,"d":"0.00E+00"}},{"$f":"(PARÂMETROS!$J$6*$C147^2)/($C147^3+PARÂMETROS!$J$6*$C147^2+PARÂMETROS!$J$6*PARÂMETROS!$K$6*$C147+PARÂMETROS!$J$6*PARÂMETROS!$K$6*PARÂMETROS!$L$6)","v":{"v":1,"d":"1.00E+00"}},{"$f":"($C147^3)/($C147^3+PARÂMETROS!$J$6*$C147^2+PARÂMETROS!$J$6*PARÂMETROS!$K$6*$C147+PARÂMETROS!$J$6*PARÂMETROS!$K$6*PARÂMETROS!$L$6)","v":{"v":5.440717188939011e-17,"d":"5.44E-17"}},{"$f":"IF(PARÂMETROS!$J$6<PARÂMETROS!$F$6,(E147-(C147-D147)/PARÂMETROS!$C$11)/(K147+(C147-D147)/PARÂMETROS!$C$14),(K147+(C147-D147)/PARÂMETROS!$C$14)/(E147-(C147-D147)/PARÂMETROS!$C$11))","v":{"v":-2.5000000000000004,"d":"-2.50E+00"}},{"$f":"IF(PARÂMETROS!$J$6<PARÂMETROS!$F$6,(E147-(C147-D147)/PARÂMETROS!$C$11)/(L147+2*M147+(C147-D147)/PARÂMETROS!$C$14),(L147+2*M147+(C147-D147)/PARÂMETROS!$C$14)/(E147-(C147-D147)/PARÂMETROS!$C$11))","v":{"v":-2.500000000000001,"d":"-2.50E+00"}},{"$f":"IF(PARÂMETROS!$J$6<PARÂMETROS!$F$6, (E147-(C147-D147)/PARÂMETROS!$C$11)/(N147+2*O147+3*P147+(C147-D147)/PARÂMETROS!$C$14),(N147+2*O147+3*P147+(C147-D147)/PARÂMETROS!$C$14)/ (E147-(C147-D147)/PARÂMETROS!$C$11))","v":{"v":-2.5000000000000018,"d":"-2.50E+00"}},{"$f":"IF(PARÂMETROS!$J$6<PARÂMETROS!$F$6,(F147+2*G147-(C147-D147)/PARÂMETROS!$C$11)/(K147+(C147-D147)/PARÂMETROS!$C$14),(K147+(C147-D147)/PARÂMETROS!$C$14)/(F147+2*G147-(C147-D147)/PARÂMETROS!$C$11))","v":{"v":-2.5000000000000004,"d":"-2.50E+00"}},{"$f":"IF(PARÂMETROS!$J$6<PARÂMETROS!$F$6,(F147+2*G147-(C147-D147)/PARÂMETROS!$C$11)/(L147+2*M147+(C147-D147)/PARÂMETROS!$C$14),(L147+2*M147+(C147-D147)/PARÂMETROS!$C$14)/(F147+2*G147-(C147-D147)/PARÂMETROS!$C$11))","v":{"v":-2.500000000000001,"d":"-2.50E+00"}},{"$f":"IF(PARÂMETROS!$J$6<PARÂMETROS!$F$6,(F147+2*G147-(C147-D147)/PARÂMETROS!$C$11)/(N147+2*O147+3*P147+(C147-D147)/PARÂMETROS!$C$14),(N147+2*O147+3*P147+(C147-D147)/PARÂMETROS!$C$14)/(F147+2*G147-(C147-D147)/PARÂMETROS!$C$11))","v":{"v":-2.5000000000000018,"d":"-2.50E+00"}},{"$f":"IF(PARÂMETROS!$J$6<PARÂMETROS!$F$6,(H147+2*I147+3*J147-(C147-D147)/PARÂMETROS!$C$11)/(K147+(C147-D147)/PARÂMETROS!$C$14),(K147+(C147-D147)/PARÂMETROS!$C$14)/(H147+2*I147+3*J147-(C147-D147)/PARÂMETROS!$C$11))","v":{"v":-2.5000000000000004,"d":"-2.50E+00"}},{"$f":"IF(PARÂMETROS!$J$6<PARÂMETROS!$F$6,(H147+2*I147+3*J147-(C147-D147)/PARÂMETROS!$C$11)/(L147+2*M147+(C147-D147)/PARÂMETROS!$C$14),(L147+2*M147+(C147-D147)/PARÂMETROS!$C$14)/(H147+2*I147+3*J147-(C147-D147)/PARÂMETROS!$C$11))","v":{"v":-2.500000000000001,"d":"-2.50E+00"}},{"$f":"IF(PARÂMETROS!$J$6<PARÂMETROS!$F$6,(H147+2*I147+3*J147-(C147-D147)/PARÂMETROS!$C$11)/(N147+2*O147+3*P147+(C147-D147)/PARÂMETROS!$C$14),(N147+2*O147+3*P147+(C147-D147)/PARÂMETROS!$C$14)/(H147+2*I147+3*J147-(C147-D147)/PARÂMETROS!$C$11))","v":{"v":-2.5000000000000018,"d":"-2.50E+00"}},{"$f":"Q147*PARÂMETROS!$C$11*PARÂMETROS!$D$11/PARÂMETROS!$C$14","v":{"v":-50.000000000000014,"d":"-50.00"}},{"$f":"R147*PARÂMETROS!$C$11*PARÂMETROS!$D$11/PARÂMETROS!$C$14","v":{"v":-50.00000000000002,"d":"-50.00"}},{"$f":"S147*PARÂMETROS!$C$11*PARÂMETROS!$D$11/PARÂMETROS!$C$14","v":{"v":-50.000000000000036,"d":"-50.00"}},{"$f":"T147*PARÂMETROS!$C$11*PARÂMETROS!$D$11/PARÂMETROS!$C$14","v":{"v":-50.000000000000014,"d":"-50.00"}},{"$f":"U147*PARÂMETROS!$C$11*PARÂMETROS!$D$11/PARÂMETROS!$C$14","v":{"v":-50.00000000000002,"d":"-50.00"}},{"$f":"V147*PARÂMETROS!$C$11*PARÂMETROS!$D$11/PARÂMETROS!$C$14","v":{"v":-50.000000000000036,"d":"-50.00"}},{"$f":"W147*PARÂMETROS!$C$11*PARÂMETROS!$D$11/PARÂMETROS!$C$14","v":{"v":-50.000000000000014,"d":"-50.00"}},{"$f":"X147*PARÂMETROS!$C$11*PARÂMETROS!$D$11/PARÂMETROS!$C$14","v":{"v":-50.00000000000002,"d":"-50.00"}},{"$f":"Y147*PARÂMETROS!$C$11*PARÂMETROS!$D$11/PARÂMETROS!$C$14","v":{"v":-50.000000000000036,"d":"-50.00"}},{"$f":"AND(B147+PARÂMETROS!$C$8>=PARÂMETROS!$C$5,B147+PARÂMETROS!$C$8<=PARÂMETROS!$D$5)","v":false},0,{"$f":"VLOOKUP('BANCO DE DADOS COMPLETA'!$N$8,'BANCO DE DADOS COMPLETA'!$A$7:$L$249,3)*-1","v":3},7,{"$f":"VLOOKUP('BANCO DE DADOS COMPLETA'!$N$10,'BANCO DE DADOS COMPLETA'!$A$7:$L$249,3)*-1","v":1},11,77,{"v":-50.000000000000014,"d":"-50.00"},"LIMITE","LIMITE","LIMITE","LIMITE","NADA","NADA",0]
[null,{"$f":"B147+PARÂMETROS!$C$8","v":{"v":29.464343848340622,"d":"29.46"}},{"v":3.432860469600708e-30,"d":"3.43E-30"},{"$f":"PARÂMETROS!$Q$4/C148","v":{"v":2913022561957826,"d":"2.91E+15"}},{"$f":"PARÂMETROS!$F$6/($C148+PARÂMETROS!$F$6)","v":{"v":1,"d":"1.00E+00"}},{"$f":"$C148*PARÂMETROS!$F$6/($C148^2+$C148*PARÂMETROS!$F$6+PARÂMETROS!$F$6*PARÂMETROS!$G$6)","v":{"v":5.428203886644934e-23,"d":"5.43E-23"}},{"$f":"PARÂMETROS!$F$6*PARÂMETROS!$G$6/($C148^2+$C148*PARÂMETROS!$F$6+PARÂMETROS!$F$6*PARÂMETROS!$G$6)","v":{"v":1,"d":"1.00E+00"}},{"$f":"(PARÂMETROS!$F$6*$C148^2)/($C148^3+PARÂMETROS!$F$6*$C148^2+PARÂMETROS!$F$6*PARÂMETROS!$G$6*$C148+PARÂMETROS!$F$6*PARÂMETROS!$G$6*PARÂMETROS!$H$6)","v":{"v":4.171692641241823e-40,"d":"4.17E-40"}},{"$f":"(PARÂMETROS!$F$6*PARÂMETROS!$G$6*$C148)/($C148^3+PARÂMETROS!$F$6*$C148^2+PARÂMETROS!$F$6*PARÂMETROS!$G$6*$C148+PARÂMETROS!$F$6*PARÂMETROS!$G$6*PARÂMETROS!$H$6)","v":{"v":7.685217299050762e-18,"d":"7.69E-18"}},{"$f":"(PARÂMETROS!$F$6*PARÂMETROS!$G$6*PARÂMETROS!$H$6)/($C148^3+PARÂMETROS!$F$6*$C148^2+PARÂMETROS!$F$6*PARÂMETROS!$G$6*$C148+PARÂMETROS!$F$6*PARÂMETROS!$G$6*PARÂMETROS!$H$6)","v":{"v":1,"d":"1.00E+00"}},{"$f":"$C148/($C148+PARÂMETROS!$J$6)","v":{"v":3.4328604696007076E-17,"d":"3.43E-17"}},{"$f":"$C148*PARÂMETROS!$J$6/($C148^2+$C148*PARÂMETROS!$J$6+PARÂMETROS!$J$6*PARÂMETROS!$K$6)","v":{"v":1,"d":"1.00E+00"}},{"$f":"$C148^2/($C148^2+$C148*PARÂMETROS!$J$6+PARÂMETROS!$J$6*PARÂMETROS!$K$6)","v":{"v":3.4328604696007076E-17,"d":"3.43E-17"}},{"$f":"(PARÂMETROS!$K$6*PARÂMETROS!$J$6*$C148)/($C148^3+PARÂMETROS!$J$6*$C148^2+PARÂMETROS!$J$6*PARÂMETROS!$K$6*$C148+PARÂMETROS!$J$6*PARÂMETROS!$K$6*PARÂMETROS!$L$6)","v":{"v":0,"d":"0.00E+00"}},{"$f":"(PARÂMETROS!$J$6*$C148^2)/($C148^3+PARÂMETROS!$J$6*$C148^2+PARÂMETROS!$J$6*PARÂMETROS!$K$6*$C148+PARÂMETROS!$J$6*PARÂMETROS!$K$6*PARÂMETROS!$L$6)","v":{"v":1,"d":"1.00E+00"}},{"$f":"($C148^3)/($C148^3+PARÂMETROS!$J$6*$C148^2+PARÂMETROS!$J$6*PARÂMETROS!$K$6*$C148+PARÂMETROS!$J$6*PARÂMETROS!$K$6*PARÂMETROS!$L$6)","v":{"v":3.4328604696007076E-17,"d":"3.43E-17"}},{"$f":"IF(PARÂMETROS!$J$6<PARÂMETROS!$F$6,(E148-(C148-D148)/PARÂMETROS!$C$11)/(K148+(C148-D148)/PARÂMETROS!$C$14),(K148+(C148-D148)/PARÂMETROS!$C$14)/(E148-(C148-D148)/PARÂMETROS!$C$11))","v":{"v":-2.5000000000000004,"d":"-2.50E+00"}},{"$f":"IF(PARÂMETROS!$J$6<PARÂMETROS!$F$6,(E148-(C148-D148)/PARÂMETROS!$C$11)/(L148+2*M148+(C148-D148)/PARÂMETROS!$C$14),(L148+2*M148+(C148-D148)/PARÂMETROS!$C$14)/(E148-(C148-D148)/PARÂMETROS!$C$11))","v":{"v":-2.500000000000001,"d":"-2.50E+00"}},{"$f":"IF(PARÂMETROS!$J$6<PARÂMETROS!$F$6, (E148-(C148-D148)/PARÂMETROS!$C$11)/(N148+2*O148+3*P148+(C148-D148)/PARÂMETROS!$C$14),(N148+2*O148+3*P148+(C148-D148)/PARÂMETROS!$C$14)/ (E148-(C148-D148)/PARÂMETROS!$C$11))","v":{"v":-2.5000000000000013,"d":"-2.50E+00"}},{"$f":"IF(PARÂMETROS!$J$6<PARÂMETROS!$F$6,(F148+2*G148-(C148-D148)/PARÂMETROS!$C$11)/(K148+(C148-D148)/PARÂMETROS!$C$14),(K148+(C148-D148)/PARÂMETROS!$C$14)/(F148+2*G148-(C148-D148)/PARÂMETROS!$C$11))","v":{"v":-2.5000000000000004,"d":"-2.50E+00"}},{"$f":"IF(PARÂMETROS!$J$6<PARÂMETROS!$F$6,(F148+2*G148-(C148-D148)/PARÂMETROS!$C$11)/(L148+2*M148+(C148-D148)/PARÂMETROS!$C$14),(L148+2*M148+(C148-D148)/PARÂMETROS!$C$14)/(F148+2*G148-(C148-D148)/PARÂMETROS!$C$11))","v":{"v":-2.500000000000001,"d":"-2.50E+00"}},{"$f":"IF(PARÂMETROS!$J$6<PARÂMETROS!$F$6,(F148+2*G148-(C148-D148)/PARÂMETROS!$C$11)/(N148+2*O148+3*P148+(C148-D148)/PARÂMETROS!$C$14),(N148+2*O148+3*P148+(C148-D148)/PARÂMETROS!$C$14)/(F148+2*G148-(C148-D148)/PARÂMETROS!$C$11))","v":{"v":-2.5000000000000013,"d":"-2.50E+00"}},{"$f":"IF(PARÂMETROS!$J$6<PARÂMETROS!$F$6,(H148+2*I148+3*J148-(C148-D148)/PARÂMETROS!$C$11)/(K148+(C148-D148)/PARÂMETROS!$C$14),(K148+(C148-D148)/PARÂMETROS!$C$14)/(H148+2*I148+3*J148-(C148-D148)/PARÂMETROS!$C$11))","v":{"v":-2.5000000000000004,"d":"-2.50E+00"}},{"$f":"IF(PARÂMETROS!$J$6<PARÂMETROS!$F$6,(H148+2*I148+3*J148-(C148-D148)/PARÂMETROS!$C$11)/(L148+2*M148+(C148-D148)/PARÂMETROS!$C$14),(L148+2*M148+(C148-D148)/PARÂMETROS!$C$14)/(H148+2*I148+3*J148-(C148-D148)/PARÂMETROS!$C$11))","v":{"v":-2.500000000000001,"d":"-2.50E+00"}},{"$f":"IF(PARÂMETROS!$J$6<PARÂMETROS!$F$6,(H148+2*I148+3*J148-(C148-D148)/PARÂMETROS!$C$11)/(N148+2*O148+3*P148+(C148-D148)/PARÂMETROS!$C$14),(N148+2*O148+3*P148+(C148-D148)/PARÂMETROS!$C$14)/(H148+2*I148+3*J148-(C148-D148)/PARÂMETROS!$C$11))","v":{"v":-2.5000000000000013,"d":"-2.50E+00"}},{"$f":"Q148*PARÂMETROS!$C$11*PARÂMETROS!$D$11/PARÂMETROS!$C$14","v":{"v":-50.000000000000014,"d":"-50.00"}},{"$f":"R148*PARÂMETROS!$C$11*PARÂMETROS!$D$11/PARÂMETROS!$C$14","v":{"v":-50.00000000000002,"d":"-50.00"}},{"$f":"S148*PARÂMETROS!$C$11*PARÂMETROS!$D$11/PARÂMETROS!$C$14","v":{"v":-50.000000000000036,"d":"-50.00"}},{"$f":"T148*PARÂMETROS!$C$11*PARÂMETROS!$D$11/PARÂMETROS!$C$14","v":{"v":-50.000000000000014,"d":"-50.00"}},{"$f":"U148*PARÂMETROS!$C$11*PARÂMETROS!$D$11/PARÂMETROS!$C$14","v":{"v":-50.00000000000002,"d":"-50.00"}},{"$f":"V148*PARÂMETROS!$C$11*PARÂMETROS!$D$11/PARÂMETROS!$C$14","v":{"v":-50.000000000000036,"d":"-50.00"}},{"$f":"W148*PARÂMETROS!$C$11*PARÂMETROS!$D$11/PARÂMETROS!$C$14","v":{"v":-50.000000000000014,"d":"-50.00"}},{"$f":"X148*PARÂMETROS!$C$11*PARÂMETROS!$D$11/PARÂMETROS!$C$14","v":{"v":-50.00000000000002,"d":"-50.00"}},{"$f":"Y148*PARÂMETROS!$C$11*PARÂMETROS!$D$11/PARÂMETROS!$C$14","v":{"v":-50.000000000000036,"d":"-50.00"}},{"$f":"AND(B148+PARÂMETROS!$C$8>=PARÂMETROS!$C$5,B148+PARÂMETROS!$C$8<=PARÂMETROS!$D$5)","v":false},0,{"$f":"VLOOKUP('BANCO DE DADOS COMPLETA'!$N$8,'BANCO DE DADOS COMPLETA'!$A$7:$L$249,3)*-1","v":3},7,{"$f":"VLOOKUP('BANCO DE DADOS COMPLETA'!$N$10,'BANCO DE DADOS COMPLETA'!$A$7:$L$249,3)*-1","v":1},11,77,{"v":-50.000000000000014,"d":"-50.00"},"LIMITE","LIMITE","LIMITE","LIMITE",{"$f":"IF(AT147>0,IF(AT149<0,AQ148,\"NADA\"),\"NADA\")","v":"NADA"},"NADA",0]

{"sheet":"BANCO DE DADOS COMPLETA","index":2,"n_rows":249,"n_cols":18,"rows_kept":249,"merged":[[4,1,4,11],[5,13,5,17],[11,13,11,17]]}
[null,"Ácido ou Base","Carga, inteiramente",null,null,"pKa = -log da constante de dissociação do ácido","Temperat.","Força"]
[]
[]
[]
[null,"BANCO DE DADOS COMPLETO"]
[null,"SUBSTÂNCIAS","IONIZAÇAO","pk1","pK2","pK3","ºC","iônica","  Formula","Ka1","Ka2","Ka3",null,"Engines para retirar informações do banco de dados"]
[1,"1,10-Fenantrolina ",0,4.84,null,null,25,0,"C12H8N2 ",{"$f":"IF(10^(-D7)=1,0,10^(-D7))","v":{"v":1.4454397707459275E-5,"d":"1.445E-05"}},{"$f":"IF(10^(-E7)=1,0,10^(-E7))","v":{"v":0,"d":"0.000E+00"}},{"$f":"IF(10^(-F7)=1,0,10^(-F7))","v":{"v":0,"d":"0.000E+00"}},null,"Titulante","Retorna Nome da Sub.","Ret Ka1","Ret Ka2","Ret Ka3"]
[2,"1-Metilpiperidina ",0,10.08,null,null,25,0,"C6H13N ",{"v":8.317637711026683e-11,"d":"8.318E-11"},{"v":0,"d":"0.000E+00"},{"v":0,"d":"0.000E+00"},null,84,{"$f":"VLOOKUP(N8,A7:L249,2)","v":"Ácido fosfórico"},{"$f":"VLOOKUP(N8,A7:L249,10)","v":{"v":7.1121351365332815E-3,"d":"7.112E-03"}},{"$f":"VLOOKUP(N8,A7:L249,11)","v":{"v":6.324118513762185E-8,"d":"6.324E-08"}},{"$f":"VLOOKUP(N8,A7:L249,12)","v":{"v":4.466835921509619e-13,"d":"4.467E-13"}}]
[3,"1-Naftol",-1,9.34,null,null,25,0,"C10H8O ",{"v":4.570881896148736e-10,"d":"4.571E-10"},{"v":0,"d":"0.000E+00"},{"v":0,"d":"0.000E+00"},null,"Titulado","Retorna Nome da Sub.","RET KB1","RET KB2","RET KB3"]
[4,"2,3-Diclorofenol ",-1,7.46,null,null,25,0,"C6H4Cl2O ",{"v":3.4673685045253171E-8,"d":"3.467E-08"},{"v":0,"d":"0.000E+00"},{"v":0,"d":"0.000E+00"},null,188,{"$f":"VLOOKUP(N10,A7:L249,2)","v":"Hidróxido de Sódio"},{"$f":"VLOOKUP(N10,A7:L249,10)","v":{"v":1E-13,"d":"1.000E-13"}},{"$f":"VLOOKUP(N10,A7:L249,11)","v":{"v":0,"d":"0.000E+00"}},{"$f":"VLOOKUP(N10,A7:L249,12)","v":{"v":0,"d":"0.000E+00"}}]
[5,"2,3-Dimetilpiridina",0,6.58,null,null,25,0,"C7H9N ",{"v":2.6302679918953789E-7,"d":"2.630E-07"},{"v":0,"d":"0.000E+00"},{"v":0,"d":"0.000E+00"}]
[6,"2,4-Dimetilpiridina",0,6.99,null,null,25,0,"C7H9N ",{"v":1.0232929922807534E-7,"d":"1.023E-07"},{"v":0,"d":"0.000E+00"},{"v":0,"d":"0.000E+00"},null,"Multiplicadores para o Engine da obtenção do Vb"]
[7,"2,5-Dimetilpiridina",0,6.4,null,null,25,0,"C7H9N ",{"v":3.9810717055349618E-7,"d":"3.981E-07"},{"v":0,"d":"0.000E+00"},{"v":0,"d":"0.000E+00"},null,"-","-","MP","DP","TP"]
[8,"2-Aminofenol",-1,4.78,9.97,null,20,0,"C6H7NO",{"v":1.6595869074375568E-5,"d":"1.660E-05"},{"v":1.071519305237602e-10,"d":"1.072E-10"},{"v":0,"d":"0.000E+00"},null,"-","N Primos",3,5,7]
[9,"2-Benzilpiridina",0,5.13,null,null,25,0,"C12H11N ",{"v":7.41310241300917e-06,"d":"7.413E-06"},{"v":0,"d":"0.000E+00"},{"v":0,"d":"0.000E+00"},null,"MB",11,{"$f":"$O$15*P14","v":33},{"$f":"$O$15*Q14","v":55},{"$f":"$O$15*R14","v":77}]
[10,"2-Cloroanilina ",0,2.65,null,null,25,0,"C6H6CIN ",{"v":2.2387211385683386E-3,"d":"2.239E-03"},{"v":0,"d":"0.000E+00"},{"v":0,"d":"0.000E+00"},null,"DB",13,{"$f":"$O16*P14","v":39},{"$f":"$O16*Q14","v":65},{"$f":"$O16*R14","v":91}]
[11,"2-Clorofenol",-1,8.49,null,null,25,0,"C6H5CIO ",{"v":3.2359365692962808E-9,"d":"3.236E-09"},{"v":0,"d":"0.000E+00"},{"v":0,"d":"0.000E+00"},null,"TB",17,{"$f":"$O17*P14","v":51},{"$f":"$O17*Q14","v":85},{"$f":"$O17*R14","v":119}]
[12,"2-Etilpiridina ",0,5.89,null,null,25,0,"C7H9N ",{"v":1.2882495516931333E-6,"d":"1.288E-06"},{"v":0,"d":"0.000E+00"},{"v":0,"d":"0.000E+00"}]
[13,"2-Metilanilina = o-touidina = amino-1-metilbenzeno",0,4.447,null,null,25,0,"C7H9N",{"v":3.5727283815192836E-5,"d":"3.573E-05"},{"v":0,"d":"0.000E+00"},{"v":0,"d":"0.000E+00"}]
[14,"2-Metilbenzimidazol ",0,6.19,null,null,25,0,"C8H8N2 ",{"v":6.456542290346535E-7,"d":"6.457E-07"},{"v":0,"d":"0.000E+00"},{"v":0,"d":"0.000E+00"}]
[15,"2-Metilfenol = o-cresol",-1,10.28,null,null,25,0,"C7H8O ",{"v":5.248074602497719e-11,"d":"5.248E-11"},{"v":0,"d":"0.000E+00"},{"v":0,"d":"0.000E+00"}]
[16,"2-Metilpiridina",0,5.97,null,null,20,0,"C6H7N ",{"v":1.0715193052376047E-6,"d":"1.072E-06"},{"v":0,"d":"0.000E+00"},{"v":0,"d":"0.000E+00"}]
[17,"2-Naftol",-1,9.51,null,null,25,0,"C10H8O ",{"v":3.090295432513586E-10,"d":"3.090E-10"},{"v":0,"d":"0.000E+00"},{"v":0,"d":"0.000E+00"}]
[18,"2-Nitroanilina ",0,-0.26,null,null,25,0,"C6H6N2O2 ",{"v":1.8197008586099837,"d":"1.820E+00"},{"v":0,"d":"0.000E+00"},{"v":0,"d":"0.000E+00"}]
[19,"2-Nitrofenol",-1,7.21,null,null,25,0,"C6H5NO3 ",{"v":6.1659500186148087E-8,"d":"6.166E-08"},{"v":0,"d":"0.000E+00"},{"v":0,"d":"0.000E+00"}]
[20,"3,4-Dimetilpiridina",0,6.65,null,null,25,0,"C7H9N ",{"v":2.2387211385683346E-7,"d":"2.239E-07"},{"v":0,"d":"0.000E+00"},{"v":0,"d":"0.000E+00"}]
[21,"3,5-Dimetilpiridina",0,6.46,null,null,25,0,"C7H9N ",{"v":3.4673685045253148E-7,"d":"3.467E-07"},{"v":0,"d":"0.000E+00"},{"v":0,"d":"0.000E+00"}]
[22,"3,6-Dimetilpiridina",0,6.15,null,null,25,0,"C7H9N ",{"v":7.0794578438413674E-7,"d":"7.079E-07"},{"v":0,"d":"0.000E+00"},{"v":0,"d":"0.000E+00"}]
[23,"3-Cloroanilina",0,3.46,null,null,25,0,"C6H6CIN ",{"v":3.4673685045253142E-4,"d":"3.467E-04"},{"v":0,"d":"0.000E+00"},{"v":0,"d":"0.000E+00"}]
[24,"3-Clorofenol",-1,8.85,null,null,25,0,"C6H5CIO ",{"v":1.4125375446227532E-9,"d":"1.413E-09"},{"v":0,"d":"0.000E+00"},{"v":0,"d":"0.000E+00"}]
[25,"3-Metilpiridina",0,5.68,null,null,20,0,"C6H7N ",{"v":2.0892961308540377E-6,"d":"2.089E-06"},{"v":0,"d":"0.000E+00"},{"v":0,"d":"0.000E+00"}]
[26,"3-Nitroanilina",0,2.466,null,null,25,0,"C6H6N2O2 ",{"v":3.4197944251370843E-3,"d":"3.420E-03"},{"v":0,"d":"0.000E+00"},{"v":0,"d":"0.000E+00"}]
[27,"3-Nitrofenol",-1,8.39,null,null,25,0,"C6H5NO3 ",{"v":4.0738027780411214E-9,"d":"4.074E-09"},{"v":0,"d":"0.000E+00"},{"v":0,"d":"0.000E+00"}]
[28,"4-Cloroanilina",0,4.15,null,null,25,0,"C6H6CIN ",{"v":7.07945784384137e-05,"d":"7.079E-05"},{"v":0,"d":"0.000E+00"},{"v":0,"d":"0.000E+00"}]
[29,"4-Clorofenol",-1,9.18,null,null,25,0,"C6H5CIO ",{"v":6.606934480075953e-10,"d":"6.607E-10"},{"v":0,"d":"0.000E+00"},{"v":0,"d":"0.000E+00"}]
[30,"4-Metilanilina = p-toluidina = 4-amino-1-metilbenzeno",0,5.084,null,null,25,0,"C7H9N",{"v":8.2413811501300187E-6,"d":"8.241E-06"},{"v":0,"d":"0.000E+00"},{"v":0,"d":"0.000E+00"}]
[31,"4-Metilfenol = p-cresol",-1,10.26,null,null,25,0,"C7H8O ",{"v":5.4954087385762376E-11,"d":"5.495E-11"},{"v":0,"d":"0.000E+00"},{"v":0,"d":"0.000E+00"}]
[32,"4-Metilpiridina",0,6.02,null,null,20,0,"C6H7N ",{"v":9.54992586021435e-07,"d":"9.550E-07"},{"v":0,"d":"0.000E+00"},{"v":0,"d":"0.000E+00"}]
[33,"4-Nitroanilina",0,1,null,null,25,0,"C6H6N2O2 ",{"v":0.1,"d":"1.000E-01"},{"v":0,"d":"0.000E+00"},{"v":0,"d":"0.000E+00"}]
[34,"4-Nitrofenol",-1,7.15,null,null,25,0,"C6H5NO3 ",{"v":7.07945784384136e-08,"d":"7.079E-08"},{"v":0,"d":"0.000E+00"},{"v":0,"d":"0.000E+00"}]
[35,"8-Hidroxiquinolina",-1,4.91,9.81,null,25,0,null,{"v":1.2302687708123802E-5,"d":"1.230E-05"},{"v":1.548816618912478E-10,"d":"1.549E-10"},{"v":0,"d":"0.000E+00"}]
[36,"Acetamida ",0,0.63,null,null,25,0,"C2H5NO ",{"v":0.23442288153199217,"d":"2.344E-01"},{"v":0,"d":"0.000E+00"},{"v":0,"d":"0.000E+00"}]
[37,"Ácido 2,4-diaminobutanóico",-1,1.85,8.24,10.44,25,0,"C4H10N2O2 ",{"v":0.014125375446227528,"d":"1.413E-02"},{"v":5.754399373371552E-9,"d":"5.754E-09"},{"v":3.630780547701014e-11,"d":"3.631E-11"}]
[38,"Ácido 2-aminobenzóico",-1,2.108,4.946,null,25,0,"C7H7NO2 ",{"v":0.007798301105232582,"d":"7.798E-03"},{"v":1.1324003632355574E-5,"d":"1.132E-05"},{"v":0,"d":"0.000E+00"}]
[39,"Ácido 2-aminobutanóico",-1,2.29,9.83,null,25,0,"C4H9NO2 ",{"v":0.005128613839913647,"d":"5.129E-03"},{"v":1.4791083881682045E-10,"d":"1.479E-10"},{"v":0,"d":"0.000E+00"}]
[40,"Ácido 2-clorobenzóico",-1,2.92,null,null,25,0,"C7H5CIO2 ",{"v":1.2022644346174124E-3,"d":"1.202E-03"},{"v":0,"d":"0.000E+00"},{"v":0,"d":"0.000E+00"}]
[41,"Ácido 2-metilbutanóico",-1,4.8,null,null,25,0,"C5H10O2 ",{"v":1.5848931924611131E-5,"d":"1.585E-05"},{"v":0,"d":"0.000E+00"},{"v":0,"d":"0.000E+00"}]
[42,"Ácido 2-nitrobenzóico",-1,2.179,null,null,25,0,"C7H5NO4 ",{"v":0.006622165037017621,"d":"6.622E-03"},{"v":0,"d":"0.000E+00"},{"v":0,"d":"0.000E+00"}]
[43,"Ácido 3-butenóico",-1,4.34,null,null,25,0,"C4H6O2 ",{"v":4.5708818961487455E-5,"d":"4.571E-05"},{"v":0,"d":"0.000E+00"},{"v":0,"d":"0.000E+00"}]
[44,"Ácido 3-clorobenzóico",-1,3.82,null,null,25,0,"C7H5CIO2 ",{"v":1.5135612484362069E-4,"d":"1.514E-04"},{"v":0,"d":"0.000E+00"},{"v":0,"d":"0.000E+00"}]
[45,"Ácido 3-hidroxipropanóico",-1,4.51,null,null,25,0,"C3H6O3 ",{"v":3.090295432513586E-5,"d":"3.090E-05"},{"v":0,"d":"0.000E+00"},{"v":0,"d":"0.000E+00"}]
[46,"Ácido 3-metilbutanóico",-1,4.77,null,null,25,0,"C5H10O2 ",{"v":1.6982436524617432E-5,"d":"1.698E-05"},{"v":0,"d":"0.000E+00"},{"v":0,"d":"0.000E+00"}]
[47,"Ácido 3-nitrobenzóico",-1,3.449,null,null,25,0,"C7H5NO4 ",{"v":3.5563131856898529E-4,"d":"3.556E-04"},{"v":0,"d":"0.000E+00"},{"v":0,"d":"0.000E+00"}]
[48,"Ácido 3-piridinocarboxílico",-1,4.96,null,null,25,0,"C6H5NO2 ",{"v":1.0964781961431843E-5,"d":"1.096E-05"},{"v":0,"d":"0.000E+00"},{"v":0,"d":"0.000E+00"}]
[49,"Ácido 4-aminobenzóico",-1,2.501,4.874,null,25,0,"C7H7NO2 ",{"v":3.155004623374627E-3,"d":"3.155E-03"},{"v":1.3365955165464412E-5,"d":"1.337E-05"},{"v":0,"d":"0.000E+00"}]
[50,"Ácido 4-clorobenzóico",-1,3.98,null,null,25,0,"C7H5CIO2 ",{"v":1.0471285480508985E-4,"d":"1.047E-04"},{"v":0,"d":"0.000E+00"},{"v":0,"d":"0.000E+00"}]
[51,"Ácido 4-metilpentanóico",-1,4.84,null,null,18,0,"C6H12O2 ",{"v":1.4454397707459275E-5,"d":"1.445E-05"},{"v":0,"d":"0.000E+00"},{"v":0,"d":"0.000E+00"}]
[52,"Ácido 4-nitrobenzóico",-1,3.442,null,null,25,0,"C7H5NO4 ",{"v":3.6140986263961283E-4,"d":"3.614E-04"},{"v":0,"d":"0.000E+00"},{"v":0,"d":"0.000E+00"}]
[53,"Ácido 4-piridinocarboxílico",-1,4.85,null,null,25,0,"C6H5NO2 ",{"v":1.4125375446227545E-5,"d":"1.413E-05"},{"v":0,"d":"0.000E+00"},{"v":0,"d":"0.000E+00"}]
[54,"Ácido 5-aminopentanóico",-1,4.27,10.766,null,25,0,"C5H11NO2 ",{"v":5.370317963702527E-5,"d":"5.370E-05"},{"v":1.7139573075084238E-11,"d":"1.714E-11"},{"v":0,"d":"0.000E+00"}]
[55,"Ácido 6-aminohexanóico",-1,4.373,10.804,null,25,0,"C6H13NO2 ",{"v":4.2364296604954061E-5,"d":"4.236E-05"},{"v":1.5703628043335484E-11,"d":"1.570E-11"},{"v":0,"d":"0.000E+00"}]
[56,"Ácido acético",-1,4.757,null,null,25,0,"CH3COOH",{"v":1.7498466886246563E-5,"d":"1.750E-05"},{"v":0,"d":"0.000E+00"},{"v":0,"d":"0.000E+00"}]
[57,"Ácido acetoacético ",-1,3.58,null,null,18,0,"C4H6O3 ",{"v":2.6302679918953782E-4,"d":"2.630E-04"},{"v":0,"d":"0.000E+00"},{"v":0,"d":"0.000E+00"}]
[58,"Ácido acrílico ",-1,4.25,null,null,25,0,"C3H4O2 ",{"v":5.6234132519034887E-5,"d":"5.623E-05"},{"v":0,"d":"0.000E+00"},{"v":0,"d":"0.000E+00"}]
[59,"Ácido adípico ",-2,4.43,5.41,null,25,0,"C6H10O4 ",{"v":3.7153522909717237E-5,"d":"3.715E-05"},{"v":3.8904514499428E-6,"d":"3.890E-06"},{"v":0,"d":"0.000E+00"}]
[60,"Ácido arsênico",-3,2.24,6.96,11.5,25,0,"H3AsO4 ",{"v":0.005754399373371565,"d":"5.754E-03"},{"v":1.0964781961431838E-7,"d":"1.096E-07"},{"v":3.162277660168367e-12,"d":"3.162E-12"}]
[61,"Ácido arsenoso",-1,9.22,{"$nulls":3},0,"H3AsO3 ",{"v":6.025595860743552e-10,"d":"6.026E-10"},{"v":0,"d":"0.000E+00"},{"v":0,"d":"0.000E+00"}]
[62,"Ácido ascórbico",-2,4.1,11.79,null,24,0,"C6H8O6 ",{"v":7.9432823472428153E-5,"d":"7.943E-05"},{"v":1.6218100973589284E-12,"d":"1.622E-12"},{"v":0,"d":"0.000E+00"}]
[63,"Ácido aspártico",-2,1.99,3.9,10.002,25,0,"C4H7NO4 ",{"v":0.010232929922807535,"d":"1.023E-02"},{"v":1.2589254117941672E-4,"d":"1.259E-04"},{"v":9.954054173515215E-11,"d":"9.954E-11"}]
[64,"Ácido barbitúrico ",-1,4.01,null,null,25,0,"C4H4N2O3 ",{"v":9.7723722095581e-05,"d":"9.772E-05"},{"v":0,"d":"0.000E+00"},{"v":0,"d":"0.000E+00"}]
[65,"Ácido benzenosulfônico ",-1,0.7,null,null,25,0,"C6H6O3S ",{"$f":"IF(10^(-D71)=1,0,10^(-D71))","v":{"v":0.19952623149688795,"d":"1.995E-01"}},{"$f":"IF(10^(-E71)=1,0,10^(-E71))","v":{"v":0,"d":"0.000E+00"}},{"$f":"IF(10^(-F71)=1,0,10^(-F71))","v":{"v":0,"d":"0.000E+00"}}]
[66,"Ácido benzóico ",-1,4.19,null,null,25,0,"C7H6O2 ",{"v":6.4565422903465383E-5,"d":"6.457E-05"},{"v":0,"d":"0.000E+00"},{"v":0,"d":"0.000E+00"}]
[67,"Ácido bórico",-3,9.236,12.74,13.8,20,0,"H3BO3",{"v":5.807644175213093e-10,"d":"5.808E-10"},{"v":1.8197008586099787E-13,"d":"1.820E-13"},{"v":1.5848931924611084E-14,"d":"1.585E-14"}]
[68,"Ácido bromídrico",-1,-9,null,null,25,0,"HI",{"v":1000000000,"d":"1.000E+09"},{"v":0,"d":"0.000E+00"},{"v":0,"d":"0.000E+00"}]
[69,"Ácido butanóico ",-1,4.83,null,null,25,0,"C4H8O2 ",{"v":1.4791083881682046E-5,"d":"1.479E-05"},{"v":0,"d":"0.000E+00"},{"v":0,"d":"0.000E+00"}]
[70,"Ácido carbônico",-2,6.352,10.329,null,25,0,"H2CO3",{"v":4.4463126746910741E-7,"d":"4.446E-07"},{"v":4.6881338214526346E-11,"d":"4.688E-11"},{"v":0,"d":"0.000E+00"}]
[71,"Ácido cianídrico",-1,9.21,null,null,25,0,"HCN",{"v":6.165950018614795e-10,"d":"6.166E-10"},{"v":0,"d":"0.000E+00"},{"v":0,"d":"0.000E+00"}]
[72,"Ácido cianídrico",-1,3.46,{"$nulls":4},"HCNO ",{"v":3.4673685045253142E-4,"d":"3.467E-04"},{"v":0,"d":"0.000E+00"},{"v":0,"d":"0.000E+00"}]
[73,"Ácido cítrico",-3,3.128,4.761,6.396,25,0,"H3C6H5O7 ",{"v":7.4473197390598851E-4,"d":"7.447E-04"},{"v":1.7338039977541357E-5,"d":"1.734E-05"},{"v":4.0179081084893922E-7,"d":"4.018E-07"}]
[74,"Ácido Clorídrico",-1,-8,null,null,25,0,"HCl",{"v":100000000,"d":"1.000E+08"},{"v":0,"d":"0.000E+00"},{"v":0,"d":"0.000E+00"}]
[75,"Ácido cloroacético",-1,2.865,null,null,25,0,"ClCH2COOH",{"v":0.001364583136588923,"d":"1.365E-03"},{"v":0,"d":"0.000E+00"},{"v":0,"d":"0.000E+00"}]
[76,"Ácido crômico",-2,-0.2,6.51,null,20,0,"H2CrO4",{"v":1.5848931924611136,"d":"1.585E+00"},{"v":3.090295432513585E-7,"d":"3.090E-07"},{"v":0,"d":"0.000E+00"}]
[77,"Ácido dicloroacético",-1,1.3,null,null,25,0,"Cl2CHCOOH",{"v":0.050118723362727206,"d":"5.012E-02"},{"v":0,"d":"0.000E+00"},{"v":0,"d":"0.000E+00"}]
[78,"Ácido dínicotínico",-1,2.8,null,null,25,0,"C7H5NO4 ",{"v":1.5848931924611134E-3,"d":"1.585E-03"},{"v":0,"d":"0.000E+00"},{"v":0,"d":"0.000E+00"}]
[79,"Ácido dipicolínico ",-2,2.16,4.76,null,25,0,"C7H5NO4 ",{"v":0.00691830970918936,"d":"6.918E-03"},{"v":1.7378008287493744E-5,"d":"1.738E-05"},{"v":0,"d":"0.000E+00"}]
[80,"Ácido d-tartárico",-2,3.036,4.366,null,25,0,"C4H6O6 ",{"v":9.2044957175317036E-4,"d":"9.204E-04"},{"v":4.3052661049171071E-5,"d":"4.305E-05"},{"v":0,"d":"0.000E+00"}]
[81,"Ácido fenilacético ",-1,4.28,null,null,18,0,"C8H8O2 ",{"v":5.2480746024977172E-5,"d":"5.248E-05"},{"v":0,"d":"0.000E+00"},{"v":0,"d":"0.000E+00"}]
[82,"Ácido fluorídrico",-1,3.17,null,null,25,0,"HF",{"v":6.7608297539198121E-4,"d":"6.761E-04"},{"v":0,"d":"0.000E+00"},{"v":0,"d":"0.000E+00"}]
[83,"ácido fórmico",-1,3.745,null,null,20,0,"HCOOH",{"v":1.7988709151287849E-4,"d":"1.799E-04"},{"v":0,"d":"0.000E+00"},{"v":0,"d":"0.000E+00"}]
[84,"Ácido fosfórico",-3,2.148,7.199,12.35,25,0,"H3PO4",{"v":7.1121351365332815E-3,"d":"7.112E-03"},{"v":6.324118513762185E-8,"d":"6.324E-08"},{"v":4.466835921509619e-13,"d":"4.467E-13"}]
[85,"ácido fumárico",-2,3.053,4.494,null,25,0,"C4H4O4 ",{"v":8.8511560983083515E-4,"d":"8.851E-04"},{"v":3.2062693245054636E-5,"d":"3.206E-05"},{"v":0,"d":"0.000E+00"}]
[86,"Ácido glicérico ",-1,3.52,null,null,25,0,"C3H6O4 ",{"v":3.0199517204020158E-4,"d":"3.020E-04"},{"v":0,"d":"0.000E+00"},{"v":0,"d":"0.000E+00"}]
[87,"Ácido glicólico",-1,3.831,null,null,25,0,"HOCH2COOH",{"v":1.4757065332758924E-4,"d":"1.476E-04"},{"v":0,"d":"0.000E+00"},{"v":0,"d":"0.000E+00"}]
[88,"Ácido glioxílico",-1,3.18,null,null,25,0,"C2H2O3 ",{"v":6.606934480075955E-4,"d":"6.607E-04"},{"v":0,"d":"0.000E+00"},{"v":0,"d":"0.000E+00"}]
[89,"Ácido heptanodióico ",-1,4.71,null,null,25,0,"C7H12O4 ",{"v":1.9498445997580432E-5,"d":"1.950E-05"},{"v":0,"d":"0.000E+00"},{"v":0,"d":"0.000E+00"}]
[90,"Ácido heptanóico",-1,4.89,null,null,25,0,"C7H14O2 ",{"v":1.2882495516931347E-5,"d":"1.288E-05"},{"v":0,"d":"0.000E+00"},{"v":0,"d":"0.000E+00"}]
[91,"Ácido hexanóico ",-1,4.85,null,null,25,0,"C6H12O2 ",{"v":1.4125375446227545E-5,"d":"1.413E-05"},{"v":0,"d":"0.000E+00"},{"v":0,"d":"0.000E+00"}]
[92,"Ácido hidrazóico ",-1,4.72,{"$nulls":4},"HN3 ",{"v":1.9054607179632454E-5,"d":"1.905E-05"},{"v":0,"d":"0.000E+00"},{"v":0,"d":"0.000E+00"}]
[93,"Ácido hipobromoso",-1,8.63,null,null,25,0,"HOBr",{"v":2.3442288153199155E-9,"d":"2.344E-09"},{"v":0,"d":"0.000E+00"},{"v":0,"d":"0.000E+00"}]
[94,"Ácido hipocloroso",-1,7.53,null,null,25,0,"HOCl",{"v":2.9512092266663779E-8,"d":"2.951E-08"},{"v":0,"d":"0.000E+00"},{"v":0,"d":"0.000E+00"}]
[95,"Ácido hipoiodoso",-1,10.64,null,null,25,0,"HOI",{"v":2.2908676527677615E-11,"d":"2.291E-11"},{"v":0,"d":"0.000E+00"},{"v":0,"d":"0.000E+00"}]
[96,"Ácido iódico",-1,0.77,null,null,25,0,"HIO3",{"v":0.16982436524617442,"d":"1.698E-01"},{"v":0,"d":"0.000E+00"},{"v":0,"d":"0.000E+00"}]
[97,"Ácido Iodírico",-1,-10,null,null,25,0,"HI",{"v":10000000000,"d":"1.000E+10"},{"v":0,"d":"0.000E+00"},{"v":0,"d":"0.000E+00"}]
[98,"Ácido isocítrico",-3,3.29,4.71,6.4,25,0,"C6H8O7 ",{"v":5.1286138399136462E-4,"d":"5.129E-04"},{"v":1.9498445997580432E-5,"d":"1.950E-05"},{"v":3.9810717055349618E-7,"d":"3.981E-07"}]
[99,"Ácido lático",-1,3.86,{"$nulls":4},"HC3H5O3 ",{"v":1.3803842646028844E-4,"d":"1.380E-04"},{"v":0,"d":"0.000E+00"},{"v":0,"d":"0.000E+00"}]
[100,"Ácido l-glutâmico",-2,2.23,4.42,9.95,25,0,"C5H9NO4 ",{"v":0.00588843655355589,"d":"5.888E-03"},{"v":3.80189396320561e-05,"d":"3.802E-05"},{"v":1.1220184543019624E-10,"d":"1.122E-10"}]
[101,"Ácido maleico",-2,1.91,6.332,null,25,0,"C4H4O4 ",{"v":0.01230268770812381,"d":"1.230E-02"},{"v":4.6558609352295829E-7,"d":"4.656E-07"},{"v":0,"d":"0.000E+00"}]
[102,"Ácido málico ",-2,3.459,5.097,null,25,0,"C4H6O5 ",{"v":3.475361614432055E-4,"d":"3.475E-04"},{"v":7.9983425500702645E-6,"d":"7.998E-06"},{"v":0,"d":"0.000E+00"}]
[103,"Ácido malônico",-2,2.847,5.696,null,25,0,"HOOCCH2COOH",{"v":1.4223287871228186E-3,"d":"1.422E-03"},{"v":2.0137242498623855E-6,"d":"2.014E-06"},{"v":0,"d":"0.000E+00"}]
[104,"Ácido meso-tartárico",-2,3.22,4.82,null,25,0,"C4H6O6 ",{"v":0.000602559586074357,"d":"6.026E-04"},{"v":1.5135612484362051E-5,"d":"1.514E-05"},{"v":0,"d":"0.000E+00"}]
[105,"Ácido metilmalônico ",-2,3.07,5.76,null,25,0,"C4H6O4 ",{"v":8.5113803820237646E-4,"d":"8.511E-04"},{"v":1.7378008287493753E-6,"d":"1.738E-06"},{"v":0,"d":"0.000E+00"}]
[106,"Ácido m-ftálico",-2,3.54,4.6,null,25,0,"C8H6O4 ",{"v":2.8840315031266012E-4,"d":"2.884E-04"},{"v":2.5118864315095791E-5,"d":"2.512E-05"},{"v":0,"d":"0.000E+00"}]
[107,"Ácido m-hidroxibenzóico",-2,4.06,9.92,null,19,0,"C7H6O3 ",{"v":8.7096358995608029E-5,"d":"8.710E-05"},{"v":1.2022644346174114E-10,"d":"1.202E-10"},{"v":0,"d":"0.000E+00"}]
[108,"Ácido m-silícico",-2,9.7,12,{"$nulls":3},"H2SiO3",{"v":1.9952623149688802E-10,"d":"1.995E-10"},{"v":1e-12,"d":"1.000E-12"},{"v":0,"d":"0.000E+00"}]
[109,"Ácido m-tolúico",-1,4.27,null,null,25,0,"C8H8O2 ",{"v":5.370317963702527E-5,"d":"5.370E-05"},{"v":0,"d":"0.000E+00"},{"v":0,"d":"0.000E+00"}]
[110,"Ácido Nítrico",-1,-1.4,null,null,25,0,"HNO3",{"v":25.1188643150958,"d":"2.512E+01"},{"v":0,"d":"0.000E+00"},{"v":0,"d":"0.000E+00"}]
[111,"Ácido nitroso",-1,3.15,null,null,25,0,"HNO2",{"v":7.079457843841378E-4,"d":"7.079E-04"},{"v":0,"d":"0.000E+00"},{"v":0,"d":"0.000E+00"}]
[112,"Ácido octanóico ",-1,4.89,null,null,25,0,"C8H16O2 ",{"v":1.2882495516931347E-5,"d":"1.288E-05"},{"v":0,"d":"0.000E+00"},{"v":0,"d":"0.000E+00"}]
[113,"Ácido octenodióico",-1,4.52,null,null,25,0,"C8H14O4 ",{"v":3.0199517204020178E-5,"d":"3.020E-05"},{"v":0,"d":"0.000E+00"},{"v":0,"d":"0.000E+00"}]
[114,"Ácido o-ftálico",-2,3.51,4.82,null,25,0,"C8H6O4 ",{"v":0.000309029543251359,"d":"3.090E-04"},{"v":1.5135612484362051E-5,"d":"1.514E-05"},{"v":0,"d":"0.000E+00"}]
[115,"Ácido o-silícico",-2,9.66,11.7,{"$nulls":3},"H4SiO4",{"v":2.1877616239495448E-10,"d":"2.188E-10"},{"v":1.995262314968876e-12,"d":"1.995E-12"},{"v":0,"d":"0.000E+00"}]
[116,"Ácido o-tolúico",-1,3.91,null,null,25,0,"C8H8O2 ",{"v":1.2302687708123794E-4,"d":"1.230E-04"},{"v":0,"d":"0.000E+00"},{"v":0,"d":"0.000E+00"}]
[117,"Ácido oxálico",-2,1.252,4.266,null,25,0,"C2H2O4 ",{"v":0.05597576014951101,"d":"5.598E-02"},{"v":5.4200089040162345E-5,"d":"5.420E-05"},{"v":0,"d":"0.000E+00"}]
[118,"Ácido oxaloacético ",-2,2.22,3.89,13.03,25,0,"C4H4O5 ",{"v":0.006025595860743572,"d":"6.026E-03"},{"v":1.2882495516931315E-4,"d":"1.288E-04"},{"v":9.332543007969912e-14,"d":"9.333E-14"}]
[119,"Ácido pentanóico ",-1,4.84,null,null,25,0,"C5H10O2 ",{"v":1.4454397707459275E-5,"d":"1.445E-05"},{"v":0,"d":"0.000E+00"},{"v":0,"d":"0.000E+00"}]
[120,"Ácido perclórico",-1,-10,null,null,25,0,"HClO4",{"v":10000000000,"d":"1.000E+10"},{"v":0,"d":"0.000E+00"},{"v":0,"d":"0.000E+00"}]
[121,"Ácido p-ftálico",-2,2.95,5.408,null,25,0,"C8H6O4 ",{"v":1.1220184543019622E-3,"d":"1.122E-03"},{"v":3.9084089579240121E-6,"d":"3.908E-06"},{"v":0,"d":"0.000E+00"}]
[122,"Ácido p-hidroxibenzóico",-2,4.48,9.32,null,19,0,"C7H6O3 ",{"v":3.3113112148259056E-5,"d":"3.311E-05"},{"v":4.786300923226367e-10,"d":"4.786E-10"},{"v":0,"d":"0.000E+00"}]
[123,"Ácido picolínico ",-2,1.07,5.25,null,25,0,"C6H5NO2 ",{"v":0.08511380382023762,"d":"8.511E-02"},{"v":5.6234132519034836E-6,"d":"5.623E-06"},{"v":0,"d":"0.000E+00"}]
[124,"Ácido pícrico ",-1,0.38,{"$nulls":4},"C6H3N3O7 ",{"v":0.41686938347033536,"d":"4.169E-01"},{"v":0,"d":"0.000E+00"},{"v":0,"d":"0.000E+00"}]
[125,"Ácido pirúvico",-1,2.39,null,null,25,0,"C3H4O3 ",{"v":4.0738027780411225E-3,"d":"4.074E-03"},{"v":0,"d":"0.000E+00"},{"v":0,"d":"0.000E+00"}]
[126,"Ácido p-periódico",-2,1.55,8.28,{"$nulls":3},"H5IO6 ",{"v":0.028183829312644532,"d":"2.818E-02"},{"v":5.2480746024977305E-9,"d":"5.248E-09"},{"v":0,"d":"0.000E+00"}]
[127,"Ácido propanóico",-1,4.874,null,null,25,0,"CH3CH2COOH",{"v":1.3365955165464412E-5,"d":"1.337E-05"},{"v":0,"d":"0.000E+00"},{"v":0,"d":"0.000E+00"}]
[128,"Ácido p-tolúico",-1,4.36,null,null,25,0,"C8H8O2 ",{"v":4.3651583224016559E-5,"d":"4.365E-05"},{"v":0,"d":"0.000E+00"},{"v":0,"d":"0.000E+00"}]
[129,"Ácido salicílico",-2,2.97,13.74,null,25,0,"C7H6O3 ",{"$f":"IF(10^(-D135)=1,0,10^(-D135))","v":{"v":1.0715193052376053E-3,"d":"1.072E-03"}},{"$f":"IF(10^(-E135)=1,0,10^(-E135))","v":{"v":1.8197008586099766E-14,"d":"1.820E-14"}},{"$f":"IF(10^(-F135)=1,0,10^(-F135))","v":{"v":0,"d":"0.000E+00"}}]
[130,"Ácido selênico",-1,1.92,null,null,25,0,"H2SeO4",{"v":0.012022644346174125,"d":"1.202E-02"},{"v":0,"d":"0.000E+00"},{"v":0,"d":"0.000E+00"}]
[131,"Ácido selenoso",-2,2.64,8.28,null,null,0,"H2SeO3 ",{"v":2.2908676527677715E-3,"d":"2.291E-03"},{"v":5.2480746024977305E-9,"d":"5.248E-09"},{"v":0,"d":"0.000E+00"}]
[132,"Ácido succínico",-2,4.207,5.636,{"$nulls":3},"HOOCCH2CH2COOH",{"v":6.2086903423006328E-5,"d":"6.209E-05"},{"v":2.31206479017559e-06,"d":"2.312E-06"},{"v":0,"d":"0.000E+00"}]
[133,"Ácido sulfídrico",-2,7.02,13.9,null,25,0,"H2S",{"v":9.5499258602143556E-8,"d":"9.550E-08"},{"v":1.2589254117941644E-14,"d":"1.259E-14"},{"v":0,"d":"0.000E+00"}]
[134,"Ácido sulfúrico",-2,-3,1.99,null,25,0,"H2SO4 ",{"v":1000,"d":"1.000E+03"},{"v":0.010232929922807535,"d":"1.023E-02"},{"v":0,"d":"0.000E+00"}]
[135,"Ácido sulfuroso ",-2,1.91,7.18,null,25,0,"H2SO3",{"v":0.01230268770812381,"d":"1.230E-02"},{"v":6.606934480075943E-8,"d":"6.607E-08"},{"v":0,"d":"0.000E+00"}]
[136,"Ácido tereftálico ",-1,3.51,null,null,25,0,"C8H6O4 ",{"v":0.000309029543251359,"d":"3.090E-04"},{"v":0,"d":"0.000E+00"},{"v":0,"d":"0.000E+00"}]
[137,"Ácido tioacético ",-1,3.33,null,null,25,0,"C2H4OS ",{"v":4.677351412871977E-4,"d":"4.677E-04"},{"v":0,"d":"0.000E+00"},{"v":0,"d":"0.000E+00"}]
[138,"Ácido tiociânico",-1,0.9,null,null,25,0,"HSCN",{"v":0.12589254117941667,"d":"1.259E-01"},{"v":0,"d":"0.000E+00"},{"v":0,"d":"0.000E+00"}]
[139,"Ácido tiossulfúrico",-2,0.6,"1,6 3",null,25,0,"H2S2O3",{"v":0.251188643150958,"d":"2.512E-01"},{"$error":"#VALUE!"},{"v":0,"d":"0.000E+00"}]
[140,"Ácido tricloroacético",-1,0.66,null,null,25,0.1,"Cl3CCOOH",{"v":0.21877616239495523,"d":"2.188E-01"},{"v":0,"d":"0.000E+00"},{"v":0,"d":"0.000E+00"}]
[141,"Ácido trimetilacético ",-1,5.03,null,null,25,0,"C5H10O2 ",{"v":9.3325430079698941E-6,"d":"9.333E-06"},{"v":0,"d":"0.000E+00"},{"v":0,"d":"0.000E+00"}]
[142,"Ácido úrico ",-1,3.89,null,null,12,0,"C5H4N4O3 ",{"v":1.2882495516931315E-4,"d":"1.288E-04"},{"v":0,"d":"0.000E+00"},{"v":0,"d":"0.000E+00"}]
[143,"Alanina ",-1,2.348,9.867,null,25,0,"C3H7NO2",{"v":4.487453899331321E-3,"d":"4.487E-03"},{"v":1.35831344658715E-10,"d":"1.358E-10"},{"v":0,"d":"0.000E+00"}]
[144,"Aminobenzeno = anilina",0,4.6,null,null,25,0,"C6H7N",{"v":2.5118864315095791E-5,"d":"2.512E-05"},{"v":0,"d":"0.000E+00"},{"v":0,"d":"0.000E+00"}]
[145,"Amonia",0,9.244,null,null,25,0,"NH3",{"v":5.701642722807476e-10,"d":"5.702E-10"},{"v":0,"d":"0.000E+00"},{"v":0,"d":"0.000E+00"}]
[146,"Anilina",0,4.63,null,null,25,0,"C6H7N ",{"v":2.3442288153199218E-5,"d":"2.344E-05"},{"v":0,"d":"0.000E+00"},{"v":0,"d":"0.000E+00"}]
[147,"Arginina",-1,1.823,8.991,12.48,25,0,"C6H14N4O2 ",{"v":0.015031419660900214,"d":"1.503E-02"},{"v":1.0209394837076799E-9,"d":"1.021E-09"},{"v":3.311311214825894E-13,"d":"3.311E-13"}]
[148,"Asparagina",-1,2.14,8.72,null,25,0.1,"C4H8N2O3 ",{"v":7.244359600749894E-3,"d":"7.244E-03"},{"v":1.9054607179632436E-9,"d":"1.905E-09"},{"v":0,"d":"0.000E+00"}]
[149,"b-Alanina",-1,3.55,10.24,null,25,0,"C3H7NO2 ",{"v":2.8183829312644545E-4,"d":"2.818E-04"},{"v":5.75439937337156e-11,"d":"5.754E-11"},{"v":0,"d":"0.000E+00"}]
[150,"Barbital",0,7.43,null,null,25,0,"C8H12N2O3 ",{"v":3.7153522909717246E-8,"d":"3.715E-08"},{"v":0,"d":"0.000E+00"},{"v":0,"d":"0.000E+00"}]
[151,"Benzilamina",0,9.33,null,null,25,0,"C7H9N ",{"v":4.677351412871967e-10,"d":"4.677E-10"},{"v":0,"d":"0.000E+00"},{"v":0,"d":"0.000E+00"}]
[152,"Betaína ",-1,1.83,null,null,0,0,"C5H11NO2 ",{"v":0.014791083881682071,"d":"1.479E-02"},{"v":0,"d":"0.000E+00"},{"v":0,"d":"0.000E+00"}]
[153,"Butilamina",0,10.77,null,null,20,0,"C4H11N ",{"v":1.698243652461744e-11,"d":"1.698E-11"},{"v":0,"d":"0.000E+00"},{"v":0,"d":"0.000E+00"}]
[154,"Cadaverina ",0,10.05,10.93,null,25,0,"C5H14N2 ",{"v":8.912509381337426e-11,"d":"8.913E-11"},{"v":1.174897554939527e-11,"d":"1.175E-11"},{"v":0,"d":"0.000E+00"}]
[155,"Catecol",-2,9.4,12.8,null,25,0,"C6H4(OH)2",{"v":3.981071705534962e-10,"d":"3.981E-10"},{"v":1.5848931924611046E-13,"d":"1.585E-13"},{"v":0,"d":"0.000E+00"}]
[156,"Cisteína ",-2,1.71,8.36,10.77,25,0,"C3H7NO2S ",{"v":0.019498445997580452,"d":"1.950E-02"},{"v":4.3651583224016521E-9,"d":"4.365E-09"},{"v":1.698243652461744e-11,"d":"1.698E-11"}]
[157,"Codeina ",0,8.21,null,null,25,0,"C18H21NO3 ",{"v":6.1659500186148016E-9,"d":"6.166E-09"},{"v":0,"d":"0.000E+00"},{"v":0,"d":"0.000E+00"}]
[158,"Colina",0,13.9,null,null,25,0,"C5H14NO ",{"v":1.2589254117941644E-14,"d":"1.259E-14"},{"v":0,"d":"0.000E+00"},{"v":0,"d":"0.000E+00"}]
[159,"Creatinina",0,4.83,9.2,null,25,0,"C4H7N3O ",{"v":1.4791083881682046E-5,"d":"1.479E-05"},{"v":6.309573444801927E-10,"d":"6.310E-10"},{"v":0,"d":"0.000E+00"}]
[160,"Cupferron",-1,4.16,null,null,25,0.1,"C6H6N2O",{"v":6.9183097091893571E-5,"d":"6.918E-05"},{"v":0,"d":"0.000E+00"},{"v":0,"d":"0.000E+00"}]
[161,"Decilamina ",0,10.64,null,null,25,0,"C10H23N ",{"v":2.2908676527677615E-11,"d":"2.291E-11"},{"v":0,"d":"0.000E+00"},{"v":0,"d":"0.000E+00"}]
[162,"d-Efedrina",0,10.139,null,null,10,0,"C10H15NO ",{"v":7.261059574351534e-11,"d":"7.261E-11"},{"v":0,"d":"0.000E+00"},{"v":0,"d":"0.000E+00"}]
[163,"Dietilamina",0,10.933,null,null,25,0,"(CH3CH2)2NH",{"v":1.1668096170609617E-11,"d":"1.167E-11"},{"v":0,"d":"0.000E+00"},{"v":0,"d":"0.000E+00"}]
[164,"Difenilamina ",0,0.79,null,null,25,0,"C12H11N ",{"v":0.16218100973589297,"d":"1.622E-01"},{"v":0,"d":"0.000E+00"},{"v":0,"d":"0.000E+00"}]
[165,"Dimetilamina",0,10.774,null,null,25,0,"(CH3)2NH",{"v":1.6826740610704684E-11,"d":"1.683E-11"},{"v":0,"d":"0.000E+00"},{"v":0,"d":"0.000E+00"}]
[166,"Dimetilglioxima",-2,10.66,12,null,25,0,"C4H12O2N2",{"v":2.18776162394955e-11,"d":"2.188E-11"},{"v":1e-12,"d":"1.000E-12"},{"v":0,"d":"0.000E+00"}]
[167,"Disopropilamina",0,11.05,null,null,25,0,"C6H15N ",{"v":8.912509381337415e-12,"d":"8.913E-12"},{"v":0,"d":"0.000E+00"},{"v":0,"d":"0.000E+00"}]
[168,"Dopamina ",-1,8.9,10.6,null,25,0,"C8H11NO2 ",{"v":1.2589254117941623E-9,"d":"1.259E-09"},{"v":2.511886431509576e-11,"d":"2.512E-11"},{"v":0,"d":"0.000E+00"}]
[169,"Etanolamina ",0,9.5,null,null,25,0,"C2H7NO ",{"v":3.1622776601683744E-10,"d":"3.162E-10"},{"v":0,"d":"0.000E+00"},{"v":0,"d":"0.000E+00"}]
[170,"Etilamina",0,10.636,null,null,25,0,"CH3CH2NH2",{"v":2.3120647901755897E-11,"d":"2.312E-11"},{"v":0,"d":"0.000E+00"},{"v":0,"d":"0.000E+00"}]
[171,"Etilenodiamina",0,6.848,9.928,null,25,0,"H2NCH2CH2NH2",{"v":1.4190575216890912E-7,"d":"1.419E-07"},{"v":1.180320635651726e-10,"d":"1.180E-10"},{"v":0,"d":"0.000E+00"}]
[172,"Etilenoimina ",0,8.01,null,null,25,0,"C2H5N ",{"v":9.7723722095580911E-9,"d":"9.772E-09"},{"v":0,"d":"0.000E+00"},{"v":0,"d":"0.000E+00"}]
[173,"Fenilalanina ",-1,2.2,9.31,null,25,0,"C9H11NO2 ",{"v":0.006309573444801925,"d":"6.310E-03"},{"v":4.897788193684446e-10,"d":"4.898E-10"},{"v":0,"d":"0.000E+00"}]
[174,"Feniletilamina ",0,9.84,null,null,25,0,"C8H11N ",{"v":1.4454397707459247E-10,"d":"1.445E-10"},{"v":0,"d":"0.000E+00"},{"v":0,"d":"0.000E+00"}]
[175,"Fenilglicina ",-1,1.83,4.39,null,25,0,"C8H9NO2 ",{"v":0.014791083881682071,"d":"1.479E-02"},{"v":4.0738027780411247E-5,"d":"4.074E-05"},{"v":0,"d":"0.000E+00"}]
[176,"Fenol",-1,9.98,null,null,25,0,"HC6H5O ",{"v":1.0471285480508951E-10,"d":"1.047E-10"},{"v":0,"d":"0.000E+00"},{"v":0,"d":"0.000E+00"}]
[177,"Glicerol ",-1,14.15,null,null,25,0,"C3H8O3 ",{"v":7.07945784384133e-15,"d":"7.079E-15"},{"v":0,"d":"0.000E+00"},{"v":0,"d":"0.000E+00"}]
[178,"Glicina",-2,2.35,9.778,null,25,0,"H2NCH2COOH",{"v":0.004466835921509628,"d":"4.467E-03"},{"v":1.667247212551055E-10,"d":"1.667E-10"},{"v":0,"d":"0.000E+00"}]
[179,"Heptilamina ",0,10.67,null,null,25,0,"C7H17N ",{"v":2.1379620895022298E-11,"d":"2.138E-11"},{"v":0,"d":"0.000E+00"},{"v":0,"d":"0.000E+00"}]
[180,"Hexametilenodiamina ",0,11.857,10.762,null,0,0,"C6H16N2 ",{"v":1.3899526312133507E-12,"d":"1.390E-12"},{"v":1.7298163592150987E-11,"d":"1.730E-11"},{"v":0,"d":"0.000E+00"}]
[181,"Hexilamina ",0,10.56,null,null,25,0,"C6H15N ",{"v":2.7542287033381602E-11,"d":"2.754E-11"},{"v":0,"d":"0.000E+00"},{"v":0,"d":"0.000E+00"}]
[182,"Hidrazina",0,8.07,null,null,30,null,"N2H4",{"v":8.5113803820237553E-9,"d":"8.511E-09"},{"v":0,"d":"0.000E+00"},{"v":0,"d":"0.000E+00"}]
[183,"Hidrogeno cromato, íon ",-1,6.52,{"$nulls":4},"HCrO4- ",{"v":3.0199517204020165E-7,"d":"3.020E-07"},{"v":0,"d":"0.000E+00"},{"v":0,"d":"0.000E+00"}]
[184,"Hidrogeno selenato, íon ",-1,1.66,{"$nulls":4},"HSeO4- ",{"v":0.021877616239495523,"d":"2.188E-02"},{"v":0,"d":"0.000E+00"},{"v":0,"d":"0.000E+00"}]
[185,"Hidroquinona ",0,10.35,null,null,20,null,"C6H6O2 ",{"v":4.466835921509628e-11,"d":"4.467E-11"},{"v":0,"d":"0.000E+00"},{"v":0,"d":"0.000E+00"}]
[186,"Hidróxido de Potássio",-1,13.5,null,null,25,0,"KOH",{"v":3.1622776601683714E-14,"d":"3.162E-14"},{"v":0,"d":"0.000E+00"},{"v":0,"d":"0.000E+00"}]
[187,"Hidróxido de Sódio",-1,13,null,null,25,0,"NaOH",{"v":1E-13,"d":"1.000E-13"},{"v":0,"d":"0.000E+00"},{"v":0,"d":"0.000E+00"}]
[188,"Hidróxido de Sódio",-1,13,null,null,25,0,"NaOH",{"v":1E-13,"d":"1.000E-13"},{"v":0,"d":"0.000E+00"},{"v":0,"d":"0.000E+00"}]
[189,"Hidroxilamina",0,5.96,null,null,25,0,"NH2OH",{"v":1.0964781961431832E-6,"d":"1.096E-06"},{"v":0,"d":"0.000E+00"},{"v":0,"d":"0.000E+00"}]
[190,"Histamina ",0,6.04,9.75,null,25,0,"C5H9N3 ",{"v":9.12010839355909E-7,"d":"9.120E-07"},{"v":1.778279410038918E-10,"d":"1.778E-10"},{"v":0,"d":"0.000E+00"}]
[191,"Histidina",-1,1.7,6.02,9.08,25,0.1,"C6H9N3O2 ",{"v":0.019952623149688792,"d":"1.995E-02"},{"v":9.54992586021435e-07,"d":"9.550E-07"},{"v":8.317637711026693e-10,"d":"8.318E-10"}]
[192,"Imidazol ",0,6.953,null,null,25,0,"C3H4N2 ",{"v":1.1142945335917264E-7,"d":"1.114E-07"},{"v":0,"d":"0.000E+00"},{"v":0,"d":"0.000E+00"}]
[193,"Isoleucina",-1,2.319,9.754,null,25,0,"C6H13NO2 ",{"$f":"IF(10^(-D199)=1,0,10^(-D199))","v":{"v":0.00479733448636689,"d":"4.797E-03"}},{"$f":"IF(10^(-E199)=1,0,10^(-E199))","v":{"v":1.7619760464116257E-10,"d":"1.762E-10"}},{"$f":"IF(10^(-F199)=1,0,10^(-F199))","v":{"v":0,"d":"0.000E+00"}}]
[194,"l-Efedrina",0,9.958,null,null,10,0,"C10H15NO ",{"v":1.1015393095414119E-10,"d":"1.102E-10"},{"v":0,"d":"0.000E+00"},{"v":0,"d":"0.000E+00"}]
[195,"l-Glutamina",-1,2.17,9.13,null,25,0,"C5H10N2O3 ",{"v":0.006760829753919813,"d":"6.761E-03"},{"v":7.413102413009137E-10,"d":"7.413E-10"},{"v":0,"d":"0.000E+00"}]
[196,"Lisina ",-1,2.04,9.08,10.69,25,0.1,"C6H14N2O2 ",{"v":0.009120108393559088,"d":"9.120E-03"},{"v":8.317637711026693e-10,"d":"8.318E-10"},{"v":2.0417379446695275E-11,"d":"2.042E-11"}]
[197,"l-Leucina",-1,2.328,9.744,null,25,0,"C6H13NO2 ",{"v":0.004698941086052152,"d":"4.699E-03"},{"v":1.803017740859565e-10,"d":"1.803E-10"},{"v":0,"d":"0.000E+00"}]
[198,"m-Cresol",-1,10.01,null,null,25,0,"C7H8O ",{"v":9.772372209558103e-11,"d":"9.772E-11"},{"v":0,"d":"0.000E+00"},{"v":0,"d":"0.000E+00"}]
[199,"Melamina = 1,3,5-triazina-2,4,6-triamina",0,5,null,null,25,0,"C3H6N6 ",{"v":1e-05,"d":"1.000E-05"},{"v":0,"d":"0.000E+00"},{"v":0,"d":"0.000E+00"}]
[200,"Metil-1-naftilamina ",0,3.67,null,null,27,0,"C11H11N ",{"v":2.137962089502231E-4,"d":"2.138E-04"},{"v":0,"d":"0.000E+00"},{"v":0,"d":"0.000E+00"}]
[201,"Metilamina ",0,10.63,null,null,25,0,"CH5N ",{"v":2.3442288153199104E-11,"d":"2.344E-11"},{"v":0,"d":"0.000E+00"},{"v":0,"d":"0.000E+00"}]
[202,"Metionina = Ácido (S)-2-amino-4-(metilssulfanilo)-butanóico ",-1,2.13,9.27,null,25,0,"C5H11NO2S ",{"v":0.007413102413009174,"d":"7.413E-03"},{"v":5.370317963702526e-10,"d":"5.370E-10"},{"v":0,"d":"0.000E+00"}]
[203,"m-Fenotidina",0,4.18,null,null,25,0,"C8H11NO ",{"v":6.6069344800759539E-5,"d":"6.607E-05"},{"v":0,"d":"0.000E+00"},{"v":0,"d":"0.000E+00"}]
[204,"Morfina ",0,8.21,null,null,25,0,"C17H19NO3 ",{"v":6.1659500186148016E-9,"d":"6.166E-09"},{"v":0,"d":"0.000E+00"},{"v":0,"d":"0.000E+00"}]
[205,"Morfolina ",0,8.33,null,null,25,0,"C4H9NO ",{"v":4.6773514128719724E-9,"d":"4.677E-09"},{"v":0,"d":"0.000E+00"},{"v":0,"d":"0.000E+00"}]
[206,"Nicotina ",0,8.02,3.12,null,25,0,"C10H14N2 ",{"v":9.5499258602143453E-9,"d":"9.550E-09"},{"v":7.5857757502918277E-4,"d":"7.586E-04"},{"v":0,"d":"0.000E+00"}]
[207,"Noradrenalina ",-1,8.64,9.7,null,25,0,"C8H11NO3 ",{"v":2.2908676527677671E-9,"d":"2.291E-09"},{"v":1.9952623149688802E-10,"d":"1.995E-10"},{"v":0,"d":"0.000E+00"}]
[208,"o-Cresol",-1,10.2,null,null,25,0,"C7H8O ",{"v":6.309573444801919e-11,"d":"6.310E-11"},{"v":0,"d":"0.000E+00"},{"v":0,"d":"0.000E+00"}]
[209,"Octadecilamina ",0,10.6,null,null,25,0,"C18H39N ",{"v":2.511886431509576e-11,"d":"2.512E-11"},{"v":0,"d":"0.000E+00"},{"v":0,"d":"0.000E+00"}]
[210,"o-Fenotidina",0,4.43,null,null,28,0,"C8H11NO ",{"v":3.7153522909717237E-5,"d":"3.715E-05"},{"v":0,"d":"0.000E+00"},{"v":0,"d":"0.000E+00"}]
[211,"Papaverina ",0,6.4,null,null,25,0,"C20H21NO4 ",{"v":3.9810717055349618E-7,"d":"3.981E-07"},{"v":0,"d":"0.000E+00"},{"v":0,"d":"0.000E+00"}]
[212,"p-Cresol",-1,10.17,null,null,25,0,"C7H8O ",{"v":6.760829753919802e-11,"d":"6.761E-11"},{"v":0,"d":"0.000E+00"},{"v":0,"d":"0.000E+00"}]
[213,"Peróxido de hidrogênio",-1,11.65,null,null,25,0,"H2O2",{"v":2.2387211385683343E-12,"d":"2.239E-12"},{"v":0,"d":"0.000E+00"},{"v":0,"d":"0.000E+00"}]
[214,"p-Fenotidina",0,5.2,null,null,28,0,"C8H11NO ",{"v":6.3095734448019212E-6,"d":"6.310E-06"},{"v":0,"d":"0.000E+00"},{"v":0,"d":"0.000E+00"}]
[215,"Pilocarpina ",0,6.87,null,null,30,0,"C11H16N2O2 ",{"v":1.3489628825916511E-7,"d":"1.349E-07"},{"v":0,"d":"0.000E+00"},{"v":0,"d":"0.000E+00"}]
[216,"Piperazina ",0,9.83,5.56,null,23,0,"C4H10N2 ",{"v":1.4791083881682045E-10,"d":"1.479E-10"},{"v":2.7542287033381663E-6,"d":"2.754E-06"},{"v":0,"d":"0.000E+00"}]
[217,"Piperidina",0,11.123,7.53,null,25,0,"C5H11N",{"v":7.533555637337155e-12,"d":"7.534E-12"},{"v":2.9512092266663779E-8,"d":"2.951E-08"},{"v":0,"d":"0.000E+00"}]
[218,"Piridina",0,5.229,null,null,25,0,"C5H5N",{"v":5.9020108017184374E-6,"d":"5.902E-06"},{"v":0,"d":"0.000E+00"},{"v":0,"d":"0.000E+00"}]
[219,"Pirimidina ",0,6.35,null,null,20,0,"C11H8N2 ",{"v":4.4668359215096327E-7,"d":"4.467E-07"},{"v":0,"d":"0.000E+00"},{"v":0,"d":"0.000E+00"}]
[220,"Pirocatecol ",-2,9.4,12.8,null,20,0,"C6H6O2 ",{"v":3.981071705534962e-10,"d":"3.981E-10"},{"v":1.5848931924611046E-13,"d":"1.585E-13"},{"v":0,"d":"0.000E+00"}]
[221,"Pirrolidina ",0,11.27,null,null,25,0,"C4H9N ",{"v":5.370317963702514e-12,"d":"5.370E-12"},{"v":0,"d":"0.000E+00"},{"v":0,"d":"0.000E+00"}]
[222,"Prolina",-1,1.952,10.64,null,25,0,"C5H9NO2",{"v":0.011168632477805604,"d":"1.117E-02"},{"v":2.2908676527677615E-11,"d":"2.291E-11"},{"v":0,"d":"0.000E+00"}]
[223,"Propilamina",0,10.566,null,null,25,0,"CH3CH2CH2NH2",{"v":2.716439268839075e-11,"d":"2.716E-11"},{"v":0,"d":"0.000E+00"},{"v":0,"d":"0.000E+00"}]
[224,"Purina ",0,2.3,8.96,null,20,0,"C5H4N4 ",{"v":0.005011872336272721,"d":"5.012E-03"},{"v":1.0964781961431814E-9,"d":"1.096E-09"},{"v":0,"d":"0.000E+00"}]
[225,"Quinina ",0,8.52,4.13,null,25,0,"C20H24N2O2 ",{"v":3.0199517204020151E-9,"d":"3.020E-09"},{"v":7.4131024130091641E-5,"d":"7.413E-05"},{"v":0,"d":"0.000E+00"}]
[226,"Quinolina ",0,4.9,null,null,20,0,"C9H7N ",{"v":1.2589254117941658E-5,"d":"1.259E-05"},{"v":0,"d":"0.000E+00"},{"v":0,"d":"0.000E+00"}]
[227,"Resorcinol",-2,9.3,11.06,null,25,0,"C6H6O2 ",{"v":5.011872336272705E-10,"d":"5.012E-10"},{"v":8.709635899560767e-12,"d":"8.710E-12"},{"v":0,"d":"0.000E+00"}]
[228,"Sacarina ",-1,11.68,null,null,18,0,"C7H5NO3S ",{"v":2.089296130854035e-12,"d":"2.089E-12"},{"v":0,"d":"0.000E+00"},{"v":0,"d":"0.000E+00"}]
[229,"sec-Butilamina",0,10.56,null,null,25,0,"C4H11N ",{"v":2.7542287033381602E-11,"d":"2.754E-11"},{"v":0,"d":"0.000E+00"},{"v":0,"d":"0.000E+00"}]
[230,"Serina ",-1,2.19,9.05,null,25,0,"C3H7NO3",{"v":0.006456542290346552,"d":"6.457E-03"},{"v":8.912509381337434e-10,"d":"8.913E-10"},{"v":0,"d":"0.000E+00"}]
[231,"Stricnina",0,8.26,null,null,25,0,"C21H22N2O2 ",{"v":5.49540873857623e-09,"d":"5.495E-09"},{"v":0,"d":"0.000E+00"},{"v":0,"d":"0.000E+00"}]
[232,"terc-Butilamina",0,10.68,null,null,25,0,"C4H11N ",{"v":2.0892961308540373E-11,"d":"2.089E-11"},{"v":0,"d":"0.000E+00"},{"v":0,"d":"0.000E+00"}]
[233,"Tiazol ",0,2.44,null,null,20,0,"C3H3NS ",{"v":3.630780547701011E-3,"d":"3.631E-03"},{"v":0,"d":"0.000E+00"},{"v":0,"d":"0.000E+00"}]
[234,"Tiramina ",0,9.74,10.52,null,25,0,"C8H11NO ",{"v":1.819700858609978e-10,"d":"1.820E-10"},{"v":3.019951720402009e-11,"d":"3.020E-11"},{"v":0,"d":"0.000E+00"}]
[235,"Tirosina ",-1,2.17,9.19,10.47,25,0,"C9H11NO3 ",{"v":0.006760829753919813,"d":"6.761E-03"},{"v":6.456542290346549e-10,"d":"6.457E-10"},{"v":3.388441561392016e-11,"d":"3.388E-11"}]
[236,"Treonina",-1,2.088,9.1,null,25,0,"C4H9NO3",{"v":0.008165823713585917,"d":"8.166E-03"},{"v":7.9432823472428E-10,"d":"7.943E-10"},{"v":0,"d":"0.000E+00"}]
[237,"Trietanolamina",0,7.762,null,null,25,0,"(HOCH2CH2)3NH",{"v":1.7298163592150982E-8,"d":"1.730E-08"},{"v":0,"d":"0.000E+00"},{"v":0,"d":"0.000E+00"}]
[238,"Trietilamina",0,10.715,null,null,25,0,"(CH3CH2)3NH",{"v":1.9275249131909346E-11,"d":"1.928E-11"},{"v":0,"d":"0.000E+00"},{"v":0,"d":"0.000E+00"}]
[239,"Trimetilamina",0,9.8,null,null,25,0,"(CH3)3NH",{"v":1.5848931924611098E-10,"d":"1.585E-10"},{"v":0,"d":"0.000E+00"},{"v":0,"d":"0.000E+00"}]
[240,"Triptofano",-1,2.35,9.33,null,25,0.1,"C11H12N2O2 ",{"v":0.004466835921509628,"d":"4.467E-03"},{"v":4.677351412871967e-10,"d":"4.677E-10"},{"v":0,"d":"0.000E+00"}]
[241,"Tris(hidroximetil)-aminometano = tris",0,8.075,null,null,25,0,"(HOCH2)3CNH3",{"v":8.4139514164519419E-9,"d":"8.414E-09"},{"v":0,"d":"0.000E+00"},{"v":0,"d":"0.000E+00"}]
[242,"Uréia ",0,0.1,null,null,21,0,"CH4N2O ",{"v":0.7943282347242815,"d":"7.943E-01"},{"v":0,"d":"0.000E+00"},{"v":0,"d":"0.000E+00"}]
[243,"Valina ",-1,2.286,9.718,null,25,0,"C5H11NO2 ",{"v":0.005176068319505675,"d":"5.176E-03"},{"v":1.9142559250210827E-10,"d":"1.914E-10"},{"v":0,"d":"0.000E+00"}]

{"sheet":"CONCEITOS","index":3,"n_rows":47,"n_cols":2,"rows_kept":47,"merged":[[1,1,1,7],[2,1,2,7],[3,1,3,7],[5,1,5,7],[6,1,6,7],[7,1,7,7],[8,1,8,7],[9,1,9,7],[10,1,10,7],[11,1,11,7],[12,1,12,7],[13,1,13,7],[14,1,14,7],[15,1,15,7],[16,1,16,7],[17,1,17,7],[18,1,18,7],[19,1,19,7],[20,1,20,7],[21,1,21,7],[23,1,23,7],[25,1,25,7],[26,1,26,7],[27,1,27,7],[28,1,28,7],[29,1,29,7],[30,1,30,7],[31,1,31,7],[32,1,32,7],[33,1,33,7],[34,1,34,7],[35,1,35,7],[36,1,36,7],[37,1,37,7],[38,1,38,7],[39,1,39,7],[40,1,40,7],[41,1,41,7],[42,1,42,7],[43,1,43,7],[45,1,45,7],[46,1,46,7]]}
[]
[null,"a) Cálculo da Concentração de H+ e OH"]
[null,"[H+]=10^(-pH)"]
[null,"[OH-]=Kw/pH"]
[]
[null,"b) Cálculo dos Alfas"]
[null,"Alfa do Ácido Monoprótico"]
[null,"αa= Ka/([H+]+Ka)"]
[null,"Alfas do Ácido Diprótico"]
[null,"αa1= [H+]*Ka1/([H+]^2+[H+]* Ka1+ Ka1* Ka2)"]
[null,"αa2= Ka1*Ka2/([H+]^2+[H+]* Ka1+ Ka1* Ka2)"]
[null,"Alfas do Ácido Triprótico"]
[null,"αa1= (Ka1*[H+]^2)/([H+]^3+ Ka1* [H+] ^2+ Ka1* Ka2* [H+]+Ka1* Ka2* Ka3)"]
[null,"αa2= (Ka1* Ka2 *[H+])/([H+]^3+ Ka1* [H+] ^2+ Ka1* Ka2* [H+]+Ka1* Ka2* Ka3)"]
[null,"α3=(Ka1* Ka2 * Ka3)/([H+]^3+ Ka1* [H+] ^2+ Ka1* Ka2* [H+]+Ka1* Ka2* Ka3)"]
[null,"Alfa da Monobase"]
[null,"αb= [H+]/([H+]+Kb)"]
[null,"Alfas da Dibase"]
[null,"αb1= [H+]*Kb1/([H+]^2+[H+]* Kb1+ Kb1* Kb2)"]
[null,"αb2= [H+]^2/([H+]^2+[H+]* Ka1+ Ka1* Ka2)"]
[null,"Alfas da Tribase"]
[null,"αb1= (Kb1* Kb2 *[H+])/([H+]^3+ Kb1* [H+] ^2+ Kb1* Kb2* [H+]+Kb1* Kb2* Kb3)"]
[null,"αb2= (Kb1*[H+]^2)/ ([H+]^3+ Kb1* [H+] ^2+ Kb1* Kb2* [H+]+Kb1* Kb2* Kb3)"]
[null,"αb3=([H+]^3)/ ([H+]^3+ Kb1* [H+] ^2+ Kb1* Kb2* [H+]+Kb1* Kb2* Kb3)"]
[]
[null,"c) Cálculo dos “φ”"]
[null,"φ do Ácido Monoprótico Com Uma Monobase"]
[null,"φ= (αa-([H+]-[OH-])/Ca)/(αb+([H+]-[OH-])/Cb)"]
[null,"φ do Ácido Monoprótico Com Uma Dibase"]
[null,"φ = (αa-([H+]-[OH-])/Ca)/(αb1+2*αb2+([H+]-[OH-])/Cb)"]
[null,"φ do Ácido Monoprótico Com Uma Tribase"]
[null,"φ = (αa-([H+]-[OH-])/Ca)/(αb1+2*αb2+3*αb3 +([H+]-[OH-])/Cb)"]
[null,"φ do Ácido Diprótico Com Uma Monobase"]
[null,"φ = (αa1+2*αa2-([H+]-[OH-])/Ca)/(αb1+([H+]-[OH-])/Cb)"]
[null,"φ do Ácido Diprótico Com Uma Dibase"]
[null,"φ = (αa1+2*αa2-([H+]-[OH-])/Ca)/(αb1+2*αb2+([H+]-[OH-])/Cb)"]
[null,"φ do Ácido Diprótico Com Uma Tribase"]
[null,"φ = (αa1+2*αa2-([H+]-[OH-])/Ca)/(αb1+2*αb2+3*αb3+([H+]-[OH-])/Cb)"]
[null,"φ do Ácido Triprótico Com Uma Monobase"]
[null,"φ = (αa1+2*αa2+3*αa3-([H+]-[OH-])/Ca)/(αb1+([H+]-[OH-])/Cb)"]
[null,"φ do Ácido Triprótico Com Uma Dibase"]
[null,"φ = (αa1+2*αa2+3*αa3-([H+]-[OH-])/Ca)/(αb1+2*αb2+([H+]-[OH-])/Cb)"]
[null,"φ do Ácido Triprótico Com Uma Tribase"]
[null,"φ = (αa1+2*αa2+3*αa3-([H+]-[OH-])/Ca)/(αb1+2*αb2+3*αb3+([H+]-[OH-])/Cb)"]
[]
[null,"d) Volume da Base"]
[null,"Vb=φ*Ca*Va/Cb"]